{"text_format":"1","workbook":"xlsx","n_sheets":21,"sheets":["SCHEDULE MJL-D1","SCHEDULE MJL-D2","SCHEDULE MJL-D3","SCHEDULE MJL-D4","SCHEDULE MJL-D5","SCHEDULE MJL-D6","SCHEDULE MJL-D7","SCHEDULE MJL-D8","SCHEDULE MJL-D9","SCHEDULE MJL-D10","SCHEDULE MJL-D11-1","SCHEDULE MJL-D11-6","SCHEDULE MJL-D12-1","SCHEDULE MJL-D12-2","SCHEDULE MJL-D13-1","SCHEDULE MJL-D13-2","SCHEDULE MJL-D14","SCHEDULE MJL-D15","SCHEDULE MJL-D16","SCHEDULE MJL-D17","SCHEDULE MJL-D18"],"not_rendered":{"charts":0,"images":0,"macros":1,"external_links":0,"defined_names":27,"comments":7,"pivot_tables":0},"unopened":[],"bounds":{"document_bytes":16777216,"sheet_cells":100000,"rows_first":2000,"rows_last":500,"rows_between":2000,"halvings":0,"cell_chars":16384,"cell_head_chars":4096},"cells_cut":0,"cells_raw":0,"read":"whole","date_system":"1900"}

{"sheet":"SCHEDULE MJL-D1","index":0,"n_rows":73,"n_cols":7,"rows_kept":73,"cut":false,"hidden":false,"merged":[[69,2,69,5],[64,2,66,5],[0,0,0,6],[1,0,1,6],[2,0,2,6],[3,0,3,6],[59,2,62,5]]}
["AMEREN MISSOURI"]
["ORIGINAL COST OF ELECTRIC PLANT"]
[{"$f":"\"BY FUNCTIONAL CLASSIFICATION \"&'SCHEDULE MJL-D3'!A3:G3","v":"BY FUNCTIONAL CLASSIFICATION FOR THE TWELVE MONTHS ENDED DECEMBER 31, 2020"}]
["($000)"]
[]
[]
[null,null,null,null,"TOTALS",null,"PRO FORMA"]
[null,null,null,null,"PER","PRO FORMA","ELECTRIC"]
["LINE",null,"FUNCTIONAL CLASSIFICATION",null,"BOOKS","ADJUSTMENTS","TOTALS"]
[null,null,"(A)",null,"(B)","(C)","(D)"]
[null,null,"INTANGIBLE PLANT"]
[1,null,"   FRANCHISES",null,100173,0,{"$f":"SUM(E12:F12)","v":100173}]
[{"$f":"1+A12","v":2},null,"   CALLAWAY LIFE EXTENSION DEFERRAL",null,2812,0,{"$f":"SUM(E13:F13)","v":2812}]
[3,null,"   MISC INTANGIBLE PLANT",null,421781,28632,{"$f":"SUM(E14:F14)","v":450413}]
[{"$f":"1+A14","v":4},null,"TOTAL INTANGIBLE PLANT",null,{"$f":"SUM(E12:E14)","v":524766},{"$f":"SUM(F12:F14)","v":28632},{"$f":"SUM(G12:G14)","v":553398}]
[]
[null,null,"PRODUCTION PLANT"]
[{"$f":"1+A15","v":5},null,"   NUCLEAR",null,3516837,-72980,{"$f":"SUM(E18:F18)","v":3443857}]
[{"$f":"1+A18","v":6},null,"   CALLAWAY POST OPERATIONAL ",null,116731,0,116731]
[{"$f":"1+A19","v":7},null,"   STEAM",null,5052598,-648805,4403793]
[{"$f":"1+A20","v":8},null,"   HYDRAULIC",null,575812,50030,625842]
[{"$f":"1+A21","v":9},null,"   WIND",null,649963,474264,1124227]
[10,null,"   OTHER",null,1287120,8574,1295694]
[11,null,"TOTAL PRODUCTION PLANT",null,{"$f":"SUM(E18:E23)","v":11199061},{"$f":"SUM(F18:F23)","v":-188917},{"$f":"SUM(G18:G23)","v":11010144}]
[]
[{"$f":"1+A24","v":12},null,"TRANSMISSION PLANT",null,1482524,71422,{"$f":"SUM(E26:F26)","v":1553946}]
[]
[{"$f":"+A26+1","v":13},null,"DISTRIBUTION PLANT",null,6783417,406468,{"$f":"SUM(E28:F28)","v":7189885}]
[]
[{"$f":"1+A28","v":14},null,"GENERAL PLANT",null,852175,73714,{"$f":"SUM(E30:F30)","v":925889}]
[]
[{"$f":"1+A30","v":15},null,"INCENTIVE COMPENSATION CAPITALIZED",null,0,-48056,{"$f":"SUM(E32:F32)","v":-48056}]
[]
[{"$f":"1+A32","v":16},null,"TOTAL PLANT IN SERVICE",null,{"$f":"E15+SUM(E24:E32)","v":20841943},{"$f":"F15+SUM(F24:F32)","v":343263},{"$f":"G15+SUM(G24:G32)","v":21185206}]
[]
[]
[]
[null,null,"PRO FORMA ADJUSTMENTS"]
[{"$f":"1+A34","v":17},-1,"Eliminate Plant balances related to FAS 143 Asset Retirement Obligation and ASC 842 Leases "]
[{"$f":"1+A39","v":18},null,null,"NUCLEAR",null,-101675]
[{"$f":"1+A40","v":19},null,null,"STEAM",null,-184772]
[{"$f":"1+A41","v":20},null,null,"WIND",null,-35998]
[21,null,null,"DISTRIBUTION",null,0]
[{"$f":"1+A43","v":22},null,null,"GENERAL",null,-6089]
[{"$f":"1+A44","v":23},null,null,"  TOTAL",null,null,{"$f":"SUM(F40:F44)","v":-328534}]
[]
[{"$f":"1+A45","v":24},-2,"Plant Additions for the true-up period"]
[{"$f":"1+A47","v":25},null,null,"INTANGIBLE FRANCHISES",null,0]
[26,null,null,"OTHER INTANGIBLE PLANT",null,47922]
[27,null,null,"NUCLEAR",null,28695]
[28,null,null,"STEAM",null,85834]
[29,null,null,"HYDRAULIC",null,50030]
[30,null,null,"WIND",null,510261]
[31,null,null,"OTHER",null,8574]
[32,null,null,"TRANSMISSION",null,71422]
[33,null,null,"DISTRIBUTION",null,406468]
[34,null,null,"GENERAL",null,94264]
[35,null,null,"  TOTAL",null,null,{"$f":"SUM(F48:F57)","v":1303470}]
[]
[{"$f":"A58+1","v":36},"(3)","Reduce a portion of the amounts recoverable relating to the Meramec Energy Center due to its upcoming plant retirement.  This adjustment reflects the recovery of remaining amounts over a five year period.  Other components of this adjustment will be referred to as the Meramec Energy Center adjustment throughout the remainder of schedules MJL-D2 through MJL-D17.",null,null,null,-549866]
[]
[]
[]
[]
[{"$f":"A60+1","v":37},-4,"Eliminate portions of plant in service for multi-use general assets which are applicable to gas operations.  For convenience, such assets are recorded as electric plant but are commonly used for both electric and gas."]
[{"$f":"1+A65","v":38}]
[{"$f":"1+A66","v":39}]
[{"$f":"1+A67","v":40},null,null,"GENERAL",null,null,-33751]
[]
[{"$f":"1+A68","v":41},-5,"Reduce Plant-in-Service for disallowed capital incentive compensation"]
[{"$f":"1+A70","v":42},null,null,"GENERAL",null,null,-48056]
[]
[{"$f":"1+A71","v":43},null,null,"TOTAL PRO FORMA ADJUSTMENTS",null,null,{"$f":"SUM(G40:G71)","v":343263}]

{"sheet":"SCHEDULE MJL-D2","index":1,"n_rows":84,"n_cols":7,"rows_kept":84,"cut":false,"hidden":false,"merged":[[75,2,77,4],[59,2,60,4],[0,0,0,6],[2,0,2,6],[1,0,1,6],[3,0,3,6],[43,2,44,4]]}
["AMEREN MISSOURI"]
["TOTAL ELECTRIC RESERVES FOR DEPRECIATION AND AMORTIZATION"]
[{"$f":"+'SCHEDULE MJL-D1'!A3:G3","v":"BY FUNCTIONAL CLASSIFICATION FOR THE TWELVE MONTHS ENDED DECEMBER 31, 2020"}]
["($000)"]
[]
[]
[null,null,null,null,"TOTALS",null,"PRO FORMA"]
[null,null,null,null,"PER","PRO FORMA","ELECTRIC"]
["LINE",null,"FUNCTIONAL CLASSIFICATION",null,"BOOKS","ADJUSTMENTS","TOTALS"]
[null,null,"(A)",null,"(B)","(C)","(D)"]
[null,null,"INTANGIBLE PLANT"]
[1,null,"   FRANCHISES",null,26107,3195,{"$f":"E12+F12","v":29302}]
[{"$f":"1+A12","v":2},null,"   CALLAWAY LIFE EXTENSION DEFERRAL",null,339,78,{"$f":"E13+F13","v":417}]
[3,null,"   MISC INTANGIBLE PLANT",null,189239,38865,{"$f":"E14+F14","v":228104}]
[{"$f":"1+A14","v":4},null,"TOTAL INTANGIBLE PLANT",null,{"$f":"SUM(E12:E14)","v":215685},{"$f":"SUM(F12:F14)","v":42138},{"$f":"E15+F15","v":257823}]
[]
[null,null,"PRODUCTION PLANT"]
[{"$f":"1+A15","v":5},null,"   NUCLEAR",null,1728316,72671,1800987]
[{"$f":"1+A18","v":6},null,"   CALLAWAY POST OPERATIONAL ",null,102596,2766,{"$f":"E19+F19","v":105362}]
[{"$f":"1+A19","v":7},null,"   STEAM",null,2250914,-468885,1782029]
[{"$f":"1+A20","v":8},null,"   HYDRAULIC",null,132225,9971,142196]
[{"$f":"1+A21","v":9},null,"   WIND",null,947,24108,25055]
[10,null,"   OTHER",null,719318,21890,741208]
[{"$f":"1+A23","v":11},null,"TOTAL PRODUCTION PLANT",null,{"$f":"SUM(E18:E23)","v":4934316},{"$f":"SUM(F18:F23)","v":-337479},4596837]
[]
[{"$f":"1+A24","v":12},null,"TRANSMISSION PLANT",null,416618,30014,446632]
[]
[{"$f":"1+A26","v":13},null,"DISTRIBUTION PLANT",null,3069989,155285,3225274]
[]
[{"$f":"1+A28","v":14},null,"GENERAL PLANT",null,262032,31969,294001]
[]
[{"$f":"1+A30","v":15},null,"INCENTIVE COMPENSATION CAPITALIZED",null,0,-14612,{"$f":"E32+F32","v":-14612}]
[]
[{"$f":"1+A32","v":16},null,"TOTAL DEPRC. & AMORT RESERVE",null,{"$f":"E15+E24+E26+E28+E30+E32","v":8898640},{"$f":"F15+F24+F26+F28+F30+F32","v":-92685},{"$f":"G15+G24+G26+G28+G30+G32","v":8805955}]
[]
[null,null,"PRO FORMA ADJUSTMENTS"]
[{"$f":"1+A34","v":17},-1,"Eliminate Reserve balances related to FAS 143 Asset Retirement Obligation and ASC 842 Leases"]
[{"$f":"1+A37","v":18},null,null,"NUCLEAR",null,12639]
[{"$f":"1+A38","v":19},null,null,"STEAM",null,-111817]
[{"$f":"1+A39","v":20},null,null,"DISTRIBUTION",null,0]
[{"$f":"1+A40","v":21},null,null,"GENERAL",null,-3052]
[{"$f":"1+A41","v":22},null,null,"  TOTAL",null,null,{"$f":"SUM(F38:F41)","v":-102230}]
[]
[{"$f":"1+A42","v":23},-2,"Reserve Balance at December 31, 2020 adjusted to reflect Reserve Balance at September 30, 2021 ."]
[{"$f":"1+A44","v":24}]
[{"$f":"1+A45","v":25},null,null,"INTANGIBLE FRANCHISES",null,3195]
[{"$f":"1+A46","v":26},null,null,"CALLAWAY LIFE EXTENSION DEFERRAL",null,78]
[{"$f":"1+A47","v":27},null,null,"MISC INTANGIBLE PLANT",null,41714]
[{"$f":"A48+1","v":28},null,null,"NUCLEAR",null,59762]
[{"$f":"A49+1","v":29},null,null,"CALLAWAY POST OPERATIONAL ",null,2766]
[{"$f":"1+A50","v":30},null,null,"STEAM",null,129499]
[31,null,null,"HYDRAULIC",null,9489]
[32,null,null,"WIND",null,17009]
[33,null,null,"OTHER",null,21818]
[34,null,null,"TRANSMISSION",null,29374]
[35,null,null,"DISTRIBUTION",null,150802]
[36,null,null,"GENERAL",null,37645]
[37,null,null,"  TOTAL",null,null,{"$f":"SUM(F46:F57)","v":503151}]
[]
[{"$f":"1+A58","v":38},-3,"Adjustment to depreciation reserve for the additions to plant in service for the true-up period of January 1, 2021 through September 31, 2021."]
[{"$f":"1+A60","v":39}]
[{"$f":"1+A61","v":40},null,null,"INTANGIBLE FRANCHISES",null,0]
[{"$f":"1+A62","v":41},null,null,"MISC INTANGIBLE PLANT",null,3471]
[{"$f":"1+A63","v":42},null,null,"NUCLEAR",null,270]
[{"$f":"1+A64","v":43},null,null,"STEAM",null,1165]
[44,null,null,"HYDRAULIC",null,482]
[45,null,null,"WIND",null,7099]
[46,null,null,"OTHER",null,72]
[47,null,null,"TRANSMISSION",null,640]
[48,null,null,"DISTRIBUTION",null,4483]
[49,null,null,"GENERAL",null,1687]
[50,null,null,"  TOTAL",null,null,{"$f":"SUM(F62:F71)","v":19369}]
[]
[{"$f":"1+A72","v":51},"(4)","Meramec Energy Center adjustment.",null,null,null,-487732]
[]
[{"$f":"1+A74","v":52},-5,"Eliminate portions of plant in service for multi use general assets which are applicable to gas operations.  For convenience, such assets are recorded as electric plant but are commonly used for both electric and gas"]
[{"$f":"1+A76","v":53}]
[{"$f":"1+A77","v":54}]
[{"$f":"1+A78","v":55},null,null,"GENERAL",null,null,-10631]
[]
[{"$f":"1+A79","v":56},-6,"Reserve Balance adjustment for disallowed Incentive Compensation capitalized"]
[{"$f":"1+A81","v":57},null,null,"GENERAL",null,null,-14612]
[]
[{"$f":"1+A82","v":58},null,null,"TOTAL PRO FORMA ADJUSTMENTS",null,null,{"$f":"SUM(G37:G82)","v":-92685}]

{"sheet":"SCHEDULE MJL-D3","index":2,"n_rows":34,"n_cols":6,"rows_kept":34,"cut":false,"hidden":false,"merged":[[0,0,0,5],[31,2,31,4],[3,0,3,5],[30,2,30,4],[26,2,26,4]]}
["AMEREN MISSOURI"]
["AVERAGE FUEL AND MATERIALS & SUPPLIES INVENTORIES"]
["FOR THE TWELVE MONTHS ENDED DECEMBER 31, 2020"]
["($000)"]
[]
[null,null,null,"TOTALS",null,"PRO FORMA"]
[null,null,null,"PER","PRO FORMA","ELECTRIC"]
["LINE",null,"DESCRIPTION","BOOKS","ADJUSTMENTS","TOTALS"]
[null,null,"(A)","(B)","(C)","(D)"]
[]
[1,null,"AVERAGE NUCLEAR FUEL ",131681,0,{"$f":"D11+E11","v":131681}]
[]
[null,null,"AVERAGE FOSSIL FUEL:"]
[{"$f":"1+A11","v":2},null,"   COAL",120927,-4180,{"$f":"D14+E14","v":116747}]
[{"$f":"1+A14","v":3},null,"   OIL",3112,0,{"$f":"D15+E15","v":3112}]
[{"$f":"1+A15","v":4},null,"   STORED GAS FOR CTG'S",1154,0,{"$f":"D16+E16","v":1154}]
[{"$f":"1+A16","v":5},null,"TOTAL FOSSIL FUEL",{"$f":"SUM(D14:D16)","v":125193},{"$f":"SUM(E14:E16)","v":-4180},{"$f":"D17+E17","v":121013}]
[]
[{"$f":"1+A17","v":6},null,"EMISSION ALLOWANCES AND RECS",1275,0,{"$f":"D19+E19","v":1275}]
[]
[{"$f":"1+A19","v":7},null,"GENERAL MATERIALS AND SUPPLIES",265496,-10328,{"$f":"D21+E21","v":255168}]
[]
[{"$f":"1+A21","v":8},null,"TOTAL",{"$f":"D11+D17+D19+D21","v":523645},{"$f":"E11+E17+E19+E21","v":-14508},{"$f":"F11+F17+F19+F21","v":509137}]
[]
[]
[null,null,"PRO FORMA ADJUSTMENT"]
[{"$f":"1+A23","v":9},-1," Adjust Coal Supply to reflect 13 month average inventory levels priced at the January 2021 coal prices.",null,null,509]
[]
[{"$f":"1+A27","v":10},"(2)","Meramec Energy Center adjustment.",null,null,-12813]
[]
[{"$f":"1+A29","v":11},"(3)","Eliminate portions of average fuel and general materials and supplies which are applicable to gas "]
[{"$f":"1+A31","v":12},null,"operations.",null,null,-2204]
[]
[{"$f":"1+A32","v":13},null,"TOTAL PRO FORMA ADJUSTMENTS",null,null,{"$f":"SUM(F27:F33)","v":-14508}]

{"sheet":"SCHEDULE MJL-D4","index":3,"n_rows":34,"n_cols":7,"rows_kept":34,"cut":false,"hidden":false,"merged":[[0,1,0,6],[1,1,1,6],[2,1,2,6],[3,1,3,6]]}
[null,"AMEREN MISSOURI"]
[null,"AVERAGE PREPAYMENTS"]
[null,{"$f":"+'SCHEDULE MJL-D3'!A3","v":"FOR THE TWELVE MONTHS ENDED DECEMBER 31, 2020"}]
[null,"($000)"]
[]
[null,null,null,null,"TOTALS",null,"PRO FORMA"]
[null,null,null,null,"PER","PRO FORMA","ELECTRIC"]
[null,"LINE",null,"DESCRIPTION ","BOOKS(1)","ADJUSTMENTS","TOTALS"]
[null,null,null,"(A)","(B)","(C)","(D)"]
[]
[null,1,null,"   RENTS (3)",39,-1,{"$f":"E11+F11","v":38}]
[null,{"$f":"1+B11","v":2},null,"   INSURANCE - DIRECT (2)",9686,-620,9066]
[null,{"$f":"1+B12","v":3},null,"   M/A COMM RADIO SYS SRVC AGREEMENT (3)",0,0,0]
[null,4,null,"   MEDICAL AND DENTAL VEBA (3)",4372,-105,4267]
[null,5,null,"   IMAGING SOFTWARE (2)",82,0,82]
[null,{"$f":"1+B15","v":6},null,"   OPTIV GIGAMON (3)",5,0,{"$f":"E16+F16","v":5}]
[null,{"$f":"1+B16","v":7},null,"   CRM SALESFORCE SUBSCRIPTION (3)",36,-1,{"$f":"E17+F17","v":35}]
[null,{"$f":"1+B17","v":8},null,"   KANSAS CITY POWER & LIGHT (2)",3111,0,{"$f":"E18+F18","v":3111}]
[null,9,null,"   PALO ALTO ENTERPRISE (3)",12,0,12]
[null,10,null,"   LOW INCOME WEATHERIZATION - DIRECT (2)",132,-29,{"$f":"E20+F20","v":103}]
[]
[null,{"$f":"1+B20","v":11},null,"TOTAL AVERAGE PREPAYMENTS",{"$f":"SUM(E11:E20)","v":17475},{"$f":"SUM(F11:F20)","v":-756},{"$f":"SUM(G11:G20)","v":16719}]
[]
[null,{"$f":"1+B22","v":12},-1,"Reflects 13 month average"]
[null,{"$f":"1+B24","v":13},-2,"Directly assigned to electric or gas."]
[null,13,-3,"Allocated to gas based on operating expenses excluding fuel and purchased power."]
[]
[]
[]
[null,null,"PRO FORMA ADJUSTMENT"]
[]
[null,{"$f":"B26+1","v":14},-1,"Eliminate portions of prepayments which are applicable to gas operations.  Allocated between electric",null,null,{"$f":"+F22","v":-756}]
[null,{"$f":"1+B32","v":15},null,"and gas operations based on operating expenses excluding purchased power, off-system sales and"]
[null,{"$f":"1+B33","v":16},null,"purchased gas."]

{"sheet":"SCHEDULE MJL-D5","index":4,"n_rows":46,"n_cols":10,"rows_kept":46,"cut":false,"hidden":false,"merged":[[0,0,0,10],[1,0,1,10]]}
["AMEREN MISSOURI"]
["TOTAL ELECTRIC CASH WORKING CAPITAL"]
[{"$f":"+'SCHEDULE MJL-D3'!A3","v":"FOR THE TWELVE MONTHS ENDED DECEMBER 31, 2020"}]
["($000)"]
[]
[null,null,null,null,null,null,null,null,null,"CASH WORKING"]
[null,null,null,null,"REVENUE","EXPENSE","NET",null,"TEST YEAR","CAPITAL"]
["LINE",null,"DESCRIPTION",null,"LAG","LEAD (1)","LEAD/LAG","FACTOR","EXPENSE ","REQUIREMENT"]
[null,null,"(A)",null,"(B)","(C)","(D)","(E)","(F)","(G)"]
[]
[1,null,"PAYROLL & WITHHOLDINGS",null,37.090000000000003,-11.66,{"$f":"+E11+F11","v":25.430000000000003},{"$f":"ROUND(+G11/365,6)","v":6.9670999999999997E-2},355318,{"$f":"ROUND(+H11*I11,0)","v":24755}]
[{"$f":"1+A11","v":2},null,"PENSIONS AND BENEFITS",null,37.090000000000003,-18.37,{"$f":"+E12+F12","v":18.720000000000002},{"$f":"ROUND(+G12/365,6)","v":5.1288E-2},42295,{"$f":"ROUND(+H12*I12,0)","v":2169}]
[3,null,"FUEL"]
[4,null,"NUCLEAR",null,37.090000000000003,-15.21,{"$f":"+E14+F14","v":21.880000000000003},{"$f":"ROUND(+G14/365,6)","v":5.9944999999999998E-2},80163,{"$f":"ROUND(+H14*I14,0)","v":4805}]
[5,null,"COAL",null,37.090000000000003,-14.43,22.660000000000004,6.2081999999999998E-2,496360,{"$f":"ROUND(+H15*I15,0)","v":30815}]
[{"$f":"1+A15","v":6},null,"NATURAL GAS",null,37.090000000000003,-40.72,-3.6299999999999955,-9.9450000000000007E-3,10528,-105]
[7,null,"OIL",null,37.090000000000003,-14.69,{"$f":"+E17+F17","v":22.400000000000006},6.1370000000000001E-2,5013,{"$f":"ROUND(+H17*I17,0)","v":308}]
[8,null,"PURCHASED POWER",null,37.090000000000003,-18.100000000000001,{"$f":"+E18+F18","v":18.990000000000002},5.2026999999999997E-2,65072,{"$f":"ROUND(+H18*I18,0)","v":3386}]
[9,null,"INCENTIVE COMPENSATION",null,37.090000000000003,-252.88,-215.79,-0.59120499999999998,29407,-17386]
[10,null,"UNCOLLECTIBLE ACCOUNTS",null,37.090000000000003,-37.090000000000003,0,0,7884,0]
[11,null,"OTHER OPERATING EXPENSES",null,37.090000000000003,-42.25,-5.1599999999999966,-1.4137E-2,501614,{"$f":"ROUND(+H21*I21,0)","v":-7091}]
[]
[{"$f":"1+A21","v":12},null,"TOTAL O&M EXPENSES",null,null,null,null,null,1593654]
[]
[{"$f":"1+A23","v":13},null,"     TOTAL CASH WORKING CAPITAL REQUIREMENT",null,null,null,null,null,null,{"$f":"SUM(J11:J21)","v":41656}]
[]
[{"$f":"1+A25","v":14},null,"FICA - EMPLOYER'S PORTION",null,37.090000000000003,-9.3800000000000008,{"$f":"+E27+F27","v":27.71},{"$f":"ROUND(+G27/365,6)","v":7.5917999999999999E-2},22279,{"$f":"ROUND(+H27*I27,0)","v":1691}]
[{"$f":"1+A27","v":15},null,"ST. LOUIS PAYROLL EXPENSE TAXES",null,37.090000000000003,-9.3800000000000008,{"$f":"+E28+F28","v":27.71},{"$f":"ROUND(+G28/365,6)","v":7.5917999999999999E-2},491,{"$f":"ROUND(+H28*I28,0)","v":37}]
[16,null,"FEDERAL UNEMPLOYMENT TAXES",null,37.090000000000003,-9.3800000000000008,27.71,{"$f":"ROUND(+G29/365,6)","v":7.5917999999999999E-2},179,14]
[17,null,"STATE UNEMPLOYMENT TAXES",null,37.090000000000003,-9.3800000000000008,27.71,7.5917999999999999E-2,5,0]
[18,null,"CORPORATE FRANCHISE TAXES",null,37.090000000000003,-233.19,-196.1,-0.53725999999999996,102,-55]
[19,null,"PROPERTY TAXES",null,37.090000000000003,-183,-145.91,-0.39975300000000002,157040,-62777]
[20,null,"DECOMMISSIONING FEES",null,37.090000000000003,-69.5,{"$f":"+E33+F33","v":-32.409999999999997},{"$f":"ROUND(+G33/365,6)","v":-8.8794999999999999E-2},6758,-600]
[21,null,"SALES TAXES",null,37.090000000000003,-9.31,27.78,7.6109999999999997E-2,67725,5155]
[{"$f":"1+A34","v":22},null,"MO & IA USE TAXES",null,37.090000000000003,-76.25,-39.159999999999997,-0.10728799999999999,2871,-308]
[{"$f":"1+A35","v":23},null,"IL USE TAXES",null,37.090000000000003,-35.78,{"$f":"+E36+F36","v":1.3100000000000023},{"$f":"ROUND(+G36/365,6)","v":3.5890000000000002E-3},25,{"$f":"ROUND(+H36*I36,0)","v":0}]
[24,null,"FED EXCISE HEAVY USE TAX",null,37.090000000000003,125.57,{"$f":"+E37+F37","v":162.66},{"$f":"ROUND(+G37/365,6)","v":0.44564399999999998},22,{"$f":"ROUND(+H37*I37,0)","v":10}]
[{"$f":"1+A37","v":25},null,"SELF PROCURED INS TAX",null,37.090000000000003,-241.5,-204.41,-0.56002700000000005,-206,115]
[26,null,"OHIO COMMERCIAL ACTIVITY TAX",null,37.090000000000003,50,87.09,0.23860300000000001,0,0]
[27,null,"GROSS RECEIPTS TAXES",null,24.35,-26.99,-2.639999999999997,-7.2329999999999998E-3,133305,-964]
[]
[{"$f":"1+A40","v":28},null,"TOTAL TAXES AND OTHER EXPENSES",null,null,null,null,null,{"$f":"SUM(I27:I40)","v":390596}]
[]
[{"$f":"1+A42","v":29},null,"     NET CUSTOMER SUPPLIED FUNDS",null,null,null,null,null,null,{"$f":"SUM(J27:J40)","v":-57682}]
[]
[{"$f":"1+A44","v":30},null,"NET CASH WORKING CAPITAL REQUIREMENT",null,null,null,null,null,null,{"$f":"J25+J44","v":-16026}]

{"sheet":"SCHEDULE MJL-D6","index":5,"n_rows":24,"n_cols":10,"rows_kept":24,"cut":false,"hidden":false,"merged":[[5,0,5,10],[4,0,4,10],[0,0,0,10],[1,0,1,10],[2,0,2,10],[3,0,3,10]]}
["AMEREN MISSOURI"]
["TOTAL ELECTRIC FEDERAL AND STATE INCOME TAX AND CITY EARNINGS TAX CASH REQUIREMENTS"]
["AND INTEREST EXPENSE CASH REQUIREMENT "]
[{"$f":"'SCHEDULE MJL-D5'!A3","v":"FOR THE TWELVE MONTHS ENDED DECEMBER 31, 2020"}]
["($000)"]
[]
[]
[null,null,null,null,null,null,null,null,null,"CASH WORKING"]
[null,null,null,null,"REVENUE","EXPENSE","NET",null,"TEST YEAR","CAPITAL"]
["LINE",null,"DESCRIPTION",null,"LAG","LEAD (1)","LEAD/LAG","FACTOR","EXPENSE ","REQUIREMENT"]
[null,null,"(A)",null,"(B)","(C)","(D)","(E)","(F)","(G)"]
[]
[]
[1,null,"FEDERAL INCOME TAX CASH REQUIREMENT",null,37.090000000000003,-38,{"$f":"+E14+F14","v":-0.90999999999999659},{"$f":"ROUND(+G14/365,6)","v":-2.493E-3},38222,{"$f":"ROUND(+H14*I14,0)","v":-95}]
[]
[{"$f":"1+A14","v":2},null,"MO STATE INCOME TAX CASH REQUIREMENT",null,37.090000000000003,-38,{"$f":"+E16+F16","v":-0.90999999999999659},{"$f":"ROUND(+G16/365,6)","v":-2.493E-3},19310,{"$f":"ROUND(+H16*I16,0)","v":-48}]
[]
[{"$f":"1+A16","v":3},null,"IN STATE INCOME TAX CASH REQUIREMENT ",null,37.090000000000003,-14,{"$f":"+E18+F18","v":23.090000000000003},{"$f":"ROUND(+G18/365,6)","v":6.3259999999999997E-2},40,{"$f":"ROUND(+H18*I18,0)","v":3}]
[]
[{"$f":"1+A18","v":4},null,"IA STATE INCOME TAX CASH REQUIREMENT",null,37.090000000000003,77,{"$f":"+E20+F20","v":114.09},{"$f":"ROUND(+G20/365,6)","v":0.31257499999999999},30,{"$f":"ROUND(+H20*I20,0)","v":9}]
[]
[{"$f":"1+A20","v":5},null,"CITY EARNINGS TAX CASH REQUIREMENT",null,37.090000000000003,-274.5,{"$f":"+E22+F22","v":-237.41},{"$f":"ROUND(+G22/365,6)","v":-0.65043799999999996},78,{"$f":"ROUND(+H22*I22,0)","v":-51}]
[]
[6,null,"INTEREST EXPENSE CASH REQUIREMENT",null,37.090000000000003,-91.37,{"$f":"+E24+F24","v":-54.28},{"$f":"ROUND(+G24/365,6)","v":-0.14871200000000001},183370,{"$f":"ROUND(+H24*I24,0)","v":-27269}]

{"sheet":"SCHEDULE MJL-D7","index":6,"n_rows":16,"n_cols":5,"rows_kept":16,"cut":false,"hidden":false,"merged":[[0,0,0,4]]}
["AMEREN MISSOURI"]
["TOTAL ELECTRIC AVERAGE CUSTOMER ADVANCES FOR CONSTRUCTION AND "]
["AVERAGE CUSTOMER DEPOSITS"]
[{"$f":"'SCHEDULE MJL-D4'!B3","v":"FOR THE TWELVE MONTHS ENDED DECEMBER 31, 2020"}]
["($000)"]
[]
[]
["LINE",null,"DESCRIPTION",null,"TOTAL ELECTRIC"]
[null,null,"(A)",null,"(B)"]
[]
[]
[]
[{"$f":"1","v":1},null,"AVERAGE CUSTOMER ADVANCES FOR CONSTRUCTION",null,-1696]
[]
[]
[{"$f":"1+A13","v":2},null,"AVERAGE CUSTOMER DEPOSITS",null,-25001]

{"sheet":"SCHEDULE MJL-D8","index":7,"n_rows":34,"n_cols":8,"rows_kept":34,"cut":false,"hidden":false,"merged":[[9,2,9,5],[10,2,10,5]]}
["AMEREN MISSOURI"]
["OTHER REGULATORY ASSETS "]
["AND REGULATORY LIABILITIES "]
[{"$f":"+'SCHEDULE MJL-D9'!A3:H3","v":"FOR THE TWELVE MONTHS ENDED DECEMBER 31, 2020"}]
["($000)"]
[]
[]
[]
[null,null,null,null,null,null,null,"TOTAL"]
["LINE",null,"DESCRIPTION",null,null,null,null,"ELECTRIC"]
[null,null,"(A)",null,null,null,null,"(B)(1)"]
[]
[]
[]
[{"$f":"1","v":1},null,"PENSIONS",null,null,null,null,-24996]
[]
[]
[{"$f":"1+A15","v":2},null,"OTHER POST-EMPLOYMENT BENEFITS",null,null,null,null,-7201]
[]
[]
[{"$f":"1+A18","v":3},null,"PAYS REGULATORY ASSET",null,null,null,null,3044]
[]
[]
[{"$f":"1+A21","v":4},null,"PISA REGULATORY ASSET",null,null,null,null,242925]
[]
[]
[{"$f":"1+A24","v":5},null,"Reserved for future use",null,null,null,null,0]
[]
[]
[{"$f":"A24+1","v":5},null,"UNDER COLLECTED AMORTIZATIONS IN RATE BASE",null,null,null,null,-749]
[]
[]
[{"$f":"1+A30","v":6},null,"(1)  A positive balance is a Regulatory Asset and a negative balance is a"]
[{"$f":"1+A33","v":7},null,"       Regulatory Liability."]

{"sheet":"SCHEDULE MJL-D9","index":8,"n_rows":26,"n_cols":8,"rows_kept":26,"cut":false,"hidden":false,"merged":[[25,2,25,7],[24,2,24,7],[0,0,0,7],[2,0,2,7],[7,2,7,3],[8,2,8,3],[3,0,3,7]]}
["AMEREN MISSOURI"]
["ACCUMULATED DEFERRED INCOME TAXES"]
[{"$f":"+'SCHEDULE MJL-D3'!A3:G3","v":"FOR THE TWELVE MONTHS ENDED DECEMBER 31, 2020"}]
["($000)"]
[]
[null,null,null,null,null,"TOTAL",null,"PRO FORMA"]
[null,null,null,null,null,"ELECTRIC","PRO FORMA","ELECTRIC"]
["LINE",null,"DESCRIPTION",null,null,"PER BOOKS","ADJUSTMENTS","TOTAL"]
[null,null,"(A)",null,null,"(B)","(C)","(D)"]
[]
[1,null,"ACCOUNT 190",null,null,46978,-1618,{"$f":"+F11+G11","v":45360}]
[]
[2,null,"ACCOUNT 281",null,null,-95755,0,{"$f":"+F13+G13","v":-95755}]
[]
[3,null,"ACCOUNT 282",null,null,-2793556,-89285,{"$f":"+F15+G15","v":-2882841}]
[]
[4,null,"ACCOUNT 283",null,null,-52536,-9151,{"$f":"+F17+G17","v":-61687}]
[]
[5,null,"MERAMEC ENERGY CENTER ADJUSTMENT",null,null,0,141,{"$f":"+F19+G19","v":141}]
[]
[6,null,"TOTAL ACCUMULATED DEFERRED INCOME TAXES",null,null,{"$f":"SUM(F11:F20)","v":-2894869},{"$f":"SUM(G11:G20)","v":-99913},{"$f":"SUM(H11:H20)","v":-2994782}]
[]
[]
[null,null,"PRO FORMA ADJUSTMENT:"]
[7,null,"Changes in balances from December 31, 2020 to September 30, 2021, which is the end of the true-up period."]
[8,null,"Meramec Energy Center Adjustment."]

{"sheet":"SCHEDULE MJL-D10","index":9,"n_rows":62,"n_cols":6,"rows_kept":62,"cut":false,"hidden":false,"merged":[[0,0,0,5]]}
["AMEREN MISSOURI"]
["TOTAL ELECTRIC PER BOOK AND PRO FORMA OPERATING REVENUES"]
[{"$f":"'SCHEDULE MJL-D5'!A3","v":"FOR THE TWELVE MONTHS ENDED DECEMBER 31, 2020"}]
["($000)"]
[]
[]
[]
[null,null,null,null,null,"ADJUSTED"]
[null,null,null,"TOTAL ","PRO FORMA","TOTAL "]
["LINE",null,"DESCRIPTION","ELECTRIC","ADJUSTMENTS","ELECTRIC"]
[null,null,"(A)","(B)","(C)","(D)"]
[]
[null,null,"OPERATING REVENUES"]
[1,null,"RETAIL REVENUES",2673832,{"$f":"SUM(D31:D43)","v":-171836},{"$f":"D14+E14","v":2501996}]
[{"$f":"1+A14","v":2},null,"PROVISION FOR RATE REFUNDS",43975,{"$f":"+E46","v":-43975},{"$f":"D15+E15","v":0}]
[{"$f":"1+A15","v":3},null,"OTHER ELECTRIC REVENUES",85005,{"$f":"+D48+D49+D50+D51+D52+D53","v":755},{"$f":"D16+E16","v":85760}]
[]
[{"$f":"1+A16","v":4},null,"TOTAL REVENUES",{"$f":"SUM(D13:D16)","v":2802812},{"$f":"SUM(E13:E16)","v":-215056},{"$f":"SUM(F13:F16)","v":2587756}]
[]
[{"$f":"1+A18","v":5},null,"DISPOSITION OF ALLOWANCES",0,{"$f":"+E56","v":0},{"$f":"D20+E20","v":0}]
[]
[{"$f":"1+A20","v":6},null,"OFF-SYSTEM SALES - ENERGY",152306,{"$f":"+E58","v":149189},{"$f":"D22+E22","v":301495}]
[]
[{"$f":"1+A22","v":7},null,"OFF-SYSTEM SALES-CAPACITY REVENUE",17871,{"$f":"+E60","v":5933},{"$f":"D24+E24","v":23804}]
[]
[{"$f":"A24+1","v":8},null,"TOTAL REVENUES PER BOOKS",{"$f":"SUM(D18:D24)","v":2972989},{"$f":"SUM(E18:E24)","v":-59934},{"$f":"SUM(F18:F24)","v":2913055}]
[]
[]
[]
[null,null,"PRO FORMA ADJUSTMENTS:"]
[{"$f":"1+A26","v":9},-1,"REMOVE ADD ON REVENUE TAX",-133114]
[{"$f":"1+A31","v":10},-2,"ELIMINATE  REVENUE FROM MEEIA RECOVERIES",-90051]
[11,-3,"ELIMINATE  REVENUE FROM FAC RECOVERIES",47583]
[12,-4,"ELIMINATE  UNBILLED REVENUE",7432]
[13,-5,"ADJUST FOR PANDEMIC SHOCK",12831]
[14,-6,"ANNUALIZE RATE CHANGE",-2189]
[15,-7,"ADJUST FOR EDI",-179]
[16,-8,"ADJUST FOR GROWTH",8834]
[17,-9,"ADJUST FOR RESRAM REVENUES",-11460]
[18,-10,"ADJUST FOR ENERGY EFFICIENCY AND SOLAR ANNUALIZATION",-17582]
[19,-11,"DAYS ADJUSTMENT",-3148]
[20,-12,"ADJUST FOR BILLING UNITS",-656]
[{"$f":"1+A42","v":21},-13,"ADJUST FOR NORMAL WEATHER ",9863]
[{"$f":"1+A43","v":22},null,"TOTAL",null,{"$f":"SUM(D31:D43)","v":-171836}]
[]
[{"$f":"1+A44","v":23},-14,"ELIMINATE  PROVISION FOR RATE REFUNDS",null,-43975]
[]
[{"$f":"1+A46","v":24},-15,"ADJUST TRANSMISSION REVENUES",522]
[25,-16,"MISC REVENUE FROM COAL REFINEMENT",-1385]
[26,-17,"ADJUST WAIVED LATE FEE REVENUE FROM AAO",4464]
[27,-18,"MISC LEASE REVENUE FROM SOFTWARE LEASES",-1544]
[28,-19,"ADJUST BOA LEASE REVENUE",-1687]
[29,-20,"ADJUST FOR PAYS REVENUES",385]
[{"$f":"1+A53","v":30},null,"TOTAL",null,{"$f":"SUM(D48:D53)","v":755}]
[]
[{"$f":"1+A54","v":31},-21,"ELIMINATE  DISPOSITION OF ALLOWANCES",null,0]
[]
[{"$f":"1+A56","v":32},-22,"ADJUST OFF-SYSTEM SALES - ENERGY",null,149189]
[]
[{"$f":"1+A58","v":33},-23,"ADJUST OFF-SYSTEM SALES - CAPACITY",null,5933]
[]
[{"$f":"1+A60","v":34},null,"TOTAL PRO FORMA ADJUSTMENTS",null,{"$f":"SUM(E31:E60)","v":-59934}]

{"sheet":"SCHEDULE MJL-D11-1","index":10,"n_rows":61,"n_cols":67,"rows_kept":61,"cut":false,"hidden":false,"merged":[[44,0,59,0],[44,14,59,14],[44,27,59,27],[44,38,59,38],[44,51,59,51]]}
[null,null,null,null,null,"#1","#2","#3","#4","#5","#6","#7","#8","#9",null,null,null,null,"#10","#11","#12","#13","#14","#15","#16","#17","#18",null,null,null,null,"#19","#20","#21","#22","#23","#24","#25",null,null,null,null,"#26","#27","#28","#29","#30","#31","#32","#33","#34",null,null,null,null,"#35","#36","#37","#38","#39","#40","#41","#42","#43"]
[null,null,"Title included in Page header for printing purposes.",null,null,null,null,"LONG TERM",null,null,"ADJUST",null,null,null,null,null,null,null,null,null,null,null,null,null,null,null,null,null,null,null,null,null,null,"ENERGY EFFICIENCY",null,null,null,null,null,null,null,null,"PRO FORMA",null,"REBASE","AMORTIZE",null,null,null,null,"BOARD OF"]
[null,null,null,null,"TOTAL",null,"INCENTIVE","INCENTIVE","STAFFING ","CHANGE IN FUEL","PURCHASED","MARK TWAIN","COAL ","STEAM ",null,null,null,null,"MERAMEC ","ELIMINATE","CALLAWAY","OTHER","REBASE","ELIMINATE","ANNUALIZE SOLAR","DEPRECIATION","NORMALIZE",null,null,null,null,"ANNUALIZE","ADD INTEREST","PROGRAM COST","NORMALIZE ","ANNUALIZE","ANNUALIZE ",null,null,null,null,null,"MEDICAL & ","NON-QUALIFIED","PENSION","PENSION","RESRAM",null,null,null,"DIRECTORS",null,null,null,null,"NORMALIZE","BOA","SOFTWARE","ALLOCATION","REMOVE",null,"ELECTRIC","CUSTOMER ","EV",null,"TOTAL","PRO FORMA"]
[null,null,null,null,"PER","LABOR","COMPENSATION","COMPENSATION","ANNUALIZATION","EXPENSE FOR","POWER FOR","TRANSMISSION","REFINEMENT","PLANT",null,null,null,null,"MAINTENANCE ","FAC","REFUELING","RES AMORT","RES","SOLAR","REBATE","TO O&M","STORM",null,null,null,null,"VEG MGMT &","ON CUSTOMER","RECOVERY","JANITORIAL COSTS","BAD DEBT","EEI","INSURANCE",null,null,null,null,"BENEFIT","PENSION","AND OPEB","AND OPEB","BASE ","ALCOHOL","RATE CASE","MPSC","EXPENSE",null,null,null,null,"STUDY","RENTAL","RENTAL","FACTOR","AAO","COLI ","COSTS","CONVENIENCE ","INCENTIVE",null,"PRO FORMA","ELECTRIC"]
[null,null,"LINE","FUNCTIONAL CLASSIFICATION","BOOKS","ADJUSTMENT","ADJUSTMENT","ADJUSTMENT","SALARY & BENEFITS","TU CHANGE","TU CHANGE","ADJUSTMENT","ADJUSTMENT","MAINTENANCE",null,null,"LINE","FUNCTIONAL CLASSIFICATION","ADJUSTMENT ","RECOVERY","EXPENSES","ADJUSTMENT","EXPENSE","AMOUNTS","AMORTIZATION","ADJUSTMENT","COSTS",null,null,"LINE","FUNCTIONAL CLASSIFICATION","INSPECTIONS","DEPOSITS","ADJUSTMENT","POST PANDEMIC","EXPENSE","DUES","ADJUST.",null,null,"LINE","FUNCTIONAL CLASSIFICATION","ADJUST.","ADJUST.","TRACKER","TRACKER","EXPENSE","PURCHASES","EXPENSES","ASSESSMENT","ADJUSTMENT",null,null,"LINE","FUNCTIONAL CLASSIFICATION","EXPENSE","EXPENSE","EXPENSE","ADJUSTMENT","DEFERRAL","NORMALIZATION","ALLOC TO GAS","FEES","ADJUSTMENT",null,"ADJUSTMENT","TOTALS"]
[null,null,null,"(A)","(B)","(C)","(D)","(E)","(F)","(G)","(H)","(I)","(J)","(K)",null,null,null,"(A)","(B)","(C)","(D)","(E)","(F)","(G)","(H)","(I)","(J)",null,null,null,"(A)","(B)","(C)","(D)","(E )","(F)","(G)","(H)",null,null,null,"(A)","(B)","(C)","(D)","(E )","(F)","(G)","(H)","(I)","(J)",null,null,null,"(A)","(B)","(C)","(D)","(E )","(F)","(G)","(H)","(I)","(J)",null,"(G)","(H)"]
[null,null,null,"  PRODUCTION:",null,null,null,null,null,null,null,null,null,null,null,null,null,"  PRODUCTION:",null,null,null,null,null,null,null,null,null,null,null,null,"  PRODUCTION:",null,null,null,null,null,null,null,null,null,null,"  PRODUCTION:",null,null,null,null,null,null,null,null,null,null,null,null,"  PRODUCTION:"]
[null,null,null,"    INCREMENTAL COSTS:",null,null,null,null,null,null,null,null,null,null,null,null,null,"    INCREMENTAL COSTS:",null,null,null,null,null,null,null,null,null,null,null,null,"    INCREMENTAL COSTS:",null,null,null,null,null,null,null,null,null,null,"    INCREMENTAL COSTS:",null,null,null,null,null,null,null,null,null,null,null,null,"    INCREMENTAL COSTS:"]
[null,null,1,"      LABOR",204321,4133,-2266,-1196,0,0,0,0,0,null,null,null,1,"      LABOR",0,0,5088,0,0,0,0,0,0,null,null,1,"      LABOR",0,0,0,0,0,0,0,null,null,1,"      LABOR",0,0,0,0,0,0,0,0,0,null,null,1,"      LABOR",0,0,0,0,0,0,0,0,0,null,{"$f":"SUM(F9:N9,S9:AA9,AF9:AL9,AQ9:AY9,BD9:BM9)","v":5759},{"$f":"E9+BN9","v":210080}]
[null,null,null,"      FUEL (EXCL. W/H CR.)",null,null,null,null,null,null,null,null,null,null,null,null,null,"      FUEL (EXCL. W/H CR.)",null,null,null,null,null,null,null,null,null,null,null,null,"      FUEL (EXCL. W/H CR.)",null,null,null,null,null,null,null,null,null,null,"      FUEL (EXCL. W/H CR.)",null,null,null,null,null,null,null,null,null,null,null,null,"      FUEL (EXCL. W/H CR.)"]
[null,null,{"$f":"1+C9","v":2},"            BASE LOAD",432189,0,0,0,0,-46999,0,0,0,null,null,null,{"$f":"1+Q9","v":2},"            BASE LOAD",0,0,0,0,0,0,0,0,0,null,null,{"$f":"1+AD9","v":2},"            BASE LOAD",0,0,0,0,0,0,0,null,null,{"$f":"1+AO9","v":2},"            BASE LOAD",0,0,0,0,0,0,0,0,0,null,null,{"$f":"1+BB9","v":2},"            BASE LOAD",0,0,0,0,0,0,0,0,0,null,{"$f":"SUM(F11:N11,S11:AA11,AF11:AL11,AQ11:AY11,BD11:BM11)","v":-46999},{"$f":"E11+BN11","v":385190}]
[null,null,{"$f":"1+C11","v":3},"            INTERCHANGE",103625,0,0,0,0,110435,0,0,0,null,null,null,{"$f":"1+Q11","v":3},"            INTERCHANGE",0,0,0,0,0,0,0,0,0,null,null,{"$f":"1+AD11","v":3},"            INTERCHANGE",0,0,0,0,0,0,0,null,null,{"$f":"1+AO11","v":3},"            INTERCHANGE",0,0,0,0,0,0,0,0,0,null,null,{"$f":"1+BB11","v":3},"            INTERCHANGE",0,0,0,0,0,0,0,0,0,null,{"$f":"SUM(F12:N12,S12:AA12,AF12:AL12,AQ12:AY12,BD12:BM12)","v":110435},{"$f":"E12+BN12","v":214060}]
[null,null,{"$f":"1+C12","v":4},"      FUEL ADDITIVES",6266,0,0,0,0,1542,0,0,0,0,null,null,{"$f":"1+Q12","v":4},"      FUEL ADDITIVES",0,0,0,0,0,0,0,0,0,null,null,{"$f":"1+AD12","v":4},"      FUEL ADDITIVES",0,0,0,0,0,0,0,null,null,{"$f":"1+AO12","v":4},"      FUEL ADDITIVES",0,0,0,0,0,0,0,0,0,null,null,{"$f":"1+BB12","v":4},"      FUEL ADDITIVES",0,0,0,0,0,0,0,0,0,null,1542,{"$f":"E13+BN13","v":7808}]
[null,null,null,"      PURCHASED POWER ",null,null,null,null,null,null,null,null,null,null,null,null,null,"      PURCHASED POWER ",null,null,null,null,null,null,null,null,null,null,null,null,"      PURCHASED POWER ",null,null,null,null,null,null,null,null,null,null,"      PURCHASED POWER ",null,null,null,null,null,null,null,null,null,null,null,null,"      PURCHASED POWER "]
[null,null,null,"        ENERGY ",null,null,null,null,null,null,null,null,null,null,null,null,null,"        ENERGY ",null,null,null,null,null,null,null,null,null,null,null,null,"        ENERGY ",null,null,null,null,null,null,null,null,null,null,"        ENERGY ",null,null,null,null,null,null,null,null,null,null,null,null,"        ENERGY "]
[null,null,{"$f":"1+C13","v":5},"            BASE LOAD",63617,0,0,0,0,0,-15360,0,0,0,null,null,{"$f":"1+Q13","v":5},"            BASE LOAD",0,0,0,0,0,0,0,0,0,null,null,{"$f":"1+AD13","v":5},"            BASE LOAD",0,0,0,0,0,0,0,null,null,{"$f":"1+AO13","v":5},"            BASE LOAD",0,0,0,0,0,0,0,0,0,null,null,{"$f":"1+BB13","v":5},"            BASE LOAD",0,0,0,0,0,0,0,0,0,null,-15360,{"$f":"E16+BN16","v":48257}]
[null,null,{"$f":"1+C16","v":6},"            INTERCHANGE",2864,0,0,0,0,0,-2865,0,0,0,null,null,{"$f":"1+Q16","v":6},"            INTERCHANGE",0,0,0,0,0,0,0,0,0,null,null,{"$f":"1+AD16","v":6},"            INTERCHANGE",0,0,0,0,0,0,0,null,null,{"$f":"1+AO16","v":6},"            INTERCHANGE",0,0,0,0,0,0,0,0,0,null,null,{"$f":"1+BB16","v":6},"            INTERCHANGE",0,0,0,0,0,0,0,0,0,null,-2865,{"$f":"E17+BN17","v":-1}]
[null,null,null,"        CAPACITY COSTS",null,null,null,null,null,null,null,null,null,null,null,null,null,"        CAPACITY COSTS",null,null,null,0,0,0,0,0,0,null,null,null,"        CAPACITY COSTS",null,null,null,null,null,null,null,null,null,null,"        CAPACITY COSTS",null,0,0,0,0,0,0,0,0,null,null,null,"        CAPACITY COSTS",0,0,0,0,0,0,0,0,0,null,0]
[null,null,{"$f":"1+C17","v":7},"            BASE LOAD",11550,0,0,0,0,0,5265,0,0,0,null,null,{"$f":"1+Q17","v":7},"            BASE LOAD",0,0,0,0,0,0,0,0,0,null,null,{"$f":"1+AD17","v":7},"            BASE LOAD",0,0,0,0,0,0,0,null,null,{"$f":"1+AO17","v":7},"            BASE LOAD",0,0,0,0,0,0,0,0,0,null,null,{"$f":"1+BB17","v":7},"            BASE LOAD",0,0,0,0,0,0,0,0,0,null,5265,{"$f":"E19+BN19","v":16815}]
[null,null,{"$f":"1+C19","v":8},"            INTERCHANGE",0,0,0,0,0,0,0,0,0,0,null,null,{"$f":"1+Q19","v":8},"            INTERCHANGE",0,0,0,0,0,0,0,0,0,null,null,{"$f":"1+AD19","v":8},"            INTERCHANGE",0,0,0,0,0,0,0,null,null,{"$f":"1+AO19","v":8},"            INTERCHANGE",0,0,0,0,0,0,0,0,0,null,null,{"$f":"1+BB19","v":8},"            INTERCHANGE",0,0,0,0,0,0,0,0,0,null,0,{"$f":"E20+BN20","v":0}]
[null,null,{"$f":"1+C20","v":9},"      OTHER",24071,0,0,0,0,0,0,0,21260,8920,null,null,{"$f":"1+Q20","v":9},"      OTHER",-2070,49057,20557,3664,1375,0,0,-393,0,null,null,{"$f":"1+AD20","v":9},"      OTHER",0,0,0,0,0,0,0,null,null,{"$f":"1+AO20","v":9},"      OTHER",0,0,0,0,19814,-4,0,0,0,null,null,{"$f":"1+BB20","v":9},"      OTHER",0,0,0,0,-4431,0,0,0,0,null,{"$f":"SUM(F21:N21,S21:AA21,AF21:AL21,AQ21:AY21,BD21:BM21)","v":117749},{"$f":"E21+BN21","v":141820}]
[null,null,{"$f":"1+C21","v":10},"  TOTAL PRODUCTION EXPENSES",{"$f":"SUM(E9:E21)","v":848503},4133,-2266,-1196,0,{"$f":"SUM(J9:J21)","v":64978},{"$f":"SUM(K9:K21)","v":-12960},{"$f":"SUM(L9:L21)","v":0},{"$f":"SUM(M9:M21)","v":21260},8920,null,null,{"$f":"1+Q21","v":10},"  TOTAL PRODUCTION EXPENSES",{"$f":"SUM(S9:S21)","v":-2070},{"$f":"SUM(T9:T21)","v":49057},{"$f":"SUM(U9:U21)","v":25645},{"$f":"SUM(V9:V21)","v":3664},{"$f":"SUM(W9:W21)","v":1375},{"$f":"SUM(X9:X21)","v":0},0,{"$f":"SUM(Z9:Z21)","v":-393},0,null,null,{"$f":"1+AD21","v":10},"  TOTAL PRODUCTION EXPENSES",{"$f":"SUM(AF9:AF21)","v":0},{"$f":"SUM(AG9:AG21)","v":0},{"$f":"SUM(AH9:AH21)","v":0},0,{"$f":"SUM(AJ9:AJ21)","v":0},0,{"$f":"SUM(AL9:AL21)","v":0},null,null,{"$f":"1+AO21","v":10},"  TOTAL PRODUCTION EXPENSES",{"$f":"SUM(AQ9:AQ21)","v":0},{"$f":"SUM(AR9:AR21)","v":0},{"$f":"SUM(AS9:AS21)","v":0},{"$f":"SUM(AT9:AT21)","v":0},{"$f":"SUM(AU9:AU21)","v":19814},-4,{"$f":"SUM(AW9:AW21)","v":0},{"$f":"SUM(AX9:AX21)","v":0},0,null,null,{"$f":"1+BB21","v":10},"  TOTAL PRODUCTION EXPENSES",{"$f":"SUM(BD9:BD21)","v":0},0,{"$f":"SUM(BF9:BF21)","v":0},{"$f":"SUM(BG9:BG21)","v":0},{"$f":"SUM(BH9:BH21)","v":-4431},{"$f":"SUM(BI9:BI21)","v":0},{"$f":"SUM(BJ9:BJ21)","v":0},0,0,null,{"$f":"SUM(BN9:BN21)","v":175526},{"$f":"SUM(BO9:BO21)","v":1024029}]
[]
[null,null,null,"  TRANSMISSION EXPENSES:",null,null,null,null,null,null,null,null,null,null,null,null,null,"  TRANSMISSION EXPENSES:",null,null,null,null,null,null,null,null,null,null,null,null,"  TRANSMISSION EXPENSES:",null,null,null,null,null,null,null,null,null,null,"  TRANSMISSION EXPENSES:",null,null,null,null,null,null,null,null,null,null,null,null,"  TRANSMISSION EXPENSES:"]
[null,null,{"$f":"1+C22","v":11},"      LABOR",6197,114,-69,-106,0,0,0,0,0,0,null,null,{"$f":"1+Q22","v":11},"      LABOR",0,0,0,0,0,0,0,0,0,null,null,{"$f":"1+AD22","v":11},"      LABOR",0,0,0,0,0,0,0,null,null,{"$f":"1+AO22","v":11},"      LABOR",0,0,0,0,0,0,0,0,0,null,null,{"$f":"1+BB22","v":11},"      LABOR",0,0,0,0,0,0,0,0,0,null,{"$f":"SUM(F25:N25,S25:AA25,AF25:AL25,AQ25:AY25,BD25:BM25)","v":-61},{"$f":"E25+BN25","v":6136}]
[null,null,{"$f":"1+C25","v":12},"      OTHER",98176,0,0,0,0,0,5856,-160,0,0,null,null,{"$f":"1+Q25","v":12},"      OTHER",0,0,0,0,0,0,0,0,0,null,null,{"$f":"1+AD25","v":12},"      OTHER",0,0,0,0,0,0,0,null,null,{"$f":"1+AO25","v":12},"      OTHER",0,0,0,0,2445,-1,0,0,0,null,null,{"$f":"1+BB25","v":12},"      OTHER",0,0,0,-505,0,0,0,0,0,null,7635,{"$f":"E26+BN26","v":105811}]
[null,null,{"$f":"1+C26","v":13},"  TOTAL TRANSMISSION EXPENSES",{"$f":"SUM(E25:E26)","v":104373},114,-69,-106,0,{"$f":"SUM(J25:J26)","v":0},{"$f":"SUM(K25:K26)","v":5856},{"$f":"SUM(L25:L26)","v":-160},{"$f":"SUM(M25:M26)","v":0},0,null,null,{"$f":"1+Q26","v":13},"  TOTAL TRANSMISSION EXPENSES",{"$f":"SUM(S25:S26)","v":0},{"$f":"SUM(T25:T26)","v":0},{"$f":"SUM(U25:U26)","v":0},{"$f":"SUM(V25:V26)","v":0},{"$f":"SUM(W25:W26)","v":0},{"$f":"SUM(X25:X26)","v":0},0,{"$f":"SUM(Z25:Z26)","v":0},0,null,null,{"$f":"1+AD26","v":13},"  TOTAL TRANSMISSION EXPENSES",{"$f":"SUM(AF25:AF26)","v":0},{"$f":"SUM(AG25:AG26)","v":0},{"$f":"SUM(AH25:AH26)","v":0},0,{"$f":"SUM(AJ25:AJ26)","v":0},0,{"$f":"SUM(AL25:AL26)","v":0},null,null,{"$f":"1+AO26","v":13},"  TOTAL TRANSMISSION EXPENSES",{"$f":"SUM(AQ25:AQ26)","v":0},{"$f":"SUM(AR25:AR26)","v":0},{"$f":"SUM(AS25:AS26)","v":0},{"$f":"SUM(AT25:AT26)","v":0},{"$f":"SUM(AU25:AU26)","v":2445},-1,{"$f":"SUM(AW25:AW26)","v":0},{"$f":"SUM(AX25:AX26)","v":0},0,null,null,{"$f":"1+BB26","v":13},"  TOTAL TRANSMISSION EXPENSES",{"$f":"SUM(BD25:BD26)","v":0},0,{"$f":"SUM(BF25:BF26)","v":0},{"$f":"SUM(BG25:BG26)","v":-505},{"$f":"SUM(BH25:BH26)","v":0},{"$f":"SUM(BI25:BI26)","v":0},{"$f":"SUM(BJ25:BJ26)","v":0},0,0,null,{"$f":"SUM(BN25:BN26)","v":7574},{"$f":"SUM(BO25:BO26)","v":111947}]
[]
[null,null,null,"  REGIONAL MARKET EXPENSES:",null,null,null,null,null,null,null,null,null,null,null,null,null,"  REGIONAL MARKET EXPENSES:",null,null,null,null,null,null,null,null,null,null,null,null,"  REGIONAL MARKET EXPENSES:",null,null,null,null,null,null,null,null,null,null,"  REGIONAL MARKET EXPENSES:",null,null,null,null,null,null,null,null,null,null,null,null,"  REGIONAL MARKET EXPENSES:"]
[null,null,{"$f":"1+C27","v":14},"      LABOR",0,0,0,0,0,0,0,0,0,0,null,null,{"$f":"1+Q27","v":14},"      LABOR",0,0,0,0,0,0,0,0,0,null,null,{"$f":"1+AD27","v":14},"      LABOR",0,0,0,0,0,0,0,null,null,{"$f":"1+AO27","v":14},"      LABOR",0,0,0,0,0,0,0,0,0,null,null,{"$f":"1+BB27","v":14},"      LABOR",0,0,0,0,0,0,0,0,0,null,{"$f":"SUM(F30:N30,S30:AA30,AF30:AL30,AQ30:AY30,BD30:BM30)","v":0},{"$f":"E30+BN30","v":0}]
[null,null,{"$f":"1+C30","v":15},"      OTHER",7329,0,0,0,0,0,0,0,0,0,null,null,{"$f":"1+Q30","v":15},"      OTHER",0,0,0,0,0,0,0,0,0,null,null,{"$f":"1+AD30","v":15},"      OTHER",0,0,0,0,0,0,0,null,null,{"$f":"1+AO30","v":15},"      OTHER",0,0,0,0,0,0,0,0,0,null,null,{"$f":"1+BB30","v":15},"      OTHER",0,0,0,0,0,0,0,0,0,null,0,{"$f":"E31+BN31","v":7329}]
[null,null,{"$f":"1+C31","v":16},"  TOTAL REGIONAL MARKET EXPENSES",{"$f":"SUM(E30:E31)","v":7329},0,0,0,0,{"$f":"SUM(J30:J31)","v":0},{"$f":"SUM(K30:K31)","v":0},{"$f":"SUM(L30:L31)","v":0},{"$f":"SUM(M30:M31)","v":0},0,null,null,{"$f":"1+Q31","v":16},"  TOTAL REGIONAL MARKET EXPENSES",{"$f":"SUM(S30:S31)","v":0},{"$f":"SUM(T30:T31)","v":0},{"$f":"SUM(U30:U31)","v":0},{"$f":"SUM(V30:V31)","v":0},{"$f":"SUM(W30:W31)","v":0},{"$f":"SUM(X30:X31)","v":0},0,{"$f":"SUM(Z30:Z31)","v":0},0,null,null,{"$f":"1+AD31","v":16},"  TOTAL REGIONAL MARKET EXPENSES",{"$f":"SUM(AF30:AF31)","v":0},{"$f":"SUM(AG30:AG31)","v":0},{"$f":"SUM(AH30:AH31)","v":0},0,{"$f":"SUM(AJ30:AJ31)","v":0},0,{"$f":"SUM(AL30:AL31)","v":0},null,null,{"$f":"1+AO31","v":16},"  TOTAL REGIONAL MARKET EXPENSES",{"$f":"SUM(AQ30:AQ31)","v":0},{"$f":"SUM(AR30:AR31)","v":0},{"$f":"SUM(AS30:AS31)","v":0},{"$f":"SUM(AT30:AT31)","v":0},{"$f":"SUM(AU30:AU31)","v":0},0,{"$f":"SUM(AW30:AW31)","v":0},{"$f":"SUM(AX30:AX31)","v":0},0,null,null,{"$f":"1+BB31","v":16},"  TOTAL REGIONAL MARKET EXPENSES",{"$f":"SUM(BD30:BD31)","v":0},0,{"$f":"SUM(BF30:BF31)","v":0},{"$f":"SUM(BG30:BG31)","v":0},{"$f":"SUM(BH30:BH31)","v":0},{"$f":"SUM(BI30:BI31)","v":0},{"$f":"SUM(BJ30:BJ31)","v":0},0,0,null,{"$f":"SUM(BN30:BN31)","v":0},{"$f":"SUM(BO30:BO31)","v":7329}]
[]
[null,null,null,"  DISTRIBUTION EXPENSES:",null,null,null,null,null,null,null,null,null,null,null,null,null,"  DISTRIBUTION EXPENSES:",null,null,null,null,null,null,null,null,null,null,null,null,"  DISTRIBUTION EXPENSES:",null,null,null,null,null,null,null,null,null,null,"  DISTRIBUTION EXPENSES:",null,null,null,null,null,null,null,null,null,null,null,null,"  DISTRIBUTION EXPENSES:"]
[null,null,{"$f":"1+C32","v":17},"      LABOR",63117,1319,-700,-327,0,0,0,0,0,0,null,null,{"$f":"1+Q32","v":17},"      LABOR",0,0,0,0,0,0,0,0,0,null,null,{"$f":"1+AD32","v":17},"      LABOR",0,0,0,0,0,0,0,null,null,{"$f":"1+AO32","v":17},"      LABOR",0,0,0,0,0,0,0,0,0,null,null,{"$f":"1+BB32","v":17},"      LABOR",0,0,0,0,0,0,0,0,0,null,{"$f":"SUM(F35:N35,S35:AA35,AF35:AL35,AQ35:AY35,BD35:BM35)","v":292},{"$f":"E35+BN35","v":63409}]
[null,null,{"$f":"1+C35","v":18},"      OTHER",78878,0,0,0,0,0,0,0,0,0,null,null,{"$f":"1+Q35","v":18},"      OTHER",0,0,0,0,0,0,0,-436,1204,null,null,{"$f":"1+AD35","v":18},"      OTHER",3458,0,0,0,0,0,0,null,null,{"$f":"1+AO35","v":18},"      OTHER",0,0,0,0,0,-3,0,0,0,null,null,{"$f":"1+BB35","v":18},"      OTHER",0,0,0,13,-4950,0,0,0,0,null,-714,{"$f":"E36+BN36","v":78164}]
[null,null,{"$f":"1+C36","v":19},"  TOTAL DISTRIBUTION EXPENSES",{"$f":"SUM(E35:E36)","v":141995},1319,-700,-327,0,{"$f":"SUM(J35:J36)","v":0},{"$f":"SUM(K35:K36)","v":0},{"$f":"SUM(L35:L36)","v":0},{"$f":"SUM(M35:M36)","v":0},0,null,null,{"$f":"1+Q36","v":19},"  TOTAL DISTRIBUTION EXPENSES",{"$f":"SUM(S35:S36)","v":0},{"$f":"SUM(T35:T36)","v":0},{"$f":"SUM(U35:U36)","v":0},{"$f":"SUM(V35:V36)","v":0},{"$f":"SUM(W35:W36)","v":0},{"$f":"SUM(X35:X36)","v":0},0,{"$f":"SUM(Z35:Z36)","v":-436},1204,null,null,{"$f":"1+AD36","v":19},"  TOTAL DISTRIBUTION EXPENSES",{"$f":"SUM(AF35:AF36)","v":3458},{"$f":"SUM(AG35:AG36)","v":0},{"$f":"SUM(AH35:AH36)","v":0},0,{"$f":"SUM(AJ35:AJ36)","v":0},0,{"$f":"SUM(AL35:AL36)","v":0},null,null,{"$f":"1+AO36","v":19},"  TOTAL DISTRIBUTION EXPENSES",{"$f":"SUM(AQ35:AQ36)","v":0},{"$f":"SUM(AR35:AR36)","v":0},{"$f":"SUM(AS35:AS36)","v":0},{"$f":"SUM(AT35:AT36)","v":0},{"$f":"SUM(AU35:AU36)","v":0},-3,{"$f":"SUM(AW35:AW36)","v":0},{"$f":"SUM(AX35:AX36)","v":0},0,null,null,{"$f":"1+BB36","v":19},"  TOTAL DISTRIBUTION EXPENSES",{"$f":"SUM(BD35:BD36)","v":0},0,{"$f":"SUM(BF35:BF36)","v":0},{"$f":"SUM(BG35:BG36)","v":13},{"$f":"SUM(BH35:BH36)","v":-4950},{"$f":"SUM(BI35:BI36)","v":0},{"$f":"SUM(BJ35:BJ36)","v":0},0,0,null,{"$f":"SUM(BN35:BN36)","v":-422},{"$f":"SUM(BO35:BO36)","v":141573}]
[]
[null,null,null,"  CUSTOMER ACCOUNTING EXPENSES:",null,null,null,null,null,null,null,null,null,null,null,null,null,"  CUSTOMER ACCOUNTING EXPENSES:",null,null,null,null,null,null,null,null,null,null,null,null,"  CUSTOMER ACCOUNTING EXPENSES:",null,null,null,null,null,null,null,null,null,null,"  CUSTOMER ACCOUNTING EXPENSES:",null,null,null,null,null,null,null,null,null,null,null,null,"  CUSTOMER ACCOUNTING EXPENSES:"]
[null,null,{"$f":"1+C37","v":20},"      LABOR",21078,457,-234,-100,0,0,0,0,0,0,null,null,{"$f":"1+Q37","v":20},"      LABOR",0,0,0,0,0,0,0,0,0,null,null,{"$f":"1+AD37","v":20},"      LABOR",0,0,0,0,0,0,0,null,null,{"$f":"1+AO37","v":20},"      LABOR",0,0,0,0,0,0,0,0,0,null,null,{"$f":"1+BB37","v":20},"      LABOR",0,0,0,0,0,0,0,0,0,null,{"$f":"SUM(F40:N40,S40:AA40,AF40:AL40,AQ40:AY40,BD40:BM40)","v":123},{"$f":"E40+BN40","v":21201}]
[null,null,{"$f":"1+C40","v":21},"      OTHER",43502,0,0,0,0,0,0,0,0,0,null,null,{"$f":"1+Q40","v":21},"      OTHER",0,0,0,0,0,0,0,0,0,null,null,{"$f":"1+AD40","v":21},"      OTHER",0,1063,0,0,-6546,0,0,null,null,{"$f":"1+AO40","v":21},"      OTHER",0,0,0,0,0,0,0,0,0,null,null,{"$f":"1+BB40","v":21},"      OTHER",0,0,0,1,-85,0,0,4676,0,null,-891,{"$f":"E41+BN41","v":42611}]
[null,null,{"$f":"1+C41","v":22},"  TOTAL CUSTOMER ACCOUNTING EXPENSES",{"$f":"SUM(E40:E41)","v":64580},457,-234,-100,0,{"$f":"SUM(J40:J41)","v":0},{"$f":"SUM(K40:K41)","v":0},{"$f":"SUM(L40:L41)","v":0},{"$f":"SUM(M40:M41)","v":0},0,null,null,{"$f":"1+Q41","v":22},"  TOTAL CUSTOMER ACCOUNTING EXPENSES",{"$f":"SUM(S40:S41)","v":0},{"$f":"SUM(T40:T41)","v":0},{"$f":"SUM(U40:U41)","v":0},{"$f":"SUM(V40:V41)","v":0},{"$f":"SUM(W40:W41)","v":0},{"$f":"SUM(X40:X41)","v":0},0,{"$f":"SUM(Z40:Z41)","v":0},0,null,null,{"$f":"1+AD41","v":22},"  TOTAL CUSTOMER ACCOUNTING EXPENSES",{"$f":"SUM(AF40:AF41)","v":0},{"$f":"SUM(AG40:AG41)","v":1063},{"$f":"SUM(AH40:AH41)","v":0},0,{"$f":"SUM(AJ40:AJ41)","v":-6546},0,{"$f":"SUM(AL40:AL41)","v":0},null,null,{"$f":"1+AO41","v":22},"  TOTAL CUSTOMER ACCOUNTING EXPENSES",{"$f":"SUM(AQ40:AQ41)","v":0},{"$f":"SUM(AR40:AR41)","v":0},{"$f":"SUM(AS40:AS41)","v":0},{"$f":"SUM(AT40:AT41)","v":0},{"$f":"SUM(AU40:AU41)","v":0},0,{"$f":"SUM(AW40:AW41)","v":0},{"$f":"SUM(AX40:AX41)","v":0},0,null,null,{"$f":"1+BB41","v":22},"  TOTAL CUSTOMER ACCOUNTING EXPENSES",{"$f":"SUM(BD40:BD41)","v":0},0,{"$f":"SUM(BF40:BF41)","v":0},{"$f":"SUM(BG40:BG41)","v":1},{"$f":"SUM(BH40:BH41)","v":-85},{"$f":"SUM(BI40:BI41)","v":0},{"$f":"SUM(BJ40:BJ41)","v":0},4676,0,null,{"$f":"SUM(BN40:BN41)","v":-768},{"$f":"SUM(BO40:BO41)","v":63812}]
[]
[null,null,null,"  CUSTOMER SERV. & INFO. EXPENSES:",null,null,null,null,null,null,null,null,null,null,null,null,null,"  CUSTOMER SERV. & INFO. EXPENSES:",null,null,null,null,null,null,null,null,null,null,null,null,"  CUSTOMER SERV. & INFO. EXPENSES:",null,null,null,null,null,null,null,null,null,null,"  CUSTOMER SERV. & INFO. EXPENSES:",null,null,null,null,null,null,null,null,null,null,null,null,"  CUSTOMER SERV. & INFO. EXPENSES:"]
["SCHEDULE MJL-D11-1",null,{"$f":"1+C42","v":23},"      LABOR",6936,106,-76,-131,0,0,0,0,0,0,"SCHEDULE MJL-D11-2",null,{"$f":"1+Q42","v":23},"      LABOR",0,0,0,0,0,0,0,0,0,"SCHEDULE MJL-D11-3",null,{"$f":"1+AD42","v":23},"      LABOR",0,0,0,0,0,0,0,"SCHEDULE MJL-D11-4",null,{"$f":"1+AO42","v":23},"      LABOR",0,0,0,0,0,0,0,0,0,"SCHEDULE MJL-D11-5",null,{"$f":"1+BB42","v":23},"      LABOR",0,0,0,0,0,0,0,0,0,null,{"$f":"SUM(F45:N45,S45:AA45,AF45:AL45,AQ45:AY45,BD45:BM45)","v":-101},{"$f":"E45+BN45","v":6835}]
[null,null,{"$f":"1+C45","v":24},"      OTHER",79410,0,0,0,0,0,0,0,0,0,null,null,{"$f":"1+Q45","v":24},"      OTHER",0,0,0,0,0,-5961,1594,0,0,null,null,{"$f":"1+AD45","v":24},"      OTHER",0,0,-68750,0,0,0,0,null,null,{"$f":"1+AO45","v":24},"      OTHER",0,0,0,0,2380,-1,0,0,0,null,null,{"$f":"1+BB45","v":24},"      OTHER",0,0,0,1,0,0,0,0,0,null,-70737,{"$f":"E46+BN46","v":8673}]
[null,null,{"$f":"1+C46","v":25},"  TOTAL CUSTOMER SERV. & INFO. EXPENSES",{"$f":"SUM(E45:E46)","v":86346},106,-76,-131,0,{"$f":"SUM(J45:J46)","v":0},{"$f":"SUM(K45:K46)","v":0},{"$f":"SUM(L45:L46)","v":0},{"$f":"SUM(M45:M46)","v":0},0,null,null,{"$f":"1+Q46","v":25},"  TOTAL CUSTOMER SERV. & INFO. EXPENSES",{"$f":"SUM(S45:S46)","v":0},{"$f":"SUM(T45:T46)","v":0},{"$f":"SUM(U45:U46)","v":0},{"$f":"SUM(V45:V46)","v":0},{"$f":"SUM(W45:W46)","v":0},{"$f":"SUM(X45:X46)","v":-5961},1594,{"$f":"SUM(Z45:Z46)","v":0},0,null,null,{"$f":"1+AD46","v":25},"  TOTAL CUSTOMER SERV. & INFO. EXPENSES",{"$f":"SUM(AF45:AF46)","v":0},{"$f":"SUM(AG45:AG46)","v":0},{"$f":"SUM(AH45:AH46)","v":-68750},0,{"$f":"SUM(AJ45:AJ46)","v":0},0,{"$f":"SUM(AL45:AL46)","v":0},null,null,{"$f":"1+AO46","v":25},"  TOTAL CUSTOMER SERV. & INFO. EXPENSES",{"$f":"SUM(AQ45:AQ46)","v":0},{"$f":"SUM(AR45:AR46)","v":0},{"$f":"SUM(AS45:AS46)","v":0},{"$f":"SUM(AT45:AT46)","v":0},{"$f":"SUM(AU45:AU46)","v":2380},-1,{"$f":"SUM(AW45:AW46)","v":0},{"$f":"SUM(AX45:AX46)","v":0},0,null,null,{"$f":"1+BB46","v":25},"  TOTAL CUSTOMER SERV. & INFO. EXPENSES",{"$f":"SUM(BD45:BD46)","v":0},0,{"$f":"SUM(BF45:BF46)","v":0},{"$f":"SUM(BG45:BG46)","v":1},{"$f":"SUM(BH45:BH46)","v":0},{"$f":"SUM(BI45:BI46)","v":0},{"$f":"SUM(BJ45:BJ46)","v":0},0,0,null,{"$f":"SUM(BN45:BN46)","v":-70838},{"$f":"SUM(BO45:BO46)","v":15508}]
[]
[null,null,null,"  SALES EXPENSES:",null,null,null,null,null,null,null,null,null,null,null,null,null,"  SALES EXPENSES:",null,null,null,null,null,null,null,null,null,null,null,null,"  SALES EXPENSES:",null,null,null,null,null,null,null,null,null,null,"  SALES EXPENSES:",null,null,null,null,null,null,null,null,null,null,null,null,"  SALES EXPENSES:"]
[null,null,{"$f":"1+C47","v":26},"      LABOR",185,3,-2,0,0,0,0,0,0,0,null,null,{"$f":"1+Q47","v":26},"      LABOR",0,0,0,0,0,0,0,0,0,null,null,{"$f":"1+AD47","v":26},"      LABOR",0,0,0,0,0,0,0,null,null,{"$f":"1+AO47","v":26},"      LABOR",0,0,0,0,0,0,0,0,0,null,null,{"$f":"1+BB47","v":26},"      LABOR",0,0,0,0,0,0,0,0,0,null,{"$f":"SUM(F50:N50,S50:AA50,AF50:AL50,AQ50:AY50,BD50:BM50)","v":1},{"$f":"E50+BN50","v":186}]
[null,null,{"$f":"1+C50","v":27},"      OTHER",95,0,0,0,0,0,0,0,0,0,null,null,{"$f":"1+Q50","v":27},"      OTHER",0,0,0,0,0,0,0,0,0,null,null,{"$f":"1+AD50","v":27},"      OTHER",0,0,0,0,0,0,0,null,null,{"$f":"1+AO50","v":27},"      OTHER",0,0,0,0,0,0,0,0,0,null,null,{"$f":"1+BB50","v":27},"      OTHER",0,0,0,0,0,0,0,0,0,null,0,{"$f":"E51+BN51","v":95}]
[null,null,{"$f":"1+C51","v":28},"  TOTAL SALES EXPENSES",{"$f":"SUM(E50:E51)","v":280},3,-2,0,0,{"$f":"SUM(J50:J51)","v":0},{"$f":"SUM(K50:K51)","v":0},{"$f":"SUM(L50:L51)","v":0},{"$f":"SUM(M50:M51)","v":0},0,null,null,{"$f":"1+Q51","v":28},"  TOTAL SALES EXPENSES",{"$f":"SUM(S50:S51)","v":0},{"$f":"SUM(T50:T51)","v":0},{"$f":"SUM(U50:U51)","v":0},{"$f":"SUM(V50:V51)","v":0},{"$f":"SUM(W50:W51)","v":0},{"$f":"SUM(X50:X51)","v":0},0,{"$f":"SUM(Z50:Z51)","v":0},0,null,null,{"$f":"1+AD51","v":28},"  TOTAL SALES EXPENSES",{"$f":"SUM(AF50:AF51)","v":0},{"$f":"SUM(AG50:AG51)","v":0},{"$f":"SUM(AH50:AH51)","v":0},0,{"$f":"SUM(AJ50:AJ51)","v":0},0,{"$f":"SUM(AL50:AL51)","v":0},null,null,{"$f":"1+AO51","v":28},"  TOTAL SALES EXPENSES",{"$f":"SUM(AQ50:AQ51)","v":0},{"$f":"SUM(AR50:AR51)","v":0},{"$f":"SUM(AS50:AS51)","v":0},{"$f":"SUM(AT50:AT51)","v":0},{"$f":"SUM(AU50:AU51)","v":0},0,{"$f":"SUM(AW50:AW51)","v":0},{"$f":"SUM(AX50:AX51)","v":0},0,null,null,{"$f":"1+BB51","v":28},"  TOTAL SALES EXPENSES",{"$f":"SUM(BD50:BD51)","v":0},0,{"$f":"SUM(BF50:BF51)","v":0},{"$f":"SUM(BG50:BG51)","v":0},{"$f":"SUM(BH50:BH51)","v":0},{"$f":"SUM(BI50:BI51)","v":0},{"$f":"SUM(BJ50:BJ51)","v":0},0,0,null,{"$f":"SUM(BN50:BN51)","v":1},{"$f":"SUM(BO50:BO51)","v":281}]
[]
[null,null,null,"  ADMINISTRATIVE & GENERAL EXPENSES:",null,null,null,null,null,null,null,null,null,null,null,null,null,"  ADMINISTRATIVE & GENERAL EXPENSES:",null,null,null,null,null,null,null,null,null,null,null,null,"  ADMINISTRATIVE & GENERAL EXPENSES:",null,null,null,null,null,null,null,null,null,null,"  ADMINISTRATIVE & GENERAL EXPENSES:",null,null,null,null,null,null,null,null,null,null,null,null,"  ADMINISTRATIVE & GENERAL EXPENSES:"]
[null,null,{"$f":"1+C52","v":29},"      LABOR",68836,1071,-763,-2458,10192,0,0,0,0,0,null,null,{"$f":"1+Q52","v":29},"      LABOR",0,0,0,0,0,0,0,0,0,null,null,{"$f":"1+AD52","v":29},"      LABOR",0,0,0,0,0,0,0,null,null,{"$f":"1+AO52","v":29},"      LABOR",0,0,0,0,0,0,0,0,0,null,null,{"$f":"1+BB52","v":29},"      LABOR",0,0,0,0,0,0,0,0,0,null,{"$f":"SUM(F55:N55,S55:AA55,AF55:AL55,AQ55:AY55,BD55:BM55)","v":8042},{"$f":"E55+BN55","v":76878}]
[null,null,{"$f":"1+C55","v":30},"      OTHER",123773,0,0,0,1539,0,0,0,0,0,null,null,{"$f":"1+Q55","v":30},"      OTHER",0,0,0,0,0,0,0,0,0,null,null,{"$f":"1+AD55","v":30},"      OTHER",0,0,-742,189,0,621,9386,null,null,{"$f":"1+AO55","v":30},"      OTHER",4824,182,-1317,7312,0,-6,140,302,-349,null,null,{"$f":"1+BB55","v":30},"      OTHER",-12,-2462,-318,627,3993,4601,14,0,1,null,28525,{"$f":"E56+BN56","v":152298}]
[null,null,{"$f":"1+C56","v":31},"  TOTAL ADMINISTRATIVE & GENERAL EXPENSES",{"$f":"SUM(E55:E56)","v":192609},1071,-763,-2458,11731,{"$f":"SUM(J55:J56)","v":0},{"$f":"SUM(K55:K56)","v":0},{"$f":"SUM(L55:L56)","v":0},{"$f":"SUM(M55:M56)","v":0},0,null,null,{"$f":"1+Q56","v":31},"  TOTAL ADMINISTRATIVE & GENERAL EXPENSES",{"$f":"SUM(S55:S56)","v":0},{"$f":"SUM(T55:T56)","v":0},{"$f":"SUM(U55:U56)","v":0},{"$f":"SUM(V55:V56)","v":0},{"$f":"SUM(W55:W56)","v":0},{"$f":"SUM(X55:X56)","v":0},0,{"$f":"SUM(Z55:Z56)","v":0},{"$f":"SUM(AA55:AA56)","v":0},null,null,{"$f":"1+AD56","v":31},"  TOTAL ADMINISTRATIVE & GENERAL EXPENSES",{"$f":"SUM(AF55:AF56)","v":0},{"$f":"SUM(AG55:AG56)","v":0},{"$f":"SUM(AH55:AH56)","v":-742},189,{"$f":"SUM(AJ55:AJ56)","v":0},621,{"$f":"SUM(AL55:AL56)","v":9386},null,null,{"$f":"1+AO56","v":31},"  TOTAL ADMINISTRATIVE & GENERAL EXPENSES",{"$f":"SUM(AQ55:AQ56)","v":4824},{"$f":"SUM(AR55:AR56)","v":182},{"$f":"SUM(AS55:AS56)","v":-1317},7312,{"$f":"SUM(AU55:AU56)","v":0},{"$f":"SUM(AV55:AV56)","v":-6},140,302,{"$f":"SUM(AY55:AY56)","v":-349},null,null,{"$f":"1+BB56","v":31},"  TOTAL ADMINISTRATIVE & GENERAL EXPENSES",{"$f":"SUM(BD55:BD56)","v":-12},-2462,{"$f":"SUM(BF55:BF56)","v":-318},{"$f":"SUM(BG55:BG56)","v":627},{"$f":"SUM(BH55:BH56)","v":3993},{"$f":"SUM(BI55:BI56)","v":4601},{"$f":"SUM(BJ55:BJ56)","v":14},0,1,null,{"$f":"SUM(BN55:BN56)","v":36567},{"$f":"SUM(BO55:BO56)","v":229176}]
[]
[null,null,{"$f":"1+C57","v":32},"TOTAL OPERATIONS & MAINTENANCE EXPENSES",{"$f":"E22+E27+E32+E37+E42+E47+E52+E57","v":1446015},{"$f":"F22+F27+F32+F37+F42+F47+F52+F57","v":7203},-4110,-4318,11731,{"$f":"J22+J27+J32+J37+J42+J47+J52+J57","v":64978},{"$f":"K22+K27+K32+K37+K42+K47+K52+K57","v":-7104},{"$f":"L22+L27+L32+L37+L42+L47+L52+L57","v":-160},{"$f":"M22+M27+M32+M37+M42+M47+M52+M57","v":21260},8920,null,null,{"$f":"1+Q57","v":32},"TOTAL OPERATIONS & MAINTENANCE EXPENSES",{"$f":"S22+S27+S32+S37+S42+S47+S52+S57","v":-2070},{"$f":"T22+T27+T32+T37+T42+T47+T52+T57","v":49057},{"$f":"U22+U27+U32+U37+U42+U47+U52+U57","v":25645},{"$f":"V22+V27+V32+V37+V42+V47+V52+V57","v":3664},{"$f":"W22+W27+W32+W37+W42+W47+W52+W57","v":1375},{"$f":"X22+X27+X32+X37+X42+X47+X52+X57","v":-5961},1594,{"$f":"Z22+Z27+Z32+Z37+Z42+Z47+Z52+Z57","v":-829},1204,null,null,{"$f":"1+AD57","v":32},"TOTAL OPERATIONS & MAINTENANCE EXPENSES",{"$f":"AF22+AF27+AF32+AF37+AF42+AF47+AF52+AF57","v":3458},{"$f":"AG22+AG27+AG32+AG37+AG42+AG47+AG52+AG57","v":1063},-69492,{"$f":"AI22+AI27+AI32+AI37+AI42+AI47+AI52+AI57","v":189},-6546,621,{"$f":"AL22+AL27+AL32+AL37+AL42+AL47+AL52+AL57","v":9386},null,null,{"$f":"1+AO57","v":32},"TOTAL OPERATIONS & MAINTENANCE EXPENSES",{"$f":"AQ22+AQ27+AQ32+AQ37+AQ42+AQ47+AQ52+AQ57","v":4824},{"$f":"AR22+AR27+AR32+AR37+AR42+AR47+AR52+AR57","v":182},{"$f":"AS22+AS27+AS32+AS37+AS42+AS47+AS52+AS57","v":-1317},7312,{"$f":"AU22+AU27+AU32+AU37+AU42+AU47+AU52+AU57","v":24639},{"$f":"AV22+AV27+AV32+AV37+AV42+AV47+AV52+AV57","v":-15},140,302,{"$f":"AY22+AY27+AY32+AY37+AY42+AY47+AY52+AY57","v":-349},null,null,{"$f":"1+BB57","v":32},"TOTAL OPERATIONS & MAINTENANCE EXPENSES",-12,{"$f":"BE22+BE27+BE32+BE37+BE42+BE47+BE52+BE57","v":-2462},{"$f":"BF22+BF27+BF32+BF37+BF42+BF47+BF52+BF57","v":-318},{"$f":"BG22+BG27+BG32+BG37+BG42+BG47+BG52+BG57","v":137},{"$f":"BH22+BH27+BH32+BH37+BH42+BH47+BH52+BH57","v":-5473},{"$f":"BI22+BI27+BI32+BI37+BI42+BI47+BI52+BI57","v":4601},{"$f":"BJ22+BJ27+BJ32+BJ37+BJ42+BJ47+BJ52+BJ57","v":14},4676,1,null,{"$f":"BN22+BN27+BN32+BN37+BN42+BN47+BN52+BN57","v":147640},{"$f":"BO22+BO27+BO32+BO37+BO42+BO47+BO52+BO57","v":1593655}]
[]
[null,null,{"$f":"1+C59","v":33},"NOTE: See SCHEDULE MJL-D11-6 for explanation of the pro forma adjustments.",null,null,null,null,null,null,null,null,null,null,null,null,{"$f":"1+Q59","v":33},"NOTE: See SCHEDULE MJL-D11-6 for explanation of the pro forma adjustments.",null,null,null,null,null,null,null,null,null,null,null,{"$f":"1+AD59","v":33},"NOTE: See SCHEDULE MJL-D11-6 for explanation of the pro forma adjustments.",null,null,null,null,null,null,null,null,null,{"$f":"1+AO59","v":33},"NOTE: See SCHEDULE MJL-D11-6 for explanation of the pro forma adjustments.",null,null,null,null,null,null,null,null,null,null,null,{"$f":"1+BB59","v":33},"NOTE: See SCHEDULE MJL-D11-6 for explanation of the pro forma adjustments."]

{"sheet":"SCHEDULE MJL-D11-6","index":11,"n_rows":108,"n_cols":12,"rows_kept":108,"cut":false,"hidden":false,"merged":[[70,2,70,9],[21,2,22,9],[91,2,91,9],[85,2,85,9],[35,2,35,9],[40,2,40,9],[47,2,47,9],[36,2,36,9],[86,2,86,9],[83,2,83,9],[46,2,46,9],[80,2,81,9],[72,2,72,9],[63,2,63,9],[74,2,74,9],[27,2,27,9],[7,2,7,9],[9,2,11,9],[16,2,16,9],[13,2,14,9],[24,2,25,9],[29,2,29,9],[48,2,48,9],[67,2,68,9],[31,2,31,9],[18,2,18,9],[33,2,33,9],[0,0,0,11],[2,0,2,11],[1,0,1,11],[6,2,6,9],[3,0,3,11],[4,0,4,11]]}
["AMEREN MISSOURI"]
["ELECTRIC OPERATING AND MAINTENANCE EXPENSE"]
["PRO FORMA ADJUSTMENTS"]
[{"$f":"'SCHEDULE MJL-D5'!A3","v":"FOR THE TWELVE MONTHS ENDED DECEMBER 31, 2020"}]
["($000)"]
[null,"PRO FORMA",null,null,null,null,null,null,null,null,null,"TOTAL"]
["LINE","ITEM NO.","DESCRIPTION",null,null,null,null,null,null,null,null,"AMOUNT"]
[null,"(A)","(B)",null,null,null,null,null,null,null,null,"(C)"]
[]
[1,-1,"Increased labor expense from annualizing the average 1.83% wage increase for management employees effective January 1, 2021, and the 2.50% wage increase for the Company's union employees effective January 1, 2021 per the labor contracts. ",null,null,null,null,null,null,null,null,{"$f":"'SCHEDULE MJL-D11-1'!F59","v":7203}]
[{"$f":"1+A10","v":2}]
[{"$f":"1+A11","v":3}]
[]
[{"$f":"1+A12","v":4},-2,"Decrease the incentive compensation expense for the incentive compensation applicable to AMS and Ameren Missouri officers related to earnings.",null,null,null,null,null,null,null,null,{"$f":"'SCHEDULE MJL-D11-1'!G59","v":-4110}]
[{"$f":"1+A14","v":5}]
[]
[{"$f":"1+A15","v":6},-3,"Eliminate the long term incentive compensation expense related to earnings.",null,null,null,null,null,null,null,null,{"$f":"'SCHEDULE MJL-D11-1'!H59","v":-4318}]
[]
[{"$f":"A17+1","v":7},"(4)","Increase administrative and general expenses for staffing annualization of salary and benefits. ",null,null,null,null,null,null,null,null,{"$f":"'SCHEDULE MJL-D11-1'!I59","v":11731}]
[]
[]
[{"$f":"1+A19","v":8},-5,"Increase in fuel expense to reflect the normalized sales and customer growth through  September 30, 2021 reflecting January 2021 fuel prices.",null,null,null,null,null,null,null,null,{"$f":"'SCHEDULE MJL-D11-1'!J59","v":64978}]
[{"$f":"1+A22","v":9}]
[]
[{"$f":"1+A23","v":10},-6,"Decrease in purchased power expense to reflect normalized sales and customer growth through September 30, 2021 and normalized power prices.",null,null,null,null,null,null,null,null,{"$f":"'SCHEDULE MJL-D11-1'!K59","v":-7104}]
[{"$f":"1+A25","v":11}]
[]
[{"$f":"1+A26","v":12},-7,"Decrease in transmission expense related to Mark Twain Transmission project.",null,null,null,null,null,null,null,null,{"$f":"'SCHEDULE MJL-D11-1'!L59","v":-160}]
[]
[{"$f":"1+A28","v":13},-8,"Increase the coal handling costs to reflect the elimination of the coal refinement process.",null,null,null,null,null,null,null,null,{"$f":"'SCHEDULE MJL-D11-1'!M59","v":21260}]
[]
[{"$f":"1+A30","v":14},-9,"Increase in production expense to normalize steam plant maintenance. ",null,null,null,null,null,null,null,null,{"$f":"'SCHEDULE MJL-D11-1'!N59","v":8920}]
[]
[{"$f":"1+A32","v":15},-10,"Decrease in production expense to remove a portion of production expense related to Meramec Energy Center. ",null,null,null,null,null,null,null,null,{"$f":"'SCHEDULE MJL-D11-1'!S59","v":-2070}]
[]
[{"$f":"1+A34","v":16},-11,"Eliminate test year FAC recovery",null,null,null,null,null,null,null,null,{"$f":"'SCHEDULE MJL-D11-1'!T59","v":49057}]
[]
[{"$f":"1+A36","v":17},-12,"Increase to the nuclear production expense to include the annualized amount of the last 3 Callaway",null,null,null,null,null,null,null,null,{"$f":"'SCHEDULE MJL-D11-1'!U59","v":25645}]
[{"$f":"1+A38","v":18},null,"Nuclear Plant refueling expenses."]
[]
[{"$f":"1+A39","v":19},-13,"Increase in production expenses for amortization of RES cost regulatory liability.",null,null,null,null,null,null,null,null,{"$f":"'SCHEDULE MJL-D11-1'!V59","v":3664}]
[]
[{"$f":"1+A41","v":20},-14,"Increase in production expenses for rebase of RES expenses",null,null,null,null,null,null,null,null,{"$f":"'SCHEDULE MJL-D11-1'!W59","v":1375}]
[]
[{"$f":"1+A43","v":21},-15,"Decrease in production expenses to eliminate Solar Rebate amortizations in the test year.",null,null,null,null,null,null,null,null,{"$f":"'SCHEDULE MJL-D11-1'!X59","v":-5961}]
[]
[{"$f":"1+A45","v":22},-16,"Increase in production expenses for Solar Rebate amortizations.",null,null,null,null,null,null,null,null,{"$f":"'SCHEDULE MJL-D11-1'!Y59","v":1594}]
[]
[{"$f":"1+A47","v":23},-17,"Decrease in production and distribution expenses for decrease in depreciation charged to O&M.",null,null,null,null,null,null,null,null,{"$f":"'SCHEDULE MJL-D11-1'!Z59","v":-829}]
[]
[{"$f":"1+A49","v":24},-18,"Increase in distribution expense to normalize storm costs.",null,null,null,null,null,null,null,null,{"$f":"'SCHEDULE MJL-D11-1'!AA59","v":1204}]
[]
[{"$f":"1+A51","v":25},-19,"Increase in distribution expense to normalize vegetation and infrastructure inspections.",null,null,null,null,null,null,null,null,{"$f":"'SCHEDULE MJL-D11-1'!AF59","v":3458}]
[]
[{"$f":"1+A53","v":26},-20,"Increase in customer accounting expenses to reflect interest expense at 4.25% on the average customer deposit",null,null,null,null,null,null,null,null,{"$f":"'SCHEDULE MJL-D11-1'!AG59","v":1063}]
[{"$f":"1+A55","v":27},null,"balance."]
[]
[{"$f":"A56+1","v":28},-21,"Decrease in customer service to eliminate test year MEEIA program costs.",null,null,null,null,null,null,null,null,{"$f":"'SCHEDULE MJL-D11-1'!AH59","v":-69492}]
[]
[{"$f":"1+A58","v":29},-22,"Increase in janitorial costs as a result of the COVID-19 pandemic. ",null,null,null,null,null,null,null,null,{"$f":"'SCHEDULE MJL-D11-1'!AI59","v":189}]
[]
[{"$f":"1+A60","v":30},-23,"Decrease in administrative and general expenses to normalize bad debt expense. ",null,null,null,null,null,null,null,null,{"$f":"'SCHEDULE MJL-D11-1'!AJ59","v":-6546}]
[]
[{"$f":"1+A62","v":31},-24,"Increase in administrative and general expenses to annualize EEI dues. ",null,null,null,null,null,null,null,null,{"$f":"'SCHEDULE MJL-D11-1'!AK59","v":621}]
[]
[{"$f":"1+A64","v":32},-25,"Annualize insurance expense based upon current insurance premiums.",null,null,null,null,null,null,null,null,{"$f":"'SCHEDULE MJL-D11-1'!AL59","v":9386}]
[]
[{"$f":"1+A66","v":33},-26,"Increase administrative and general expenses to reflect annualized major medical and other employee benefit expenses through September 30, 2021. ",null,null,null,null,null,null,null,null,{"$f":"'SCHEDULE MJL-D11-1'!AQ59","v":4824}]
[{"$f":"1+A68","v":34}]
[]
[{"$f":"1+A69","v":35},-27,"Increase non-qualified pension expense to reflect current level of expense.",null,null,null,null,null,null,null,null,{"$f":"'SCHEDULE MJL-D11-1'!AR59","v":182}]
[]
[{"$f":"1+A71","v":36},-28,"Rebase Pension and OPEB Tracker to true up level. ",null,null,null,null,null,null,null,null,{"$f":"'SCHEDULE MJL-D11-1'!AS59","v":-1317}]
[]
[{"$f":"1+A73","v":37},-29,"Increase the amortization of the net regulatory liabilities for Pension and OPEB Tracker.",null,null,null,null,null,null,null,null,{"$f":"'SCHEDULE MJL-D11-1'!AT59","v":7312}]
[]
[{"$f":"1+A75","v":38},"(30)","Increase in operating and maintenance expense for base level expenses related to RESRAM. ",null,null,null,null,null,null,null,null,{"$f":"'SCHEDULE MJL-D11-1'!AU59","v":24639}]
[]
[{"$f":"1+A77","v":39},-31,"Reduce expenses for alcohol purchases.",null,null,null,null,null,null,null,null,{"$f":"'SCHEDULE MJL-D11-1'!AV59","v":-15}]
[]
[{"$f":"1+A79","v":40},-32,"Increase administrative and general expenses to reflect the 3 case average of expenses to prepare and litigate this rate filings and annualize the amount.",null,null,null,null,null,null,null,null,{"$f":"'SCHEDULE MJL-D11-1'!AW59","v":140}]
[{"$f":"1+A81","v":41}]
[]
[{"$f":"1+A82","v":42},-33,"Increase administrative and general expenses to annualize MPSC Assessment.",null,null,null,null,null,null,null,null,{"$f":"'SCHEDULE MJL-D11-1'!AX59","v":302}]
[]
[{"$f":"1+A84","v":43},-34,"Decrease administrative and general expenses for certain Board of Director meeting expenses.",null,null,null,null,null,null,null,null,{"$f":"'SCHEDULE MJL-D11-1'!AY59","v":-349}]
[]
[{"$f":"1+A86","v":44},-35,"Decrease administrative and general expense to normalize depreciation study expense. ",null,null,null,null,null,null,null,null,{"$f":"'SCHEDULE MJL-D11-1'!BD59","v":-12}]
[]
[{"$f":"1+A88","v":45},-36,"Decrease administrative and general expense to remove Bank of America lease costs.",null,null,null,null,null,null,null,null,{"$f":"'SCHEDULE MJL-D11-1'!BE59","v":-2462}]
[]
[{"$f":"1+A90","v":46},-37,"Decrease administrative and general expenses for software rental expense",null,null,null,null,null,null,null,null,{"$f":"'SCHEDULE MJL-D11-1'!BF59","v":-318}]
[]
[{"$f":"1+A92","v":47},-38,"Increase administrative and general expense to utilize 2021 allocation factors. ",null,null,null,null,null,null,null,null,{"$f":"'SCHEDULE MJL-D11-1'!BG59","v":137}]
[]
[{"$f":"1+A94","v":48},"(39)","Decrease administrative and general expense to remove extraordinary impact of COVID-19 expenses addressed in AAO deferral. ",null,null,null,null,null,null,null,null,{"$f":"'SCHEDULE MJL-D11-1'!BH59","v":-5473}]
[]
[{"$f":"1+A96","v":49},"(40)","Increase administrative and general expense to normalize the Company-Owned Life Insurance (COLI) expense. ",null,null,null,null,null,null,null,null,{"$f":"'SCHEDULE MJL-D11-1'!BI59","v":4601}]
[]
[{"$f":"1+A98","v":50},"(41)","Increase administrative and general expenses for electric costs allocated to gas.",null,null,null,null,null,null,null,null,{"$f":"'SCHEDULE MJL-D11-1'!BJ59","v":14}]
[]
[{"$f":"1+A100","v":51},"(42)","Increase in operating and maintenance expense for customer convenience fees. ",null,null,null,null,null,null,null,null,{"$f":"'SCHEDULE MJL-D11-1'!BK59","v":4676}]
[]
[{"$f":"1+A102","v":52},"(43)","Increase administrative and general expense for the EV incentive program.",null,null,null,null,null,null,null,null,{"$f":"'SCHEDULE MJL-D11-1'!BL59","v":1}]
[]
[]
[null,"     Total Pro Forma Adjustments to Electric Operating and Maintenance Expenses"]
[null,null,null,null,null,null,null,null,null,null,null,{"$f":"SUM(L10:L107)","v":147640}]

{"sheet":"SCHEDULE MJL-D12-1","index":12,"n_rows":58,"n_cols":6,"rows_kept":58,"cut":false,"hidden":false,"merged":[[0,0,0,6],[1,1,1,5],[2,1,2,5],[3,1,3,5]]}
["AMEREN MISSOURI"]
[null,"DEPRECIATION & AMORTIZATION EXPENSE"]
[null,"FOR THE TWELVE MONTHS ENDED DECEMBER 31, 2020"]
[null,"($000)"]
[]
[null,null,null,"TOTALS",null,"PRO FORMA"]
[null,null,null,"PER","PRO FORMA","ELECTRIC"]
[null,"LINE","DESCRIPTION","BOOKS","ADJUSTMENTS(1)","TOTALS"]
[null,null,"(A)","(B)","(C)","(D)"]
[]
[null,null,"DEPRECIATION EXPENSE:"]
[null,{"$f":"1","v":1},"STEAM",169077,{"$f":"+'SCHEDULE MJL-D12-2'!E15+'SCHEDULE MJL-D12-2'!E28+'SCHEDULE MJL-D12-2'!E45","v":56434},{"$f":"SUM(D12:E12)","v":225511}]
[null,{"$f":"1+B12","v":2},"NUCLEAR ",78518,{"$f":"+'SCHEDULE MJL-D12-2'!E16+'SCHEDULE MJL-D12-2'!E29","v":10253},88771]
[null,3,"CALLAWAY DECOMMISSIONING ",6759,0,6759]
[null,4,"HYDRAULIC",12405,{"$f":"+'SCHEDULE MJL-D12-2'!E17+'SCHEDULE MJL-D12-2'!E30","v":3254},15659]
[null,5,"OTHER",29816,{"$f":"+'SCHEDULE MJL-D12-2'!E18+'SCHEDULE MJL-D12-2'!E31","v":34950},64766]
[null,6,"TRANSMISSION PLANT",37099,{"$f":"+'SCHEDULE MJL-D12-2'!E19+'SCHEDULE MJL-D12-2'!E32","v":499},37598]
[null,7,"DISTRIBUTION PLANT",193395,{"$f":"+'SCHEDULE MJL-D12-2'!E20+'SCHEDULE MJL-D12-2'!E33","v":25552},218947]
[null,8,"GENERAL PLANT",31789,{"$f":"+'SCHEDULE MJL-D12-2'!E21+'SCHEDULE MJL-D12-2'!E34+'SCHEDULE MJL-D12-2'!E46","v":8076},39865]
[null,9,"PISA",-14576,{"$f":"+'SCHEDULE MJL-D12-2'!E39","v":14576},0]
[null,10,"ICC DEPRECIATION",0,{"$f":"+'SCHEDULE MJL-D12-2'!E22","v":-1394},{"$f":"SUM(D21:E21)","v":-1394}]
[]
[null,{"$f":"1+B21","v":11},"    TOTAL DEPRECIATION EXPENSE",{"$f":"SUM(D12:D22)","v":544282},{"$f":"SUM(E12:E22)","v":152200},{"$f":"SUM(F12:F22)","v":696482}]
[]
[null,null,"PLANT AMORTIZATION:"]
[null,{"$f":"1+B23","v":12},"INTANGIBLE PLANT",48716,{"$f":"+'SCHEDULE MJL-D12-2'!E23+'SCHEDULE MJL-D12-2'!E35","v":12235},{"$f":"SUM(D26:E26)","v":60951}]
[null,{"$f":"1+B26","v":13},"HYDRAULIC PLANT",756,0,{"$f":"SUM(D27:E27)","v":756}]
[null,{"$f":"1+B27","v":14},"TRANSMISSION PLANT",420,0,{"$f":"SUM(D28:E28)","v":420}]
[null,{"$f":"1+B28","v":15},"GENERAL PLANT",0,0,{"$f":"SUM(D29:E29)","v":0}]
[null,{"$f":"1+B29","v":16},"PISA",-11247,{"$f":"+'SCHEDULE MJL-D12-2'!E40","v":11247},{"$f":"SUM(D30:E30)","v":0}]
[]
[null,{"$f":"1+B30","v":17},"    TOTAL PLANT AMORTIZATION",{"$f":"SUM(D26:D31)","v":38645},{"$f":"SUM(E26:E31)","v":23482},{"$f":"SUM(F26:F31)","v":62127}]
[]
[null,null,"MISC. AMORTIZATION:"]
[null,{"$f":"1+B32","v":18},"CALLAWAY POST OPERATIONAL ",3687,0,{"$f":"SUM(D35:E35)","v":3687}]
[null,{"$f":"B35+1","v":19},"CALLAWAY LIFE EXTEN AMORT",100,{"$f":"+'SCHEDULE MJL-D12-2'!E49","v":4},104]
[null,20,"AMORT OF FUKUSHIMA STUDY COSTS",93,0,93]
[null,21,"SIOUX SCRUBBER CONSTRUCTION ACCOUNTING",1131,{"$f":"+'SCHEDULE MJL-D12-2'!E51","v":910},2041]
[null,22,"AMORT. OF STORM TRACKERS",-887,887,0]
[null,23,"AMORT. OF VEGETATION MANAGEMENT &"]
[null,24,"    INFRASTRUCTURE INSPECTION REG. ASSETS",-18,18,{"$f":"SUM(D41:E41)","v":0}]
[null,25,"AMORT. OF ENTERGY DISPUTE",62,-62,0]
[null,26,"AMORT. OF ENERGY EFFICIENCY REG ASSETS",-1556,1556,0]
[null,27,"AMORT OF LOW INCOME SURCHARGE",957,{"$f":"+'SCHEDULE MJL-D12-2'!E63","v":43},1000]
[null,28,"AMORT OF EXTENDED REGULATORY ITEMS",-2500,-160,-2660]
[null,29,"AMORT OF FIN 48 TRACKER",570,-570,0]
[null,30,"PISA AMORTIZATION",0,{"$f":"+'SCHEDULE MJL-D12-2'!E67","v":12339},{"$f":"SUM(D47:E47)","v":12339}]
[null,31,"EXCESS DEFERRED TRACKER AMORTIZATION",4037,{"$f":"+'SCHEDULE MJL-D12-2'!E69","v":-5572},-1535]
[null,32,"MEEIA ORDERED ADJUSTMENTS",4,-4,0]
[null,33,"RESRAM ADJUSTMENTS",9537,{"$f":"+'SCHEDULE MJL-D12-2'!E71","v":-9537},0]
[null,34,"CHARGE AHEAD CORRIDOR",0,{"$f":"+'SCHEDULE MJL-D12-2'!E73","v":481},481]
[null,35,"TAX DEFERRAL RATE CHANGE JAN-JULY 2019",0,{"$f":"+'SCHEDULE MJL-D12-2'!E75","v":-10786},-10786]
[null,36,"COVID AAO",0,{"$f":"+'SCHEDULE MJL-D12-2'!E77","v":2459},2459]
[null,37,"  TOTAL MISC AMORTIZATION",{"$f":"SUM(D35:D53)","v":15217},{"$f":"SUM(E35:E53)","v":-7994},{"$f":"SUM(F35:F53)","v":7223}]
[]
[null,{"$f":"1+B54","v":38},"TOTAL DEPR & AMORTIZATION EXPENSE",{"$f":"+D23+D32+D54","v":598144},{"$f":"+E23+E32+E54","v":167688},{"$f":"+F23+F32+F54","v":765832}]
[]
[null,{"$f":"1+B56","v":39},"(1)  See SCHEDULE MJL-D12-2 for explanation of the pro forma adjustments."]

{"sheet":"SCHEDULE MJL-D12-2","index":13,"n_rows":79,"n_cols":5,"rows_kept":79,"cut":false,"hidden":false,"merged":[[56,2,57,2],[59,2,60,2],[53,2,54,2],[0,0,0,4],[1,0,1,4],[2,0,2,4],[3,0,3,4],[10,2,12,2]]}
["AMEREN MISSOURI"]
["ELECTRIC DEPRECIATION & AMORTIZATION EXPENSE PRO FORMA ADJUSTMENTS"]
["FOR THE TWELVE MONTHS ENDED DECEMBER 31, 2020"]
["($000)"]
[]
[]
[null,null,null,null,"PRO FORMA"]
["LINE","ITEM NO.","DESCRIPTION",null,"ADJUSTMENTS"]
[null,"(A)","(B)",null,"(C)"]
[]
[1,-1,"To reflect the book depreciation annualized for the plant in service depreciable balances at December 31, 2020 and additions to plant in service from January 2021 through September 2021 to reflect the true-up."]
[{"$f":"1+A11","v":2}]
[{"$f":"1+A12","v":3}]
[]
[{"$f":"1+A13","v":4},null,"Change in Depr. Exp. - Steam",null,-36227]
[{"$f":"1+A15","v":5},null,"Change in Depr. Exp. - Nuclear",null,1885]
[6,null,"Change in Depr. Exp. - Hydro",null,1343]
[7,null,"Change in Depr. Exp. - Other Prod.",null,41077]
[8,null,"Change in Depr. Exp. - Transmission",null,3474]
[9,null,"Change in Depr. Exp. - Distribution",null,19630]
[10,null,"Change in Depr. Exp. - General Plant",null,23600]
[11,null,"Change in Depr. Exp. - Incentive Comp Capitalized",null,-1394]
[12,null,"Change in Amor. Exp. - Intangible Plant",null,12235]
[13,null,"Total Increase in Depreciation Expense",null,{"$f":"SUM(E15:E23)","v":65623}]
[]
[{"$f":"1+A24","v":14},-2,"To reflect change in depreciation rates per testimony of Gannett Fleming"]
[]
[{"$f":"1+A26","v":15},null,"Increase in Depr. Exp. - Steam",null,92799]
[{"$f":"1+A28","v":16},null,"Increase in Depr. Exp. - Nuclear",null,8368]
[17,null,"Increase in Depr. Exp. - Hydro",null,1911]
[18,null,"Increase in Depr. Exp. - Other Prod.",null,-6127]
[19,null,"Increase in Depr. Exp. - Transmission",null,-2975]
[20,null,"Increase in Depr. Exp. - Distribution",null,5922]
[21,null,"Increase in Depr. Exp. - General Plant",null,-3426]
[22,null,"Increase in Amort. Exp. - Intangible Plant",null,0]
[23,null,"Total Increase in Depreciation Expense",null,{"$f":"SUM(E28:E35)","v":96472}]
[]
[{"$f":"1+A36","v":24},-3,"To eliminate PISA deferral"]
[{"$f":"1+A38","v":25},null,"Depreciation",null,14576]
[26,null,"Amortization",null,11247]
[null,null,null,null,{"$f":"SUM(E39:E40)","v":25823}]
[]
[{"$f":"1+A40","v":27},-4,"To reduce depreciation expense charged to O&M"]
[]
[{"$f":"1+A43","v":28},null,"Decrease in Depr. Exp. - Steam",null,-138]
[{"$f":"1+A45","v":29},null,"Decrease in Depr. Exp. - General Plant",null,-12098]
[{"$f":"1+A46","v":30},null,"Total Decrease in Depreciation Expense",null,{"$f":"SUM(E45:E46)","v":-12236}]
[]
[{"$f":"1+A47","v":31},-5,"To reflect annualization of amortization of the Callaway Life Extension",null,4]
[]
[{"$f":"1+A49","v":32},-6,"To eliminate the amortizations of the Sioux Scrubber Construction Accounting",null,910]
[{"$f":"1+A51","v":33},null,"contra regulatory assets."]
[]
[{"$f":"1+A52","v":34},-7,"To eliminate the amortization relating to expiring amortizations combined and netted at Adjustment 11.",null,3127]
[{"$f":"1+A54","v":35}]
[]
[{"$f":"1+A55","v":36},-8,"To eliminate the amortization of balances combined and netted in File No. ER-2019-0335.  These combined and netted balances are further considered in adjustment 11.",null,-615]
[{"$f":"A57+1","v":37}]
[]
[{"$f":"1+A58","v":38},-9,"To eliminate the amortizations and deferrals made under the MEEIA Rider, including MEEIA ordered adjustments",null,1813]
[{"$f":"1+A60","v":39}]
[]
[{"$f":"1+A61","v":40},-10,"To reflect the elimination of Low Income Surcharge from Amortizations",null,43]
[]
[{"$f":"1+A63","v":41},-11,"To amortize Extended Regulatory Items",null,-2660]
[]
[{"$f":"1+A65","v":42},-12,"To reflect amortization of PISA",null,12339]
[]
[{"$f":"1+A67","v":43},-13,"To reflect amortization of Excess Deferred Tracker",null,-5572]
[]
[{"$f":"1+A69","v":44},-14,"To eliminate RESRAM activity",null,-9537]
[]
[{"$f":"1+A71","v":45},-15,"To reflect Charge Ahead Corridor amortization",null,481]
[]
[{"$f":"1+A73","v":46},-16,"To reflect amortization Tax Deferral Rate Change (1/1/19 - 7/31/19)",null,-10786]
[]
[{"$f":"1+A75","v":47},-17,"To reflect COVID AAO amortization",null,2459]
[]
[{"$f":"1+A77","v":48},"TOTAL PRO FORMA ADJUSTMENTS: DEPRECIATION & AMORTIZATION",null,null,{"$f":"SUM(E24,E36,E41,E47:E78)","v":167688}]

{"sheet":"SCHEDULE MJL-D13-1","index":14,"n_rows":46,"n_cols":7,"rows_kept":46,"cut":false,"hidden":false,"merged":[[0,1,0,6],[1,1,1,6],[2,1,2,6],[3,1,3,6]]}
[null,"AMEREN MISSOURI"]
[null,"TAXES OTHER THAN INCOME TAXES"]
[null,"FOR THE TWELVE MONTHS ENDED DECEMBER 31, 2020",{"$error":"#REF!"},{"$error":"#REF!"},{"$error":"#REF!"},{"$error":"#REF!"},{"$error":"#REF!"}]
[null,"($000)"]
[]
[null,null,null,null,"TOTAL",null,"PRO FORMA"]
[null,null,null,null,"PER","PRO FORMA","ELECTRIC"]
[null,"LINE ","DESCRIPTION",null,"BOOKS","ADJUSTMENTS(1)","TOTALS"]
[null,null,"(A)",null,"(B)","(C)","(D)"]
[]
[null,null,"PAYROLL TAXES"]
[null,1,"   F.I.C.A.",165021,21335,944,{"$f":"E12+F12","v":22279}]
[null,{"$f":"1+B12","v":2},"   FEDERAL UNEMPLOYMENT",null,179,0,{"$f":"E13+F13","v":179}]
[null,{"$f":"1+B13","v":3},"   MISSOURI UNEMPLOYMENT",null,0,0,{"$f":"E14+F14","v":0}]
[null,{"$f":"1+B14","v":4},"   ILLINOIS UNEMPLOYMENT",null,4,0,4]
[null,{"$f":"1+B15","v":5},"   IOWA UNEMPLOYMENT",null,1,0]
[null,{"$f":"1+B16","v":6},"   OTHER STATES UNEMPLOYMENT",null,0,0,0]
[null,{"$f":"1+B17","v":7},"   ST. LOUIS EMPLOYMENT TAX",null,491,0,491]
[null,{"$f":"1+B18","v":8},"      TOTAL PAYROLL TAXES",null,{"$f":"SUM(E12:E18)","v":22010},{"$f":"SUM(F12:F18)","v":944},{"$f":"SUM(G12:G18)","v":22953}]
[]
[null,null,"R.E., P.P. & CORP FRANCHISE"]
[null,{"$f":"1+B19","v":9},"   MISSOURI R.E., & P.P.",685910,154755,-354,{"$f":"SUM(E22:F22)","v":154401}]
[null,{"$f":"1+B22","v":10},"   ILLINOIS R.E., & P.P.",null,3787,0,3787]
[null,11,"   IOWA  R.E., & P.P.",null,1230,0,1230]
[null,12,"   OTHER STATES R.E. & P.P.",null,25,0,25]
[null,13,"   R.E. TAXES CAPITALIZED",null,-2143,0,-2143]
[null,14,"   TRANSFER TO GAS",762523,-175,0,-175]
[null,15,"   TRANSFER TO NON UTILITY",null,-85,0,-85]
[null,{"$f":"1+B28","v":16},"      TOTAL R.E., P.P. & CORP FRANCHISE",{"$f":"SUM(D22:D27)","v":1448433},{"$f":"SUM(E22:E28)","v":157394},{"$f":"SUM(F22:F28)","v":-354},157040]
[]
[null,{"$f":"1+B29","v":17},"MUNICIPAL GROSS RECEIPTS",null,133305,-133305,{"$f":"SUM(E31:F31)","v":0}]
[]
[null,null,"MISCELLANEOUS"]
[null,{"$f":"1+B31","v":18},"   MISSOURI CORP FRANCHISE",null,0,0,{"$f":"E34+F34","v":0}]
[null,{"$f":"1+B34","v":19},"   ILLINOIS CORP FRANCHISE",null,102,0,{"$f":"E35+F35","v":102}]
[null,20,"   IOWA CORP FRANCHISE",null,0,0]
[null,21,"   FED. EXCISE TAX-HEAVY VEH. USE TAX",null,22,0,{"$f":"E37+F37","v":22}]
[null,22,"   ST. LOUIS EARNINGS",null,0,0]
[null,23,"   MO. EXCISE - NEIL INS. PREM.",107,0,0,{"$f":"E39+F39","v":0}]
[null,24,"   MISCELLANEOUS",null,-206,0,{"$f":"E40+F40","v":-206}]
[null,25,"      TOTAL MISCELLANEOUS",null,{"$f":"SUM(E34:E40)","v":-82},{"$f":"SUM(F34:F40)","v":0},{"$f":"SUM(G34:G40)","v":-82}]
[]
[]
[null,{"$f":"1+B41","v":26},"TOTAL TAXES OTHER THAN INCOME TAXES",null,{"$f":"E19+E29+E31+E41","v":312627},{"$f":"F19+F29+F31+F41","v":-132715},{"$f":"G19+G29+G31+G41","v":179911}]
[]
[null,{"$f":"1+B44","v":27},"(1) See SCHEDULE MJL-D13-2 for explanation of the pro forma adjustments."]

{"sheet":"SCHEDULE MJL-D13-2","index":15,"n_rows":18,"n_cols":11,"rows_kept":18,"cut":false,"hidden":false,"merged":[[8,2,8,8],[10,2,10,8],[12,2,13,8],[15,2,15,8],[0,0,0,10],[1,0,1,10],[2,0,2,10],[3,0,3,10],[4,0,4,10],[7,2,7,8]]}
["AMEREN MISSOURI"]
["TAXES OTHER THAN INCOME"]
["PRO FORMA ADJUSTMENTS"]
["FOR THE TWELVE MONTHS ENDED DECEMBER 31, 2020"]
["($000)"]
[]
[null,null,null,null,null,null,null,null,null,null,"PRO FORMA"]
["LINE","ITEM NO.","DESCRIPTION",null,null,null,null,null,null,null,"AMOUNT"]
[null,"(A)","(B)",null,null,null,null,null,null,null,"(C)"]
[]
[1,-1,"Increase the F.I.C.A. taxes to reflect the pro forma wage adjustments.",null,null,null,null,null,null,null,944]
[]
[{"$f":"1+A11","v":2},-2,"Eliminate the property taxes on future use plant, as this investment is excluded from rate base.",null,null,null,null,null,null,null,-354]
[{"$f":"1+A13","v":3}]
[]
[{"$f":"1+A14","v":4},-3,"Eliminate the gross receipts tax as they are a pass through tax.",null,null,null,null,null,null,null,-133305]
[]
[{"$f":"1+A16","v":5},null,"Total Pro Forma Adjustments to Taxes Other Than Income",null,null,null,null,null,null,null,{"$f":"SUM(K10:K17)","v":-132715}]

{"sheet":"SCHEDULE MJL-D14","index":16,"n_rows":81,"n_cols":5,"rows_kept":81,"cut":false,"hidden":false,"merged":[[0,0,0,5],[1,0,1,5],[2,0,2,5]]}
["AMEREN MISSOURI"]
["TOTAL ELECTRIC INCOME TAXES AT THE PROPOSED RETURN\nFOR THE TWELVE MONTHS ENDED DECEMBER 31, 2020"]
["($000)"]
[]
[]
[null,null,null,null,"TOTAL"]
["LINE",null,"DESCRIPTION",null,"ELECTRIC"]
[null,null,"(A)","(B)","(C)"]
[]
[1,null,"TOTAL ELECTRIC NET INCOME FROM OPERATIONS",null,703220]
[]
[null,null,"ADD"]
[{"$f":"1+A10","v":2},null,"CURRENT INCOME TAXES",null,57679]
[{"$f":"1+A13","v":3},null,"DEFERRED INCOME TAXES"]
[{"$f":"1+A14","v":4},null,"     DEFERRED INCOME TAX EXPENSE",null,-83045]
[{"$f":"1+A15","v":5},null,"     I.T.C. AMORTIZATION",null,-4730]
[]
[{"$f":"1+A16","v":6},null,"TOTAL ELECTRIC NET INCOME BEFORE INCOME TAX",null,{"$f":"SUM(E10:E16)","v":673124}]
[]
[null,null,"ADDITIONS TO NET INCOME BEFORE INCOME TAX"]
[{"$f":"1+A18","v":7},null,"     BOOK DEPRECIATION",null,698616]
[{"$f":"1+A21","v":8},null,"     BOOK DEPRECIATION CHARGED TO O&M",null,7701]
[9,null,"     INTANGIBLE AMORTIZATIONS",null,58817]
[10,null,"     HYDRAULIC AMORTIZATIONS",null,756]
[11,null,"     TRANSMISSION AMORTIZATIONS",null,420]
[12,null,"     CALLAWAY POST OPERATIONAL COSTS ",null,3687]
[13,null,"     NONDEDUCTIBLE PARKING LOT EXPENSE",null,1171]
[]
[{"$f":"1+A27","v":14},null,"TOTAL ADDITIONS",null,{"$f":"SUM(E21:E28)","v":771168}]
[]
[null,null,"SUBTRACTIONS TO NET INCOME BEFORE INCOME TAX"]
[{"$f":"1+A29","v":15},null,"     INTEREST ON DEBT (1)",null,183370]
[{"$f":"1+A32","v":16},null,"     TAX STRAIGHT LINE",null,750060]
[{"$f":"1+A33","v":17},null,"     PRODUCTION DEDUCTION",null,0]
[{"$f":"1+A34","v":18},null,"     NUCLEAR DECOMMISSIONING",null,6759]
[{"$f":"1+A35","v":19},null,"     PREFERRED DIVIDEND DEDUCTION",null,415]
[]
[{"$f":"1+A36","v":20},null,"TOTAL SUBTRACTIONS",null,{"$f":"SUM(E32:E36)","v":940604}]
[]
[{"$f":"1+A38","v":21},null,"TOTAL ELECTRIC NET TAXABLE INCOME",null,{"$f":"E18+E29-E38","v":503688}]
[]
[null,null,"FEDERAL INCOME TAX "]
[{"$f":"1+A40","v":22},null,"  NET TAXABLE INCOME",null,{"$f":"E40","v":503688}]
[{"$f":"1+A43","v":23},null,"  DEDUCT MISSOURI INCOME TAX",null,19380]
[{"$f":"1+A44","v":24},null,"  DEDUCT CITY EARNINGS TAX",null,{"$f":"+E68","v":78}]
[{"$f":"1+A45","v":25},null,"  FEDERAL TAXABLE INCOME",null,{"$f":"E43-E44-E45","v":484230}]
[]
[{"$f":"1+A46","v":26},null,{"$f":"\"  FEDERAL INCOME TAX\"","v":"  FEDERAL INCOME TAX"},0.21,{"$f":"ROUND(E46*D48,0)","v":101688}]
[null,null,"   LESS TAX CREDITS"]
[{"$f":"1+A48","v":27},null,"      RESEARCH CREDIT",null,1381]
[{"$f":"1+A50","v":28},null,"      PRODUCTION TAX CREDIT ",null,62086]
[{"$f":"1+A51","v":29},null,"TOTAL ELECTRIC FEDERAL INCOME TAX",null,{"$f":"+E48-E50-E51","v":38221}]
[]
[null,null,"STATE INCOME TAXES"]
[{"$f":"1+A52","v":30},null,"  NET TAXABLE INCOME",null,{"$f":"E40","v":503688}]
[{"$f":"1+A55","v":31},null,"  DEDUCT 50% OF FEDERAL INCOME TAX",null,{"$f":"ROUND(E52*0.5,0)","v":19111}]
[{"$f":"1+A56","v":32},null,"  DEDUCT CITY EARNINGS TAX",null,{"$f":"+E68","v":78}]
[{"$f":"1+A57","v":33},null,"  MISSOURI TAXABLE INCOME",null,{"$f":"E55-E56-E57","v":484499}]
[]
[{"$f":"1+A58","v":34},null,"TOTAL ELECTRIC MISSOURI INCOME TAX",0.04,{"$f":"ROUND(E58*D60,0)+1","v":19381}]
[]
[null,null,"CITY EARNINGS TAX"]
[{"$f":"1+A60","v":35},null,"  NET TAXABLE INCOME",null,{"$f":"+E40","v":503688}]
[{"$f":"1+A63","v":36},null,"  LESS TAX ADJUSTMENTS TO INCOME",null,-356045]
[{"$f":"1+A64","v":37},null,"  CITY TAXABLE INCOME",null,{"$f":"+E63+E64","v":147643}]
[{"$f":"1+A65","v":38},null,"  CITY EARNINGS TAX",1.2199999999999999E-3,{"$f":"ROUND(E65*D66,0)","v":180}]
[{"$f":"1+A66","v":39},null,"  LESS: TAX CREDIT",null,102]
[{"$f":"1+A67","v":40},null,"  TOTAL ELECTRIC NET CITY EARNINGS TAX",null,{"$f":"+E66-E67","v":78}]
[]
[{"$f":"1+A68","v":41},null,"TOTAL ELECTRIC CURRENT INCOME TAXES",null,{"$f":"E52+E60+E68","v":57680}]
[]
[null,null,"DEFERRED INCOME TAXES:"]
[{"$f":"1+A70","v":42},null,"     DEFERRED INCOME TAX EXPENSE",null,{"$f":"+E15","v":-83045}]
[{"$f":"1+A73","v":43},null,"     I.T.C. AMORTIZATION",null,{"$f":"+E16","v":-4730}]
[{"$f":"1+A74","v":44},null,"TOTAL ELECTRIC DEFERRED INCOME TAX",null,{"$f":"SUM(E73:E74)","v":-87775}]
[]
[{"$f":"1+A75","v":45},null,"TOTAL ELECTRIC CURRENT & DEFERRED INCOME TAX",null,{"$f":"+E70+E75","v":-30095}]
[]
[]
[{"$f":"1+A77","v":46},null,"(1)  RATE BASE X EMBEDDED"]
[{"$f":"1+A80","v":47},null,"       COST OF DEBT.",1.8239999999999999E-2]

{"sheet":"SCHEDULE MJL-D15","index":17,"n_rows":62,"n_cols":6,"rows_kept":62,"cut":false,"hidden":false,"merged":[[3,1,3,5],[0,1,0,5],[1,1,1,5],[2,1,2,5]]}
[null,"AMEREN MISSOURI"]
[null,"TOTAL ELECTRIC NET ORIGINAL COST RATE BASE AND REVENUE REQUIREMENT"]
[null,{"$f":" 'SCHEDULE MJL-D5'!A3","v":"FOR THE TWELVE MONTHS ENDED DECEMBER 31, 2020"}]
[null,"($000)"]
[]
[null,null,null,null,null,"TOTAL"]
[null,null,null,null,null,"ELECTRIC"]
[null,"LINE","DESCRIPTION","REFERENCE",null,"AMOUNT"]
[null,null,"(A)","(B)",null,"(C)"]
[]
[null,null,"A. TOTAL ELECTRIC NET ORIGINAL COST RATE BASE"]
[]
[null,1,"ORIGINAL COST OF PLANT IN SERVICE","SCHEDULE MJL-D1",null,{"$f":"+'SCHEDULE MJL-D1'!G34","v":21185206}]
[null,{"$f":"1+B13","v":2},"LESS: RESERVES FOR DEPRECIATION & AMORTIZATION","SCHEDULE MJL-D2",null,{"$f":"+'SCHEDULE MJL-D2'!G34","v":8805955}]
[null,{"$f":"1+B14","v":3},"     NET ORIGINAL COST OF PLANT",null,null,{"$f":"F13-F14","v":12379251}]
[null,4,"AVERAGE FUEL AND MATERIALS AND SUPPLIES","SCHEDULE MJL-D3",null,{"$f":"+'SCHEDULE MJL-D3'!F23","v":509137}]
[null,5,"AVERAGE PREPAYMENTS","SCHEDULE MJL-D4",null,{"$f":"+'SCHEDULE MJL-D4'!G22","v":16719}]
[null,6,"CASH WORKING CAPITAL (LEAD/LAG)","SCHEDULE MJL-D5",null,{"$f":"'SCHEDULE MJL-D5'!J46","v":-16026}]
[null,7,"FEDERAL INCOME TAX CASH REQUIREMENT","SCHEDULE MJL-D6",null,{"$f":"'SCHEDULE MJL-D6'!J14","v":-95}]
[null,8,"STATE INCOME TAX CASH REQUIREMENT","SCHEDULE MJL-D6",null,{"$f":"'SCHEDULE MJL-D6'!J16","v":-48}]
[null,9,"CITY EARNINGS TAX CASH REQUIREMENT","SCHEDULE MJL-D6",null,{"$f":"'SCHEDULE MJL-D6'!J22","v":-51}]
[null,{"$f":"1+B21","v":10},"INTEREST EXPENSE CASH REQUIREMENT","SCHEDULE MJL-D6",null,{"$f":"'SCHEDULE MJL-D6'!J24","v":-27269}]
[null,{"$f":"1+B22","v":11},"INDIANA STATE TAX OFFSET","SCHEDULE MJL-D6",null,{"$f":"'SCHEDULE MJL-D6'!J18","v":3}]
[null,{"$f":"1+B23","v":12},"IOWA STATE TAX OFFSET","SCHEDULE MJL-D6",null,{"$f":"'SCHEDULE MJL-D6'!J20","v":9}]
[null,{"$f":"1+B24","v":13},"AVERAGE CUSTOMER ADVANCES FOR CONSTRUCTION","SCHEDULE MJL-D7",null,{"$f":"'SCHEDULE MJL-D7'!E13","v":-1696}]
[null,14,"AVERAGE CUSTOMER DEPOSITS","SCHEDULE MJL-D7",null,{"$f":"'SCHEDULE MJL-D7'!E16","v":-25001}]
[null,{"$f":"1+B26","v":15},"PENSION TRACKER REG ASSET","SCHEDULE MJL-D8",null,{"$f":"+'SCHEDULE MJL-D8'!H15","v":-24996}]
[null,{"$f":"1+B27","v":16},"OPEB TRACKER REG  LIABILITY","SCHEDULE MJL-D8",null,{"$f":"+'SCHEDULE MJL-D8'!H18","v":-7201}]
[null,{"$f":"1+B28","v":17},"PAYS REGULATORY ASSET","SCHEDULE MJL-D8",null,{"$f":"+'SCHEDULE MJL-D8'!H21","v":3044}]
[null,{"$f":"1+B29","v":18},"PISA REGULATORY ASSET","SCHEDULE MJL-D8",null,{"$f":"+'SCHEDULE MJL-D8'!H24","v":242925}]
[null,{"$f":"1+B30","v":19},"UNDER COLLECT AMORTIZATIONS IN RATE BASE","SCHEDULE MJL-D8",null,{"$f":"+'SCHEDULE MJL-D8'!H30","v":-749}]
[null,{"$f":"1+B31","v":20},"ACCUMULATED DEFERRED INCOME TAXES ","SCHEDULE MJL-D9",null,{"$f":"+'SCHEDULE MJL-D9'!H21","v":-2994782}]
[]
[null,{"$f":"1+B32","v":21},"TOTAL ELECTRIC NET ORIGINAL COST RATE BASE",null,null,{"$f":"SUM(F15:F32)","v":10053174}]
[]
[null,null,"B. TOTAL ELECTRIC REVENUE REQUIREMENT"]
[]
[null,null,"TOTAL ELECTRIC OPERATING EXPENSES:"]
[null,{"$f":"1+B34","v":22},"PRODUCTION","SCHEDULE MJL-11-1",null,{"$f":"+'SCHEDULE MJL-D11-1'!BO22","v":1024029}]
[null,{"$f":"1+B39","v":23},"TRANSMISSION","SCHEDULE MJL-11-1",null,{"$f":"+'SCHEDULE MJL-D11-1'!BO27","v":111947}]
[null,{"$f":"1+B40","v":24},"REGIONAL MARKET EXPENSES","SCHEDULE MJL-11-1",null,{"$f":"+'SCHEDULE MJL-D11-1'!BO32","v":7329}]
[null,{"$f":"1+B41","v":25},"DISTRIBUTION","SCHEDULE MJL-11-1",null,{"$f":"+'SCHEDULE MJL-D11-1'!BO37","v":141573}]
[null,26,"CUSTOMER ACCOUNTS","SCHEDULE MJL-11-1",null,{"$f":"+'SCHEDULE MJL-D11-1'!BO42","v":63812}]
[null,27,"CUSTOMER SERVICE","SCHEDULE MJL-11-1",null,{"$f":"+'SCHEDULE MJL-D11-1'!BO47","v":15508}]
[null,28,"SALES","SCHEDULE MJL-11-1",null,{"$f":"+'SCHEDULE MJL-D11-1'!BO52","v":281}]
[null,29,"ADMINISTRATIVE AND GENERAL","SCHEDULE MJL-11-1",null,{"$f":"+'SCHEDULE MJL-D11-1'!BO57","v":229176}]
[null,30,"   TOTAL ELECTRIC OPERATING EXPENSES",null,null,{"$f":"SUM(F39:F46)","v":1593655}]
[null,31,"DEPRECIATION AND AMORTIZATION","SCHEDULE MJL-12-1",null,{"$f":"'SCHEDULE MJL-D12-1'!F56","v":765832}]
[null,32,"TAXES OTHER THAN INCOME TAXES","SCHEDULE MJL-13-1",null,{"$f":"'SCHEDULE MJL-D13-1'!G44","v":179911}]
[null,null,"INCOME TAXES-BASED ON PROPOSED RATE OF RETURN"]
[null,{"$f":"1+B49","v":33},"  FEDERAL","SCHEDULE MJL-14",null,{"$f":"'SCHEDULE MJL-D14'!E52","v":38221}]
[null,{"$f":"1+B51","v":34},"  STATE","SCHEDULE MJL-14",null,{"$f":"'SCHEDULE MJL-D14'!E60","v":19381}]
[null,{"$f":"1+B52","v":35},"  CITY EARNINGS ","SCHEDULE MJL-14",null,{"$f":"'SCHEDULE MJL-D14'!E68","v":78}]
[null,{"$f":"1+B53","v":36},"TOTAL INCOME TAXES",null,null,{"$f":"SUM(F51:F53)","v":57680}]
[null,null,"DEFERRED INCOME TAXES",null,0]
[null,{"$f":"1+B54","v":37},"     DEFERRED INCOME TAX EXPENSE","SCHEDULE MJL-14",null,{"$f":"'SCHEDULE MJL-D14'!E73","v":-83045}]
[null,{"$f":"1+B56","v":38},"     I.T.C. AMORTIZATION","SCHEDULE MJL-14",null,{"$f":"'SCHEDULE MJL-D14'!E74","v":-4730}]
[null,{"$f":"1+B57","v":39},"TOTAL DEFERRED INCOME TAXES",null,null,{"$f":"SUM(F56:F57)","v":-87775}]
[]
[null,{"$f":"1+B58","v":40},{"$f":"\"RETURN (RATE BASE * \"&TEXT(D60,\"0.000%\")&\")\"","v":"RETURN (RATE BASE * 6.995%)"},6.9949999999999998E-2,null,{"$f":"ROUND(D60*F34,0)","v":703220}]
[]
[null,{"$f":"1+B60","v":41},"TOTAL ELECTRIC REVENUE REQUIREMENT",null,null,{"$f":"+F47+F48+F49+F54+F58+F60","v":3212523}]

{"sheet":"SCHEDULE MJL-D16","index":18,"n_rows":30,"n_cols":6,"rows_kept":30,"cut":false,"hidden":false,"merged":[[3,0,3,4],[0,0,0,4],[1,0,1,4],[2,0,2,4]]}
["AMEREN MISSOURI"]
[{"$f":"\"INCREASE REQUIRED TO PRODUCE \"& TEXT('SCHEDULE MJL-D15'!D60,\"0.000%\") &\" RETURN ON \"","v":"INCREASE REQUIRED TO PRODUCE 6.995% RETURN ON "}]
["TOTAL ELECTRIC NET ORIGINAL COST RATE BASE"]
[{"$f":" 'SCHEDULE MJL-D5'!A3","v":"FOR THE TWELVE MONTHS ENDED DECEMBER 31, 2020"}]
[]
[]
[]
[null,null,null,null,"TOTAL"]
[null,null,null,null,"ELECTRIC"]
["LINE",null,"DESCRIPTION",null,"AMOUNT"]
[null,null,"(A)",null,"(B)"]
[]
[1,null,"TOTAL ELECTRIC NET ORIGINAL COST RATE BASE",null,{"$f":"'SCHEDULE MJL-D15'!F34","v":10053174}]
[]
[null,null,"TOTAL ELECTRIC REVENUE REQUIREMENT:"]
[{"$f":"1+A13","v":2},null,{"$f":"\"RETURN AT PROPOSED RATE (\"&TEXT('SCHEDULE MJL-D15'!D60,\"0.000%\")&\")\"","v":"RETURN AT PROPOSED RATE (6.995%)"},null,{"$f":"'SCHEDULE MJL-D15'!F60","v":703220}]
[{"$f":"1+A16","v":3},null,"OPERATING AND MAINTENANCE EXPENSES",null,{"$f":"'SCHEDULE MJL-D15'!F47","v":1593655}]
[4,null,"DEPRECIATION AND AMORTIZATION",null,{"$f":"'SCHEDULE MJL-D15'!F48","v":765832}]
[5,null,"TAXES OTHER THAN INCOME",null,{"$f":"'SCHEDULE MJL-D15'!F49","v":179911}]
[6,null,"FEDERAL AND STATE INCOME AND CITY EARNINGS TAXES AT CLAIMED RETURN",null,{"$f":"'SCHEDULE MJL-D15'!F51+'SCHEDULE MJL-D15'!F52+'SCHEDULE MJL-D15'!F53","v":57680}]
[7,null,"DEFERRED INCOME TAXES",null,{"$f":"'SCHEDULE MJL-D15'!F58","v":-87775}]
[8,null,"TOTAL ELECTRIC REVENUE REQUIREMENT",null,{"$f":"SUM(E16:E21)","v":3212523}]
[]
[]
[{"$f":"1+A22","v":9},null,"PRO FORMA TOTAL ELECTRIC OPERATING REVENUE AT PRESENT RATES",null,{"$f":"+'SCHEDULE MJL-D10'!F26","v":2913055}]
[null,null,""]
[{"$f":"1+A25","v":10},null,"DEFICIENCY IN TOTAL ELECTRIC OPERATING REVENUE",null,{"$f":"E22-E25","v":299468}]
[]
[]
[null,null,null,null,null,{"$f":"+UPPER(C30)","v":""}]

{"sheet":"SCHEDULE MJL-D17","index":19,"n_rows":90,"n_cols":11,"rows_kept":90,"cut":false,"hidden":false,"merged":[]}
["AMEREN MISSOURI"]
["CALCULATION OF NET BASE ENERGY COST (BF)"]
["FOR THE TWELVE MONTHS ENDED DECEMBER 31, 2020"]
[]
[]
[]
[]
[null,null,null,null,"","",null,null,null,""]
["LINE",null,"DESCRIPTION",null,"TOTAL","","SUMMER",null,"WINTER","","WINTER-2"]
[null,null,"(A)",null,"(B)",null,"(D)",null,"(E)",null,"(F)"]
[]
[null,"A","FUEL & PURCHASED POWER COSTS"]
[null,null,"BASE LOAD"]
[{"$f":"1","v":1},null,"FUEL FOR LOAD",null,{"$f":"G14+I14","v":380571000},null,133122000,null,247449000,null,{"$f":"E14-G14-I14","v":0}]
[{"$f":"1+A14","v":2},null,"FLY ASH (1)",null,{"$f":"G15+I15","v":-2164297.5999999992},null,-750101,null,-1414196.5999999992,null,0]
[{"$f":"1+A15","v":3},null,"FIXED GAS SUPPLY COSTS FOR LOAD (2)",null,{"$f":"G16+I16","v":6783734.5700000003},null,2435168,null,4348566.57,null,0]
[4,null,"FUEL ADDITIVES (2)",null,{"$f":"G17+I17","v":5018394.5599999996},null,1801461,null,3216933.5599999996,null,0]
[5,null,"PURCHASED POWER FOR LOAD",null,{"$f":"G18+I18","v":20100000},null,6303000,null,13797000,null,0]
[null,null,""]
[{"$f":"1+A18","v":6},null,"TOTAL BASE LOAD",null,{"$f":"SUM(E14:E18)","v":410308831.52999997},null,{"$f":"SUM(G14:G18)","v":142911528},null,{"$f":"SUM(I14:I18)","v":267397303.53},null,{"$f":"SUM(K14:K18)","v":0}]
[]
[null,null,"OSS"]
[7,null,"FUEL FOR LOAD",null,{"$f":"G23+I23","v":211493000},null,78082000,null,133411000]
[8,null,"FLY ASH (1)",null,{"$f":"G24+I24","v":-1202756},null,-416850,null,-785906]
[9,null,"FIXED GAS SUPPLY COSTS FOR LOAD (2)",null,{"$f":"G25+I25","v":3769894},null,1353285,null,2416609]
[10,null,"FUEL ADDITIVES (2)",null,{"$f":"G26+I26","v":2788849},null,1001118,null,1787731]
[11,null,"PURCHASED POWER FOR LOAD",null,{"$f":"G27+I27","v":0},null,0,null,0]
[]
[12,null,"TOTAL OSS",null,{"$f":"SUM(E23:E27)","v":216848987},null,{"$f":"SUM(G23:G27)","v":80019553},null,{"$f":"SUM(I23:I27)","v":136829434}]
[]
[13,null,"TOTAL FUEL AND PURCHASED POWER",null,{"$f":"E20+E29","v":627157818.52999997},null,{"$f":"G20+G29","v":222931081},null,{"$f":"I20+I29","v":404226737.52999997}]
[]
[]
[null,"B","TRANSMISSION COSTS AND REVENUES"]
[14,null,"TRANSMISSION BY OTHERS (ACCT. 565 @1.87%) (2)",null,{"$f":"G35+I35","v":1625254.6877185036},null,583466,null,1041788.6877185036]
[15,null,"TRANMISSION REVENUES  (ACC 456.1) (2)",null,{"$f":"G36+I36","v":-495886.1818210659},null,-178023,null,-317863.1818210659]
[]
[16,null,"TOTAL TRANSMISSION COSTS AND REVENUES",null,{"$f":"SUM(E35:E36)","v":1129368.5058974377},null,{"$f":"SUM(G35:G36)","v":405443},null,{"$f":"SUM(I35:I36)","v":723925.50589743769}]
[]
[]
[null,"C","ADDITIONAL FUEL & PP COSTS "]
[17,null,"MISO DAY 2 EXCLUDING ADMIN (ACCT 555) (2)",null,{"$f":"G42+I42","v":25989827},null,9329609,null,16660218,null,{"$f":"E42-G42-I42","v":0}]
[18,null,"COMMON BOUNDARY (2)",null,80705,null,28971,null,51734]
[19,null,"CAPACITY EXPENSE (2)",null,16814666,null,6035987,null,10778679,null,{"$f":"E44-G44-I44","v":0}]
[20,null,"ANCILLARY SERVICES PURCHASED  (ACCT. 555) (2)",null,2086971,null,749223,null,1337748,null,0]
[21,null,"PJM EXCLUDING ADMIN (ACCT. 555) (2)",null,0,null,0,null,0,null,0]
[22,null,"REPLACEMENT POWER INSURANCE (ACC 925) (2)",null,638206.34,null,229116,null,409090.33999999997]
[null,null,null,""]
[23,null,"TOTAL ADDITIONAL FUEL & PP COSTS",null,{"$f":"SUM(E42:E47)","v":45610375.340000004},null,{"$f":"SUM(G42:G47)","v":16372906},null,{"$f":"SUM(I42:I47)","v":29237469.34},null,{"$f":"SUM(K42:K46)","v":0}]
[]
[null,null,""]
[null,"D","SALES"]
[{"$f":"1+A49","v":24},null,"OFF-SYSTEM ENERGY SALES  REVENUES (ACCT. 447)",null,{"$f":"G53+I53","v":282149000},null,90655000,null,191494000,null,{"$f":"E53-G53-I53","v":0}]
[{"$f":"1+A53","v":25},null,"MAKE WHOLE PAYMENT MARGINS (ACCT 447)  (2)",null,{"$f":"G54+I54","v":1434768},null,515041,null,919727,null,0]
[{"$f":"1+A54","v":26},null,"CAPACITY SALES  REVENUES (ACCT. 447) (2)",null,23804324,null,8545076,null,15259248,null,0]
[{"$f":"1+A55","v":27},null,"BILATERAL ENERGY SALES MARGINS (447) (2)",null,1157529.4775893267,null,415520,null,742009.47758932668]
[{"$f":"1+A56","v":28},null,"FINANCIAL SWAPS (ACCT 447) (2)",null,6421602.0646666661,null,2305173,null,4116429.0646666661,null,0]
[{"$f":"1+A57","v":29},null,"ANCILLARY SERVICES REVENUE (ACCT. 447) (2)",null,5327926,null,1912574,null,3415352,null,0]
[null,null,""]
[{"$f":"A58+1","v":30},null,"TOTAL SALES",null,{"$f":"SUM(E53:E59)","v":320295149.542256},null,{"$f":"SUM(G53:G59)","v":104348384},null,{"$f":"SUM(I53:I59)","v":215946765.542256},null,{"$f":"SUM(K53:K59)","v":0}]
[]
[null,"E","OTHER ADJUSTMENTS"]
[{"$f":"A60+1","v":31},null,"REAL-TIME LOAD AND GENERATION DEVIATION (2)",null,{"$f":"G63+I63","v":5004650},null,1796527,null,3208123]
[]
[{"$f":"A63+1","v":32},null,"TOTAL OTHER ADJUSTMENTS",null,{"$f":"E63","v":5004650},null,{"$f":"G63","v":1796527},null,{"$f":"I63","v":3208123}]
[null,null,""]
[{"$f":"A65+1","v":33},"A + B + C - D - E","NET BASE ENERGY COSTS",null,{"$f":"E31+E38+E49-E60-E65","v":348597762.83364141},null,{"$f":"G31+G38+G49-G60-G65","v":133564519},null,{"$f":"I31+I38+I49-I60-I65","v":215033243.83364141},null,{"$f":"K20+K49-K60","v":0}]
[null,null,""]
[null,null,"LOAD FORECAST (DELIVERED MWH) USED IN PROSYM RUN",null,{"$f":"SUM(#REF!)","v":{"$error":"#REF!"}}]
[null,null,""]
[null,null,"NET BASE FUEL COSTS ($ PER MWH)",null,{"$f":"E67*1000/E69","v":{"$error":"#REF!"}}]
[null,null,""]
[null,null,""]
[null,null,"LOAD FORECAST AT GENERATION LEVEL*",null,{"$f":"SUM(#REF!)","v":{"$error":"#REF!"}}]
[null,null,"* EXCLUDES TRANSMISSION LINE LOSSES"]
[null,null,""]
[null,null,"NET BASE FUEL COSTS ($ PER MWH) AT GENERATION LEVEL",null,{"$f":"+E67*1000/E74","v":{"$error":"#REF!"}}]
[null,null,""]
[{"$f":"1+A67","v":34},null,"LOAD AT MISO CP NODE AMMO.UE (KWH)",null,{"$f":"G79+I79","v":32389488116.188927},null,11627000000,null,20762488116.188927,null,{"$f":"E79-G79-I79","v":0}]
[null,null,""]
[{"$f":"1+A79","v":35},null,"BASE FACTOR (BF) ($ PER MWH)",null,{"$f":"E67/E79*1000","v":10.762682064722261},null,{"$f":"G67/G79*1000","v":11.487444654683065},null,{"$f":"I67/I79*1000","v":10.356814782038366},null,{"$f":"K67/K79*1000","v":{"$error":"#DIV/0!"}}]
[null,null,""]
[{"$f":"1+A81","v":36},null,"BASE FACTOR (BF) (CENTS PER KWH)",null,{"$f":"E81/10","v":1.0762682064722262},null,{"$f":"G81/10","v":1.1487444654683066},null,{"$f":"I81/10","v":1.0356814782038366},null,{"$f":"K81/10","v":{"$error":"#DIV/0!"}}]
[]
[{"$f":"1+A83","v":37},"MONTHS IN EACH PERIOD:"]
[{"$f":"1+A85","v":38},null,"SUMMER: JUNE THROUGH SEPTEMBER"]
[39,null,"WINTER: OCTOBER THROUGH MAY"]
[]
[{"$f":"A87+1","v":40},-1,"ALLOCATED BETWEEN SUMMER AND WINTERS BASED ON COAL FROM FUEL MODEL."]
[{"$f":"1+A89","v":41},-2,"ALLOCATED BETWEEN SUMMER AND WINTERS BASED ON LOAD."]

{"sheet":"SCHEDULE MJL-D18","index":20,"n_rows":34,"n_cols":11,"rows_kept":34,"cut":false,"hidden":false,"merged":[[0,0,0,10],[1,0,1,10],[2,0,2,10]]}
["Ameren Missouri"]
["Cash Working Capital Factors"]
["FOR THE TWELVE MONTHS ENDED DECEMBER 31, 2020"]
[]
["Line No.",null,"Description",null,"Revenue Lag",null,"Expense Lead",null,"Net Lag",null,"CWC Factor"]
[" ",null,"(A)",null,"(B)",null,"(C)",null,"(D)",null,"(E)"]
[]
[1,null,"Pensions & Benefits",null,37.091475295125576,null,-18.373777276161871,null,{"$f":"E8+G8","v":18.717698018963706},null,{"$f":"I8/365","v":5.1281364435517E-2}]
[{"$f":"A8+1","v":2},null,"Payroll and Withholdings",null,37.091475295125576,null,-11.655367075309384,null,25.436108219816191,null,{"$f":"I9/365","v":6.9687967725523811E-2}]
[3,null,"Payroll Taxes",null,37.091475295125576,null,-9.3785215167225466,null,27.71295377840303,null,7.5925900762748022E-2]
[4,null,"Other Operations and Maintenance Expenses",null,37.091475295125576,null,-42.250370548239815,null,-5.1588952531142382,null,-1.4133959597573256E-2]
[5,null,"Property/Real Estate Taxes",null,37.091475295125576,null,-183,null,-145.90852470487442,null,-0.39974938275308064]
[6,null,"Missouri Sales Tax",null,37.091475295125576,null,-9.312952732948057,null,27.778522562177521,null,7.6105541266239779E-2]
[7,null,"Missouri and Iowa Use Tax",null,37.091475295125576,null,-76.247944202578992,null,-39.156468907453416,null,-0.10727799700672169]
[8,null,"Illinois Use Tax",null,37.091475295125576,null,-35.78168930209273,null,{"$f":"E15+G15","v":1.3097859930328468},null,{"$f":"I15/365","v":3.588454775432457E-3}]
[9,null,"Gross Receipts Taxes",null,24.350637072960971,null,-26.985801752714565,null,-2.6351646797535935,null,-7.2196292595988866E-3]
[10,null,"Federal Income Tax",null,37.091475295125576,null,-38,null,-0.90852470487442361,null,-2.4891087804778727E-3]
[11,null,"State Income Tax",null,37.091475295125576,null,-38,null,-0.90852470487442361,null,-2.4891087804778727E-3]
[12,null,"St Louis Corporate Earnings Tax",null,37.091475295125576,null,-274.5,null,{"$f":"E19+G19","v":-237.40852470487442},null,{"$f":"I19/365","v":-0.65043431425992992}]
[13,null,"Fuel - Nuclear",null,37.091475295125576,null,-15.208333333333334,null,{"$f":"E20+G20","v":21.883141961792241},null,{"$f":"I20/365","v":5.9953813593951341E-2}]
[14,null,"Fuel - Coal",null,37.091475295125576,null,-14.43339818369048,null,{"$f":"E21+G21","v":22.658077111435098},null,{"$f":"I21/365","v":6.2076923592972871E-2}]
[15,null,"Fuel - Oil",null,37.091475295125576,null,-14.687539183708767,null,{"$f":"E22+G22","v":22.403936111416812},null,{"$f":"I22/365","v":6.1380646880594004E-2}]
[16,null,"Fuel - Gas",null,37.091475295125576,null,-40.72113374533086,null,{"$f":"E23+G23","v":-3.6296584502052838},null,{"$f":"I23/365","v":-9.9442697265898182E-3}]
[17,null,"Interest Expense",null,37.091475295125576,null,-91.368771393379063,null,-54.277296098253487,null,-0.14870492081713285]
[18,null,"Uncollectible Expense",null,37.091475295125576,null,{"$f":"-E25","v":-37.091475295125576},null,0,null,0]
[19,null,"Purchased Power",null,37.091475295125576,null,-18.100283771819221,null,18.991191523306355,null,5.2030661707688643E-2]
[20,null,"Decommissioning Fees",null,37.091475295125576,null,-69.5,null,-32.408524704874424,null,-8.8790478643491572E-2]
[21,null,"Incentive Compensation",null,37.091475295125576,null,-252.87744702606062,null,-215.78597173093505,null,-0.59119444309845215]
[22,null,"Fed Excise Heavy Use Tax",null,37.091475295125576,null,125.57361171391369,null,162.66508700903927,null,0.44565777262750483]
[23,null,"Self Procured Insurance Tax",null,37.091475295125576,null,-241.5,null,-204.40852470487442,null,-0.56002335535582037]
[24,null,"Ohio Commercial Activity Tax",null,37.091475295125576,null,50,null,87.091475295125576,null,0.23860678163048102]
[25,null,"Corporate Franchise Tax",null,37.091475295125576,null,-233.1920070138685,null,-196.10053171874293,null,-0.53726173073628203]
[26,null,"State of Indiana Corporate Income Tax",null,37.091475295125576,null,-14,null,23.091475295125576,null,6.3264315877056373E-2]
[27,null,"State of Iowa Corporate Income Tax",null,37.091475295125576,null,77,null,114.09147529512558,null,0.31257938437020705]