{"text_format":"1","workbook":"xlsx","n_sheets":21,"sheets":["Protect","Final Checklist","Reconciliation","CAWNA Summary","CAWNA South","CAWNA NW","CAWNA North","WNAR Rates","CAWNA Amounts","NHDD","KCITempActuals","CustCount","MeterReadSch","ReconPerAdj","VolumetricRates","BillDeter","BetaCoeff","Rate Case Summary","Validation Lists","Sheet1","DateSet"],"not_rendered":{"charts":0,"images":1,"macros":1,"external_links":1,"defined_names":3095,"comments":0,"pivot_tables":0},"unopened":[],"bounds":{"document_bytes":16777216,"sheet_cells":100000,"rows_first":2000,"rows_last":500,"rows_between":2000,"halvings":0,"cell_chars":16384,"cell_head_chars":4096},"cells_cut":0,"cells_raw":0,"read":"whole","date_system":"1900"}

{"sheet":"Protect","index":0,"n_rows":11,"n_cols":7,"rows_kept":11,"cut":false,"hidden":false,"merged":[[5,1,5,5]]}
[]
[null,"Empire District Gas Company"]
[null,"WNAR Filing"]
[null,"Password Protection Worksheet"]
[]
[null,"This worksheet provides password protection for the report pages to prevent unintentional formula changes.  The password is \"WNAR\"."]
[]
[]
[]
[]
[null,null,null,null,null,null,"All Report Worksheets are Protected"]

{"sheet":"Final Checklist","index":1,"n_rows":26,"n_cols":6,"rows_kept":26,"cut":false,"hidden":false,"merged":[]}
[]
[null,"Empire District Gas Company"]
[null,"Annual WNAR Filing"]
[null,"Final Checklist"]
[]
[]
[null,"Data Table List","Check For","Result","Initials","Initials"]
[null,"Validation Lists","Changes from prior filings","Ok, no prior filings","RS"]
[null,"Rate Case Summary","Verify Final WNAR Billing Determinants","Copied from rate case workpapers received from Dana Liner","RS"]
[null,"Beta Coefficient","Matches tariff sheets","Ok until reset by new rate case","RS"]
[null,"Billing Determinants","Matches Rate Case Summary above","Ok until reset by new rate case","RS"]
[null,"Volumetric Rates","Matches tariff sheets","Ok until reset by new rate case","RS"]
[null,"Normal HDD","Matches Rate Case filing workpapers","Ok until reset by new rate case","RS"]
[null,"Reconciliation Period Adjustment","Ties out on Reconciliation Worksheet","Checked and ties.","RS"]
[null,"Meter Read Schedule","Reconcile with Revenue Dept.","Reconciled with Kendra Billing in Rev. Dept accrual workpapers","RS"]
[null,"Customer Count","Reconcile with Revenue Dept.","Reconciled with Kendra Billing in Rev. Dept accrual workpapers","RS"]
[null,"KCI Actual Temperatures","Temperatures are updated from NOAA website","Reconciled with Kendra Billing in Rev. Dept accrual workpapers","RS"]
[null,"KCI Normal HDD","Matches Rate Case filing workpapers","Checked, matched, and recon with Kendra Billing in Rev. Dept.","RS"]
[null,"CAWNA Amounts","Ties out on Reconciliation Worksheet","Checked and ties.","RS"]
[null,"WNAR Rates","Ties out on Reconciliation Worksheet","Checked and ties.","RS"]
[]
[]
[null,"Report Worksheets","Check For","Result","Initials","Initials"]
[null,"All Report Pages","Correct year is showing on the dropdown menus.","Checked OK.","RS"]
[null,"Reconciliaion worksheet","No cells are shaded yellow, which indicates inconsistencies.","Checked OK.","RS"]
[null,"Protect worksheet","Password protection is turned on for report worksheets","Checked OK.","RS"]

{"sheet":"Reconciliation","index":2,"n_rows":44,"n_cols":11,"rows_kept":44,"cut":false,"hidden":false,"merged":[[8,8,8,10],[24,2,24,4],[24,5,24,7],[24,8,24,10],[41,2,41,3],[41,4,41,5],[41,6,41,7],[8,2,8,4],[8,5,8,7]]}
[]
[null,"Empire District Gas Company",null,null,"Filing Year"]
[null,"WNAR Filing"]
[null,"CAWNA Summary"]
[null,"Year",{"$f":"DateSet!C2","v":2023}]
[null,"Analysis Start",{"$f":"DateSet!C3","v":"2022-09-01"}]
[]
[null,"CAWNA Amounts"]
[null,"Res","CAWNA Worksheets",null,null,"CAWNA Amount Table",null,null,"Difference"]
[null,"MonthFlow","North","NW","South","North","NW","South","North","NW","South"]
[null,{"$f":"$C$6","v":"2022-09-01"},{"$f":"'CAWNA North'!M11","v":5862.17},{"$f":"'CAWNA NW'!M11","v":3608.5},{"$f":"'CAWNA South'!M11","v":18300.009999999998},{"$f":"SUMPRODUCT((CAWNAAmounts[Month]=$B11)*(CAWNAAmounts[Territory]=F$10)*(CAWNAAmounts[CustClass]=$B$9)*CAWNAAmounts[CAWNA])","v":5862.17},{"$f":"SUMPRODUCT((CAWNAAmounts[Month]=$B11)*(CAWNAAmounts[Territory]=G$10)*(CAWNAAmounts[CustClass]=$B$9)*CAWNAAmounts[CAWNA])","v":3608.5},{"$f":"SUMPRODUCT((CAWNAAmounts[Month]=$B11)*(CAWNAAmounts[Territory]=H$10)*(CAWNAAmounts[CustClass]=$B$9)*CAWNAAmounts[CAWNA])","v":18300.009999999998},{"$f":"C11-F11","v":0},{"$f":"D11-G11","v":0},{"$f":"E11-H11","v":0}]
[null,{"$f":"EDATE(B11,1)","v":"2022-10-01"},{"$f":"'CAWNA North'!M12","v":10328.18},{"$f":"'CAWNA NW'!M12","v":3967.81},{"$f":"'CAWNA South'!M12","v":31999.85},{"$f":"SUMPRODUCT((CAWNAAmounts[Month]=$B12)*(CAWNAAmounts[Territory]=F$10)*(CAWNAAmounts[CustClass]=$B$9)*CAWNAAmounts[CAWNA])","v":10328.18},{"$f":"SUMPRODUCT((CAWNAAmounts[Month]=$B12)*(CAWNAAmounts[Territory]=G$10)*(CAWNAAmounts[CustClass]=$B$9)*CAWNAAmounts[CAWNA])","v":3967.81},{"$f":"SUMPRODUCT((CAWNAAmounts[Month]=$B12)*(CAWNAAmounts[Territory]=H$10)*(CAWNAAmounts[CustClass]=$B$9)*CAWNAAmounts[CAWNA])","v":31999.85},{"$f":"C12-F12","v":0},{"$f":"D12-G12","v":0},0]
[null,{"$f":"EDATE(B12,1)","v":"2022-11-01"},{"$f":"'CAWNA North'!M13","v":2347.44},{"$f":"'CAWNA NW'!M13","v":3807.66},{"$f":"'CAWNA South'!M13","v":8210.26},{"$f":"SUMPRODUCT((CAWNAAmounts[Month]=$B13)*(CAWNAAmounts[Territory]=F$10)*(CAWNAAmounts[CustClass]=$B$9)*CAWNAAmounts[CAWNA])","v":2347.44},{"$f":"SUMPRODUCT((CAWNAAmounts[Month]=$B13)*(CAWNAAmounts[Territory]=G$10)*(CAWNAAmounts[CustClass]=$B$9)*CAWNAAmounts[CAWNA])","v":3807.66},{"$f":"SUMPRODUCT((CAWNAAmounts[Month]=$B13)*(CAWNAAmounts[Territory]=H$10)*(CAWNAAmounts[CustClass]=$B$9)*CAWNAAmounts[CAWNA])","v":8210.26},0,0,0]
[null,{"$f":"EDATE(B13,1)","v":"2022-12-01"},{"$f":"'CAWNA North'!M14","v":-15401.2},{"$f":"'CAWNA NW'!M14","v":-8230.91},{"$f":"'CAWNA South'!M14","v":-37580.269999999997},{"$f":"SUMPRODUCT((CAWNAAmounts[Month]=$B14)*(CAWNAAmounts[Territory]=F$10)*(CAWNAAmounts[CustClass]=$B$9)*CAWNAAmounts[CAWNA])","v":-15401.2},{"$f":"SUMPRODUCT((CAWNAAmounts[Month]=$B14)*(CAWNAAmounts[Territory]=G$10)*(CAWNAAmounts[CustClass]=$B$9)*CAWNAAmounts[CAWNA])","v":-8230.91},{"$f":"SUMPRODUCT((CAWNAAmounts[Month]=$B14)*(CAWNAAmounts[Territory]=H$10)*(CAWNAAmounts[CustClass]=$B$9)*CAWNAAmounts[CAWNA])","v":-37580.269999999997},0,0,0]
[null,{"$f":"EDATE(B14,1)","v":"2023-01-01"},{"$f":"'CAWNA North'!M15","v":64545.760000000002},{"$f":"'CAWNA NW'!M15","v":38795.629999999997},{"$f":"'CAWNA South'!M15","v":190196.8},{"$f":"SUMPRODUCT((CAWNAAmounts[Month]=$B15)*(CAWNAAmounts[Territory]=F$10)*(CAWNAAmounts[CustClass]=$B$9)*CAWNAAmounts[CAWNA])","v":64545.760000000002},{"$f":"SUMPRODUCT((CAWNAAmounts[Month]=$B15)*(CAWNAAmounts[Territory]=G$10)*(CAWNAAmounts[CustClass]=$B$9)*CAWNAAmounts[CAWNA])","v":38795.629999999997},{"$f":"SUMPRODUCT((CAWNAAmounts[Month]=$B15)*(CAWNAAmounts[Territory]=H$10)*(CAWNAAmounts[CustClass]=$B$9)*CAWNAAmounts[CAWNA])","v":190196.8},0,0,0]
[null,{"$f":"EDATE(B15,1)","v":"2023-02-01"},{"$f":"'CAWNA North'!M16","v":13744.57},{"$f":"'CAWNA NW'!M16","v":8280.85},{"$f":"'CAWNA South'!M16","v":47540.74},{"$f":"SUMPRODUCT((CAWNAAmounts[Month]=$B16)*(CAWNAAmounts[Territory]=F$10)*(CAWNAAmounts[CustClass]=$B$9)*CAWNAAmounts[CAWNA])","v":13744.57},{"$f":"SUMPRODUCT((CAWNAAmounts[Month]=$B16)*(CAWNAAmounts[Territory]=G$10)*(CAWNAAmounts[CustClass]=$B$9)*CAWNAAmounts[CAWNA])","v":8280.85},{"$f":"SUMPRODUCT((CAWNAAmounts[Month]=$B16)*(CAWNAAmounts[Territory]=H$10)*(CAWNAAmounts[CustClass]=$B$9)*CAWNAAmounts[CAWNA])","v":47540.74},0,0,0]
[null,{"$f":"EDATE(B16,1)","v":"2023-03-01"},{"$f":"'CAWNA North'!M17","v":-11114.01},{"$f":"'CAWNA NW'!M17","v":-7034.51},{"$f":"'CAWNA South'!M17","v":-45026.34},{"$f":"SUMPRODUCT((CAWNAAmounts[Month]=$B17)*(CAWNAAmounts[Territory]=F$10)*(CAWNAAmounts[CustClass]=$B$9)*CAWNAAmounts[CAWNA])","v":-11114.01},{"$f":"SUMPRODUCT((CAWNAAmounts[Month]=$B17)*(CAWNAAmounts[Territory]=G$10)*(CAWNAAmounts[CustClass]=$B$9)*CAWNAAmounts[CAWNA])","v":-7034.51},{"$f":"SUMPRODUCT((CAWNAAmounts[Month]=$B17)*(CAWNAAmounts[Territory]=H$10)*(CAWNAAmounts[CustClass]=$B$9)*CAWNAAmounts[CAWNA])","v":-45026.34},0,0,0]
[null,"2023-04-01",{"$f":"'CAWNA North'!M18","v":8500.3799999999992},{"$f":"'CAWNA NW'!M18","v":3752.53},{"$f":"'CAWNA South'!M18","v":31942.85},{"$f":"SUMPRODUCT((CAWNAAmounts[Month]=$B18)*(CAWNAAmounts[Territory]=F$10)*(CAWNAAmounts[CustClass]=$B$9)*CAWNAAmounts[CAWNA])","v":8500.3799999999992},{"$f":"SUMPRODUCT((CAWNAAmounts[Month]=$B18)*(CAWNAAmounts[Territory]=G$10)*(CAWNAAmounts[CustClass]=$B$9)*CAWNAAmounts[CAWNA])","v":3752.53},{"$f":"SUMPRODUCT((CAWNAAmounts[Month]=$B18)*(CAWNAAmounts[Territory]=H$10)*(CAWNAAmounts[CustClass]=$B$9)*CAWNAAmounts[CAWNA])","v":31942.85},0,0,0]
[null,"2023-05-01",{"$f":"'CAWNA North'!M19","v":8727.9699999999993},{"$f":"'CAWNA NW'!M19","v":5757.77},{"$f":"'CAWNA South'!M19","v":26202.65},{"$f":"SUMPRODUCT((CAWNAAmounts[Month]=$B19)*(CAWNAAmounts[Territory]=F$10)*(CAWNAAmounts[CustClass]=$B$9)*CAWNAAmounts[CAWNA])","v":8727.9699999999993},{"$f":"SUMPRODUCT((CAWNAAmounts[Month]=$B19)*(CAWNAAmounts[Territory]=G$10)*(CAWNAAmounts[CustClass]=$B$9)*CAWNAAmounts[CAWNA])","v":5757.77},{"$f":"SUMPRODUCT((CAWNAAmounts[Month]=$B19)*(CAWNAAmounts[Territory]=H$10)*(CAWNAAmounts[CustClass]=$B$9)*CAWNAAmounts[CAWNA])","v":26202.65},0,0,0]
[null,"2023-06-01",{"$f":"'CAWNA North'!M20","v":1236.6300000000001},{"$f":"'CAWNA NW'!M20","v":748.66},{"$f":"'CAWNA South'!M20","v":3930.59},{"$f":"SUMPRODUCT((CAWNAAmounts[Month]=$B20)*(CAWNAAmounts[Territory]=F$10)*(CAWNAAmounts[CustClass]=$B$9)*CAWNAAmounts[CAWNA])","v":1236.6300000000001},{"$f":"SUMPRODUCT((CAWNAAmounts[Month]=$B20)*(CAWNAAmounts[Territory]=G$10)*(CAWNAAmounts[CustClass]=$B$9)*CAWNAAmounts[CAWNA])","v":748.66},{"$f":"SUMPRODUCT((CAWNAAmounts[Month]=$B20)*(CAWNAAmounts[Territory]=H$10)*(CAWNAAmounts[CustClass]=$B$9)*CAWNAAmounts[CAWNA])","v":3930.59},0,0,0]
[null,"2023-07-01",{"$f":"'CAWNA North'!M21","v":0},{"$f":"'CAWNA NW'!M21","v":0},{"$f":"'CAWNA South'!M21","v":0},{"$f":"SUMPRODUCT((CAWNAAmounts[Month]=$B21)*(CAWNAAmounts[Territory]=F$10)*(CAWNAAmounts[CustClass]=$B$9)*CAWNAAmounts[CAWNA])","v":0},{"$f":"SUMPRODUCT((CAWNAAmounts[Month]=$B21)*(CAWNAAmounts[Territory]=G$10)*(CAWNAAmounts[CustClass]=$B$9)*CAWNAAmounts[CAWNA])","v":0},{"$f":"SUMPRODUCT((CAWNAAmounts[Month]=$B21)*(CAWNAAmounts[Territory]=H$10)*(CAWNAAmounts[CustClass]=$B$9)*CAWNAAmounts[CAWNA])","v":0},0,0,0]
[null,{"$f":"EDATE(B21,1)","v":"2023-08-01"},{"$f":"'CAWNA North'!M22","v":0},{"$f":"'CAWNA NW'!M22","v":0},{"$f":"'CAWNA South'!M22","v":0},{"$f":"SUMPRODUCT((CAWNAAmounts[Month]=$B22)*(CAWNAAmounts[Territory]=F$10)*(CAWNAAmounts[CustClass]=$B$9)*CAWNAAmounts[CAWNA])","v":0},{"$f":"SUMPRODUCT((CAWNAAmounts[Month]=$B22)*(CAWNAAmounts[Territory]=G$10)*(CAWNAAmounts[CustClass]=$B$9)*CAWNAAmounts[CAWNA])","v":0},{"$f":"SUMPRODUCT((CAWNAAmounts[Month]=$B22)*(CAWNAAmounts[Territory]=H$10)*(CAWNAAmounts[CustClass]=$B$9)*CAWNAAmounts[CAWNA])","v":0},0,0,0]
[null,"Total",{"$f":"SUM(C11:C22)","v":88777.890000000029},{"$f":"SUM(D11:D22)","v":53453.989999999991},275717.14,88777.890000000029,53453.989999999991,275717.14,0,0,0]
[]
[null,"SCFS","CAWNA Worksheets",null,null,"CAWNA Amount Table",null,null,"Difference"]
[null,"MonthFlow","North","NW","South","North","NW","South","North","NW","South"]
[null,{"$f":"$C$6","v":"2022-09-01"},{"$f":"'CAWNA North'!M30","v":2263.9},{"$f":"'CAWNA NW'!M30","v":1367.84},{"$f":"'CAWNA South'!M30","v":5444.99},{"$f":"SUMPRODUCT((CAWNAAmounts[Month]=$B27)*(CAWNAAmounts[Territory]=F$10)*(CAWNAAmounts[CustClass]=$B$25)*CAWNAAmounts[CAWNA])","v":2263.9},{"$f":"SUMPRODUCT((CAWNAAmounts[Month]=$B27)*(CAWNAAmounts[Territory]=G$10)*(CAWNAAmounts[CustClass]=$B$25)*CAWNAAmounts[CAWNA])","v":1367.84},{"$f":"SUMPRODUCT((CAWNAAmounts[Month]=$B27)*(CAWNAAmounts[Territory]=H$10)*(CAWNAAmounts[CustClass]=$B$25)*CAWNAAmounts[CAWNA])","v":5444.99},{"$f":"C27-F27","v":0},{"$f":"D27-G27","v":0},{"$f":"E27-H27","v":0}]
[null,{"$f":"EDATE(B27,1)","v":"2022-10-01"},{"$f":"'CAWNA North'!M31","v":3941.77},{"$f":"'CAWNA NW'!M31","v":1494.12},{"$f":"'CAWNA South'!M31","v":9497.67},{"$f":"SUMPRODUCT((CAWNAAmounts[Month]=$B28)*(CAWNAAmounts[Territory]=F$10)*(CAWNAAmounts[CustClass]=$B$25)*CAWNAAmounts[CAWNA])","v":3941.77},{"$f":"SUMPRODUCT((CAWNAAmounts[Month]=$B28)*(CAWNAAmounts[Territory]=G$10)*(CAWNAAmounts[CustClass]=$B$25)*CAWNAAmounts[CAWNA])","v":1494.12},{"$f":"SUMPRODUCT((CAWNAAmounts[Month]=$B28)*(CAWNAAmounts[Territory]=H$10)*(CAWNAAmounts[CustClass]=$B$25)*CAWNAAmounts[CAWNA])","v":9497.67},{"$f":"C28-F28","v":0},{"$f":"D28-G28","v":0},{"$f":"E28-H28","v":0}]
[null,{"$f":"EDATE(B28,1)","v":"2022-11-01"},{"$f":"'CAWNA North'!M32","v":894.45},{"$f":"'CAWNA NW'!M32","v":1425.55},{"$f":"'CAWNA South'!M32","v":2445.5700000000002},{"$f":"SUMPRODUCT((CAWNAAmounts[Month]=$B29)*(CAWNAAmounts[Territory]=F$10)*(CAWNAAmounts[CustClass]=$B$25)*CAWNAAmounts[CAWNA])","v":894.45},{"$f":"SUMPRODUCT((CAWNAAmounts[Month]=$B29)*(CAWNAAmounts[Territory]=G$10)*(CAWNAAmounts[CustClass]=$B$25)*CAWNAAmounts[CAWNA])","v":1425.55},{"$f":"SUMPRODUCT((CAWNAAmounts[Month]=$B29)*(CAWNAAmounts[Territory]=H$10)*(CAWNAAmounts[CustClass]=$B$25)*CAWNAAmounts[CAWNA])","v":2445.5700000000002},0,0,0]
[null,{"$f":"EDATE(B29,1)","v":"2022-12-01"},{"$f":"'CAWNA North'!M33","v":-5845.83},{"$f":"'CAWNA NW'!M33","v":-3093.35},{"$f":"'CAWNA South'!M33","v":-11159.72},{"$f":"SUMPRODUCT((CAWNAAmounts[Month]=$B30)*(CAWNAAmounts[Territory]=F$10)*(CAWNAAmounts[CustClass]=$B$25)*CAWNAAmounts[CAWNA])","v":-5845.83},{"$f":"SUMPRODUCT((CAWNAAmounts[Month]=$B30)*(CAWNAAmounts[Territory]=G$10)*(CAWNAAmounts[CustClass]=$B$25)*CAWNAAmounts[CAWNA])","v":-3093.35},{"$f":"SUMPRODUCT((CAWNAAmounts[Month]=$B30)*(CAWNAAmounts[Territory]=H$10)*(CAWNAAmounts[CustClass]=$B$25)*CAWNAAmounts[CAWNA])","v":-11159.72},0,0,0]
[null,{"$f":"EDATE(B30,1)","v":"2023-01-01"},{"$f":"'CAWNA North'!M34","v":24484.6},{"$f":"'CAWNA NW'!M34","v":14583.82},{"$f":"'CAWNA South'!M34","v":56264.9},{"$f":"SUMPRODUCT((CAWNAAmounts[Month]=$B31)*(CAWNAAmounts[Territory]=F$10)*(CAWNAAmounts[CustClass]=$B$25)*CAWNAAmounts[CAWNA])","v":24484.6},{"$f":"SUMPRODUCT((CAWNAAmounts[Month]=$B31)*(CAWNAAmounts[Territory]=G$10)*(CAWNAAmounts[CustClass]=$B$25)*CAWNAAmounts[CAWNA])","v":14583.82},{"$f":"SUMPRODUCT((CAWNAAmounts[Month]=$B31)*(CAWNAAmounts[Territory]=H$10)*(CAWNAAmounts[CustClass]=$B$25)*CAWNAAmounts[CAWNA])","v":56264.9},0,0,0]
[null,{"$f":"EDATE(B31,1)","v":"2023-02-01"},{"$f":"'CAWNA North'!M35","v":5200.04},{"$f":"'CAWNA NW'!M35","v":3117.22},{"$f":"'CAWNA South'!M35","v":14048.51},{"$f":"SUMPRODUCT((CAWNAAmounts[Month]=$B32)*(CAWNAAmounts[Territory]=F$10)*(CAWNAAmounts[CustClass]=$B$25)*CAWNAAmounts[CAWNA])","v":5200.04},{"$f":"SUMPRODUCT((CAWNAAmounts[Month]=$B32)*(CAWNAAmounts[Territory]=G$10)*(CAWNAAmounts[CustClass]=$B$25)*CAWNAAmounts[CAWNA])","v":3117.22},{"$f":"SUMPRODUCT((CAWNAAmounts[Month]=$B32)*(CAWNAAmounts[Territory]=H$10)*(CAWNAAmounts[CustClass]=$B$25)*CAWNAAmounts[CAWNA])","v":14048.51},0,0,0]
[null,{"$f":"EDATE(B32,1)","v":"2023-03-01"},{"$f":"'CAWNA North'!M36","v":-4247.38},{"$f":"'CAWNA NW'!M36","v":-2675.78},{"$f":"'CAWNA South'!M36","v":-13364.7},{"$f":"SUMPRODUCT((CAWNAAmounts[Month]=$B33)*(CAWNAAmounts[Territory]=F$10)*(CAWNAAmounts[CustClass]=$B$25)*CAWNAAmounts[CAWNA])","v":-4247.38},{"$f":"SUMPRODUCT((CAWNAAmounts[Month]=$B33)*(CAWNAAmounts[Territory]=G$10)*(CAWNAAmounts[CustClass]=$B$25)*CAWNAAmounts[CAWNA])","v":-2675.78},{"$f":"SUMPRODUCT((CAWNAAmounts[Month]=$B33)*(CAWNAAmounts[Territory]=H$10)*(CAWNAAmounts[CustClass]=$B$25)*CAWNAAmounts[CAWNA])","v":-13364.7},0,0,0]
[null,"2023-04-01",{"$f":"'CAWNA North'!M37","v":3256.4},{"$f":"'CAWNA NW'!M37","v":1437.17},{"$f":"'CAWNA South'!M37","v":9498.77},{"$f":"SUMPRODUCT((CAWNAAmounts[Month]=$B34)*(CAWNAAmounts[Territory]=F$10)*(CAWNAAmounts[CustClass]=$B$25)*CAWNAAmounts[CAWNA])","v":3256.4},{"$f":"SUMPRODUCT((CAWNAAmounts[Month]=$B34)*(CAWNAAmounts[Territory]=G$10)*(CAWNAAmounts[CustClass]=$B$25)*CAWNAAmounts[CAWNA])","v":1437.17},{"$f":"SUMPRODUCT((CAWNAAmounts[Month]=$B34)*(CAWNAAmounts[Territory]=H$10)*(CAWNAAmounts[CustClass]=$B$25)*CAWNAAmounts[CAWNA])","v":9498.77},0,0,0]
[null,"2023-05-01",{"$f":"'CAWNA North'!M38","v":3418.93},{"$f":"'CAWNA NW'!M38","v":2216.73},{"$f":"'CAWNA South'!M38","v":7833.7},{"$f":"SUMPRODUCT((CAWNAAmounts[Month]=$B35)*(CAWNAAmounts[Territory]=F$10)*(CAWNAAmounts[CustClass]=$B$25)*CAWNAAmounts[CAWNA])","v":3418.93},{"$f":"SUMPRODUCT((CAWNAAmounts[Month]=$B35)*(CAWNAAmounts[Territory]=G$10)*(CAWNAAmounts[CustClass]=$B$25)*CAWNAAmounts[CAWNA])","v":2216.73},{"$f":"SUMPRODUCT((CAWNAAmounts[Month]=$B35)*(CAWNAAmounts[Territory]=H$10)*(CAWNAAmounts[CustClass]=$B$25)*CAWNAAmounts[CAWNA])","v":7833.7},0,0,0]
[null,"2023-06-01",{"$f":"'CAWNA North'!M39","v":486},{"$f":"'CAWNA NW'!M39","v":289.33999999999997},{"$f":"'CAWNA South'!M39","v":1173.8800000000001},{"$f":"SUMPRODUCT((CAWNAAmounts[Month]=$B36)*(CAWNAAmounts[Territory]=F$10)*(CAWNAAmounts[CustClass]=$B$25)*CAWNAAmounts[CAWNA])","v":486},{"$f":"SUMPRODUCT((CAWNAAmounts[Month]=$B36)*(CAWNAAmounts[Territory]=G$10)*(CAWNAAmounts[CustClass]=$B$25)*CAWNAAmounts[CAWNA])","v":289.33999999999997},{"$f":"SUMPRODUCT((CAWNAAmounts[Month]=$B36)*(CAWNAAmounts[Territory]=H$10)*(CAWNAAmounts[CustClass]=$B$25)*CAWNAAmounts[CAWNA])","v":1173.8800000000001},0,0,0]
[null,"2023-07-01",{"$f":"'CAWNA North'!M40","v":0},{"$f":"'CAWNA NW'!M40","v":0},{"$f":"'CAWNA South'!M40","v":0},{"$f":"SUMPRODUCT((CAWNAAmounts[Month]=$B37)*(CAWNAAmounts[Territory]=F$10)*(CAWNAAmounts[CustClass]=$B$25)*CAWNAAmounts[CAWNA])","v":0},{"$f":"SUMPRODUCT((CAWNAAmounts[Month]=$B37)*(CAWNAAmounts[Territory]=G$10)*(CAWNAAmounts[CustClass]=$B$25)*CAWNAAmounts[CAWNA])","v":0},{"$f":"SUMPRODUCT((CAWNAAmounts[Month]=$B37)*(CAWNAAmounts[Territory]=H$10)*(CAWNAAmounts[CustClass]=$B$25)*CAWNAAmounts[CAWNA])","v":0},0,0,0]
[null,{"$f":"EDATE(B37,1)","v":"2023-08-01"},{"$f":"'CAWNA North'!M41","v":0},{"$f":"'CAWNA NW'!M41","v":0},{"$f":"'CAWNA South'!M41","v":0},{"$f":"SUMPRODUCT((CAWNAAmounts[Month]=$B38)*(CAWNAAmounts[Territory]=F$10)*(CAWNAAmounts[CustClass]=$B$25)*CAWNAAmounts[CAWNA])","v":0},{"$f":"SUMPRODUCT((CAWNAAmounts[Month]=$B38)*(CAWNAAmounts[Territory]=G$10)*(CAWNAAmounts[CustClass]=$B$25)*CAWNAAmounts[CAWNA])","v":0},{"$f":"SUMPRODUCT((CAWNAAmounts[Month]=$B38)*(CAWNAAmounts[Territory]=H$10)*(CAWNAAmounts[CustClass]=$B$25)*CAWNAAmounts[CAWNA])","v":0},0,0,0]
[null,"Total",{"$f":"SUM(C27:C38)","v":33852.879999999997},{"$f":"SUM(D27:D38)","v":20162.66},{"$f":"SUM(E27:E38)","v":81683.570000000007},{"$f":"SUM(F27:F38)","v":33852.879999999997},{"$f":"SUM(G27:G38)","v":20162.66},{"$f":"SUM(H27:H38)","v":81683.570000000007},{"$f":"SUM(I27:I38)","v":0},{"$f":"SUM(J27:J38)","v":0},{"$f":"SUM(K27:K38)","v":0}]
[]
[null,"WNAR Rates"]
[null,"CAWNA","CAWNA Summary Wrksht",null,"WNAR Rates Table",null,"Difference"]
[null,"Territory","Res","SCFS","Res","SCFS","Res","SGS"]
[null,"All",{"$f":"'CAWNA Summary'!C29","v":1.6320000000000001E-2},{"$f":"'CAWNA Summary'!D29","v":1.8960000000000001E-2},{"$f":"SUMPRODUCT((WNARRates[Year]=$C$5)*(WNARRates[CustClass]=E$43)*WNARRates[AdjCAWNA])","v":1.6320000000000001E-2},{"$f":"SUMPRODUCT((WNARRates[Year]=$C$5)*(WNARRates[CustClass]=F$43)*WNARRates[AdjCAWNA])","v":1.8960000000000001E-2},{"$f":"C44-E44","v":0},{"$f":"D44-F44","v":0}]

{"sheet":"CAWNA Summary","index":3,"n_rows":29,"n_cols":11,"rows_kept":29,"cut":false,"hidden":false,"merged":[[9,2,9,5],[9,6,9,9],[9,10,10,10]]}
[]
[null,"Empire District Gas Company",null,null,"Filing Year"]
[null,"WNAR Filing"]
[null,"CAWNA Summary"]
[null,"Year",{"$f":"DateSet!C2","v":2023}]
[null,"Analysis Start",{"$f":"DateSet!C3","v":"2022-09-01"}]
[null,"New Rate Effecc.","2023-10-01"]
[]
[null,"Current Period Dollar Adjustment"]
[null,"Customer Class","Res",null,null,null,"SCFS",null,null,null,"Notes"]
[null,"MonthFlow","North","NW","South","Combined","North","NW","South","Combined"]
[null,{"$f":"$C$6","v":"2022-09-01"},{"$f":"SUMPRODUCT((CAWNAAmounts[Month]=$B12)*(CAWNAAmounts[Territory]=C$11)*(CAWNAAmounts[CustClass]=$C$10)*CAWNAAmounts[CAWNA])","v":5862.17},{"$f":"SUMPRODUCT((CAWNAAmounts[Month]=$B12)*(CAWNAAmounts[Territory]=D$11)*(CAWNAAmounts[CustClass]=$C$10)*CAWNAAmounts[CAWNA])","v":3608.5},{"$f":"SUMPRODUCT((CAWNAAmounts[Month]=$B12)*(CAWNAAmounts[Territory]=E$11)*(CAWNAAmounts[CustClass]=$C$10)*CAWNAAmounts[CAWNA])","v":18300.009999999998},{"$f":"SUM(C12:E12)","v":27770.68},{"$f":"SUMPRODUCT((CAWNAAmounts[Month]=$B12)*(CAWNAAmounts[Territory]=G$11)*(CAWNAAmounts[CustClass]=$G$10)*CAWNAAmounts[CAWNA])","v":2263.9},{"$f":"SUMPRODUCT((CAWNAAmounts[Month]=$B12)*(CAWNAAmounts[Territory]=H$11)*(CAWNAAmounts[CustClass]=$G$10)*CAWNAAmounts[CAWNA])","v":1367.84},{"$f":"SUMPRODUCT((CAWNAAmounts[Month]=$B12)*(CAWNAAmounts[Territory]=I$11)*(CAWNAAmounts[CustClass]=$G$10)*CAWNAAmounts[CAWNA])","v":5444.99},{"$f":"SUM(G12:I12)","v":9076.73},"From CAWNA Amounts table"]
[null,{"$f":"EDATE(B12,1)","v":"2022-10-01"},{"$f":"SUMPRODUCT((CAWNAAmounts[Month]=$B13)*(CAWNAAmounts[Territory]=C$11)*(CAWNAAmounts[CustClass]=$C$10)*CAWNAAmounts[CAWNA])","v":10328.18},{"$f":"SUMPRODUCT((CAWNAAmounts[Month]=$B13)*(CAWNAAmounts[Territory]=D$11)*(CAWNAAmounts[CustClass]=$C$10)*CAWNAAmounts[CAWNA])","v":3967.81},{"$f":"SUMPRODUCT((CAWNAAmounts[Month]=$B13)*(CAWNAAmounts[Territory]=E$11)*(CAWNAAmounts[CustClass]=$C$10)*CAWNAAmounts[CAWNA])","v":31999.85},{"$f":"SUM(C13:E13)","v":46295.839999999997},{"$f":"SUMPRODUCT((CAWNAAmounts[Month]=$B13)*(CAWNAAmounts[Territory]=G$11)*(CAWNAAmounts[CustClass]=$G$10)*CAWNAAmounts[CAWNA])","v":3941.77},{"$f":"SUMPRODUCT((CAWNAAmounts[Month]=$B13)*(CAWNAAmounts[Territory]=H$11)*(CAWNAAmounts[CustClass]=$G$10)*CAWNAAmounts[CAWNA])","v":1494.12},{"$f":"SUMPRODUCT((CAWNAAmounts[Month]=$B13)*(CAWNAAmounts[Territory]=I$11)*(CAWNAAmounts[CustClass]=$G$10)*CAWNAAmounts[CAWNA])","v":9497.67},{"$f":"SUM(G13:I13)","v":14933.56},"From CAWNA Amounts table"]
[null,{"$f":"EDATE(B13,1)","v":"2022-11-01"},{"$f":"SUMPRODUCT((CAWNAAmounts[Month]=$B14)*(CAWNAAmounts[Territory]=C$11)*(CAWNAAmounts[CustClass]=$C$10)*CAWNAAmounts[CAWNA])","v":2347.44},{"$f":"SUMPRODUCT((CAWNAAmounts[Month]=$B14)*(CAWNAAmounts[Territory]=D$11)*(CAWNAAmounts[CustClass]=$C$10)*CAWNAAmounts[CAWNA])","v":3807.66},{"$f":"SUMPRODUCT((CAWNAAmounts[Month]=$B14)*(CAWNAAmounts[Territory]=E$11)*(CAWNAAmounts[CustClass]=$C$10)*CAWNAAmounts[CAWNA])","v":8210.26},14365.36,{"$f":"SUMPRODUCT((CAWNAAmounts[Month]=$B14)*(CAWNAAmounts[Territory]=G$11)*(CAWNAAmounts[CustClass]=$G$10)*CAWNAAmounts[CAWNA])","v":894.45},{"$f":"SUMPRODUCT((CAWNAAmounts[Month]=$B14)*(CAWNAAmounts[Territory]=H$11)*(CAWNAAmounts[CustClass]=$G$10)*CAWNAAmounts[CAWNA])","v":1425.55},{"$f":"SUMPRODUCT((CAWNAAmounts[Month]=$B14)*(CAWNAAmounts[Territory]=I$11)*(CAWNAAmounts[CustClass]=$G$10)*CAWNAAmounts[CAWNA])","v":2445.5700000000002},4765.57,"From CAWNA Amounts table"]
[null,{"$f":"EDATE(B14,1)","v":"2022-12-01"},{"$f":"SUMPRODUCT((CAWNAAmounts[Month]=$B15)*(CAWNAAmounts[Territory]=C$11)*(CAWNAAmounts[CustClass]=$C$10)*CAWNAAmounts[CAWNA])","v":-15401.2},{"$f":"SUMPRODUCT((CAWNAAmounts[Month]=$B15)*(CAWNAAmounts[Territory]=D$11)*(CAWNAAmounts[CustClass]=$C$10)*CAWNAAmounts[CAWNA])","v":-8230.91},{"$f":"SUMPRODUCT((CAWNAAmounts[Month]=$B15)*(CAWNAAmounts[Territory]=E$11)*(CAWNAAmounts[CustClass]=$C$10)*CAWNAAmounts[CAWNA])","v":-37580.269999999997},-61212.38,{"$f":"SUMPRODUCT((CAWNAAmounts[Month]=$B15)*(CAWNAAmounts[Territory]=G$11)*(CAWNAAmounts[CustClass]=$G$10)*CAWNAAmounts[CAWNA])","v":-5845.83},{"$f":"SUMPRODUCT((CAWNAAmounts[Month]=$B15)*(CAWNAAmounts[Territory]=H$11)*(CAWNAAmounts[CustClass]=$G$10)*CAWNAAmounts[CAWNA])","v":-3093.35},{"$f":"SUMPRODUCT((CAWNAAmounts[Month]=$B15)*(CAWNAAmounts[Territory]=I$11)*(CAWNAAmounts[CustClass]=$G$10)*CAWNAAmounts[CAWNA])","v":-11159.72},-20098.900000000001,"From CAWNA Amounts table"]
[null,{"$f":"EDATE(B15,1)","v":"2023-01-01"},{"$f":"SUMPRODUCT((CAWNAAmounts[Month]=$B16)*(CAWNAAmounts[Territory]=C$11)*(CAWNAAmounts[CustClass]=$C$10)*CAWNAAmounts[CAWNA])","v":64545.760000000002},{"$f":"SUMPRODUCT((CAWNAAmounts[Month]=$B16)*(CAWNAAmounts[Territory]=D$11)*(CAWNAAmounts[CustClass]=$C$10)*CAWNAAmounts[CAWNA])","v":38795.629999999997},{"$f":"SUMPRODUCT((CAWNAAmounts[Month]=$B16)*(CAWNAAmounts[Territory]=E$11)*(CAWNAAmounts[CustClass]=$C$10)*CAWNAAmounts[CAWNA])","v":190196.8},293538.19,{"$f":"SUMPRODUCT((CAWNAAmounts[Month]=$B16)*(CAWNAAmounts[Territory]=G$11)*(CAWNAAmounts[CustClass]=$G$10)*CAWNAAmounts[CAWNA])","v":24484.6},{"$f":"SUMPRODUCT((CAWNAAmounts[Month]=$B16)*(CAWNAAmounts[Territory]=H$11)*(CAWNAAmounts[CustClass]=$G$10)*CAWNAAmounts[CAWNA])","v":14583.82},{"$f":"SUMPRODUCT((CAWNAAmounts[Month]=$B16)*(CAWNAAmounts[Territory]=I$11)*(CAWNAAmounts[CustClass]=$G$10)*CAWNAAmounts[CAWNA])","v":56264.9},95333.32,"From CAWNA Amounts table"]
[null,{"$f":"EDATE(B16,1)","v":"2023-02-01"},{"$f":"SUMPRODUCT((CAWNAAmounts[Month]=$B17)*(CAWNAAmounts[Territory]=C$11)*(CAWNAAmounts[CustClass]=$C$10)*CAWNAAmounts[CAWNA])","v":13744.57},{"$f":"SUMPRODUCT((CAWNAAmounts[Month]=$B17)*(CAWNAAmounts[Territory]=D$11)*(CAWNAAmounts[CustClass]=$C$10)*CAWNAAmounts[CAWNA])","v":8280.85},{"$f":"SUMPRODUCT((CAWNAAmounts[Month]=$B17)*(CAWNAAmounts[Territory]=E$11)*(CAWNAAmounts[CustClass]=$C$10)*CAWNAAmounts[CAWNA])","v":47540.74},69566.16,{"$f":"SUMPRODUCT((CAWNAAmounts[Month]=$B17)*(CAWNAAmounts[Territory]=G$11)*(CAWNAAmounts[CustClass]=$G$10)*CAWNAAmounts[CAWNA])","v":5200.04},{"$f":"SUMPRODUCT((CAWNAAmounts[Month]=$B17)*(CAWNAAmounts[Territory]=H$11)*(CAWNAAmounts[CustClass]=$G$10)*CAWNAAmounts[CAWNA])","v":3117.22},{"$f":"SUMPRODUCT((CAWNAAmounts[Month]=$B17)*(CAWNAAmounts[Territory]=I$11)*(CAWNAAmounts[CustClass]=$G$10)*CAWNAAmounts[CAWNA])","v":14048.51},22365.77,"From CAWNA Amounts table"]
[null,{"$f":"EDATE(B17,1)","v":"2023-03-01"},{"$f":"SUMPRODUCT((CAWNAAmounts[Month]=$B18)*(CAWNAAmounts[Territory]=C$11)*(CAWNAAmounts[CustClass]=$C$10)*CAWNAAmounts[CAWNA])","v":-11114.01},{"$f":"SUMPRODUCT((CAWNAAmounts[Month]=$B18)*(CAWNAAmounts[Territory]=D$11)*(CAWNAAmounts[CustClass]=$C$10)*CAWNAAmounts[CAWNA])","v":-7034.51},{"$f":"SUMPRODUCT((CAWNAAmounts[Month]=$B18)*(CAWNAAmounts[Territory]=E$11)*(CAWNAAmounts[CustClass]=$C$10)*CAWNAAmounts[CAWNA])","v":-45026.34},-63174.86,{"$f":"SUMPRODUCT((CAWNAAmounts[Month]=$B18)*(CAWNAAmounts[Territory]=G$11)*(CAWNAAmounts[CustClass]=$G$10)*CAWNAAmounts[CAWNA])","v":-4247.38},{"$f":"SUMPRODUCT((CAWNAAmounts[Month]=$B18)*(CAWNAAmounts[Territory]=H$11)*(CAWNAAmounts[CustClass]=$G$10)*CAWNAAmounts[CAWNA])","v":-2675.78},{"$f":"SUMPRODUCT((CAWNAAmounts[Month]=$B18)*(CAWNAAmounts[Territory]=I$11)*(CAWNAAmounts[CustClass]=$G$10)*CAWNAAmounts[CAWNA])","v":-13364.7},-20287.86,"From CAWNA Amounts table"]
[null,"2023-04-01",{"$f":"SUMPRODUCT((CAWNAAmounts[Month]=$B19)*(CAWNAAmounts[Territory]=C$11)*(CAWNAAmounts[CustClass]=$C$10)*CAWNAAmounts[CAWNA])","v":8500.3799999999992},{"$f":"SUMPRODUCT((CAWNAAmounts[Month]=$B19)*(CAWNAAmounts[Territory]=D$11)*(CAWNAAmounts[CustClass]=$C$10)*CAWNAAmounts[CAWNA])","v":3752.53},{"$f":"SUMPRODUCT((CAWNAAmounts[Month]=$B19)*(CAWNAAmounts[Territory]=E$11)*(CAWNAAmounts[CustClass]=$C$10)*CAWNAAmounts[CAWNA])","v":31942.85},44195.759999999995,{"$f":"SUMPRODUCT((CAWNAAmounts[Month]=$B19)*(CAWNAAmounts[Territory]=G$11)*(CAWNAAmounts[CustClass]=$G$10)*CAWNAAmounts[CAWNA])","v":3256.4},{"$f":"SUMPRODUCT((CAWNAAmounts[Month]=$B19)*(CAWNAAmounts[Territory]=H$11)*(CAWNAAmounts[CustClass]=$G$10)*CAWNAAmounts[CAWNA])","v":1437.17},{"$f":"SUMPRODUCT((CAWNAAmounts[Month]=$B19)*(CAWNAAmounts[Territory]=I$11)*(CAWNAAmounts[CustClass]=$G$10)*CAWNAAmounts[CAWNA])","v":9498.77},14192.34,"From CAWNA Amounts table"]
[null,"2023-05-01",{"$f":"SUMPRODUCT((CAWNAAmounts[Month]=$B20)*(CAWNAAmounts[Territory]=C$11)*(CAWNAAmounts[CustClass]=$C$10)*CAWNAAmounts[CAWNA])","v":8727.9699999999993},{"$f":"SUMPRODUCT((CAWNAAmounts[Month]=$B20)*(CAWNAAmounts[Territory]=D$11)*(CAWNAAmounts[CustClass]=$C$10)*CAWNAAmounts[CAWNA])","v":5757.77},{"$f":"SUMPRODUCT((CAWNAAmounts[Month]=$B20)*(CAWNAAmounts[Territory]=E$11)*(CAWNAAmounts[CustClass]=$C$10)*CAWNAAmounts[CAWNA])","v":26202.65},40688.39,{"$f":"SUMPRODUCT((CAWNAAmounts[Month]=$B20)*(CAWNAAmounts[Territory]=G$11)*(CAWNAAmounts[CustClass]=$G$10)*CAWNAAmounts[CAWNA])","v":3418.93},{"$f":"SUMPRODUCT((CAWNAAmounts[Month]=$B20)*(CAWNAAmounts[Territory]=H$11)*(CAWNAAmounts[CustClass]=$G$10)*CAWNAAmounts[CAWNA])","v":2216.73},{"$f":"SUMPRODUCT((CAWNAAmounts[Month]=$B20)*(CAWNAAmounts[Territory]=I$11)*(CAWNAAmounts[CustClass]=$G$10)*CAWNAAmounts[CAWNA])","v":7833.7},13469.36,"From CAWNA Amounts table"]
[null,"2023-06-01",{"$f":"SUMPRODUCT((CAWNAAmounts[Month]=$B21)*(CAWNAAmounts[Territory]=C$11)*(CAWNAAmounts[CustClass]=$C$10)*CAWNAAmounts[CAWNA])","v":1236.6300000000001},{"$f":"SUMPRODUCT((CAWNAAmounts[Month]=$B21)*(CAWNAAmounts[Territory]=D$11)*(CAWNAAmounts[CustClass]=$C$10)*CAWNAAmounts[CAWNA])","v":748.66},{"$f":"SUMPRODUCT((CAWNAAmounts[Month]=$B21)*(CAWNAAmounts[Territory]=E$11)*(CAWNAAmounts[CustClass]=$C$10)*CAWNAAmounts[CAWNA])","v":3930.59},5915.88,{"$f":"SUMPRODUCT((CAWNAAmounts[Month]=$B21)*(CAWNAAmounts[Territory]=G$11)*(CAWNAAmounts[CustClass]=$G$10)*CAWNAAmounts[CAWNA])","v":486},{"$f":"SUMPRODUCT((CAWNAAmounts[Month]=$B21)*(CAWNAAmounts[Territory]=H$11)*(CAWNAAmounts[CustClass]=$G$10)*CAWNAAmounts[CAWNA])","v":289.33999999999997},{"$f":"SUMPRODUCT((CAWNAAmounts[Month]=$B21)*(CAWNAAmounts[Territory]=I$11)*(CAWNAAmounts[CustClass]=$G$10)*CAWNAAmounts[CAWNA])","v":1173.8800000000001},1949.22,"From CAWNA Amounts table"]
[null,"2023-07-01",{"$f":"SUMPRODUCT((CAWNAAmounts[Month]=$B22)*(CAWNAAmounts[Territory]=C$11)*(CAWNAAmounts[CustClass]=$C$10)*CAWNAAmounts[CAWNA])","v":0},{"$f":"SUMPRODUCT((CAWNAAmounts[Month]=$B22)*(CAWNAAmounts[Territory]=D$11)*(CAWNAAmounts[CustClass]=$C$10)*CAWNAAmounts[CAWNA])","v":0},{"$f":"SUMPRODUCT((CAWNAAmounts[Month]=$B22)*(CAWNAAmounts[Territory]=E$11)*(CAWNAAmounts[CustClass]=$C$10)*CAWNAAmounts[CAWNA])","v":0},0,{"$f":"SUMPRODUCT((CAWNAAmounts[Month]=$B22)*(CAWNAAmounts[Territory]=G$11)*(CAWNAAmounts[CustClass]=$G$10)*CAWNAAmounts[CAWNA])","v":0},{"$f":"SUMPRODUCT((CAWNAAmounts[Month]=$B22)*(CAWNAAmounts[Territory]=H$11)*(CAWNAAmounts[CustClass]=$G$10)*CAWNAAmounts[CAWNA])","v":0},{"$f":"SUMPRODUCT((CAWNAAmounts[Month]=$B22)*(CAWNAAmounts[Territory]=I$11)*(CAWNAAmounts[CustClass]=$G$10)*CAWNAAmounts[CAWNA])","v":0},0,"From CAWNA Amounts table"]
[null,{"$f":"EDATE(B22,1)","v":"2023-08-01"},{"$f":"SUMPRODUCT((CAWNAAmounts[Month]=$B23)*(CAWNAAmounts[Territory]=C$11)*(CAWNAAmounts[CustClass]=$C$10)*CAWNAAmounts[CAWNA])","v":0},{"$f":"SUMPRODUCT((CAWNAAmounts[Month]=$B23)*(CAWNAAmounts[Territory]=D$11)*(CAWNAAmounts[CustClass]=$C$10)*CAWNAAmounts[CAWNA])","v":0},{"$f":"SUMPRODUCT((CAWNAAmounts[Month]=$B23)*(CAWNAAmounts[Territory]=E$11)*(CAWNAAmounts[CustClass]=$C$10)*CAWNAAmounts[CAWNA])","v":0},0,{"$f":"SUMPRODUCT((CAWNAAmounts[Month]=$B23)*(CAWNAAmounts[Territory]=G$11)*(CAWNAAmounts[CustClass]=$G$10)*CAWNAAmounts[CAWNA])","v":0},{"$f":"SUMPRODUCT((CAWNAAmounts[Month]=$B23)*(CAWNAAmounts[Territory]=H$11)*(CAWNAAmounts[CustClass]=$G$10)*CAWNAAmounts[CAWNA])","v":0},{"$f":"SUMPRODUCT((CAWNAAmounts[Month]=$B23)*(CAWNAAmounts[Territory]=I$11)*(CAWNAAmounts[CustClass]=$G$10)*CAWNAAmounts[CAWNA])","v":0},0,"From CAWNA Amounts table"]
[null,"Total Adjustment",{"$f":"SUM(C12:C23)","v":88777.890000000029},{"$f":"SUM(D12:D23)","v":53453.989999999991},275717.14,417949.02,33852.879999999997,20162.66,81683.570000000007,135699.11000000002]
[null,"Enter Total Adj Amounts in Reconciling Period Adjustment Table (ReconPerAdj)"]
[]
[null,"CAWNA Rate Calculation","Res","SCFS"]
[null,"Billing Determinants",{"$f":"INDEX(BillDeter[BillingDeterminants],MATCH(C27,BillDeter[CustClass],0))","v":25605076.090720076},{"$f":"INDEX(BillDeter[BillingDeterminants],MATCH(D27,BillDeter[CustClass],0))","v":7155623}]
[null,"CAWNA Rate",{"$f":"ROUND(F24/C28,5)","v":1.6320000000000001E-2},{"$f":"ROUND(J24/D28,5)","v":1.8960000000000001E-2}]

{"sheet":"CAWNA South","index":4,"n_rows":44,"n_cols":13,"rows_kept":44,"cut":false,"hidden":false,"merged":[[8,1,9,1],[8,2,8,3],[8,4,9,4],[8,5,8,6],[27,1,28,1],[27,2,27,3],[27,4,28,4],[27,5,27,6]]}
[]
[null,"Empire District Gas Company",null,null,null,"Filing Year"]
[null,"Billing Cycle and HDD Data Summary"]
[null,"Territory","South"]
[null,"Year",{"$f":"DateSet!C2","v":2023}]
[null,"Analysis Start",{"$f":"DateSet!C3","v":"2022-09-01"}]
[]
[null,"Cust Class","Res","South"]
[null,"MonthFlow","Meter Read Dates",null,"Days/\nCycle","Heating Degree Days",null,"Difference","No. of Bills","Beta Coeff.","WNAR","WRVR","WNAi"]
[null,null,"Begin","End",null,"NDDij","ADDij","(NDDij - ADDij)","Cij","b","h*i*j","Vol. Rate","k*l"]
[null,{"$f":"$C$6","v":"2022-09-01"},{"$f":"SUMPRODUCT((MeterReadSch[MonthBill]=$B11)*MeterReadSch[South])","v":"2022-08-30"},{"$f":"SUMPRODUCT((MeterReadSch[MonthFlow]=$B11)*MeterReadSch[South])","v":"2022-09-29"},{"$f":"D11-C11","v":30},{"$f":"SUMPRODUCT((KCITempAct[Date]>=$C11)*(KCITempAct[Date]<$D11)*KCITempAct[KCINHDDAdj])","v":45.100000000000009},{"$f":"SUMPRODUCT((KCITempAct[Date]>=$C11)*(KCITempAct[Date]<$D11)*KCITempAct[KCIHDDAdj])","v":17.5},{"$f":"F11-G11","v":27.600000000000009},{"$f":"SUMPRODUCT((CustCount[MonthFlow]=$B11)*CustCount[S-RS])","v":24699},{"$f":"INDEX(BetaCoeff[BetaCoeff],MATCH(C$8,BetaCoeff[CustClass],0))","v":0.1234365},{"$f":"H11*I11*J11","v":84145.723932600042},{"$f":"SUMPRODUCT((VolRates[BeginDate]<=B11)*(VolRates[EndDate]>=D11)*(VolRates[CustClass]=$C$8)*VolRates[VolRate])","v":0.21748000000000001},{"$f":"ROUND(K11*L11,2)","v":18300.009999999998}]
[null,{"$f":"EDATE(B11,1)","v":"2022-10-01"},{"$f":"SUMPRODUCT((MeterReadSch[MonthBill]=$B12)*MeterReadSch[South])","v":"2022-09-29"},{"$f":"SUMPRODUCT((MeterReadSch[MonthFlow]=$B12)*MeterReadSch[South])","v":"2022-10-31"},{"$f":"D12-C12","v":32},{"$f":"SUMPRODUCT((KCITempAct[Date]>=$C12)*(KCITempAct[Date]<$D12)*KCITempAct[KCINHDDAdj])","v":282.13333333333333},{"$f":"SUMPRODUCT((KCITempAct[Date]>=$C12)*(KCITempAct[Date]<$D12)*KCITempAct[KCIHDDAdj])","v":234.5},47.633333333333326,{"$f":"SUMPRODUCT((CustCount[MonthFlow]=$B12)*CustCount[S-RS])","v":25025},{"$f":"INDEX(BetaCoeff[BetaCoeff],MATCH(C$8,BetaCoeff[CustClass],0))","v":0.1234365},147139.29104874999,{"$f":"SUMPRODUCT((VolRates[BeginDate]<=B12)*(VolRates[EndDate]>=D12)*(VolRates[CustClass]=$C$8)*VolRates[VolRate])","v":0.21748000000000001},{"$f":"ROUND(K12*L12,2)","v":31999.85}]
[null,{"$f":"EDATE(B12,1)","v":"2022-11-01"},{"$f":"SUMPRODUCT((MeterReadSch[MonthBill]=$B13)*MeterReadSch[South])","v":"2022-10-31"},{"$f":"SUMPRODUCT((MeterReadSch[MonthFlow]=$B13)*MeterReadSch[South])","v":"2022-11-29"},29,{"$f":"SUMPRODUCT((KCITempAct[Date]>=$C13)*(KCITempAct[Date]<$D13)*KCITempAct[KCINHDDAdj])","v":601.65000000000009},{"$f":"SUMPRODUCT((KCITempAct[Date]>=$C13)*(KCITempAct[Date]<$D13)*KCITempAct[KCIHDDAdj])","v":589.5},12.150000000000091,{"$f":"SUMPRODUCT((CustCount[MonthFlow]=$B13)*CustCount[S-RS])","v":25172},{"$f":"INDEX(BetaCoeff[BetaCoeff],MATCH(C$8,BetaCoeff[CustClass],0))","v":0.1234365},37751.79447270029,{"$f":"SUMPRODUCT((VolRates[BeginDate]<=B13)*(VolRates[EndDate]>=D13)*(VolRates[CustClass]=$C$8)*VolRates[VolRate])","v":0.21748000000000001},8210.26]
[null,{"$f":"EDATE(B13,1)","v":"2022-12-01"},{"$f":"SUMPRODUCT((MeterReadSch[MonthBill]=$B14)*MeterReadSch[South])","v":"2022-11-29"},{"$f":"SUMPRODUCT((MeterReadSch[MonthFlow]=$B14)*MeterReadSch[South])","v":"2022-12-29"},30,{"$f":"SUMPRODUCT((KCITempAct[Date]>=$C14)*(KCITempAct[Date]<$D14)*KCITempAct[KCINHDDAdj])","v":935.51666666666654},{"$f":"SUMPRODUCT((KCITempAct[Date]>=$C14)*(KCITempAct[Date]<$D14)*KCITempAct[KCIHDDAdj])","v":991},-55.483333333333462,{"$f":"SUMPRODUCT((CustCount[MonthFlow]=$B14)*CustCount[S-RS])","v":25231},{"$f":"INDEX(BetaCoeff[BetaCoeff],MATCH(C$8,BetaCoeff[CustClass],0))","v":0.1234365},-172798.75429272541,{"$f":"SUMPRODUCT((VolRates[BeginDate]<=B14)*(VolRates[EndDate]>=D14)*(VolRates[CustClass]=$C$8)*VolRates[VolRate])","v":0.21748000000000001},-37580.269999999997]
[null,{"$f":"EDATE(B14,1)","v":"2023-01-01"},{"$f":"SUMPRODUCT((MeterReadSch[MonthBill]=$B15)*MeterReadSch[South])","v":"2022-12-29"},{"$f":"SUMPRODUCT((MeterReadSch[MonthFlow]=$B15)*MeterReadSch[South])","v":"2023-01-30"},32,{"$f":"SUMPRODUCT((KCITempAct[Date]>=$C15)*(KCITempAct[Date]<$D15)*KCITempAct[KCINHDDAdj])","v":1134.7499999999998},{"$f":"SUMPRODUCT((KCITempAct[Date]>=$C15)*(KCITempAct[Date]<$D15)*KCITempAct[KCIHDDAdj])","v":854},280.74999999999977,{"$f":"SUMPRODUCT((CustCount[MonthFlow]=$B15)*CustCount[S-RS])","v":25236},{"$f":"INDEX(BetaCoeff[BetaCoeff],MATCH(C$8,BetaCoeff[CustClass],0))","v":0.1234365},874548.46655549936,{"$f":"SUMPRODUCT((VolRates[BeginDate]<=B15)*(VolRates[EndDate]>=D15)*(VolRates[CustClass]=$C$8)*VolRates[VolRate])","v":0.21748000000000001},190196.8]
[null,{"$f":"EDATE(B15,1)","v":"2023-02-01"},{"$f":"SUMPRODUCT((MeterReadSch[MonthBill]=$B16)*MeterReadSch[South])","v":"2023-01-30"},{"$f":"SUMPRODUCT((MeterReadSch[MonthFlow]=$B16)*MeterReadSch[South])","v":"2023-02-27"},28,{"$f":"SUMPRODUCT((KCITempAct[Date]>=$C16)*(KCITempAct[Date]<$D16)*KCITempAct[KCINHDDAdj])","v":900.64999999999975},{"$f":"SUMPRODUCT((KCITempAct[Date]>=$C16)*(KCITempAct[Date]<$D16)*KCITempAct[KCIHDDAdj])","v":830.5},70.14999999999975,{"$f":"SUMPRODUCT((CustCount[MonthFlow]=$B16)*CustCount[S-RS])","v":25245},{"$f":"INDEX(BetaCoeff[BetaCoeff],MATCH(C$8,BetaCoeff[CustClass],0))","v":0.1234365},218598.23414137424,{"$f":"SUMPRODUCT((VolRates[BeginDate]<=B16)*(VolRates[EndDate]>=D16)*(VolRates[CustClass]=$C$8)*VolRates[VolRate])","v":0.21748000000000001},47540.74]
[null,{"$f":"EDATE(B16,1)","v":"2023-03-01"},{"$f":"SUMPRODUCT((MeterReadSch[MonthBill]=$B17)*MeterReadSch[South])","v":"2023-02-27"},{"$f":"SUMPRODUCT((MeterReadSch[MonthFlow]=$B17)*MeterReadSch[South])","v":"2023-03-30"},31,{"$f":"SUMPRODUCT((KCITempAct[Date]>=$C17)*(KCITempAct[Date]<$D17)*KCITempAct[KCINHDDAdj])","v":659.85000000000014},{"$f":"SUMPRODUCT((KCITempAct[Date]>=$C17)*(KCITempAct[Date]<$D17)*KCITempAct[KCIHDDAdj])","v":727},-67.149999999999864,{"$f":"SUMPRODUCT((CustCount[MonthFlow]=$B17)*CustCount[S-RS])","v":24978},{"$f":"INDEX(BetaCoeff[BetaCoeff],MATCH(C$8,BetaCoeff[CustClass],0))","v":0.1234365},-207036.67163354959,{"$f":"SUMPRODUCT((VolRates[BeginDate]<=B17)*(VolRates[EndDate]>=D17)*(VolRates[CustClass]=$C$8)*VolRates[VolRate])","v":0.21748000000000001},-45026.34]
[null,"2023-04-01",{"$f":"SUMPRODUCT((MeterReadSch[MonthBill]=$B18)*MeterReadSch[South])","v":"2023-03-30"},{"$f":"SUMPRODUCT((MeterReadSch[MonthFlow]=$B18)*MeterReadSch[South])","v":"2023-04-29"},30,{"$f":"SUMPRODUCT((KCITempAct[Date]>=$C18)*(KCITempAct[Date]<$D18)*KCITempAct[KCINHDDAdj])","v":341.38333333333327},{"$f":"SUMPRODUCT((KCITempAct[Date]>=$C18)*(KCITempAct[Date]<$D18)*KCITempAct[KCIHDDAdj])","v":293.5},47.883333333333269,{"$f":"SUMPRODUCT((CustCount[MonthFlow]=$B18)*CustCount[S-RS])","v":24850},{"$f":"INDEX(BetaCoeff[BetaCoeff],MATCH(C$8,BetaCoeff[CustClass],0))","v":0.1234365},146877.19421374978,{"$f":"SUMPRODUCT((VolRates[BeginDate]<=B18)*(VolRates[EndDate]>=D18)*(VolRates[CustClass]=$C$8)*VolRates[VolRate])","v":0.21748000000000001},31942.85]
[null,"2023-05-01",{"$f":"SUMPRODUCT((MeterReadSch[MonthBill]=$B19)*MeterReadSch[South])","v":"2023-04-29"},{"$f":"SUMPRODUCT((MeterReadSch[MonthFlow]=$B19)*MeterReadSch[South])","v":"2023-05-30"},31,{"$f":"SUMPRODUCT((KCITempAct[Date]>=$C19)*(KCITempAct[Date]<$D19)*KCITempAct[KCINHDDAdj])","v":119.76666666666665},{"$f":"SUMPRODUCT((KCITempAct[Date]>=$C19)*(KCITempAct[Date]<$D19)*KCITempAct[KCIHDDAdj])","v":80},39.766666666666652,{"$f":"SUMPRODUCT((CustCount[MonthFlow]=$B19)*CustCount[S-RS])","v":24545},{"$f":"INDEX(BetaCoeff[BetaCoeff],MATCH(C$8,BetaCoeff[CustClass],0))","v":0.1234365},120483.01429174995,{"$f":"SUMPRODUCT((VolRates[BeginDate]<=B19)*(VolRates[EndDate]>=D19)*(VolRates[CustClass]=$C$8)*VolRates[VolRate])","v":0.21748000000000001},26202.65]
[null,"2023-06-01",{"$f":"SUMPRODUCT((MeterReadSch[MonthBill]=$B20)*MeterReadSch[South])","v":"2023-05-30"},{"$f":"SUMPRODUCT((MeterReadSch[MonthFlow]=$B20)*MeterReadSch[South])","v":"2023-06-29"},30,{"$f":"SUMPRODUCT((KCITempAct[Date]>=$C20)*(KCITempAct[Date]<$D20)*KCITempAct[KCINHDDAdj])","v":8.4833333333333343},{"$f":"SUMPRODUCT((KCITempAct[Date]>=$C20)*(KCITempAct[Date]<$D20)*KCITempAct[KCIHDDAdj])","v":2.5},5.9833333333333343,{"$f":"SUMPRODUCT((CustCount[MonthFlow]=$B20)*CustCount[S-RS])","v":24471},{"$f":"INDEX(BetaCoeff[BetaCoeff],MATCH(C$8,BetaCoeff[CustClass],0))","v":0.1234365},18073.343972475002,{"$f":"SUMPRODUCT((VolRates[BeginDate]<=B20)*(VolRates[EndDate]>=D20)*(VolRates[CustClass]=$C$8)*VolRates[VolRate])","v":0.21748000000000001},3930.59]
[null,"2023-07-01",{"$f":"SUMPRODUCT((MeterReadSch[MonthBill]=$B21)*MeterReadSch[South])","v":"2023-06-29"},{"$f":"SUMPRODUCT((MeterReadSch[MonthFlow]=$B21)*MeterReadSch[South])","v":"2023-07-25"},26,{"$f":"SUMPRODUCT((KCITempAct[Date]>=$C21)*(KCITempAct[Date]<$D21)*KCITempAct[KCINHDDAdj])","v":1.6666666666666666E-2},{"$f":"SUMPRODUCT((KCITempAct[Date]>=$C21)*(KCITempAct[Date]<$D21)*KCITempAct[KCIHDDAdj])","v":0},1.6666666666666666E-2,{"$f":"SUMPRODUCT((CustCount[MonthFlow]=$B21)*CustCount[S-RS])","v":0},{"$f":"INDEX(BetaCoeff[BetaCoeff],MATCH(C$8,BetaCoeff[CustClass],0))","v":0.1234365},0,{"$f":"SUMPRODUCT((VolRates[BeginDate]<=B21)*(VolRates[EndDate]>=D21)*(VolRates[CustClass]=$C$8)*VolRates[VolRate])","v":0.21748000000000001},0]
[null,{"$f":"EDATE(B21,1)","v":"2023-08-01"},{"$f":"SUMPRODUCT((MeterReadSch[MonthBill]=$B22)*MeterReadSch[South])","v":"2023-07-25"},{"$f":"SUMPRODUCT((MeterReadSch[MonthFlow]=$B22)*MeterReadSch[South])","v":"2023-08-25"},31,{"$f":"SUMPRODUCT((KCITempAct[Date]>=$C22)*(KCITempAct[Date]<$D22)*KCITempAct[KCINHDDAdj])","v":0},{"$f":"SUMPRODUCT((KCITempAct[Date]>=$C22)*(KCITempAct[Date]<$D22)*KCITempAct[KCIHDDAdj])","v":0},0,{"$f":"SUMPRODUCT((CustCount[MonthFlow]=$B22)*CustCount[S-RS])","v":0},{"$f":"INDEX(BetaCoeff[BetaCoeff],MATCH(C$8,BetaCoeff[CustClass],0))","v":0.1234365},0,{"$f":"SUMPRODUCT((VolRates[BeginDate]<=B22)*(VolRates[EndDate]>=D22)*(VolRates[CustClass]=$C$8)*VolRates[VolRate])","v":0.21748000000000001},0]
[null,"Totals",{"$f":"C11","v":"2022-08-30"},{"$f":"D22","v":"2023-08-25"},360,{"$f":"SUM(F11:F22)","v":5029.2999999999993},{"$f":"SUM(G11:G22)","v":4620},409.29999999999956,249452,{"$f":"J22","v":0.1234365},1267781.6367026237,{"$f":"ROUND(M23/K23,5)","v":0.21748000000000001},275717.14]
[null,"Reconciling Period Adj.",null,{"$f":"M23","v":275717.14},"Enter in Reconciling Period Adjustment Table (ReconPerAdj)"]
[null,"Enter WNA Amounts in Column M in CAWNA Amounts Table"]
[]
[null,"Small Comm.","SCFS"]
[null,"MonthFlow","Meter Read Dates",null,"Days/\nCycle","Heating Degree Days",null,"Difference","No. of Bills","Beta Coeff.","WNAR","WRVR","WNAi"]
[null,null,"Begin","End",null,"NDDij","ADDij","(NDDij - ADDij)","Cij","b","h*i*j","Vol. Rate","k*l"]
[null,{"$f":"$C$6","v":"2022-09-01"},{"$f":"SUMPRODUCT((MeterReadSch[MonthBill]=$B30)*MeterReadSch[South])","v":"2022-08-30"},{"$f":"SUMPRODUCT((MeterReadSch[MonthFlow]=$B30)*MeterReadSch[South])","v":"2022-09-29"},{"$f":"D30-C30","v":30},{"$f":"SUMPRODUCT((KCITempAct[Date]>=$C30)*(KCITempAct[Date]<$D30)*KCITempAct[KCINHDDAdj])","v":45.100000000000009},{"$f":"SUMPRODUCT((KCITempAct[Date]>=$C30)*(KCITempAct[Date]<$D30)*KCITempAct[KCIHDDAdj])","v":17.5},{"$f":"F30-G30","v":27.600000000000009},{"$f":"SUMPRODUCT((CustCount[MonthFlow]=$B30)*CustCount[S-SC])","v":2713},{"$f":"INDEX(BetaCoeff[BetaCoeff],MATCH(C$27,BetaCoeff[CustClass],0))","v":0.27932790000000002},{"$f":"H30*I30*J30","v":20915.737958520007},{"$f":"SUMPRODUCT((VolRates[BeginDate]<=B30)*(VolRates[EndDate]>=D30)*(VolRates[CustClass]=$C$27)*VolRates[VolRate])","v":0.26033000000000001},{"$f":"ROUND(K30*L30,2)","v":5444.99}]
[null,{"$f":"EDATE(B30,1)","v":"2022-10-01"},{"$f":"SUMPRODUCT((MeterReadSch[MonthBill]=$B31)*MeterReadSch[South])","v":"2022-09-29"},{"$f":"SUMPRODUCT((MeterReadSch[MonthFlow]=$B31)*MeterReadSch[South])","v":"2022-10-31"},{"$f":"D31-C31","v":32},{"$f":"SUMPRODUCT((KCITempAct[Date]>=$C31)*(KCITempAct[Date]<$D31)*KCITempAct[KCINHDDAdj])","v":282.13333333333333},{"$f":"SUMPRODUCT((KCITempAct[Date]>=$C31)*(KCITempAct[Date]<$D31)*KCITempAct[KCIHDDAdj])","v":234.5},47.633333333333326,{"$f":"SUMPRODUCT((CustCount[MonthFlow]=$B31)*CustCount[S-SC])","v":2742},{"$f":"INDEX(BetaCoeff[BetaCoeff],MATCH(C$27,BetaCoeff[CustClass],0))","v":0.27932790000000002},36483.184615739992,{"$f":"SUMPRODUCT((VolRates[BeginDate]<=B31)*(VolRates[EndDate]>=D31)*(VolRates[CustClass]=$C$27)*VolRates[VolRate])","v":0.26033000000000001},{"$f":"ROUND(K31*L31,2)","v":9497.67}]
[null,{"$f":"EDATE(B31,1)","v":"2022-11-01"},{"$f":"SUMPRODUCT((MeterReadSch[MonthBill]=$B32)*MeterReadSch[South])","v":"2022-10-31"},{"$f":"SUMPRODUCT((MeterReadSch[MonthFlow]=$B32)*MeterReadSch[South])","v":"2022-11-29"},29,{"$f":"SUMPRODUCT((KCITempAct[Date]>=$C32)*(KCITempAct[Date]<$D32)*KCITempAct[KCINHDDAdj])","v":601.65000000000009},{"$f":"SUMPRODUCT((KCITempAct[Date]>=$C32)*(KCITempAct[Date]<$D32)*KCITempAct[KCIHDDAdj])","v":589.5},12.150000000000091,{"$f":"SUMPRODUCT((CustCount[MonthFlow]=$B32)*CustCount[S-SC])","v":2768},{"$f":"INDEX(BetaCoeff[BetaCoeff],MATCH(C$27,BetaCoeff[CustClass],0))","v":0.27932790000000002},9394.1324704800718,{"$f":"SUMPRODUCT((VolRates[BeginDate]<=B32)*(VolRates[EndDate]>=D32)*(VolRates[CustClass]=$C$27)*VolRates[VolRate])","v":0.26033000000000001},2445.5700000000002]
[null,"2022-12-01",{"$f":"SUMPRODUCT((MeterReadSch[MonthBill]=$B33)*MeterReadSch[South])","v":"2022-11-29"},{"$f":"SUMPRODUCT((MeterReadSch[MonthFlow]=$B33)*MeterReadSch[South])","v":"2022-12-29"},30,{"$f":"SUMPRODUCT((KCITempAct[Date]>=$C33)*(KCITempAct[Date]<$D33)*KCITempAct[KCINHDDAdj])","v":935.51666666666654},{"$f":"SUMPRODUCT((KCITempAct[Date]>=$C33)*(KCITempAct[Date]<$D33)*KCITempAct[KCIHDDAdj])","v":991},-55.483333333333462,{"$f":"SUMPRODUCT((CustCount[MonthFlow]=$B33)*CustCount[S-SC])","v":2766},{"$f":"INDEX(BetaCoeff[BetaCoeff],MATCH(C$27,BetaCoeff[CustClass],0))","v":0.27932790000000002},-42867.586896510096,{"$f":"SUMPRODUCT((VolRates[BeginDate]<=B33)*(VolRates[EndDate]>=D33)*(VolRates[CustClass]=$C$27)*VolRates[VolRate])","v":0.26033000000000001},-11159.72]
[null,"2023-01-01",{"$f":"SUMPRODUCT((MeterReadSch[MonthBill]=$B34)*MeterReadSch[South])","v":"2022-12-29"},{"$f":"SUMPRODUCT((MeterReadSch[MonthFlow]=$B34)*MeterReadSch[South])","v":"2023-01-30"},32,{"$f":"SUMPRODUCT((KCITempAct[Date]>=$C34)*(KCITempAct[Date]<$D34)*KCITempAct[KCINHDDAdj])","v":1134.7499999999998},{"$f":"SUMPRODUCT((KCITempAct[Date]>=$C34)*(KCITempAct[Date]<$D34)*KCITempAct[KCIHDDAdj])","v":854},280.74999999999977,{"$f":"SUMPRODUCT((CustCount[MonthFlow]=$B34)*CustCount[S-SC])","v":2756},{"$f":"INDEX(BetaCoeff[BetaCoeff],MATCH(C$27,BetaCoeff[CustClass],0))","v":0.27932790000000002},216129.12464129986,{"$f":"SUMPRODUCT((VolRates[BeginDate]<=B34)*(VolRates[EndDate]>=D34)*(VolRates[CustClass]=$C$27)*VolRates[VolRate])","v":0.26033000000000001},56264.9]
[null,"2023-02-01",{"$f":"SUMPRODUCT((MeterReadSch[MonthBill]=$B35)*MeterReadSch[South])","v":"2023-01-30"},{"$f":"SUMPRODUCT((MeterReadSch[MonthFlow]=$B35)*MeterReadSch[South])","v":"2023-02-27"},28,{"$f":"SUMPRODUCT((KCITempAct[Date]>=$C35)*(KCITempAct[Date]<$D35)*KCITempAct[KCINHDDAdj])","v":900.64999999999975},{"$f":"SUMPRODUCT((KCITempAct[Date]>=$C35)*(KCITempAct[Date]<$D35)*KCITempAct[KCIHDDAdj])","v":830.5},70.14999999999975,{"$f":"SUMPRODUCT((CustCount[MonthFlow]=$B35)*CustCount[S-SC])","v":2754},{"$f":"INDEX(BetaCoeff[BetaCoeff],MATCH(C$27,BetaCoeff[CustClass],0))","v":0.27932790000000002},53964.222917489809,{"$f":"SUMPRODUCT((VolRates[BeginDate]<=B35)*(VolRates[EndDate]>=D35)*(VolRates[CustClass]=$C$27)*VolRates[VolRate])","v":0.26033000000000001},14048.51]
[null,"2023-03-01",{"$f":"SUMPRODUCT((MeterReadSch[MonthBill]=$B36)*MeterReadSch[South])","v":"2023-02-27"},{"$f":"SUMPRODUCT((MeterReadSch[MonthFlow]=$B36)*MeterReadSch[South])","v":"2023-03-30"},31,{"$f":"SUMPRODUCT((KCITempAct[Date]>=$C36)*(KCITempAct[Date]<$D36)*KCITempAct[KCINHDDAdj])","v":659.85000000000014},{"$f":"SUMPRODUCT((KCITempAct[Date]>=$C36)*(KCITempAct[Date]<$D36)*KCITempAct[KCIHDDAdj])","v":727},-67.149999999999864,{"$f":"SUMPRODUCT((CustCount[MonthFlow]=$B36)*CustCount[S-SC])","v":2737},{"$f":"INDEX(BetaCoeff[BetaCoeff],MATCH(C$27,BetaCoeff[CustClass],0))","v":0.27932790000000002},-51337.549043444902,{"$f":"SUMPRODUCT((VolRates[BeginDate]<=B36)*(VolRates[EndDate]>=D36)*(VolRates[CustClass]=$C$27)*VolRates[VolRate])","v":0.26033000000000001},-13364.7]
[null,"2023-04-01",{"$f":"SUMPRODUCT((MeterReadSch[MonthBill]=$B37)*MeterReadSch[South])","v":"2023-03-30"},{"$f":"SUMPRODUCT((MeterReadSch[MonthFlow]=$B37)*MeterReadSch[South])","v":"2023-04-29"},30,{"$f":"SUMPRODUCT((KCITempAct[Date]>=$C37)*(KCITempAct[Date]<$D37)*KCITempAct[KCINHDDAdj])","v":341.38333333333327},{"$f":"SUMPRODUCT((KCITempAct[Date]>=$C37)*(KCITempAct[Date]<$D37)*KCITempAct[KCIHDDAdj])","v":293.5},47.883333333333269,{"$f":"SUMPRODUCT((CustCount[MonthFlow]=$B37)*CustCount[S-SC])","v":2728},{"$f":"INDEX(BetaCoeff[BetaCoeff],MATCH(C$27,BetaCoeff[CustClass],0))","v":0.27932790000000002},36487.411777959955,{"$f":"SUMPRODUCT((VolRates[BeginDate]<=B37)*(VolRates[EndDate]>=D37)*(VolRates[CustClass]=$C$27)*VolRates[VolRate])","v":0.26033000000000001},9498.77]
[null,{"$f":"EDATE(B37,1)","v":"2023-05-01"},{"$f":"SUMPRODUCT((MeterReadSch[MonthBill]=$B38)*MeterReadSch[South])","v":"2023-04-29"},{"$f":"SUMPRODUCT((MeterReadSch[MonthFlow]=$B38)*MeterReadSch[South])","v":"2023-05-30"},31,{"$f":"SUMPRODUCT((KCITempAct[Date]>=$C38)*(KCITempAct[Date]<$D38)*KCITempAct[KCINHDDAdj])","v":119.76666666666665},{"$f":"SUMPRODUCT((KCITempAct[Date]>=$C38)*(KCITempAct[Date]<$D38)*KCITempAct[KCIHDDAdj])","v":80},39.766666666666652,{"$f":"SUMPRODUCT((CustCount[MonthFlow]=$B38)*CustCount[S-SC])","v":2709},{"$f":"INDEX(BetaCoeff[BetaCoeff],MATCH(C$27,BetaCoeff[CustClass],0))","v":0.27932790000000002},30091.408078409993,{"$f":"SUMPRODUCT((VolRates[BeginDate]<=B38)*(VolRates[EndDate]>=D38)*(VolRates[CustClass]=$C$27)*VolRates[VolRate])","v":0.26033000000000001},7833.7]
[null,{"$f":"EDATE(B38,1)","v":"2023-06-01"},{"$f":"SUMPRODUCT((MeterReadSch[MonthBill]=$B39)*MeterReadSch[South])","v":"2023-05-30"},{"$f":"SUMPRODUCT((MeterReadSch[MonthFlow]=$B39)*MeterReadSch[South])","v":"2023-06-29"},30,{"$f":"SUMPRODUCT((KCITempAct[Date]>=$C39)*(KCITempAct[Date]<$D39)*KCITempAct[KCINHDDAdj])","v":8.4833333333333343},{"$f":"SUMPRODUCT((KCITempAct[Date]>=$C39)*(KCITempAct[Date]<$D39)*KCITempAct[KCIHDDAdj])","v":2.5},5.9833333333333343,{"$f":"SUMPRODUCT((CustCount[MonthFlow]=$B39)*CustCount[S-SC])","v":2698},{"$f":"INDEX(BetaCoeff[BetaCoeff],MATCH(C$27,BetaCoeff[CustClass],0))","v":0.27932790000000002},4509.1996006300014,{"$f":"SUMPRODUCT((VolRates[BeginDate]<=B39)*(VolRates[EndDate]>=D39)*(VolRates[CustClass]=$C$27)*VolRates[VolRate])","v":0.26033000000000001},1173.8800000000001]
[null,"2023-07-01",{"$f":"SUMPRODUCT((MeterReadSch[MonthBill]=$B40)*MeterReadSch[South])","v":"2023-06-29"},{"$f":"SUMPRODUCT((MeterReadSch[MonthFlow]=$B40)*MeterReadSch[South])","v":"2023-07-25"},26,{"$f":"SUMPRODUCT((KCITempAct[Date]>=$C40)*(KCITempAct[Date]<$D40)*KCITempAct[KCINHDDAdj])","v":1.6666666666666666E-2},{"$f":"SUMPRODUCT((KCITempAct[Date]>=$C40)*(KCITempAct[Date]<$D40)*KCITempAct[KCIHDDAdj])","v":0},1.6666666666666666E-2,{"$f":"SUMPRODUCT((CustCount[MonthFlow]=$B40)*CustCount[S-SC])","v":0},{"$f":"INDEX(BetaCoeff[BetaCoeff],MATCH(C$27,BetaCoeff[CustClass],0))","v":0.27932790000000002},0,{"$f":"SUMPRODUCT((VolRates[BeginDate]<=B40)*(VolRates[EndDate]>=D40)*(VolRates[CustClass]=$C$27)*VolRates[VolRate])","v":0.26033000000000001},0]
[null,"2023-08-01",{"$f":"SUMPRODUCT((MeterReadSch[MonthBill]=$B41)*MeterReadSch[South])","v":"2023-07-25"},{"$f":"SUMPRODUCT((MeterReadSch[MonthFlow]=$B41)*MeterReadSch[South])","v":"2023-08-25"},31,{"$f":"SUMPRODUCT((KCITempAct[Date]>=$C41)*(KCITempAct[Date]<$D41)*KCITempAct[KCINHDDAdj])","v":0},{"$f":"SUMPRODUCT((KCITempAct[Date]>=$C41)*(KCITempAct[Date]<$D41)*KCITempAct[KCIHDDAdj])","v":0},0,{"$f":"SUMPRODUCT((CustCount[MonthFlow]=$B41)*CustCount[S-SC])","v":0},{"$f":"INDEX(BetaCoeff[BetaCoeff],MATCH(C$27,BetaCoeff[CustClass],0))","v":0.27932790000000002},0,{"$f":"SUMPRODUCT((VolRates[BeginDate]<=B41)*(VolRates[EndDate]>=D41)*(VolRates[CustClass]=$C$27)*VolRates[VolRate])","v":0.26033000000000001},0]
[null,"Totals",{"$f":"C30","v":"2022-08-30"},{"$f":"D41","v":"2023-08-25"},360,{"$f":"SUM(F30:F41)","v":5029.2999999999993},{"$f":"SUM(G30:G41)","v":4620},{"$f":"SUM(H30:H41)","v":409.29999999999956},{"$f":"SUM(I30:I41)","v":27371},{"$f":"J41","v":0.27932790000000002},{"$f":"SUM(K30:K41)","v":313769.28612057469},{"$f":"ROUND(M42/K42,5)","v":0.26033000000000001},{"$f":"SUM(M30:M41)","v":81683.570000000007}]
[null,"Reconciling Period Adj.",null,{"$f":"M42","v":81683.570000000007},"Enter in Reconciling Period Adjustment Table (ReconPerAdj)"]
[null,"Enter WNA Amounts in Column M in CAWNA Amounts Table"]

{"sheet":"CAWNA NW","index":5,"n_rows":44,"n_cols":13,"rows_kept":44,"cut":false,"hidden":false,"merged":[[8,1,9,1],[8,2,8,3],[8,4,9,4],[8,5,8,6],[27,1,28,1],[27,2,27,3],[27,4,28,4],[27,5,27,6]]}
[]
[null,"Empire District Gas Company",null,null,null,"Filing Year"]
[null,"Billing Cycle and HDD Data Summary"]
[null,"Territory","NW"]
[null,"Year",{"$f":"DateSet!C2","v":2023}]
[null,"Analysis Start",{"$f":"DateSet!C3","v":"2022-09-01"}]
[]
[null,"Cust Class","Res","NW"]
[null,"MonthFlow","Meter Read Dates",null,"Days/\nCycle","Heating Degree Days",null,"Difference","No. of Bills","Beta Coeff.","WNAR","WRVR","WNAi"]
[null,null,"Begin","End",null,"NDDij","ADDij","(NDDij - ADDij)","Cij","b","h*i*j","Vol. Rate","k*l"]
[null,{"$f":"$C$6","v":"2022-09-01"},{"$f":"SUMPRODUCT((MeterReadSch[MonthBill]=$B11)*MeterReadSch[NW])","v":"2022-08-29"},{"$f":"SUMPRODUCT((MeterReadSch[MonthFlow]=$B11)*MeterReadSch[NW])","v":"2022-09-28"},{"$f":"D11-C11","v":30},{"$f":"SUMPRODUCT((KCITempAct[Date]>=$C11)*(KCITempAct[Date]<$D11)*KCITempAct[KCINHDDAdj])","v":41.533333333333339},{"$f":"SUMPRODUCT((KCITempAct[Date]>=$C11)*(KCITempAct[Date]<$D11)*KCITempAct[KCIHDDAdj])","v":13.5},{"$f":"F11-G11","v":28.033333333333339},{"$f":"SUMPRODUCT((CustCount[MonthFlow]=$B11)*CustCount[NW-RS])","v":4795},{"$f":"INDEX(BetaCoeff[BetaCoeff],MATCH(C$8,BetaCoeff[CustClass],0))","v":0.1234365},{"$f":"H11*I11*J11","v":16592.313757250005},{"$f":"SUMPRODUCT((VolRates[BeginDate]<=B11)*(VolRates[EndDate]>=D11)*(VolRates[CustClass]=$C$8)*VolRates[VolRate])","v":0.21748000000000001},{"$f":"ROUND(K11*L11,2)","v":3608.5}]
[null,{"$f":"EDATE(B11,1)","v":"2022-10-01"},{"$f":"SUMPRODUCT((MeterReadSch[MonthBill]=$B12)*MeterReadSch[NW])","v":"2022-09-28"},{"$f":"SUMPRODUCT((MeterReadSch[MonthFlow]=$B12)*MeterReadSch[NW])","v":"2022-10-28"},{"$f":"D12-C12","v":30},{"$f":"SUMPRODUCT((KCITempAct[Date]>=$C12)*(KCITempAct[Date]<$D12)*KCITempAct[KCINHDDAdj])","v":246.35},{"$f":"SUMPRODUCT((KCITempAct[Date]>=$C12)*(KCITempAct[Date]<$D12)*KCITempAct[KCIHDDAdj])","v":216},30.349999999999994,{"$f":"SUMPRODUCT((CustCount[MonthFlow]=$B12)*CustCount[NW-RS])","v":4870},{"$f":"INDEX(BetaCoeff[BetaCoeff],MATCH(C$8,BetaCoeff[CustClass],0))","v":0.1234365},18244.470164249997,{"$f":"SUMPRODUCT((VolRates[BeginDate]<=B12)*(VolRates[EndDate]>=D12)*(VolRates[CustClass]=$C$8)*VolRates[VolRate])","v":0.21748000000000001},{"$f":"ROUND(K12*L12,2)","v":3967.81}]
[null,{"$f":"EDATE(B12,1)","v":"2022-11-01"},{"$f":"SUMPRODUCT((MeterReadSch[MonthBill]=$B13)*MeterReadSch[NW])","v":"2022-10-28"},{"$f":"SUMPRODUCT((MeterReadSch[MonthFlow]=$B13)*MeterReadSch[NW])","v":"2022-11-29"},32,{"$f":"SUMPRODUCT((KCITempAct[Date]>=$C13)*(KCITempAct[Date]<$D13)*KCITempAct[KCINHDDAdj])","v":641.00000000000011},{"$f":"SUMPRODUCT((KCITempAct[Date]>=$C13)*(KCITempAct[Date]<$D13)*KCITempAct[KCIHDDAdj])","v":612},29.000000000000114,{"$f":"SUMPRODUCT((CustCount[MonthFlow]=$B13)*CustCount[NW-RS])","v":4891},{"$f":"INDEX(BetaCoeff[BetaCoeff],MATCH(C$8,BetaCoeff[CustClass],0))","v":0.1234365},17508.109723500071,{"$f":"SUMPRODUCT((VolRates[BeginDate]<=B13)*(VolRates[EndDate]>=D13)*(VolRates[CustClass]=$C$8)*VolRates[VolRate])","v":0.21748000000000001},3807.66]
[null,{"$f":"EDATE(B13,1)","v":"2022-12-01"},{"$f":"SUMPRODUCT((MeterReadSch[MonthBill]=$B14)*MeterReadSch[NW])","v":"2022-11-29"},{"$f":"SUMPRODUCT((MeterReadSch[MonthFlow]=$B14)*MeterReadSch[NW])","v":"2022-12-27"},28,{"$f":"SUMPRODUCT((KCITempAct[Date]>=$C14)*(KCITempAct[Date]<$D14)*KCITempAct[KCINHDDAdj])","v":871.34999999999991},{"$f":"SUMPRODUCT((KCITempAct[Date]>=$C14)*(KCITempAct[Date]<$D14)*KCITempAct[KCIHDDAdj])","v":934},-62.650000000000091,{"$f":"SUMPRODUCT((CustCount[MonthFlow]=$B14)*CustCount[NW-RS])","v":4894},{"$f":"INDEX(BetaCoeff[BetaCoeff],MATCH(C$8,BetaCoeff[CustClass],0))","v":0.1234365},-37846.754172150053,{"$f":"SUMPRODUCT((VolRates[BeginDate]<=B14)*(VolRates[EndDate]>=D14)*(VolRates[CustClass]=$C$8)*VolRates[VolRate])","v":0.21748000000000001},-8230.91]
[null,{"$f":"EDATE(B14,1)","v":"2023-01-01"},{"$f":"SUMPRODUCT((MeterReadSch[MonthBill]=$B15)*MeterReadSch[NW])","v":"2022-12-27"},{"$f":"SUMPRODUCT((MeterReadSch[MonthFlow]=$B15)*MeterReadSch[NW])","v":"2023-01-26"},30,{"$f":"SUMPRODUCT((KCITempAct[Date]>=$C15)*(KCITempAct[Date]<$D15)*KCITempAct[KCINHDDAdj])","v":1064.4333333333332},{"$f":"SUMPRODUCT((KCITempAct[Date]>=$C15)*(KCITempAct[Date]<$D15)*KCITempAct[KCIHDDAdj])","v":769.5},294.93333333333317,{"$f":"SUMPRODUCT((CustCount[MonthFlow]=$B15)*CustCount[NW-RS])","v":4900},{"$f":"INDEX(BetaCoeff[BetaCoeff],MATCH(C$8,BetaCoeff[CustClass],0))","v":0.1234365},178387.13815999991,{"$f":"SUMPRODUCT((VolRates[BeginDate]<=B15)*(VolRates[EndDate]>=D15)*(VolRates[CustClass]=$C$8)*VolRates[VolRate])","v":0.21748000000000001},38795.629999999997]
[null,{"$f":"EDATE(B15,1)","v":"2023-02-01"},{"$f":"SUMPRODUCT((MeterReadSch[MonthBill]=$B16)*MeterReadSch[NW])","v":"2023-01-26"},{"$f":"SUMPRODUCT((MeterReadSch[MonthFlow]=$B16)*MeterReadSch[NW])","v":"2023-02-27"},32,{"$f":"SUMPRODUCT((KCITempAct[Date]>=$C16)*(KCITempAct[Date]<$D16)*KCITempAct[KCINHDDAdj])","v":1035.1333333333332},{"$f":"SUMPRODUCT((KCITempAct[Date]>=$C16)*(KCITempAct[Date]<$D16)*KCITempAct[KCIHDDAdj])","v":972},63.133333333333212,{"$f":"SUMPRODUCT((CustCount[MonthFlow]=$B16)*CustCount[NW-RS])","v":4886},{"$f":"INDEX(BetaCoeff[BetaCoeff],MATCH(C$8,BetaCoeff[CustClass],0))","v":0.1234365},38076.391322199932,{"$f":"SUMPRODUCT((VolRates[BeginDate]<=B16)*(VolRates[EndDate]>=D16)*(VolRates[CustClass]=$C$8)*VolRates[VolRate])","v":0.21748000000000001},8280.85]
[null,{"$f":"EDATE(B16,1)","v":"2023-03-01"},{"$f":"SUMPRODUCT((MeterReadSch[MonthBill]=$B17)*MeterReadSch[NW])","v":"2023-02-27"},{"$f":"SUMPRODUCT((MeterReadSch[MonthFlow]=$B17)*MeterReadSch[NW])","v":"2023-03-28"},29,{"$f":"SUMPRODUCT((KCITempAct[Date]>=$C17)*(KCITempAct[Date]<$D17)*KCITempAct[KCINHDDAdj])","v":628.56666666666672},{"$f":"SUMPRODUCT((KCITempAct[Date]>=$C17)*(KCITempAct[Date]<$D17)*KCITempAct[KCIHDDAdj])","v":683},-54.43333333333328,{"$f":"SUMPRODUCT((CustCount[MonthFlow]=$B17)*CustCount[NW-RS])","v":4814},{"$f":"INDEX(BetaCoeff[BetaCoeff],MATCH(C$8,BetaCoeff[CustClass],0))","v":0.1234365},-32345.555562099969,{"$f":"SUMPRODUCT((VolRates[BeginDate]<=B17)*(VolRates[EndDate]>=D17)*(VolRates[CustClass]=$C$8)*VolRates[VolRate])","v":0.21748000000000001},-7034.51]
[null,"2023-04-01",{"$f":"SUMPRODUCT((MeterReadSch[MonthBill]=$B18)*MeterReadSch[NW])","v":"2023-03-28"},{"$f":"SUMPRODUCT((MeterReadSch[MonthFlow]=$B18)*MeterReadSch[NW])","v":"2023-04-26"},29,{"$f":"SUMPRODUCT((KCITempAct[Date]>=$C18)*(KCITempAct[Date]<$D18)*KCITempAct[KCINHDDAdj])","v":344.36666666666662},{"$f":"SUMPRODUCT((KCITempAct[Date]>=$C18)*(KCITempAct[Date]<$D18)*KCITempAct[KCIHDDAdj])","v":315},29.366666666666617,{"$f":"SUMPRODUCT((CustCount[MonthFlow]=$B18)*CustCount[NW-RS])","v":4760},{"$f":"INDEX(BetaCoeff[BetaCoeff],MATCH(C$8,BetaCoeff[CustClass],0))","v":0.1234365},17254.612297999975,{"$f":"SUMPRODUCT((VolRates[BeginDate]<=B18)*(VolRates[EndDate]>=D18)*(VolRates[CustClass]=$C$8)*VolRates[VolRate])","v":0.21748000000000001},3752.53]
[null,"2023-05-01",{"$f":"SUMPRODUCT((MeterReadSch[MonthBill]=$B19)*MeterReadSch[NW])","v":"2023-04-26"},{"$f":"SUMPRODUCT((MeterReadSch[MonthFlow]=$B19)*MeterReadSch[NW])","v":"2023-05-30"},34,{"$f":"SUMPRODUCT((KCITempAct[Date]>=$C19)*(KCITempAct[Date]<$D19)*KCITempAct[KCINHDDAdj])","v":148.06666666666663},{"$f":"SUMPRODUCT((KCITempAct[Date]>=$C19)*(KCITempAct[Date]<$D19)*KCITempAct[KCIHDDAdj])","v":102.5},45.566666666666634,{"$f":"SUMPRODUCT((CustCount[MonthFlow]=$B19)*CustCount[NW-RS])","v":4707},{"$f":"INDEX(BetaCoeff[BetaCoeff],MATCH(C$8,BetaCoeff[CustClass],0))","v":0.1234365},26474.944423949983,{"$f":"SUMPRODUCT((VolRates[BeginDate]<=B19)*(VolRates[EndDate]>=D19)*(VolRates[CustClass]=$C$8)*VolRates[VolRate])","v":0.21748000000000001},5757.77]
[null,"2023-06-01",{"$f":"SUMPRODUCT((MeterReadSch[MonthBill]=$B20)*MeterReadSch[NW])","v":"2023-05-30"},{"$f":"SUMPRODUCT((MeterReadSch[MonthFlow]=$B20)*MeterReadSch[NW])","v":"2023-06-28"},29,{"$f":"SUMPRODUCT((KCITempAct[Date]>=$C20)*(KCITempAct[Date]<$D20)*KCITempAct[KCINHDDAdj])","v":8.4833333333333343},{"$f":"SUMPRODUCT((KCITempAct[Date]>=$C20)*(KCITempAct[Date]<$D20)*KCITempAct[KCIHDDAdj])","v":2.5},5.9833333333333343,{"$f":"SUMPRODUCT((CustCount[MonthFlow]=$B20)*CustCount[NW-RS])","v":4661},{"$f":"INDEX(BetaCoeff[BetaCoeff],MATCH(C$8,BetaCoeff[CustClass],0))","v":0.1234365},3442.4362002250004,{"$f":"SUMPRODUCT((VolRates[BeginDate]<=B20)*(VolRates[EndDate]>=D20)*(VolRates[CustClass]=$C$8)*VolRates[VolRate])","v":0.21748000000000001},748.66]
[null,"2023-07-01",{"$f":"SUMPRODUCT((MeterReadSch[MonthBill]=$B21)*MeterReadSch[NW])","v":"2023-06-28"},{"$f":"SUMPRODUCT((MeterReadSch[MonthFlow]=$B21)*MeterReadSch[NW])","v":"2023-07-25"},27,{"$f":"SUMPRODUCT((KCITempAct[Date]>=$C21)*(KCITempAct[Date]<$D21)*KCITempAct[KCINHDDAdj])","v":1.6666666666666666E-2},{"$f":"SUMPRODUCT((KCITempAct[Date]>=$C21)*(KCITempAct[Date]<$D21)*KCITempAct[KCIHDDAdj])","v":0},1.6666666666666666E-2,{"$f":"SUMPRODUCT((CustCount[MonthFlow]=$B21)*CustCount[NW-RS])","v":0},{"$f":"INDEX(BetaCoeff[BetaCoeff],MATCH(C$8,BetaCoeff[CustClass],0))","v":0.1234365},0,{"$f":"SUMPRODUCT((VolRates[BeginDate]<=B21)*(VolRates[EndDate]>=D21)*(VolRates[CustClass]=$C$8)*VolRates[VolRate])","v":0.21748000000000001},0]
[null,{"$f":"EDATE(B21,1)","v":"2023-08-01"},{"$f":"SUMPRODUCT((MeterReadSch[MonthBill]=$B22)*MeterReadSch[NW])","v":"2023-07-25"},{"$f":"SUMPRODUCT((MeterReadSch[MonthFlow]=$B22)*MeterReadSch[NW])","v":"2023-08-25"},31,{"$f":"SUMPRODUCT((KCITempAct[Date]>=$C22)*(KCITempAct[Date]<$D22)*KCITempAct[KCINHDDAdj])","v":0},{"$f":"SUMPRODUCT((KCITempAct[Date]>=$C22)*(KCITempAct[Date]<$D22)*KCITempAct[KCIHDDAdj])","v":0},0,{"$f":"SUMPRODUCT((CustCount[MonthFlow]=$B22)*CustCount[NW-RS])","v":0},{"$f":"INDEX(BetaCoeff[BetaCoeff],MATCH(C$8,BetaCoeff[CustClass],0))","v":0.1234365},0,{"$f":"SUMPRODUCT((VolRates[BeginDate]<=B22)*(VolRates[EndDate]>=D22)*(VolRates[CustClass]=$C$8)*VolRates[VolRate])","v":0.21748000000000001},0]
[null,"Totals",{"$f":"C11","v":"2022-08-29"},{"$f":"D22","v":"2023-08-25"},361,{"$f":"SUM(F11:F22)","v":5029.3},{"$f":"SUM(G11:G22)","v":4620},409.29999999999973,48178,{"$f":"J22","v":0.1234365},{"$f":"SUM(K11:K22)","v":245788.10631512484},{"$f":"ROUND(M23/K23,5)","v":0.21748000000000001},53453.989999999991]
[null,"Reconciling Period Adj.",null,{"$f":"M23","v":53453.989999999991},"Enter in Reconciling Period Adjustment Table (ReconPerAdj)"]
[null,"Enter WNA Amounts in Column M in CAWNA Amounts Table"]
[]
[null,"Small Comm.","SCFS","NW"]
[null,"MonthFlow","Meter Read Dates",null,"Days/\nCycle","Heating Degree Days",null,"Difference","No. of Bills","Beta Coeff.","WNAR","WRVR","WNAi"]
[null,null,"Begin","End",null,"NDDij","ADDij","(NDDij - ADDij)","Cij","b","h*i*j","Vol. Rate","k*l"]
[null,{"$f":"$C$6","v":"2022-09-01"},{"$f":"SUMPRODUCT((MeterReadSch[MonthBill]=$B30)*MeterReadSch[NW])","v":"2022-08-29"},{"$f":"SUMPRODUCT((MeterReadSch[MonthFlow]=$B30)*MeterReadSch[NW])","v":"2022-09-28"},{"$f":"D30-C30","v":30},{"$f":"SUMPRODUCT((KCITempAct[Date]>=$C30)*(KCITempAct[Date]<$D30)*KCITempAct[KCINHDDAdj])","v":41.533333333333339},{"$f":"SUMPRODUCT((KCITempAct[Date]>=$C30)*(KCITempAct[Date]<$D30)*KCITempAct[KCIHDDAdj])","v":13.5},{"$f":"F30-G30","v":28.033333333333339},{"$f":"SUMPRODUCT((CustCount[MonthFlow]=$B30)*CustCount[NW-SC])","v":671},{"$f":"INDEX(BetaCoeff[BetaCoeff],MATCH(C$27,BetaCoeff[CustClass],0))","v":0.27932790000000002},{"$f":"H30*I30*J30","v":5254.260219230001},{"$f":"SUMPRODUCT((VolRates[BeginDate]<=B30)*(VolRates[EndDate]>=D30)*(VolRates[CustClass]=$C$27)*VolRates[VolRate])","v":0.26033000000000001},{"$f":"ROUND(K30*L30,2)","v":1367.84}]
[null,{"$f":"EDATE(B30,1)","v":"2022-10-01"},{"$f":"SUMPRODUCT((MeterReadSch[MonthBill]=$B31)*MeterReadSch[NW])","v":"2022-09-28"},{"$f":"SUMPRODUCT((MeterReadSch[MonthFlow]=$B31)*MeterReadSch[NW])","v":"2022-10-28"},{"$f":"D31-C31","v":30},{"$f":"SUMPRODUCT((KCITempAct[Date]>=$C31)*(KCITempAct[Date]<$D31)*KCITempAct[KCINHDDAdj])","v":246.35},{"$f":"SUMPRODUCT((KCITempAct[Date]>=$C31)*(KCITempAct[Date]<$D31)*KCITempAct[KCIHDDAdj])","v":216},30.349999999999994,{"$f":"SUMPRODUCT((CustCount[MonthFlow]=$B31)*CustCount[NW-SC])","v":677},{"$f":"INDEX(BetaCoeff[BetaCoeff],MATCH(C$27,BetaCoeff[CustClass],0))","v":0.27932790000000002},5739.3363949049999,{"$f":"SUMPRODUCT((VolRates[BeginDate]<=B31)*(VolRates[EndDate]>=D31)*(VolRates[CustClass]=$C$27)*VolRates[VolRate])","v":0.26033000000000001},{"$f":"ROUND(K31*L31,2)","v":1494.12}]
[null,{"$f":"EDATE(B31,1)","v":"2022-11-01"},{"$f":"SUMPRODUCT((MeterReadSch[MonthBill]=$B32)*MeterReadSch[NW])","v":"2022-10-28"},{"$f":"SUMPRODUCT((MeterReadSch[MonthFlow]=$B32)*MeterReadSch[NW])","v":"2022-11-29"},32,{"$f":"SUMPRODUCT((KCITempAct[Date]>=$C32)*(KCITempAct[Date]<$D32)*KCITempAct[KCINHDDAdj])","v":641.00000000000011},{"$f":"SUMPRODUCT((KCITempAct[Date]>=$C32)*(KCITempAct[Date]<$D32)*KCITempAct[KCIHDDAdj])","v":612},29.000000000000114,{"$f":"SUMPRODUCT((CustCount[MonthFlow]=$B32)*CustCount[NW-SC])","v":676},{"$f":"INDEX(BetaCoeff[BetaCoeff],MATCH(C$27,BetaCoeff[CustClass],0))","v":0.27932790000000002},5475.9441516000215,{"$f":"SUMPRODUCT((VolRates[BeginDate]<=B32)*(VolRates[EndDate]>=D32)*(VolRates[CustClass]=$C$27)*VolRates[VolRate])","v":0.26033000000000001},1425.55]
[null,"2022-12-01",{"$f":"SUMPRODUCT((MeterReadSch[MonthBill]=$B33)*MeterReadSch[NW])","v":"2022-11-29"},{"$f":"SUMPRODUCT((MeterReadSch[MonthFlow]=$B33)*MeterReadSch[NW])","v":"2022-12-27"},28,{"$f":"SUMPRODUCT((KCITempAct[Date]>=$C33)*(KCITempAct[Date]<$D33)*KCITempAct[KCINHDDAdj])","v":871.34999999999991},{"$f":"SUMPRODUCT((KCITempAct[Date]>=$C33)*(KCITempAct[Date]<$D33)*KCITempAct[KCIHDDAdj])","v":934},-62.650000000000091,{"$f":"SUMPRODUCT((CustCount[MonthFlow]=$B33)*CustCount[NW-SC])","v":679},{"$f":"INDEX(BetaCoeff[BetaCoeff],MATCH(C$27,BetaCoeff[CustClass],0))","v":0.27932790000000002},-11882.427302865019,{"$f":"SUMPRODUCT((VolRates[BeginDate]<=B33)*(VolRates[EndDate]>=D33)*(VolRates[CustClass]=$C$27)*VolRates[VolRate])","v":0.26033000000000001},-3093.35]
[null,"2023-01-01",{"$f":"SUMPRODUCT((MeterReadSch[MonthBill]=$B34)*MeterReadSch[NW])","v":"2022-12-27"},{"$f":"SUMPRODUCT((MeterReadSch[MonthFlow]=$B34)*MeterReadSch[NW])","v":"2023-01-26"},30,{"$f":"SUMPRODUCT((KCITempAct[Date]>=$C34)*(KCITempAct[Date]<$D34)*KCITempAct[KCINHDDAdj])","v":1064.4333333333332},{"$f":"SUMPRODUCT((KCITempAct[Date]>=$C34)*(KCITempAct[Date]<$D34)*KCITempAct[KCIHDDAdj])","v":769.5},294.93333333333317,{"$f":"SUMPRODUCT((CustCount[MonthFlow]=$B34)*CustCount[NW-SC])","v":680},{"$f":"INDEX(BetaCoeff[BetaCoeff],MATCH(C$27,BetaCoeff[CustClass],0))","v":0.27932790000000002},56020.513875199969,{"$f":"SUMPRODUCT((VolRates[BeginDate]<=B34)*(VolRates[EndDate]>=D34)*(VolRates[CustClass]=$C$27)*VolRates[VolRate])","v":0.26033000000000001},14583.82]
[null,"2023-02-01",{"$f":"SUMPRODUCT((MeterReadSch[MonthBill]=$B35)*MeterReadSch[NW])","v":"2023-01-26"},{"$f":"SUMPRODUCT((MeterReadSch[MonthFlow]=$B35)*MeterReadSch[NW])","v":"2023-02-27"},32,{"$f":"SUMPRODUCT((KCITempAct[Date]>=$C35)*(KCITempAct[Date]<$D35)*KCITempAct[KCINHDDAdj])","v":1035.1333333333332},{"$f":"SUMPRODUCT((KCITempAct[Date]>=$C35)*(KCITempAct[Date]<$D35)*KCITempAct[KCIHDDAdj])","v":972},63.133333333333212,{"$f":"SUMPRODUCT((CustCount[MonthFlow]=$B35)*CustCount[NW-SC])","v":679},{"$f":"INDEX(BetaCoeff[BetaCoeff],MATCH(C$27,BetaCoeff[CustClass],0))","v":0.27932790000000002},11974.098064179978,{"$f":"SUMPRODUCT((VolRates[BeginDate]<=B35)*(VolRates[EndDate]>=D35)*(VolRates[CustClass]=$C$27)*VolRates[VolRate])","v":0.26033000000000001},3117.22]
[null,"2023-03-01",{"$f":"SUMPRODUCT((MeterReadSch[MonthBill]=$B36)*MeterReadSch[NW])","v":"2023-02-27"},{"$f":"SUMPRODUCT((MeterReadSch[MonthFlow]=$B36)*MeterReadSch[NW])","v":"2023-03-28"},29,{"$f":"SUMPRODUCT((KCITempAct[Date]>=$C36)*(KCITempAct[Date]<$D36)*KCITempAct[KCINHDDAdj])","v":628.56666666666672},{"$f":"SUMPRODUCT((KCITempAct[Date]>=$C36)*(KCITempAct[Date]<$D36)*KCITempAct[KCIHDDAdj])","v":683},-54.43333333333328,{"$f":"SUMPRODUCT((CustCount[MonthFlow]=$B36)*CustCount[NW-SC])","v":676},{"$f":"INDEX(BetaCoeff[BetaCoeff],MATCH(C$27,BetaCoeff[CustClass],0))","v":0.27932790000000002},-10278.41011443999,{"$f":"SUMPRODUCT((VolRates[BeginDate]<=B36)*(VolRates[EndDate]>=D36)*(VolRates[CustClass]=$C$27)*VolRates[VolRate])","v":0.26033000000000001},-2675.78]
[null,"2023-04-01",{"$f":"SUMPRODUCT((MeterReadSch[MonthBill]=$B37)*MeterReadSch[NW])","v":"2023-03-28"},{"$f":"SUMPRODUCT((MeterReadSch[MonthFlow]=$B37)*MeterReadSch[NW])","v":"2023-04-26"},29,{"$f":"SUMPRODUCT((KCITempAct[Date]>=$C37)*(KCITempAct[Date]<$D37)*KCITempAct[KCINHDDAdj])","v":344.36666666666662},{"$f":"SUMPRODUCT((KCITempAct[Date]>=$C37)*(KCITempAct[Date]<$D37)*KCITempAct[KCIHDDAdj])","v":315},29.366666666666617,{"$f":"SUMPRODUCT((CustCount[MonthFlow]=$B37)*CustCount[NW-SC])","v":673},{"$f":"INDEX(BetaCoeff[BetaCoeff],MATCH(C$27,BetaCoeff[CustClass],0))","v":0.27932790000000002},5520.5714390899911,{"$f":"SUMPRODUCT((VolRates[BeginDate]<=B37)*(VolRates[EndDate]>=D37)*(VolRates[CustClass]=$C$27)*VolRates[VolRate])","v":0.26033000000000001},1437.17]
[null,{"$f":"EDATE(B37,1)","v":"2023-05-01"},{"$f":"SUMPRODUCT((MeterReadSch[MonthBill]=$B38)*MeterReadSch[NW])","v":"2023-04-26"},{"$f":"SUMPRODUCT((MeterReadSch[MonthFlow]=$B38)*MeterReadSch[NW])","v":"2023-05-30"},34,{"$f":"SUMPRODUCT((KCITempAct[Date]>=$C38)*(KCITempAct[Date]<$D38)*KCITempAct[KCINHDDAdj])","v":148.06666666666663},{"$f":"SUMPRODUCT((KCITempAct[Date]>=$C38)*(KCITempAct[Date]<$D38)*KCITempAct[KCIHDDAdj])","v":102.5},45.566666666666634,{"$f":"SUMPRODUCT((CustCount[MonthFlow]=$B38)*CustCount[NW-SC])","v":669},{"$f":"INDEX(BetaCoeff[BetaCoeff],MATCH(C$27,BetaCoeff[CustClass],0))","v":0.27932790000000002},8515.0596363899949,{"$f":"SUMPRODUCT((VolRates[BeginDate]<=B38)*(VolRates[EndDate]>=D38)*(VolRates[CustClass]=$C$27)*VolRates[VolRate])","v":0.26033000000000001},2216.73]
[null,{"$f":"EDATE(B38,1)","v":"2023-06-01"},{"$f":"SUMPRODUCT((MeterReadSch[MonthBill]=$B39)*MeterReadSch[NW])","v":"2023-05-30"},{"$f":"SUMPRODUCT((MeterReadSch[MonthFlow]=$B39)*MeterReadSch[NW])","v":"2023-06-28"},29,{"$f":"SUMPRODUCT((KCITempAct[Date]>=$C39)*(KCITempAct[Date]<$D39)*KCITempAct[KCINHDDAdj])","v":8.4833333333333343},{"$f":"SUMPRODUCT((KCITempAct[Date]>=$C39)*(KCITempAct[Date]<$D39)*KCITempAct[KCIHDDAdj])","v":2.5},5.9833333333333343,{"$f":"SUMPRODUCT((CustCount[MonthFlow]=$B39)*CustCount[NW-SC])","v":665},{"$f":"INDEX(BetaCoeff[BetaCoeff],MATCH(C$27,BetaCoeff[CustClass],0))","v":0.27932790000000002},1111.4224367750003,{"$f":"SUMPRODUCT((VolRates[BeginDate]<=B39)*(VolRates[EndDate]>=D39)*(VolRates[CustClass]=$C$27)*VolRates[VolRate])","v":0.26033000000000001},289.33999999999997]
[null,"2023-07-01",{"$f":"SUMPRODUCT((MeterReadSch[MonthBill]=$B40)*MeterReadSch[NW])","v":"2023-06-28"},{"$f":"SUMPRODUCT((MeterReadSch[MonthFlow]=$B40)*MeterReadSch[NW])","v":"2023-07-25"},27,{"$f":"SUMPRODUCT((KCITempAct[Date]>=$C40)*(KCITempAct[Date]<$D40)*KCITempAct[KCINHDDAdj])","v":1.6666666666666666E-2},{"$f":"SUMPRODUCT((KCITempAct[Date]>=$C40)*(KCITempAct[Date]<$D40)*KCITempAct[KCIHDDAdj])","v":0},1.6666666666666666E-2,{"$f":"SUMPRODUCT((CustCount[MonthFlow]=$B40)*CustCount[NW-SC])","v":0},{"$f":"INDEX(BetaCoeff[BetaCoeff],MATCH(C$27,BetaCoeff[CustClass],0))","v":0.27932790000000002},0,{"$f":"SUMPRODUCT((VolRates[BeginDate]<=B40)*(VolRates[EndDate]>=D40)*(VolRates[CustClass]=$C$27)*VolRates[VolRate])","v":0.26033000000000001},0]
[null,"2023-08-01",{"$f":"SUMPRODUCT((MeterReadSch[MonthBill]=$B41)*MeterReadSch[NW])","v":"2023-07-25"},{"$f":"SUMPRODUCT((MeterReadSch[MonthFlow]=$B41)*MeterReadSch[NW])","v":"2023-08-25"},31,{"$f":"SUMPRODUCT((KCITempAct[Date]>=$C41)*(KCITempAct[Date]<$D41)*KCITempAct[KCINHDDAdj])","v":0},{"$f":"SUMPRODUCT((KCITempAct[Date]>=$C41)*(KCITempAct[Date]<$D41)*KCITempAct[KCIHDDAdj])","v":0},0,{"$f":"SUMPRODUCT((CustCount[MonthFlow]=$B41)*CustCount[NW-SC])","v":0},{"$f":"INDEX(BetaCoeff[BetaCoeff],MATCH(C$27,BetaCoeff[CustClass],0))","v":0.27932790000000002},0,{"$f":"SUMPRODUCT((VolRates[BeginDate]<=B41)*(VolRates[EndDate]>=D41)*(VolRates[CustClass]=$C$27)*VolRates[VolRate])","v":0.26033000000000001},0]
[null,"Totals",{"$f":"C30","v":"2022-08-29"},{"$f":"D41","v":"2023-08-25"},361,{"$f":"SUM(F30:F41)","v":5029.3},{"$f":"SUM(G30:G41)","v":4620},{"$f":"SUM(H30:H41)","v":409.29999999999973},{"$f":"SUM(I30:I41)","v":6745},{"$f":"J41","v":0.27932790000000002},{"$f":"SUM(K30:K41)","v":77450.368800064956},{"$f":"ROUND(M42/K42,5)","v":0.26033000000000001},{"$f":"SUM(M30:M41)","v":20162.66}]
[null,"Reconciling Period Adj.",null,{"$f":"M42","v":20162.66},"Enter in Reconciling Period Adjustment Table (ReconPerAdj)"]
[null,"Enter WNA Amounts in Column M in CAWNA Amounts Table"]

{"sheet":"CAWNA North","index":6,"n_rows":44,"n_cols":13,"rows_kept":44,"cut":false,"hidden":false,"merged":[[27,1,28,1],[27,2,27,3],[27,4,28,4],[27,5,27,6],[8,1,9,1],[8,2,8,3],[8,4,9,4],[8,5,8,6]]}
[]
[null,"Empire District Gas Company",null,null,null,"Filing Year"]
[null,"Billing Cycle and HDD Data Summary"]
[null,"Territory","North"]
[null,"Year",{"$f":"DateSet!C2","v":2023}]
[null,"Analysis Start",{"$f":"DateSet!C3","v":"2022-09-01"}]
[]
[null,"Cust Class","Res","North"]
[null,"MonthFlow","Meter Read Dates",null,"Days/\nCycle","Heating Degree Days",null,"Difference","No. of Bills","Beta Coeff.","WNAR","WRVR","WNAi"]
[null,null,"Begin","End",null,"NDDij","ADDij","(NDDij - ADDij)","Cij","b","h*i*j","Vol. Rate","k*l"]
[null,{"$f":"$C$6","v":"2022-09-01"},{"$f":"SUMPRODUCT((MeterReadSch[MonthBill]=$B11)*MeterReadSch[North])","v":"2022-08-29"},{"$f":"SUMPRODUCT((MeterReadSch[MonthFlow]=$B11)*MeterReadSch[North])","v":"2022-09-29"},{"$f":"D11-C11","v":31},{"$f":"SUMPRODUCT((KCITempAct[Date]>=$C11)*(KCITempAct[Date]<$D11)*KCITempAct[KCINHDDAdj])","v":45.100000000000009},{"$f":"SUMPRODUCT((KCITempAct[Date]>=$C11)*(KCITempAct[Date]<$D11)*KCITempAct[KCIHDDAdj])","v":17.5},{"$f":"F11-G11","v":27.600000000000009},{"$f":"SUMPRODUCT((CustCount[MonthFlow]=$B11)*CustCount[N-RS])","v":7912},{"$f":"INDEX(BetaCoeff[BetaCoeff],MATCH(C$8,BetaCoeff[CustClass],0))","v":0.1234365},{"$f":"H11*I11*J11","v":26954.97662880001},{"$f":"SUMPRODUCT((VolRates[BeginDate]<=B11)*(VolRates[EndDate]>=D11)*(VolRates[CustClass]=$C$8)*VolRates[VolRate])","v":0.21748000000000001},{"$f":"ROUND(K11*L11,2)","v":5862.17}]
[null,{"$f":"EDATE(B11,1)","v":"2022-10-01"},{"$f":"SUMPRODUCT((MeterReadSch[MonthBill]=$B12)*MeterReadSch[North])","v":"2022-09-29"},{"$f":"SUMPRODUCT((MeterReadSch[MonthFlow]=$B12)*MeterReadSch[North])","v":"2022-10-31"},{"$f":"D12-C12","v":32},{"$f":"SUMPRODUCT((KCITempAct[Date]>=$C12)*(KCITempAct[Date]<$D12)*KCITempAct[KCINHDDAdj])","v":282.13333333333333},{"$f":"SUMPRODUCT((KCITempAct[Date]>=$C12)*(KCITempAct[Date]<$D12)*KCITempAct[KCIHDDAdj])","v":234.5},47.633333333333326,{"$f":"SUMPRODUCT((CustCount[MonthFlow]=$B12)*CustCount[N-RS])","v":8077},{"$f":"INDEX(BetaCoeff[BetaCoeff],MATCH(C$8,BetaCoeff[CustClass],0))","v":0.1234365},47490.271880149994,{"$f":"SUMPRODUCT((VolRates[BeginDate]<=B12)*(VolRates[EndDate]>=D12)*(VolRates[CustClass]=$C$8)*VolRates[VolRate])","v":0.21748000000000001},{"$f":"ROUND(K12*L12,2)","v":10328.18}]
[null,{"$f":"EDATE(B12,1)","v":"2022-11-01"},{"$f":"SUMPRODUCT((MeterReadSch[MonthBill]=$B13)*MeterReadSch[North])","v":"2022-10-31"},{"$f":"SUMPRODUCT((MeterReadSch[MonthFlow]=$B13)*MeterReadSch[North])","v":"2022-11-28"},28,{"$f":"SUMPRODUCT((KCITempAct[Date]>=$C13)*(KCITempAct[Date]<$D13)*KCITempAct[KCINHDDAdj])","v":576.73333333333346},{"$f":"SUMPRODUCT((KCITempAct[Date]>=$C13)*(KCITempAct[Date]<$D13)*KCITempAct[KCIHDDAdj])","v":566},10.733333333333462,{"$f":"SUMPRODUCT((CustCount[MonthFlow]=$B13)*CustCount[N-RS])","v":8147},{"$f":"INDEX(BetaCoeff[BetaCoeff],MATCH(C$8,BetaCoeff[CustClass],0))","v":0.1234365},10793.838909700131,{"$f":"SUMPRODUCT((VolRates[BeginDate]<=B13)*(VolRates[EndDate]>=D13)*(VolRates[CustClass]=$C$8)*VolRates[VolRate])","v":0.21748000000000001},2347.44]
[null,{"$f":"EDATE(B13,1)","v":"2022-12-01"},{"$f":"SUMPRODUCT((MeterReadSch[MonthBill]=$B14)*MeterReadSch[North])","v":"2022-11-28"},{"$f":"SUMPRODUCT((MeterReadSch[MonthFlow]=$B14)*MeterReadSch[North])","v":"2022-12-28"},30,{"$f":"SUMPRODUCT((KCITempAct[Date]>=$C14)*(KCITempAct[Date]<$D14)*KCITempAct[KCINHDDAdj])","v":928.16666666666663},{"$f":"SUMPRODUCT((KCITempAct[Date]>=$C14)*(KCITempAct[Date]<$D14)*KCITempAct[KCIHDDAdj])","v":998.5},-70.333333333333371,{"$f":"SUMPRODUCT((CustCount[MonthFlow]=$B14)*CustCount[N-RS])","v":8157},{"$f":"INDEX(BetaCoeff[BetaCoeff],MATCH(C$8,BetaCoeff[CustClass],0))","v":0.1234365},-70816.630978500049,{"$f":"SUMPRODUCT((VolRates[BeginDate]<=B14)*(VolRates[EndDate]>=D14)*(VolRates[CustClass]=$C$8)*VolRates[VolRate])","v":0.21748000000000001},-15401.2]
[null,{"$f":"EDATE(B14,1)","v":"2023-01-01"},{"$f":"SUMPRODUCT((MeterReadSch[MonthBill]=$B15)*MeterReadSch[North])","v":"2022-12-28"},{"$f":"SUMPRODUCT((MeterReadSch[MonthFlow]=$B15)*MeterReadSch[North])","v":"2023-01-27"},30,{"$f":"SUMPRODUCT((KCITempAct[Date]>=$C15)*(KCITempAct[Date]<$D15)*KCITempAct[KCINHDDAdj])","v":1065.583333333333},{"$f":"SUMPRODUCT((KCITempAct[Date]>=$C15)*(KCITempAct[Date]<$D15)*KCITempAct[KCIHDDAdj])","v":771},294.58333333333303,{"$f":"SUMPRODUCT((CustCount[MonthFlow]=$B15)*CustCount[N-RS])","v":8162},{"$f":"INDEX(BetaCoeff[BetaCoeff],MATCH(C$8,BetaCoeff[CustClass],0))","v":0.1234365},296789.38337124971,{"$f":"SUMPRODUCT((VolRates[BeginDate]<=B15)*(VolRates[EndDate]>=D15)*(VolRates[CustClass]=$C$8)*VolRates[VolRate])","v":0.21748000000000001},64545.760000000002]
[null,{"$f":"EDATE(B15,1)","v":"2023-02-01"},{"$f":"SUMPRODUCT((MeterReadSch[MonthBill]=$B16)*MeterReadSch[North])","v":"2023-01-27"},{"$f":"SUMPRODUCT((MeterReadSch[MonthFlow]=$B16)*MeterReadSch[North])","v":"2023-02-26"},30,{"$f":"SUMPRODUCT((KCITempAct[Date]>=$C16)*(KCITempAct[Date]<$D16)*KCITempAct[KCINHDDAdj])","v":971.78333333333319},{"$f":"SUMPRODUCT((KCITempAct[Date]>=$C16)*(KCITempAct[Date]<$D16)*KCITempAct[KCIHDDAdj])","v":909},62.783333333333189,{"$f":"SUMPRODUCT((CustCount[MonthFlow]=$B16)*CustCount[N-RS])","v":8155},{"$f":"INDEX(BetaCoeff[BetaCoeff],MATCH(C$8,BetaCoeff[CustClass],0))","v":0.1234365},63199.251413374855,{"$f":"SUMPRODUCT((VolRates[BeginDate]<=B16)*(VolRates[EndDate]>=D16)*(VolRates[CustClass]=$C$8)*VolRates[VolRate])","v":0.21748000000000001},13744.57]
[null,{"$f":"EDATE(B16,1)","v":"2023-03-01"},{"$f":"SUMPRODUCT((MeterReadSch[MonthBill]=$B17)*MeterReadSch[North])","v":"2023-02-26"},{"$f":"SUMPRODUCT((MeterReadSch[MonthFlow]=$B17)*MeterReadSch[North])","v":"2023-03-29"},31,{"$f":"SUMPRODUCT((KCITempAct[Date]>=$C17)*(KCITempAct[Date]<$D17)*KCITempAct[KCINHDDAdj])","v":675.58333333333326},{"$f":"SUMPRODUCT((KCITempAct[Date]>=$C17)*(KCITempAct[Date]<$D17)*KCITempAct[KCIHDDAdj])","v":727},{"$f":"F17-G17","v":-51.416666666666742},{"$f":"SUMPRODUCT((CustCount[MonthFlow]=$B17)*CustCount[N-RS])","v":8052},{"$f":"INDEX(BetaCoeff[BetaCoeff],MATCH(C$8,BetaCoeff[CustClass],0))","v":0.1234365},{"$f":"H17*I17*J17","v":-51103.57505550007},{"$f":"SUMPRODUCT((VolRates[BeginDate]<=B17)*(VolRates[EndDate]>=D17)*(VolRates[CustClass]=$C$8)*VolRates[VolRate])","v":0.21748000000000001},-11114.01]
[null,"2023-04-01",{"$f":"SUMPRODUCT((MeterReadSch[MonthBill]=$B18)*MeterReadSch[North])","v":"2023-03-29"},{"$f":"SUMPRODUCT((MeterReadSch[MonthFlow]=$B18)*MeterReadSch[North])","v":"2023-04-28"},30,{"$f":"SUMPRODUCT((KCITempAct[Date]>=$C18)*(KCITempAct[Date]<$D18)*KCITempAct[KCINHDDAdj])","v":346.7},{"$f":"SUMPRODUCT((KCITempAct[Date]>=$C18)*(KCITempAct[Date]<$D18)*KCITempAct[KCIHDDAdj])","v":307},39.699999999999989,{"$f":"SUMPRODUCT((CustCount[MonthFlow]=$B18)*CustCount[N-RS])","v":7976},{"$f":"INDEX(BetaCoeff[BetaCoeff],MATCH(C$8,BetaCoeff[CustClass],0))","v":0.1234365},39085.82210279999,{"$f":"SUMPRODUCT((VolRates[BeginDate]<=B18)*(VolRates[EndDate]>=D18)*(VolRates[CustClass]=$C$8)*VolRates[VolRate])","v":0.21748000000000001},8500.3799999999992]
[null,"2023-05-01",{"$f":"SUMPRODUCT((MeterReadSch[MonthBill]=$B19)*MeterReadSch[North])","v":"2023-04-28"},{"$f":"SUMPRODUCT((MeterReadSch[MonthFlow]=$B19)*MeterReadSch[North])","v":"2023-05-30"},32,{"$f":"SUMPRODUCT((KCITempAct[Date]>=$C19)*(KCITempAct[Date]<$D19)*KCITempAct[KCINHDDAdj])","v":129.01666666666662},{"$f":"SUMPRODUCT((KCITempAct[Date]>=$C19)*(KCITempAct[Date]<$D19)*KCITempAct[KCIHDDAdj])","v":87},42.016666666666623,{"$f":"SUMPRODUCT((CustCount[MonthFlow]=$B19)*CustCount[N-RS])","v":7738},{"$f":"INDEX(BetaCoeff[BetaCoeff],MATCH(C$8,BetaCoeff[CustClass],0))","v":0.1234365},40132.287947949961,{"$f":"SUMPRODUCT((VolRates[BeginDate]<=B19)*(VolRates[EndDate]>=D19)*(VolRates[CustClass]=$C$8)*VolRates[VolRate])","v":0.21748000000000001},8727.9699999999993]
[null,"2023-06-01",{"$f":"SUMPRODUCT((MeterReadSch[MonthBill]=$B20)*MeterReadSch[North])","v":"2023-05-30"},{"$f":"SUMPRODUCT((MeterReadSch[MonthFlow]=$B20)*MeterReadSch[North])","v":"2023-06-28"},29,{"$f":"SUMPRODUCT((KCITempAct[Date]>=$C20)*(KCITempAct[Date]<$D20)*KCITempAct[KCINHDDAdj])","v":8.4833333333333343},{"$f":"SUMPRODUCT((KCITempAct[Date]>=$C20)*(KCITempAct[Date]<$D20)*KCITempAct[KCIHDDAdj])","v":2.5},5.9833333333333343,{"$f":"SUMPRODUCT((CustCount[MonthFlow]=$B20)*CustCount[N-RS])","v":7699},{"$f":"INDEX(BetaCoeff[BetaCoeff],MATCH(C$8,BetaCoeff[CustClass],0))","v":0.1234365},5686.186720775001,{"$f":"SUMPRODUCT((VolRates[BeginDate]<=B20)*(VolRates[EndDate]>=D20)*(VolRates[CustClass]=$C$8)*VolRates[VolRate])","v":0.21748000000000001},1236.6300000000001]
[null,"2023-07-01",{"$f":"SUMPRODUCT((MeterReadSch[MonthBill]=$B21)*MeterReadSch[North])","v":"2023-06-28"},{"$f":"SUMPRODUCT((MeterReadSch[MonthFlow]=$B21)*MeterReadSch[North])","v":"2023-07-25"},27,{"$f":"SUMPRODUCT((KCITempAct[Date]>=$C21)*(KCITempAct[Date]<$D21)*KCITempAct[KCINHDDAdj])","v":1.6666666666666666E-2},{"$f":"SUMPRODUCT((KCITempAct[Date]>=$C21)*(KCITempAct[Date]<$D21)*KCITempAct[KCIHDDAdj])","v":0},1.6666666666666666E-2,{"$f":"SUMPRODUCT((CustCount[MonthFlow]=$B21)*CustCount[N-RS])","v":0},{"$f":"INDEX(BetaCoeff[BetaCoeff],MATCH(C$8,BetaCoeff[CustClass],0))","v":0.1234365},0,{"$f":"SUMPRODUCT((VolRates[BeginDate]<=B21)*(VolRates[EndDate]>=D21)*(VolRates[CustClass]=$C$8)*VolRates[VolRate])","v":0.21748000000000001},0]
[null,{"$f":"EDATE(B21,1)","v":"2023-08-01"},{"$f":"SUMPRODUCT((MeterReadSch[MonthBill]=$B22)*MeterReadSch[North])","v":"2023-07-25"},{"$f":"SUMPRODUCT((MeterReadSch[MonthFlow]=$B22)*MeterReadSch[North])","v":"2023-08-25"},31,{"$f":"SUMPRODUCT((KCITempAct[Date]>=$C22)*(KCITempAct[Date]<$D22)*KCITempAct[KCINHDDAdj])","v":0},{"$f":"SUMPRODUCT((KCITempAct[Date]>=$C22)*(KCITempAct[Date]<$D22)*KCITempAct[KCIHDDAdj])","v":0},0,{"$f":"SUMPRODUCT((CustCount[MonthFlow]=$B22)*CustCount[N-RS])","v":0},{"$f":"INDEX(BetaCoeff[BetaCoeff],MATCH(C$8,BetaCoeff[CustClass],0))","v":0.1234365},0,{"$f":"SUMPRODUCT((VolRates[BeginDate]<=B22)*(VolRates[EndDate]>=D22)*(VolRates[CustClass]=$C$8)*VolRates[VolRate])","v":0.21748000000000001},0]
[null,"Totals",{"$f":"C11","v":"2022-08-29"},{"$f":"D22","v":"2023-08-25"},361,{"$f":"SUM(F11:F22)","v":5029.2999999999993},{"$f":"SUM(G11:G22)","v":4620},409.2999999999995,80075,{"$f":"J22","v":0.1234365},408211.81294079951,{"$f":"ROUND(M23/K23,5)","v":0.21748000000000001},88777.890000000029]
[null,"Reconciling Period Adj.",null,{"$f":"M23","v":88777.890000000029},"Enter in Reconciling Period Adjustment Table (ReconPerAdj)"]
[null,"Enter WNA Amounts in Column M in CAWNA Amounts Table"]
[]
[null,"Small Comm.","SCFS","North"]
[null,"MonthFlow","Meter Read Dates",null,"Days/\nCycle","Heating Degree Days",null,"Difference","No. of Bills","Beta Coeff.","WNAR","WRVR","WNAi"]
[null,null,"Begin","End",null,"NDDij","ADDij","(NDDij - ADDij)","Cij","b","h*i*j","Vol. Rate","k*l"]
[null,{"$f":"$C$6","v":"2022-09-01"},{"$f":"SUMPRODUCT((MeterReadSch[MonthBill]=$B30)*MeterReadSch[North])","v":"2022-08-29"},{"$f":"SUMPRODUCT((MeterReadSch[MonthFlow]=$B30)*MeterReadSch[North])","v":"2022-09-29"},{"$f":"D30-C30","v":31},{"$f":"SUMPRODUCT((KCITempAct[Date]>=$C30)*(KCITempAct[Date]<$D30)*KCITempAct[KCINHDDAdj])","v":45.100000000000009},{"$f":"SUMPRODUCT((KCITempAct[Date]>=$C30)*(KCITempAct[Date]<$D30)*KCITempAct[KCIHDDAdj])","v":17.5},{"$f":"F30-G30","v":27.600000000000009},{"$f":"SUMPRODUCT((CustCount[MonthFlow]=$B30)*CustCount[N-SC])","v":1128},{"$f":"INDEX(BetaCoeff[BetaCoeff],MATCH(C$27,BetaCoeff[CustClass],0))","v":0.27932790000000002},{"$f":"H30*I30*J30","v":8696.2596451200043},{"$f":"SUMPRODUCT((VolRates[BeginDate]<=B30)*(VolRates[EndDate]>=D30)*(VolRates[CustClass]=$C$27)*VolRates[VolRate])","v":0.26033000000000001},{"$f":"ROUND(K30*L30,2)","v":2263.9}]
[null,{"$f":"EDATE(B30,1)","v":"2022-10-01"},{"$f":"SUMPRODUCT((MeterReadSch[MonthBill]=$B31)*MeterReadSch[North])","v":"2022-09-29"},{"$f":"SUMPRODUCT((MeterReadSch[MonthFlow]=$B31)*MeterReadSch[North])","v":"2022-10-31"},{"$f":"D31-C31","v":32},{"$f":"SUMPRODUCT((KCITempAct[Date]>=$C31)*(KCITempAct[Date]<$D31)*KCITempAct[KCINHDDAdj])","v":282.13333333333333},{"$f":"SUMPRODUCT((KCITempAct[Date]>=$C31)*(KCITempAct[Date]<$D31)*KCITempAct[KCIHDDAdj])","v":234.5},{"$f":"F31-G31","v":47.633333333333326},{"$f":"SUMPRODUCT((CustCount[MonthFlow]=$B31)*CustCount[N-SC])","v":1138},{"$f":"INDEX(BetaCoeff[BetaCoeff],MATCH(C$27,BetaCoeff[CustClass],0))","v":0.27932790000000002},{"$f":"H31*I31*J31","v":15141.452987859999},{"$f":"SUMPRODUCT((VolRates[BeginDate]<=B31)*(VolRates[EndDate]>=D31)*(VolRates[CustClass]=$C$27)*VolRates[VolRate])","v":0.26033000000000001},{"$f":"ROUND(K31*L31,2)","v":3941.77}]
[null,{"$f":"EDATE(B31,1)","v":"2022-11-01"},{"$f":"SUMPRODUCT((MeterReadSch[MonthBill]=$B32)*MeterReadSch[North])","v":"2022-10-31"},{"$f":"SUMPRODUCT((MeterReadSch[MonthFlow]=$B32)*MeterReadSch[North])","v":"2022-11-28"},28,{"$f":"SUMPRODUCT((KCITempAct[Date]>=$C32)*(KCITempAct[Date]<$D32)*KCITempAct[KCINHDDAdj])","v":576.73333333333346},{"$f":"SUMPRODUCT((KCITempAct[Date]>=$C32)*(KCITempAct[Date]<$D32)*KCITempAct[KCIHDDAdj])","v":566},10.733333333333462,{"$f":"SUMPRODUCT((CustCount[MonthFlow]=$B32)*CustCount[N-SC])","v":1146},{"$f":"INDEX(BetaCoeff[BetaCoeff],MATCH(C$27,BetaCoeff[CustClass],0))","v":0.27932790000000002},3435.8449011600414,{"$f":"SUMPRODUCT((VolRates[BeginDate]<=B32)*(VolRates[EndDate]>=D32)*(VolRates[CustClass]=$C$27)*VolRates[VolRate])","v":0.26033000000000001},894.45]
[null,"2022-12-01",{"$f":"SUMPRODUCT((MeterReadSch[MonthBill]=$B33)*MeterReadSch[North])","v":"2022-11-28"},{"$f":"SUMPRODUCT((MeterReadSch[MonthFlow]=$B33)*MeterReadSch[North])","v":"2022-12-28"},30,{"$f":"SUMPRODUCT((KCITempAct[Date]>=$C33)*(KCITempAct[Date]<$D33)*KCITempAct[KCINHDDAdj])","v":928.16666666666663},{"$f":"SUMPRODUCT((KCITempAct[Date]>=$C33)*(KCITempAct[Date]<$D33)*KCITempAct[KCIHDDAdj])","v":998.5},-70.333333333333371,{"$f":"SUMPRODUCT((CustCount[MonthFlow]=$B33)*CustCount[N-SC])","v":1143},{"$f":"INDEX(BetaCoeff[BetaCoeff],MATCH(C$27,BetaCoeff[CustClass],0))","v":0.27932790000000002},-22455.449208900012,{"$f":"SUMPRODUCT((VolRates[BeginDate]<=B33)*(VolRates[EndDate]>=D33)*(VolRates[CustClass]=$C$27)*VolRates[VolRate])","v":0.26033000000000001},-5845.83]
[null,"2023-01-01",{"$f":"SUMPRODUCT((MeterReadSch[MonthBill]=$B34)*MeterReadSch[North])","v":"2022-12-28"},{"$f":"SUMPRODUCT((MeterReadSch[MonthFlow]=$B34)*MeterReadSch[North])","v":"2023-01-27"},30,{"$f":"SUMPRODUCT((KCITempAct[Date]>=$C34)*(KCITempAct[Date]<$D34)*KCITempAct[KCINHDDAdj])","v":1065.583333333333},{"$f":"SUMPRODUCT((KCITempAct[Date]>=$C34)*(KCITempAct[Date]<$D34)*KCITempAct[KCIHDDAdj])","v":771},294.58333333333303,{"$f":"SUMPRODUCT((CustCount[MonthFlow]=$B34)*CustCount[N-SC])","v":1143},{"$f":"INDEX(BetaCoeff[BetaCoeff],MATCH(C$27,BetaCoeff[CustClass],0))","v":0.27932790000000002},94052.148049124909,{"$f":"SUMPRODUCT((VolRates[BeginDate]<=B34)*(VolRates[EndDate]>=D34)*(VolRates[CustClass]=$C$27)*VolRates[VolRate])","v":0.26033000000000001},24484.6]
[null,"2023-02-01",{"$f":"SUMPRODUCT((MeterReadSch[MonthBill]=$B35)*MeterReadSch[North])","v":"2023-01-27"},{"$f":"SUMPRODUCT((MeterReadSch[MonthFlow]=$B35)*MeterReadSch[North])","v":"2023-02-26"},30,{"$f":"SUMPRODUCT((KCITempAct[Date]>=$C35)*(KCITempAct[Date]<$D35)*KCITempAct[KCINHDDAdj])","v":971.78333333333319},{"$f":"SUMPRODUCT((KCITempAct[Date]>=$C35)*(KCITempAct[Date]<$D35)*KCITempAct[KCIHDDAdj])","v":909},62.783333333333189,{"$f":"SUMPRODUCT((CustCount[MonthFlow]=$B35)*CustCount[N-SC])","v":1139},{"$f":"INDEX(BetaCoeff[BetaCoeff],MATCH(C$27,BetaCoeff[CustClass],0))","v":0.27932790000000002},19974.798650044955,{"$f":"SUMPRODUCT((VolRates[BeginDate]<=B35)*(VolRates[EndDate]>=D35)*(VolRates[CustClass]=$C$27)*VolRates[VolRate])","v":0.26033000000000001},5200.04]
[null,"2023-03-01",{"$f":"SUMPRODUCT((MeterReadSch[MonthBill]=$B36)*MeterReadSch[North])","v":"2023-02-26"},{"$f":"SUMPRODUCT((MeterReadSch[MonthFlow]=$B36)*MeterReadSch[North])","v":"2023-03-29"},31,{"$f":"SUMPRODUCT((KCITempAct[Date]>=$C36)*(KCITempAct[Date]<$D36)*KCITempAct[KCINHDDAdj])","v":675.58333333333326},{"$f":"SUMPRODUCT((KCITempAct[Date]>=$C36)*(KCITempAct[Date]<$D36)*KCITempAct[KCIHDDAdj])","v":727},-51.416666666666742,{"$f":"SUMPRODUCT((CustCount[MonthFlow]=$B36)*CustCount[N-SC])","v":1136},{"$f":"INDEX(BetaCoeff[BetaCoeff],MATCH(C$27,BetaCoeff[CustClass],0))","v":0.27932790000000002},-16315.356420400025,{"$f":"SUMPRODUCT((VolRates[BeginDate]<=B36)*(VolRates[EndDate]>=D36)*(VolRates[CustClass]=$C$27)*VolRates[VolRate])","v":0.26033000000000001},-4247.38]
[null,"2023-04-01",{"$f":"SUMPRODUCT((MeterReadSch[MonthBill]=$B37)*MeterReadSch[North])","v":"2023-03-29"},{"$f":"SUMPRODUCT((MeterReadSch[MonthFlow]=$B37)*MeterReadSch[North])","v":"2023-04-28"},30,{"$f":"SUMPRODUCT((KCITempAct[Date]>=$C37)*(KCITempAct[Date]<$D37)*KCITempAct[KCINHDDAdj])","v":346.7},{"$f":"SUMPRODUCT((KCITempAct[Date]>=$C37)*(KCITempAct[Date]<$D37)*KCITempAct[KCIHDDAdj])","v":307},39.699999999999989,{"$f":"SUMPRODUCT((CustCount[MonthFlow]=$B37)*CustCount[N-SC])","v":1128},{"$f":"INDEX(BetaCoeff[BetaCoeff],MATCH(C$27,BetaCoeff[CustClass],0))","v":0.27932790000000002},12508.750286639995,{"$f":"SUMPRODUCT((VolRates[BeginDate]<=B37)*(VolRates[EndDate]>=D37)*(VolRates[CustClass]=$C$27)*VolRates[VolRate])","v":0.26033000000000001},3256.4]
[null,{"$f":"EDATE(B37,1)","v":"2023-05-01"},{"$f":"SUMPRODUCT((MeterReadSch[MonthBill]=$B38)*MeterReadSch[North])","v":"2023-04-28"},{"$f":"SUMPRODUCT((MeterReadSch[MonthFlow]=$B38)*MeterReadSch[North])","v":"2023-05-30"},32,{"$f":"SUMPRODUCT((KCITempAct[Date]>=$C38)*(KCITempAct[Date]<$D38)*KCITempAct[KCINHDDAdj])","v":129.01666666666662},{"$f":"SUMPRODUCT((KCITempAct[Date]>=$C38)*(KCITempAct[Date]<$D38)*KCITempAct[KCIHDDAdj])","v":87},42.016666666666623,{"$f":"SUMPRODUCT((CustCount[MonthFlow]=$B38)*CustCount[N-SC])","v":1119},{"$f":"INDEX(BetaCoeff[BetaCoeff],MATCH(C$27,BetaCoeff[CustClass],0))","v":0.27932790000000002},13133.062109534987,{"$f":"SUMPRODUCT((VolRates[BeginDate]<=B38)*(VolRates[EndDate]>=D38)*(VolRates[CustClass]=$C$27)*VolRates[VolRate])","v":0.26033000000000001},3418.93]
[null,"2023-06-01",{"$f":"SUMPRODUCT((MeterReadSch[MonthBill]=$B39)*MeterReadSch[North])","v":"2023-05-30"},{"$f":"SUMPRODUCT((MeterReadSch[MonthFlow]=$B39)*MeterReadSch[North])","v":"2023-06-28"},29,{"$f":"SUMPRODUCT((KCITempAct[Date]>=$C39)*(KCITempAct[Date]<$D39)*KCITempAct[KCINHDDAdj])","v":8.4833333333333343},{"$f":"SUMPRODUCT((KCITempAct[Date]>=$C39)*(KCITempAct[Date]<$D39)*KCITempAct[KCIHDDAdj])","v":2.5},5.9833333333333343,{"$f":"SUMPRODUCT((CustCount[MonthFlow]=$B39)*CustCount[N-SC])","v":1117},{"$f":"INDEX(BetaCoeff[BetaCoeff],MATCH(C$27,BetaCoeff[CustClass],0))","v":0.27932790000000002},1866.8554313950003,{"$f":"SUMPRODUCT((VolRates[BeginDate]<=B39)*(VolRates[EndDate]>=D39)*(VolRates[CustClass]=$C$27)*VolRates[VolRate])","v":0.26033000000000001},486]
[null,"2023-07-01",{"$f":"SUMPRODUCT((MeterReadSch[MonthBill]=$B40)*MeterReadSch[North])","v":"2023-06-28"},{"$f":"SUMPRODUCT((MeterReadSch[MonthFlow]=$B40)*MeterReadSch[North])","v":"2023-07-25"},27,{"$f":"SUMPRODUCT((KCITempAct[Date]>=$C40)*(KCITempAct[Date]<$D40)*KCITempAct[KCINHDDAdj])","v":1.6666666666666666E-2},{"$f":"SUMPRODUCT((KCITempAct[Date]>=$C40)*(KCITempAct[Date]<$D40)*KCITempAct[KCIHDDAdj])","v":0},1.6666666666666666E-2,{"$f":"SUMPRODUCT((CustCount[MonthFlow]=$B40)*CustCount[N-SC])","v":0},{"$f":"INDEX(BetaCoeff[BetaCoeff],MATCH(C$27,BetaCoeff[CustClass],0))","v":0.27932790000000002},0,{"$f":"SUMPRODUCT((VolRates[BeginDate]<=B40)*(VolRates[EndDate]>=D40)*(VolRates[CustClass]=$C$27)*VolRates[VolRate])","v":0.26033000000000001},0]
[null,"2023-08-01",{"$f":"SUMPRODUCT((MeterReadSch[MonthBill]=$B41)*MeterReadSch[North])","v":"2023-07-25"},{"$f":"SUMPRODUCT((MeterReadSch[MonthFlow]=$B41)*MeterReadSch[North])","v":"2023-08-25"},31,{"$f":"SUMPRODUCT((KCITempAct[Date]>=$C41)*(KCITempAct[Date]<$D41)*KCITempAct[KCINHDDAdj])","v":0},{"$f":"SUMPRODUCT((KCITempAct[Date]>=$C41)*(KCITempAct[Date]<$D41)*KCITempAct[KCIHDDAdj])","v":0},0,{"$f":"SUMPRODUCT((CustCount[MonthFlow]=$B41)*CustCount[N-SC])","v":0},{"$f":"INDEX(BetaCoeff[BetaCoeff],MATCH(C$27,BetaCoeff[CustClass],0))","v":0.27932790000000002},0,{"$f":"SUMPRODUCT((VolRates[BeginDate]<=B41)*(VolRates[EndDate]>=D41)*(VolRates[CustClass]=$C$27)*VolRates[VolRate])","v":0.26033000000000001},0]
[null,"Totals",{"$f":"C30","v":"2022-08-29"},{"$f":"D41","v":"2023-08-25"},{"$f":"D42-C42","v":361},{"$f":"SUM(F30:F41)","v":5029.2999999999993},{"$f":"SUM(G30:G41)","v":4620},{"$f":"SUM(H30:H41)","v":409.2999999999995},{"$f":"SUM(I30:I41)","v":11337},{"$f":"J41","v":0.27932790000000002},{"$f":"SUM(K30:K41)","v":130038.36643157985},{"$f":"ROUND(M42/K42,5)","v":0.26033000000000001},{"$f":"SUM(M30:M41)","v":33852.879999999997}]
[null,"Reconciling Period Adj.",null,{"$f":"M42","v":33852.879999999997},"Enter in Reconciling Period Adjustment Table (ReconPerAdj)"]
[null,"Enter WNA Amounts in Column M in CAWNA Amounts Table"]

{"sheet":"WNAR Rates","index":7,"n_rows":3,"n_cols":12,"rows_kept":3,"cut":false,"hidden":false,"merged":[]}
["Year","BeginDate","EndDate","CustClass","CAWNA","ARR","Combined","AdjCAWNA","AdjSRR","AdjCombined","Preparer's Notes","Reviewer's Notes"]
[2023,"2023-10-01","2024-09-30","Res",1.6320000000000001E-2,0,{"$f":"WNARRates[[#This Row],[CAWNA]]+WNARRates[[#This Row],[ARR]]","v":1.6320000000000001E-2},{"$f":"WNARRates[[#This Row],[CAWNA]]","v":1.6320000000000001E-2},{"$f":"WNARRates[[#This Row],[ARR]]","v":0},{"$f":"WNARRates[[#This Row],[AdjCAWNA]]+WNARRates[[#This Row],[AdjSRR]]","v":1.6320000000000001E-2},"Worksheet CAWNA Summary row 29, column C"]
[2023,"2023-10-01","2024-09-30","SCFS",1.8960000000000001E-2,0,{"$f":"WNARRates[[#This Row],[CAWNA]]+WNARRates[[#This Row],[ARR]]","v":1.8960000000000001E-2},{"$f":"WNARRates[[#This Row],[CAWNA]]","v":1.8960000000000001E-2},{"$f":"WNARRates[[#This Row],[ARR]]","v":0},{"$f":"WNARRates[[#This Row],[AdjCAWNA]]+WNARRates[[#This Row],[AdjSRR]]","v":1.8960000000000001E-2},"Worksheet CAWNA Summary row 29, column D"]

{"sheet":"CAWNA Amounts","index":8,"n_rows":73,"n_cols":6,"rows_kept":73,"cut":false,"hidden":false,"merged":[]}
["Month","Territory","CustClass","CAWNA","Preparer's Notes","Reviewer's Notes"]
["2022-09-01","North","Res",5862.17,"Worksheet CAWNA North row 11, column M"]
["2022-10-01","North","Res",10328.18,"Worksheet CAWNA North row 12, column M"]
["2022-11-01","North","Res",2347.44,"Worksheet CAWNA North row 13, column M"]
["2022-12-01","North","Res",-15401.2,"Worksheet CAWNA North row 14, column M"]
["2023-01-01","North","Res",64545.760000000002,"Worksheet CAWNA North row 15, column M"]
["2023-02-01","North","Res",13744.57,"Worksheet CAWNA North row 16, column M"]
["2023-03-01","North","Res",-11114.01,"Worksheet CAWNA North row 17, column M"]
["2023-04-01","North","Res",8500.3799999999992,"Worksheet CAWNA North row 18, column M"]
["2023-05-01","North","Res",8727.9699999999993,"Worksheet CAWNA North row 19, column M"]
["2023-06-01","North","Res",1236.6300000000001,"Worksheet CAWNA North row 20, column M"]
["2023-07-01","North","Res",0,"Worksheet CAWNA North row 21, column M"]
["2023-08-01","North","Res",0,"Worksheet CAWNA North row 22, column M"]
["2022-09-01","North","SCFS",2263.9,"Worksheet CAWNA North row 30, column M"]
["2022-10-01","North","SCFS",3941.77,"Worksheet CAWNA North row 31, column M"]
["2022-11-01","North","SCFS",894.45,"Worksheet CAWNA North row 32, column M"]
["2022-12-01","North","SCFS",-5845.83,"Worksheet CAWNA North row 33, column M"]
["2023-01-01","North","SCFS",24484.6,"Worksheet CAWNA North row 34, column M"]
["2023-02-01","North","SCFS",5200.04,"Worksheet CAWNA North row 35, column M"]
["2023-03-01","North","SCFS",-4247.38,"Worksheet CAWNA North row 36, column M"]
["2023-04-01","North","SCFS",3256.4,"Worksheet CAWNA North row 37, column M"]
["2023-05-01","North","SCFS",3418.93,"Worksheet CAWNA North row 38, column M"]
["2023-06-01","North","SCFS",486,"Worksheet CAWNA North row 39, column M"]
["2023-07-01","North","SCFS",0,"Worksheet CAWNA North row 40, column M"]
["2023-08-01","North","SCFS",0,"Worksheet CAWNA North row 41, column M"]
["2022-09-01","NW","Res",3608.5,"Worksheet CAWNA NW row 11, column M"]
["2022-10-01","NW","Res",3967.81,"Worksheet CAWNA NW row 12, column M"]
["2022-11-01","NW","Res",3807.66,"Worksheet CAWNA NW row 13, column M"]
["2022-12-01","NW","Res",-8230.91,"Worksheet CAWNA NW row 14, column M"]
["2023-01-01","NW","Res",38795.629999999997,"Worksheet CAWNA NW row 15, column M"]
["2023-02-01","NW","Res",8280.85,"Worksheet CAWNA NW row 16, column M"]
["2023-03-01","NW","Res",-7034.51,"Worksheet CAWNA NW row 17, column M"]
["2023-04-01","NW","Res",3752.53,"Worksheet CAWNA NW row 18, column M"]
["2023-05-01","NW","Res",5757.77,"Worksheet CAWNA NW row 19, column M"]
["2023-06-01","NW","Res",748.66,"Worksheet CAWNA NW row 20, column M"]
["2023-07-01","NW","Res",0,"Worksheet CAWNA NW row 21, column M"]
["2023-08-01","NW","Res",0,"Worksheet CAWNA NW row 22, column M"]
["2022-09-01","NW","SCFS",1367.84,"Worksheet CAWNA NW row 30, column M"]
["2022-10-01","NW","SCFS",1494.12,"Worksheet CAWNA NW row 31, column M"]
["2022-11-01","NW","SCFS",1425.55,"Worksheet CAWNA NW row 32, column M"]
["2022-12-01","NW","SCFS",-3093.35,"Worksheet CAWNA NW row 33, column M"]
["2023-01-01","NW","SCFS",14583.82,"Worksheet CAWNA NW row 34, column M"]
["2023-02-01","NW","SCFS",3117.22,"Worksheet CAWNA NW row 35, column M"]
["2023-03-01","NW","SCFS",-2675.78,"Worksheet CAWNA NW row 36, column M"]
["2023-04-01","NW","SCFS",1437.17,"Worksheet CAWNA NW row 37, column M"]
["2023-05-01","NW","SCFS",2216.73,"Worksheet CAWNA NW row 38, column M"]
["2023-06-01","NW","SCFS",289.33999999999997,"Worksheet CAWNA NW row 39, column M"]
["2023-07-01","NW","SCFS",0,"Worksheet CAWNA NW row 40, column M"]
["2023-08-01","NW","SCFS",0,"Worksheet CAWNA NW row 41, column M"]
["2022-09-01","South","Res",18300.009999999998,"Worksheet CAWNA South row 11, column M"]
["2022-10-01","South","Res",31999.85,"Worksheet CAWNA South row 12, column M"]
["2022-11-01","South","Res",8210.26,"Worksheet CAWNA South row 13, column M"]
["2022-12-01","South","Res",-37580.269999999997,"Worksheet CAWNA South row 14, column M"]
["2023-01-01","South","Res",190196.8,"Worksheet CAWNA South row 15, column M"]
["2023-02-01","South","Res",47540.74,"Worksheet CAWNA South row 16, column M"]
["2023-03-01","South","Res",-45026.34,"Worksheet CAWNA South row 17, column M"]
["2023-04-01","South","Res",31942.85,"Worksheet CAWNA South row 18, column M"]
["2023-05-01","South","Res",26202.65,"Worksheet CAWNA South row 19, column M"]
["2023-06-01","South","Res",3930.59,"Worksheet CAWNA South row 20, column M"]
["2023-07-01","South","Res",0,"Worksheet CAWNA South row 21, column M"]
["2023-08-01","South","Res",0,"Worksheet CAWNA South row 22, column M"]
["2022-09-01","South","SCFS",5444.99,"Worksheet CAWNA South row 30, column M"]
["2022-10-01","South","SCFS",9497.67,"Worksheet CAWNA South row 31, column M"]
["2022-11-01","South","SCFS",2445.5700000000002,"Worksheet CAWNA South row 32, column M"]
["2022-12-01","South","SCFS",-11159.72,"Worksheet CAWNA South row 33, column M"]
["2023-01-01","South","SCFS",56264.9,"Worksheet CAWNA South row 34, column M"]
["2023-02-01","South","SCFS",14048.51,"Worksheet CAWNA South row 35, column M"]
["2023-03-01","South","SCFS",-13364.7,"Worksheet CAWNA South row 36, column M"]
["2023-04-01","South","SCFS",9498.77,"Worksheet CAWNA South row 37, column M"]
["2023-05-01","South","SCFS",7833.7,"Worksheet CAWNA South row 38, column M"]
["2023-06-01","South","SCFS",1173.8800000000001,"Worksheet CAWNA South row 39, column M"]
["2023-07-01","South","SCFS",0,"Worksheet CAWNA South row 40, column M"]
["2023-08-01","South","SCFS",0,"Worksheet CAWNA South row 41, column M"]

{"sheet":"NHDD","index":9,"n_rows":366,"n_cols":5,"rows_kept":366,"cut":false,"hidden":false,"merged":[]}
["Month","Day","KCINHDD","Preparer's Notes","Reviewer's Notes"]
[1,1,36.4,"From Commission Staff (rate case)"]
[1,2,35.583333333333336,"From Commission Staff (rate case)"]
[1,3,35.616666666666667,"From Commission Staff (rate case)"]
[1,4,37.56666666666667,"From Commission Staff (rate case)"]
[1,5,36.75,"From Commission Staff (rate case)"]
[1,6,37.416666666666664,"From Commission Staff (rate case)"]
[1,7,37.016666666666666,"From Commission Staff (rate case)"]
[1,8,34.483333333333334,"From Commission Staff (rate case)"]
[1,9,35.333333333333336,"From Commission Staff (rate case)"]
[1,10,35.466666666666669,"From Commission Staff (rate case)"]
[1,11,33.033333333333331,"From Commission Staff (rate case)"]
[1,12,35.31666666666667,"From Commission Staff (rate case)"]
[1,13,38.450000000000003,"From Commission Staff (rate case)"]
[1,14,36.016666666666666,"From Commission Staff (rate case)"]
[1,15,37.25,"From Commission Staff (rate case)"]
[1,16,36.733333333333334,"From Commission Staff (rate case)"]
[1,17,37.75,"From Commission Staff (rate case)"]
[1,18,37.166666666666664,"From Commission Staff (rate case)"]
[1,19,35.983333333333334,"From Commission Staff (rate case)"]
[1,20,35.93333333333333,"From Commission Staff (rate case)"]
[1,21,33.799999999999997,"From Commission Staff (rate case)"]
[1,22,33.43333333333333,"From Commission Staff (rate case)"]
[1,23,36.416666666666664,"From Commission Staff (rate case)"]
[1,24,35.799999999999997,"From Commission Staff (rate case)"]
[1,25,34.06666666666667,"From Commission Staff (rate case)"]
[1,26,33.049999999999997,"From Commission Staff (rate case)"]
[1,27,33.5,"From Commission Staff (rate case)"]
[1,28,33.06666666666667,"From Commission Staff (rate case)"]
[1,29,34.866666666666667,"From Commission Staff (rate case)"]
[1,30,36.31666666666667,"From Commission Staff (rate case)"]
[1,31,32.700000000000003,"From Commission Staff (rate case)"]
[2,1,33.266666666666666,"From Commission Staff (rate case)"]
[2,2,33.700000000000003,"From Commission Staff (rate case)"]
[2,3,32.666666666666664,"From Commission Staff (rate case)"]
[2,4,35.5,"From Commission Staff (rate case)"]
[2,5,35.616666666666667,"From Commission Staff (rate case)"]
[2,6,32.716666666666669,"From Commission Staff (rate case)"]
[2,7,34.333333333333336,"From Commission Staff (rate case)"]
[2,8,36.266666666666666,"From Commission Staff (rate case)"]
[2,9,34.516666666666666,"From Commission Staff (rate case)"]
[2,10,33.883333333333333,"From Commission Staff (rate case)"]
[2,11,35.083333333333336,"From Commission Staff (rate case)"]
[2,12,36.6,"From Commission Staff (rate case)"]
[2,13,33.266666666666666,"From Commission Staff (rate case)"]
[2,14,30.716666666666665,"From Commission Staff (rate case)"]
[2,15,33.766666666666666,"From Commission Staff (rate case)"]
[2,16,34.56666666666667,"From Commission Staff (rate case)"]
[2,17,29.55,"From Commission Staff (rate case)"]
[2,18,28.05,"From Commission Staff (rate case)"]
[2,19,27.25,"From Commission Staff (rate case)"]
[2,20,26.1,"From Commission Staff (rate case)"]
[2,21,29.15,"From Commission Staff (rate case)"]
[2,22,27.783333333333335,"From Commission Staff (rate case)"]
[2,23,27.9,"From Commission Staff (rate case)"]
[2,24,29.4,"From Commission Staff (rate case)"]
[2,25,29.683333333333334,"From Commission Staff (rate case)"]
[2,26,30.3,"From Commission Staff (rate case)"]
[2,27,30.65,"From Commission Staff (rate case)"]
[2,28,27.9,"From Commission Staff (rate case)"]
[3,1,27.533333333333335,"From Commission Staff (rate case)"]
[3,2,30.35,"From Commission Staff (rate case)"]
[3,3,28.8,"From Commission Staff (rate case)"]
[3,4,25.116666666666667,"From Commission Staff (rate case)"]
[3,5,23.933333333333334,"From Commission Staff (rate case)"]
[3,6,22.666666666666668,"From Commission Staff (rate case)"]
[3,7,22.05,"From Commission Staff (rate case)"]
[3,8,22.65,"From Commission Staff (rate case)"]
[3,9,24.183333333333334,"From Commission Staff (rate case)"]
[3,10,23.583333333333332,"From Commission Staff (rate case)"]
[3,11,22.616666666666667,"From Commission Staff (rate case)"]
[3,12,20.350000000000001,"From Commission Staff (rate case)"]
[3,13,19.5,"From Commission Staff (rate case)"]
[3,14,18.45,"From Commission Staff (rate case)"]
[3,15,19.149999999999999,"From Commission Staff (rate case)"]
[3,16,19.316666666666666,"From Commission Staff (rate case)"]
[3,17,17.983333333333334,"From Commission Staff (rate case)"]
[3,18,18.883333333333333,"From Commission Staff (rate case)"]
[3,19,19.166666666666668,"From Commission Staff (rate case)"]
[3,20,18.8,"From Commission Staff (rate case)"]
[3,21,18.649999999999999,"From Commission Staff (rate case)"]
[3,22,17.616666666666667,"From Commission Staff (rate case)"]
[3,23,15.4,"From Commission Staff (rate case)"]
[3,24,18.216666666666665,"From Commission Staff (rate case)"]
[3,25,19.916666666666668,"From Commission Staff (rate case)"]
[3,26,17.866666666666667,"From Commission Staff (rate case)"]
[3,27,17.266666666666666,"From Commission Staff (rate case)"]
[3,28,16.716666666666665,"From Commission Staff (rate case)"]
[3,29,14.566666666666666,"From Commission Staff (rate case)"]
[3,30,13.9,"From Commission Staff (rate case)"]
[3,31,15.366666666666667,"From Commission Staff (rate case)"]
[4,1,16.066666666666666,"From Commission Staff (rate case)"]
[4,2,13.633333333333333,"From Commission Staff (rate case)"]
[4,3,14,"From Commission Staff (rate case)"]
[4,4,15.95,"From Commission Staff (rate case)"]
[4,5,13.583333333333334,"From Commission Staff (rate case)"]
[4,6,11.633333333333333,"From Commission Staff (rate case)"]
[4,7,13.083333333333334,"From Commission Staff (rate case)"]
[4,8,13.666666666666666,"From Commission Staff (rate case)"]
[4,9,13.05,"From Commission Staff (rate case)"]
[4,10,11.066666666666666,"From Commission Staff (rate case)"]
[4,11,12.016666666666667,"From Commission Staff (rate case)"]
[4,12,13.85,"From Commission Staff (rate case)"]
[4,13,12.1,"From Commission Staff (rate case)"]
[4,14,10.199999999999999,"From Commission Staff (rate case)"]
[4,15,10.533333333333333,"From Commission Staff (rate case)"]
[4,16,10.483333333333333,"From Commission Staff (rate case)"]
[4,17,10.5,"From Commission Staff (rate case)"]
[4,18,7.9833333333333334,"From Commission Staff (rate case)"]
[4,19,8.1166666666666671,"From Commission Staff (rate case)"]
[4,20,9.6999999999999993,"From Commission Staff (rate case)"]
[4,21,9.3666666666666671,"From Commission Staff (rate case)"]
[4,22,9.4,"From Commission Staff (rate case)"]
[4,23,8.15,"From Commission Staff (rate case)"]
[4,24,7.4,"From Commission Staff (rate case)"]
[4,25,8.2833333333333332,"From Commission Staff (rate case)"]
[4,26,9.4833333333333325,"From Commission Staff (rate case)"]
[4,27,9.5666666666666664,"From Commission Staff (rate case)"]
[4,28,9.25,"From Commission Staff (rate case)"]
[4,29,7.916666666666667,"From Commission Staff (rate case)"]
[4,30,6.4833333333333334,"From Commission Staff (rate case)"]
[5,1,7.5666666666666664,"From Commission Staff (rate case)"]
[5,2,8.0500000000000007,"From Commission Staff (rate case)"]
[5,3,7.0166666666666666,"From Commission Staff (rate case)"]
[5,4,5.0333333333333332,"From Commission Staff (rate case)"]
[5,5,4.25,"From Commission Staff (rate case)"]
[5,6,3.3833333333333333,"From Commission Staff (rate case)"]
[5,7,3.4833333333333334,"From Commission Staff (rate case)"]
[5,8,2.4333333333333331,"From Commission Staff (rate case)"]
[5,9,4.2166666666666668,"From Commission Staff (rate case)"]
[5,10,4.2833333333333332,"From Commission Staff (rate case)"]
[5,11,4.7333333333333334,"From Commission Staff (rate case)"]
[5,12,5.5333333333333332,"From Commission Staff (rate case)"]
[5,13,4.8166666666666664,"From Commission Staff (rate case)"]
[5,14,5.05,"From Commission Staff (rate case)"]
[5,15,3.6,"From Commission Staff (rate case)"]
[5,16,3.35,"From Commission Staff (rate case)"]
[5,17,2.8,"From Commission Staff (rate case)"]
[5,18,2.7,"From Commission Staff (rate case)"]
[5,19,3.35,"From Commission Staff (rate case)"]
[5,20,3.1333333333333333,"From Commission Staff (rate case)"]
[5,21,2.6166666666666667,"From Commission Staff (rate case)"]
[5,22,1.4333333333333333,"From Commission Staff (rate case)"]
[5,23,1.5666666666666667,"From Commission Staff (rate case)"]
[5,24,2.2999999999999998,"From Commission Staff (rate case)"]
[5,25,1.8833333333333333,"From Commission Staff (rate case)"]
[5,26,2.0333333333333332,"From Commission Staff (rate case)"]
[5,27,1.7333333333333334,"From Commission Staff (rate case)"]
[5,28,1.85,"From Commission Staff (rate case)"]
[5,29,1.1666666666666667,"From Commission Staff (rate case)"]
[5,30,0.8,"From Commission Staff (rate case)"]
[5,31,1.2,"From Commission Staff (rate case)"]
[6,1,0.8833333333333333,"From Commission Staff (rate case)"]
[6,2,0.65,"From Commission Staff (rate case)"]
[6,3,0.91666666666666663,"From Commission Staff (rate case)"]
[6,4,1.2,"From Commission Staff (rate case)"]
[6,5,0.68333333333333335,"From Commission Staff (rate case)"]
[6,6,0.31666666666666665,"From Commission Staff (rate case)"]
[6,7,0.3,"From Commission Staff (rate case)"]
[6,8,0.21666666666666667,"From Commission Staff (rate case)"]
[6,9,0.16666666666666666,"From Commission Staff (rate case)"]
[6,10,3.3333333333333333E-2,"From Commission Staff (rate case)"]
[6,11,0.05,"From Commission Staff (rate case)"]
[6,12,3.3333333333333333E-2,"From Commission Staff (rate case)"]
[6,13,0.05,"From Commission Staff (rate case)"]
[6,14,0,"From Commission Staff (rate case)"]
[6,15,0,"From Commission Staff (rate case)"]
[6,16,0.25,"From Commission Staff (rate case)"]
[6,17,0.25,"From Commission Staff (rate case)"]
[6,18,8.3333333333333329E-2,"From Commission Staff (rate case)"]
[6,19,6.6666666666666666E-2,"From Commission Staff (rate case)"]
[6,20,0.05,"From Commission Staff (rate case)"]
[6,21,0.1,"From Commission Staff (rate case)"]
[6,22,0,"From Commission Staff (rate case)"]
[6,23,0,"From Commission Staff (rate case)"]
[6,24,0,"From Commission Staff (rate case)"]
[6,25,0.1,"From Commission Staff (rate case)"]
[6,26,0.05,"From Commission Staff (rate case)"]
[6,27,3.3333333333333333E-2,"From Commission Staff (rate case)"]
[6,28,0,"From Commission Staff (rate case)"]
[6,29,1.6666666666666666E-2,"From Commission Staff (rate case)"]
[6,30,0,"From Commission Staff (rate case)"]
[7,1,1.6666666666666666E-2,"From Commission Staff (rate case)"]
[7,2,0.05,"From Commission Staff (rate case)"]
[7,3,3.3333333333333333E-2,"From Commission Staff (rate case)"]
[7,4,8.3333333333333329E-2,"From Commission Staff (rate case)"]
[7,5,1.6666666666666666E-2,"From Commission Staff (rate case)"]
[7,6,0,"From Commission Staff (rate case)"]
[7,7,0,"From Commission Staff (rate case)"]
[7,8,6.6666666666666666E-2,"From Commission Staff (rate case)"]
[7,9,0,"From Commission Staff (rate case)"]
[7,10,0,"From Commission Staff (rate case)"]
[7,11,0,"From Commission Staff (rate case)"]
[7,12,0,"From Commission Staff (rate case)"]
[7,13,0,"From Commission Staff (rate case)"]
[7,14,0,"From Commission Staff (rate case)"]
[7,15,3.3333333333333333E-2,"From Commission Staff (rate case)"]
[7,16,0,"From Commission Staff (rate case)"]
[7,17,0,"From Commission Staff (rate case)"]
[7,18,0,"From Commission Staff (rate case)"]
[7,19,0,"From Commission Staff (rate case)"]
[7,20,0,"From Commission Staff (rate case)"]
[7,21,0,"From Commission Staff (rate case)"]
[7,22,0,"From Commission Staff (rate case)"]
[7,23,0,"From Commission Staff (rate case)"]
[7,24,1.6666666666666666E-2,"From Commission Staff (rate case)"]
[7,25,0,"From Commission Staff (rate case)"]
[7,26,0,"From Commission Staff (rate case)"]
[7,27,0,"From Commission Staff (rate case)"]
[7,28,0,"From Commission Staff (rate case)"]
[7,29,0,"From Commission Staff (rate case)"]
[7,30,0,"From Commission Staff (rate case)"]
[7,31,0,"From Commission Staff (rate case)"]
[8,1,0,"From Commission Staff (rate case)"]
[8,2,0,"From Commission Staff (rate case)"]
[8,3,0,"From Commission Staff (rate case)"]
[8,4,3.3333333333333333E-2,"From Commission Staff (rate case)"]
[8,5,0.2,"From Commission Staff (rate case)"]
[8,6,0,"From Commission Staff (rate case)"]
[8,7,0,"From Commission Staff (rate case)"]
[8,8,0,"From Commission Staff (rate case)"]
[8,9,0,"From Commission Staff (rate case)"]
[8,10,0,"From Commission Staff (rate case)"]
[8,11,0.05,"From Commission Staff (rate case)"]
[8,12,0.11666666666666667,"From Commission Staff (rate case)"]
[8,13,1.6666666666666666E-2,"From Commission Staff (rate case)"]
[8,14,0,"From Commission Staff (rate case)"]
[8,15,8.3333333333333329E-2,"From Commission Staff (rate case)"]
[8,16,1.6666666666666666E-2,"From Commission Staff (rate case)"]
[8,17,0,"From Commission Staff (rate case)"]
[8,18,0,"From Commission Staff (rate case)"]
[8,19,0.05,"From Commission Staff (rate case)"]
[8,20,0,"From Commission Staff (rate case)"]
[8,21,0,"From Commission Staff (rate case)"]
[8,22,0,"From Commission Staff (rate case)"]
[8,23,1.6666666666666666E-2,"From Commission Staff (rate case)"]
[8,24,0,"From Commission Staff (rate case)"]
[8,25,0,"From Commission Staff (rate case)"]
[8,26,0.13333333333333333,"From Commission Staff (rate case)"]
[8,27,0.05,"From Commission Staff (rate case)"]
[8,28,0,"From Commission Staff (rate case)"]
[8,29,0.13333333333333333,"From Commission Staff (rate case)"]
[8,30,0.15,"From Commission Staff (rate case)"]
[8,31,8.3333333333333329E-2,"From Commission Staff (rate case)"]
[9,1,0.05,"From Commission Staff (rate case)"]
[9,2,3.3333333333333333E-2,"From Commission Staff (rate case)"]
[9,3,0.16666666666666666,"From Commission Staff (rate case)"]
[9,4,0.3,"From Commission Staff (rate case)"]
[9,5,0.45,"From Commission Staff (rate case)"]
[9,6,0.48333333333333334,"From Commission Staff (rate case)"]
[9,7,0.38333333333333336,"From Commission Staff (rate case)"]
[9,8,1.0666666666666667,"From Commission Staff (rate case)"]
[9,9,0.96666666666666667,"From Commission Staff (rate case)"]
[9,10,0.85,"From Commission Staff (rate case)"]
[9,11,0.8666666666666667,"From Commission Staff (rate case)"]
[9,12,1.0166666666666666,"From Commission Staff (rate case)"]
[9,13,1.1166666666666667,"From Commission Staff (rate case)"]
[9,14,2.0333333333333332,"From Commission Staff (rate case)"]
[9,15,2.5833333333333335,"From Commission Staff (rate case)"]
[9,16,1.7166666666666666,"From Commission Staff (rate case)"]
[9,17,0.96666666666666667,"From Commission Staff (rate case)"]
[9,18,1.25,"From Commission Staff (rate case)"]
[9,19,1.6166666666666667,"From Commission Staff (rate case)"]
[9,20,2.1,"From Commission Staff (rate case)"]
[9,21,2.4333333333333331,"From Commission Staff (rate case)"]
[9,22,3.45,"From Commission Staff (rate case)"]
[9,23,3.3,"From Commission Staff (rate case)"]
[9,24,3.1833333333333331,"From Commission Staff (rate case)"]
[9,25,2.95,"From Commission Staff (rate case)"]
[9,26,3.1333333333333333,"From Commission Staff (rate case)"]
[9,27,3.0666666666666669,"From Commission Staff (rate case)"]
[9,28,3.5666666666666669,"From Commission Staff (rate case)"]
[9,29,4.2666666666666666,"From Commission Staff (rate case)"]
[9,30,2.4166666666666665,"From Commission Staff (rate case)"]
[10,1,2.95,"From Commission Staff (rate case)"]
[10,2,5.1833333333333336,"From Commission Staff (rate case)"]
[10,3,5.2166666666666668,"From Commission Staff (rate case)"]
[10,4,6.083333333333333,"From Commission Staff (rate case)"]
[10,5,5.9333333333333336,"From Commission Staff (rate case)"]
[10,6,6.6833333333333336,"From Commission Staff (rate case)"]
[10,7,6.95,"From Commission Staff (rate case)"]
[10,8,6.35,"From Commission Staff (rate case)"]
[10,9,6.2833333333333332,"From Commission Staff (rate case)"]
[10,10,8.1666666666666661,"From Commission Staff (rate case)"]
[10,11,8.1333333333333329,"From Commission Staff (rate case)"]
[10,12,7.75,"From Commission Staff (rate case)"]
[10,13,8.3666666666666671,"From Commission Staff (rate case)"]
[10,14,8.0500000000000007,"From Commission Staff (rate case)"]
[10,15,9.6,"From Commission Staff (rate case)"]
[10,16,9.9499999999999993,"From Commission Staff (rate case)"]
[10,17,9.4833333333333325,"From Commission Staff (rate case)"]
[10,18,10.65,"From Commission Staff (rate case)"]
[10,19,10.8,"From Commission Staff (rate case)"]
[10,20,9.4666666666666668,"From Commission Staff (rate case)"]
[10,21,9.7166666666666668,"From Commission Staff (rate case)"]
[10,22,9.5,"From Commission Staff (rate case)"]
[10,23,11.066666666666666,"From Commission Staff (rate case)"]
[10,24,12.433333333333334,"From Commission Staff (rate case)"]
[10,25,12.15,"From Commission Staff (rate case)"]
[10,26,13.983333333333333,"From Commission Staff (rate case)"]
[10,27,15.2,"From Commission Staff (rate case)"]
[10,28,13.066666666666666,"From Commission Staff (rate case)"]
[10,29,12.483333333333333,"From Commission Staff (rate case)"]
[10,30,13.8,"From Commission Staff (rate case)"]
[10,31,16.666666666666668,"From Commission Staff (rate case)"]
[11,1,15.466666666666667,"From Commission Staff (rate case)"]
[11,2,17.433333333333334,"From Commission Staff (rate case)"]
[11,3,16.816666666666666,"From Commission Staff (rate case)"]
[11,4,17.166666666666668,"From Commission Staff (rate case)"]
[11,5,17.383333333333333,"From Commission Staff (rate case)"]
[11,6,18.55,"From Commission Staff (rate case)"]
[11,7,18.600000000000001,"From Commission Staff (rate case)"]
[11,8,18.333333333333332,"From Commission Staff (rate case)"]
[11,9,16.733333333333334,"From Commission Staff (rate case)"]
[11,10,19.783333333333335,"From Commission Staff (rate case)"]
[11,11,22.15,"From Commission Staff (rate case)"]
[11,12,22.6,"From Commission Staff (rate case)"]
[11,13,21.8,"From Commission Staff (rate case)"]
[11,14,20.316666666666666,"From Commission Staff (rate case)"]
[11,15,21.883333333333333,"From Commission Staff (rate case)"]
[11,16,20.916666666666668,"From Commission Staff (rate case)"]
[11,17,20.066666666666666,"From Commission Staff (rate case)"]
[11,18,20.8,"From Commission Staff (rate case)"]
[11,19,19.616666666666667,"From Commission Staff (rate case)"]
[11,20,21.8,"From Commission Staff (rate case)"]
[11,21,22.783333333333335,"From Commission Staff (rate case)"]
[11,22,22.95,"From Commission Staff (rate case)"]
[11,23,23.95,"From Commission Staff (rate case)"]
[11,24,25,"From Commission Staff (rate case)"]
[11,25,25.85,"From Commission Staff (rate case)"]
[11,26,24.583333333333332,"From Commission Staff (rate case)"]
[11,27,26.733333333333334,"From Commission Staff (rate case)"]
[11,28,24.916666666666668,"From Commission Staff (rate case)"]
[11,29,25,"From Commission Staff (rate case)"]
[11,30,27.8,"From Commission Staff (rate case)"]
[12,1,26.983333333333334,"From Commission Staff (rate case)"]
[12,2,25.366666666666667,"From Commission Staff (rate case)"]
[12,3,26.733333333333334,"From Commission Staff (rate case)"]
[12,4,28.15,"From Commission Staff (rate case)"]
[12,5,30.233333333333334,"From Commission Staff (rate case)"]
[12,6,31.733333333333334,"From Commission Staff (rate case)"]
[12,7,32.200000000000003,"From Commission Staff (rate case)"]
[12,8,31.333333333333332,"From Commission Staff (rate case)"]
[12,9,32.866666666666667,"From Commission Staff (rate case)"]
[12,10,32.266666666666666,"From Commission Staff (rate case)"]
[12,11,31.366666666666667,"From Commission Staff (rate case)"]
[12,12,30.233333333333334,"From Commission Staff (rate case)"]
[12,13,28.566666666666666,"From Commission Staff (rate case)"]
[12,14,30.1,"From Commission Staff (rate case)"]
[12,15,31.4,"From Commission Staff (rate case)"]
[12,16,31.716666666666665,"From Commission Staff (rate case)"]
[12,17,32.716666666666669,"From Commission Staff (rate case)"]
[12,18,31.9,"From Commission Staff (rate case)"]
[12,19,32.983333333333334,"From Commission Staff (rate case)"]
[12,20,32.43333333333333,"From Commission Staff (rate case)"]
[12,21,31.933333333333334,"From Commission Staff (rate case)"]
[12,22,34.25,"From Commission Staff (rate case)"]
[12,23,35.56666666666667,"From Commission Staff (rate case)"]
[12,24,38.18333333333333,"From Commission Staff (rate case)"]
[12,25,34.833333333333336,"From Commission Staff (rate case)"]
[12,26,32.5,"From Commission Staff (rate case)"]
[12,27,31.9,"From Commission Staff (rate case)"]
[12,28,32.266666666666666,"From Commission Staff (rate case)"]
[12,29,33.083333333333336,"From Commission Staff (rate case)"]
[12,30,32.366666666666667,"From Commission Staff (rate case)"]
[12,31,36.033333333333331,"From Commission Staff (rate case)"]

{"sheet":"KCITempActuals","index":10,"n_rows":2036,"n_cols":13,"rows_kept":2036,"cut":false,"hidden":false,"merged":[]}
["Date","KCIHigh","KCILow","KCIAve","KCIHDD","KCIHDDAdj","KCINHDD","KCINHDDAdj","Preparer's Notes","Reviewer's Notes",null,"Process for updating table:"]
["2018-01-01",9,-11,{"$f":"AVERAGE(KCITempAct[[#This Row],[KCIHigh]:[KCILow]]\n)","v":-1},{"$f":"IF(KCITempAct[[#This Row],[KCIAve]]<65,(65-KCITempAct[[#This Row],[KCIAve]]),0)","v":66},{"$f":"IF(MONTH(KCITempAct[[#This Row],[Date]])=7,0,IF(MONTH(KCITempAct[[#This Row],[Date]])=8,0,KCITempAct[[#This Row],[KCIHDD]]))","v":66},{"$f":"SUMPRODUCT((KCINHDD[Month]=MONTH(KCITempAct[[#This Row],[Date]]))*(KCINHDD[Day]=DAY(KCITempAct[[#This Row],[Date]]))*KCINHDD[KCINHDD])","v":36.4},{"$f":"IF(MONTH(KCITempAct[[#This Row],[Date]])=7,0,IF(MONTH(KCITempAct[[#This Row],[Date]])=8,0,KCITempAct[[#This Row],[KCINHDD]]))","v":36.4},"Adj HDD and NDD =0 for July and August",null,null,"1)  Enter New Data at end of table"]
["2018-01-02",21,-6,{"$f":"AVERAGE(KCITempAct[[#This Row],[KCIHigh]:[KCILow]]\n)","v":7.5},{"$f":"IF(KCITempAct[[#This Row],[KCIAve]]<65,(65-KCITempAct[[#This Row],[KCIAve]]),0)","v":57.5},{"$f":"IF(MONTH(KCITempAct[[#This Row],[Date]])=7,0,IF(MONTH(KCITempAct[[#This Row],[Date]])=8,0,KCITempAct[[#This Row],[KCIHDD]]))","v":57.5},{"$f":"SUMPRODUCT((KCINHDD[Month]=MONTH(KCITempAct[[#This Row],[Date]]))*(KCINHDD[Day]=DAY(KCITempAct[[#This Row],[Date]]))*KCINHDD[KCINHDD])","v":35.583333333333336},{"$f":"IF(MONTH(KCITempAct[[#This Row],[Date]])=7,0,IF(MONTH(KCITempAct[[#This Row],[Date]])=8,0,KCITempAct[[#This Row],[KCINHDD]]))","v":35.583333333333336},"Adj HDD and NDD =0 for July and August",null,null,null,"New Data = Date, KCIHigh, KCILow"]
["2018-01-03",25,8,{"$f":"AVERAGE(KCITempAct[[#This Row],[KCIHigh]:[KCILow]]\n)","v":16.5},{"$f":"IF(KCITempAct[[#This Row],[KCIAve]]<65,(65-KCITempAct[[#This Row],[KCIAve]]),0)","v":48.5},{"$f":"IF(MONTH(KCITempAct[[#This Row],[Date]])=7,0,IF(MONTH(KCITempAct[[#This Row],[Date]])=8,0,KCITempAct[[#This Row],[KCIHDD]]))","v":48.5},{"$f":"SUMPRODUCT((KCINHDD[Month]=MONTH(KCITempAct[[#This Row],[Date]]))*(KCINHDD[Day]=DAY(KCITempAct[[#This Row],[Date]]))*KCINHDD[KCINHDD])","v":35.616666666666667},{"$f":"IF(MONTH(KCITempAct[[#This Row],[Date]])=7,0,IF(MONTH(KCITempAct[[#This Row],[Date]])=8,0,KCITempAct[[#This Row],[KCINHDD]]))","v":35.616666666666667},"Adj HDD and NDD =0 for July and August",null,null,"2)  Formulas in rest of table will be applied to New Data"]
["2018-01-04",23,2,{"$f":"AVERAGE(KCITempAct[[#This Row],[KCIHigh]:[KCILow]]\n)","v":12.5},{"$f":"IF(KCITempAct[[#This Row],[KCIAve]]<65,(65-KCITempAct[[#This Row],[KCIAve]]),0)","v":52.5},{"$f":"IF(MONTH(KCITempAct[[#This Row],[Date]])=7,0,IF(MONTH(KCITempAct[[#This Row],[Date]])=8,0,KCITempAct[[#This Row],[KCIHDD]]))","v":52.5},{"$f":"SUMPRODUCT((KCINHDD[Month]=MONTH(KCITempAct[[#This Row],[Date]]))*(KCINHDD[Day]=DAY(KCITempAct[[#This Row],[Date]]))*KCINHDD[KCINHDD])","v":37.56666666666667},{"$f":"IF(MONTH(KCITempAct[[#This Row],[Date]])=7,0,IF(MONTH(KCITempAct[[#This Row],[Date]])=8,0,KCITempAct[[#This Row],[KCINHDD]]))","v":37.56666666666667},"Adj HDD and NDD =0 for July and August",null,null,"3)  Do not overwrite formulas!"]
["2018-01-05",28,12,{"$f":"AVERAGE(KCITempAct[[#This Row],[KCIHigh]:[KCILow]]\n)","v":20},{"$f":"IF(KCITempAct[[#This Row],[KCIAve]]<65,(65-KCITempAct[[#This Row],[KCIAve]]),0)","v":45},{"$f":"IF(MONTH(KCITempAct[[#This Row],[Date]])=7,0,IF(MONTH(KCITempAct[[#This Row],[Date]])=8,0,KCITempAct[[#This Row],[KCIHDD]]))","v":45},{"$f":"SUMPRODUCT((KCINHDD[Month]=MONTH(KCITempAct[[#This Row],[Date]]))*(KCINHDD[Day]=DAY(KCITempAct[[#This Row],[Date]]))*KCINHDD[KCINHDD])","v":36.75},{"$f":"IF(MONTH(KCITempAct[[#This Row],[Date]])=7,0,IF(MONTH(KCITempAct[[#This Row],[Date]])=8,0,KCITempAct[[#This Row],[KCINHDD]]))","v":36.75},"Adj HDD and NDD =0 for July and August",null,null,"4)  Weather Data is from the Kansas City, MO International Airport weather station"]
["2018-01-06",30,11,{"$f":"AVERAGE(KCITempAct[[#This Row],[KCIHigh]:[KCILow]]\n)","v":20.5},{"$f":"IF(KCITempAct[[#This Row],[KCIAve]]<65,(65-KCITempAct[[#This Row],[KCIAve]]),0)","v":44.5},{"$f":"IF(MONTH(KCITempAct[[#This Row],[Date]])=7,0,IF(MONTH(KCITempAct[[#This Row],[Date]])=8,0,KCITempAct[[#This Row],[KCIHDD]]))","v":44.5},{"$f":"SUMPRODUCT((KCINHDD[Month]=MONTH(KCITempAct[[#This Row],[Date]]))*(KCINHDD[Day]=DAY(KCITempAct[[#This Row],[Date]]))*KCINHDD[KCINHDD])","v":37.416666666666664},{"$f":"IF(MONTH(KCITempAct[[#This Row],[Date]])=7,0,IF(MONTH(KCITempAct[[#This Row],[Date]])=8,0,KCITempAct[[#This Row],[KCINHDD]]))","v":37.416666666666664},"Adj HDD and NDD =0 for July and August",null,null,"5)  Station ID Information:"]
["2018-01-07",37,30,{"$f":"AVERAGE(KCITempAct[[#This Row],[KCIHigh]:[KCILow]]\n)","v":33.5},{"$f":"IF(KCITempAct[[#This Row],[KCIAve]]<65,(65-KCITempAct[[#This Row],[KCIAve]]),0)","v":31.5},{"$f":"IF(MONTH(KCITempAct[[#This Row],[Date]])=7,0,IF(MONTH(KCITempAct[[#This Row],[Date]])=8,0,KCITempAct[[#This Row],[KCIHDD]]))","v":31.5},{"$f":"SUMPRODUCT((KCINHDD[Month]=MONTH(KCITempAct[[#This Row],[Date]]))*(KCINHDD[Day]=DAY(KCITempAct[[#This Row],[Date]]))*KCINHDD[KCINHDD])","v":37.016666666666666},{"$f":"IF(MONTH(KCITempAct[[#This Row],[Date]])=7,0,IF(MONTH(KCITempAct[[#This Row],[Date]])=8,0,KCITempAct[[#This Row],[KCINHDD]]))","v":37.016666666666666},"Adj HDD and NDD =0 for July and August",null,null,null,"WBAN:  03947"]
["2018-01-08",49,25,{"$f":"AVERAGE(KCITempAct[[#This Row],[KCIHigh]:[KCILow]]\n)","v":37},{"$f":"IF(KCITempAct[[#This Row],[KCIAve]]<65,(65-KCITempAct[[#This Row],[KCIAve]]),0)","v":28},{"$f":"IF(MONTH(KCITempAct[[#This Row],[Date]])=7,0,IF(MONTH(KCITempAct[[#This Row],[Date]])=8,0,KCITempAct[[#This Row],[KCIHDD]]))","v":28},{"$f":"SUMPRODUCT((KCINHDD[Month]=MONTH(KCITempAct[[#This Row],[Date]]))*(KCINHDD[Day]=DAY(KCITempAct[[#This Row],[Date]]))*KCINHDD[KCINHDD])","v":34.483333333333334},{"$f":"IF(MONTH(KCITempAct[[#This Row],[Date]])=7,0,IF(MONTH(KCITempAct[[#This Row],[Date]])=8,0,KCITempAct[[#This Row],[KCINHDD]]))","v":34.483333333333334},"Adj HDD and NDD =0 for July and August"]
["2018-01-09",44,29,{"$f":"AVERAGE(KCITempAct[[#This Row],[KCIHigh]:[KCILow]]\n)","v":36.5},{"$f":"IF(KCITempAct[[#This Row],[KCIAve]]<65,(65-KCITempAct[[#This Row],[KCIAve]]),0)","v":28.5},{"$f":"IF(MONTH(KCITempAct[[#This Row],[Date]])=7,0,IF(MONTH(KCITempAct[[#This Row],[Date]])=8,0,KCITempAct[[#This Row],[KCIHDD]]))","v":28.5},{"$f":"SUMPRODUCT((KCINHDD[Month]=MONTH(KCITempAct[[#This Row],[Date]]))*(KCINHDD[Day]=DAY(KCITempAct[[#This Row],[Date]]))*KCINHDD[KCINHDD])","v":35.333333333333336},{"$f":"IF(MONTH(KCITempAct[[#This Row],[Date]])=7,0,IF(MONTH(KCITempAct[[#This Row],[Date]])=8,0,KCITempAct[[#This Row],[KCINHDD]]))","v":35.333333333333336},"Adj HDD and NDD =0 for July and August"]
["2018-01-10",57,38,{"$f":"AVERAGE(KCITempAct[[#This Row],[KCIHigh]:[KCILow]]\n)","v":47.5},{"$f":"IF(KCITempAct[[#This Row],[KCIAve]]<65,(65-KCITempAct[[#This Row],[KCIAve]]),0)","v":17.5},{"$f":"IF(MONTH(KCITempAct[[#This Row],[Date]])=7,0,IF(MONTH(KCITempAct[[#This Row],[Date]])=8,0,KCITempAct[[#This Row],[KCIHDD]]))","v":17.5},{"$f":"SUMPRODUCT((KCINHDD[Month]=MONTH(KCITempAct[[#This Row],[Date]]))*(KCINHDD[Day]=DAY(KCITempAct[[#This Row],[Date]]))*KCINHDD[KCINHDD])","v":35.466666666666669},{"$f":"IF(MONTH(KCITempAct[[#This Row],[Date]])=7,0,IF(MONTH(KCITempAct[[#This Row],[Date]])=8,0,KCITempAct[[#This Row],[KCINHDD]]))","v":35.466666666666669},"Adj HDD and NDD =0 for July and August"]
["2018-01-11",51,11,{"$f":"AVERAGE(KCITempAct[[#This Row],[KCIHigh]:[KCILow]]\n)","v":31},{"$f":"IF(KCITempAct[[#This Row],[KCIAve]]<65,(65-KCITempAct[[#This Row],[KCIAve]]),0)","v":34},{"$f":"IF(MONTH(KCITempAct[[#This Row],[Date]])=7,0,IF(MONTH(KCITempAct[[#This Row],[Date]])=8,0,KCITempAct[[#This Row],[KCIHDD]]))","v":34},{"$f":"SUMPRODUCT((KCINHDD[Month]=MONTH(KCITempAct[[#This Row],[Date]]))*(KCINHDD[Day]=DAY(KCITempAct[[#This Row],[Date]]))*KCINHDD[KCINHDD])","v":33.033333333333331},{"$f":"IF(MONTH(KCITempAct[[#This Row],[Date]])=7,0,IF(MONTH(KCITempAct[[#This Row],[Date]])=8,0,KCITempAct[[#This Row],[KCINHDD]]))","v":33.033333333333331},"Adj HDD and NDD =0 for July and August"]
["2018-01-12",18,4,{"$f":"AVERAGE(KCITempAct[[#This Row],[KCIHigh]:[KCILow]]\n)","v":11},{"$f":"IF(KCITempAct[[#This Row],[KCIAve]]<65,(65-KCITempAct[[#This Row],[KCIAve]]),0)","v":54},{"$f":"IF(MONTH(KCITempAct[[#This Row],[Date]])=7,0,IF(MONTH(KCITempAct[[#This Row],[Date]])=8,0,KCITempAct[[#This Row],[KCIHDD]]))","v":54},{"$f":"SUMPRODUCT((KCINHDD[Month]=MONTH(KCITempAct[[#This Row],[Date]]))*(KCINHDD[Day]=DAY(KCITempAct[[#This Row],[Date]]))*KCINHDD[KCINHDD])","v":35.31666666666667},{"$f":"IF(MONTH(KCITempAct[[#This Row],[Date]])=7,0,IF(MONTH(KCITempAct[[#This Row],[Date]])=8,0,KCITempAct[[#This Row],[KCINHDD]]))","v":35.31666666666667},"Adj HDD and NDD =0 for July and August"]
["2018-01-13",19,10,{"$f":"AVERAGE(KCITempAct[[#This Row],[KCIHigh]:[KCILow]]\n)","v":14.5},{"$f":"IF(KCITempAct[[#This Row],[KCIAve]]<65,(65-KCITempAct[[#This Row],[KCIAve]]),0)","v":50.5},{"$f":"IF(MONTH(KCITempAct[[#This Row],[Date]])=7,0,IF(MONTH(KCITempAct[[#This Row],[Date]])=8,0,KCITempAct[[#This Row],[KCIHDD]]))","v":50.5},{"$f":"SUMPRODUCT((KCINHDD[Month]=MONTH(KCITempAct[[#This Row],[Date]]))*(KCINHDD[Day]=DAY(KCITempAct[[#This Row],[Date]]))*KCINHDD[KCINHDD])","v":38.450000000000003},{"$f":"IF(MONTH(KCITempAct[[#This Row],[Date]])=7,0,IF(MONTH(KCITempAct[[#This Row],[Date]])=8,0,KCITempAct[[#This Row],[KCINHDD]]))","v":38.450000000000003},"Adj HDD and NDD =0 for July and August"]
["2018-01-14",33,16,{"$f":"AVERAGE(KCITempAct[[#This Row],[KCIHigh]:[KCILow]]\n)","v":24.5},{"$f":"IF(KCITempAct[[#This Row],[KCIAve]]<65,(65-KCITempAct[[#This Row],[KCIAve]]),0)","v":40.5},{"$f":"IF(MONTH(KCITempAct[[#This Row],[Date]])=7,0,IF(MONTH(KCITempAct[[#This Row],[Date]])=8,0,KCITempAct[[#This Row],[KCIHDD]]))","v":40.5},{"$f":"SUMPRODUCT((KCINHDD[Month]=MONTH(KCITempAct[[#This Row],[Date]]))*(KCINHDD[Day]=DAY(KCITempAct[[#This Row],[Date]]))*KCINHDD[KCINHDD])","v":36.016666666666666},{"$f":"IF(MONTH(KCITempAct[[#This Row],[Date]])=7,0,IF(MONTH(KCITempAct[[#This Row],[Date]])=8,0,KCITempAct[[#This Row],[KCINHDD]]))","v":36.016666666666666},"Adj HDD and NDD =0 for July and August"]
["2018-01-15",33,-1,{"$f":"AVERAGE(KCITempAct[[#This Row],[KCIHigh]:[KCILow]]\n)","v":16},{"$f":"IF(KCITempAct[[#This Row],[KCIAve]]<65,(65-KCITempAct[[#This Row],[KCIAve]]),0)","v":49},{"$f":"IF(MONTH(KCITempAct[[#This Row],[Date]])=7,0,IF(MONTH(KCITempAct[[#This Row],[Date]])=8,0,KCITempAct[[#This Row],[KCIHDD]]))","v":49},{"$f":"SUMPRODUCT((KCINHDD[Month]=MONTH(KCITempAct[[#This Row],[Date]]))*(KCINHDD[Day]=DAY(KCITempAct[[#This Row],[Date]]))*KCINHDD[KCINHDD])","v":37.25},{"$f":"IF(MONTH(KCITempAct[[#This Row],[Date]])=7,0,IF(MONTH(KCITempAct[[#This Row],[Date]])=8,0,KCITempAct[[#This Row],[KCINHDD]]))","v":37.25},"Adj HDD and NDD =0 for July and August"]
["2018-01-16",8,-5,{"$f":"AVERAGE(KCITempAct[[#This Row],[KCIHigh]:[KCILow]]\n)","v":1.5},{"$f":"IF(KCITempAct[[#This Row],[KCIAve]]<65,(65-KCITempAct[[#This Row],[KCIAve]]),0)","v":63.5},{"$f":"IF(MONTH(KCITempAct[[#This Row],[Date]])=7,0,IF(MONTH(KCITempAct[[#This Row],[Date]])=8,0,KCITempAct[[#This Row],[KCIHDD]]))","v":63.5},{"$f":"SUMPRODUCT((KCINHDD[Month]=MONTH(KCITempAct[[#This Row],[Date]]))*(KCINHDD[Day]=DAY(KCITempAct[[#This Row],[Date]]))*KCINHDD[KCINHDD])","v":36.733333333333334},{"$f":"IF(MONTH(KCITempAct[[#This Row],[Date]])=7,0,IF(MONTH(KCITempAct[[#This Row],[Date]])=8,0,KCITempAct[[#This Row],[KCINHDD]]))","v":36.733333333333334},"Adj HDD and NDD =0 for July and August"]
["2018-01-17",24,-4,{"$f":"AVERAGE(KCITempAct[[#This Row],[KCIHigh]:[KCILow]]\n)","v":10},{"$f":"IF(KCITempAct[[#This Row],[KCIAve]]<65,(65-KCITempAct[[#This Row],[KCIAve]]),0)","v":55},{"$f":"IF(MONTH(KCITempAct[[#This Row],[Date]])=7,0,IF(MONTH(KCITempAct[[#This Row],[Date]])=8,0,KCITempAct[[#This Row],[KCIHDD]]))","v":55},{"$f":"SUMPRODUCT((KCINHDD[Month]=MONTH(KCITempAct[[#This Row],[Date]]))*(KCINHDD[Day]=DAY(KCITempAct[[#This Row],[Date]]))*KCINHDD[KCINHDD])","v":37.75},{"$f":"IF(MONTH(KCITempAct[[#This Row],[Date]])=7,0,IF(MONTH(KCITempAct[[#This Row],[Date]])=8,0,KCITempAct[[#This Row],[KCINHDD]]))","v":37.75},"Adj HDD and NDD =0 for July and August"]
["2018-01-18",39,16,{"$f":"AVERAGE(KCITempAct[[#This Row],[KCIHigh]:[KCILow]]\n)","v":27.5},{"$f":"IF(KCITempAct[[#This Row],[KCIAve]]<65,(65-KCITempAct[[#This Row],[KCIAve]]),0)","v":37.5},{"$f":"IF(MONTH(KCITempAct[[#This Row],[Date]])=7,0,IF(MONTH(KCITempAct[[#This Row],[Date]])=8,0,KCITempAct[[#This Row],[KCIHDD]]))","v":37.5},{"$f":"SUMPRODUCT((KCINHDD[Month]=MONTH(KCITempAct[[#This Row],[Date]]))*(KCINHDD[Day]=DAY(KCITempAct[[#This Row],[Date]]))*KCINHDD[KCINHDD])","v":37.166666666666664},{"$f":"IF(MONTH(KCITempAct[[#This Row],[Date]])=7,0,IF(MONTH(KCITempAct[[#This Row],[Date]])=8,0,KCITempAct[[#This Row],[KCINHDD]]))","v":37.166666666666664},"Adj HDD and NDD =0 for July and August"]
["2018-01-19",50,30,{"$f":"AVERAGE(KCITempAct[[#This Row],[KCIHigh]:[KCILow]]\n)","v":40},{"$f":"IF(KCITempAct[[#This Row],[KCIAve]]<65,(65-KCITempAct[[#This Row],[KCIAve]]),0)","v":25},{"$f":"IF(MONTH(KCITempAct[[#This Row],[Date]])=7,0,IF(MONTH(KCITempAct[[#This Row],[Date]])=8,0,KCITempAct[[#This Row],[KCIHDD]]))","v":25},{"$f":"SUMPRODUCT((KCINHDD[Month]=MONTH(KCITempAct[[#This Row],[Date]]))*(KCINHDD[Day]=DAY(KCITempAct[[#This Row],[Date]]))*KCINHDD[KCINHDD])","v":35.983333333333334},{"$f":"IF(MONTH(KCITempAct[[#This Row],[Date]])=7,0,IF(MONTH(KCITempAct[[#This Row],[Date]])=8,0,KCITempAct[[#This Row],[KCINHDD]]))","v":35.983333333333334},"Adj HDD and NDD =0 for July and August"]
["2018-01-20",52,40,{"$f":"AVERAGE(KCITempAct[[#This Row],[KCIHigh]:[KCILow]]\n)","v":46},{"$f":"IF(KCITempAct[[#This Row],[KCIAve]]<65,(65-KCITempAct[[#This Row],[KCIAve]]),0)","v":19},{"$f":"IF(MONTH(KCITempAct[[#This Row],[Date]])=7,0,IF(MONTH(KCITempAct[[#This Row],[Date]])=8,0,KCITempAct[[#This Row],[KCIHDD]]))","v":19},{"$f":"SUMPRODUCT((KCINHDD[Month]=MONTH(KCITempAct[[#This Row],[Date]]))*(KCINHDD[Day]=DAY(KCITempAct[[#This Row],[Date]]))*KCINHDD[KCINHDD])","v":35.93333333333333},{"$f":"IF(MONTH(KCITempAct[[#This Row],[Date]])=7,0,IF(MONTH(KCITempAct[[#This Row],[Date]])=8,0,KCITempAct[[#This Row],[KCINHDD]]))","v":35.93333333333333},"Adj HDD and NDD =0 for July and August"]
["2018-01-21",64,39,{"$f":"AVERAGE(KCITempAct[[#This Row],[KCIHigh]:[KCILow]]\n)","v":51.5},{"$f":"IF(KCITempAct[[#This Row],[KCIAve]]<65,(65-KCITempAct[[#This Row],[KCIAve]]),0)","v":13.5},{"$f":"IF(MONTH(KCITempAct[[#This Row],[Date]])=7,0,IF(MONTH(KCITempAct[[#This Row],[Date]])=8,0,KCITempAct[[#This Row],[KCIHDD]]))","v":13.5},{"$f":"SUMPRODUCT((KCINHDD[Month]=MONTH(KCITempAct[[#This Row],[Date]]))*(KCINHDD[Day]=DAY(KCITempAct[[#This Row],[Date]]))*KCINHDD[KCINHDD])","v":33.799999999999997},{"$f":"IF(MONTH(KCITempAct[[#This Row],[Date]])=7,0,IF(MONTH(KCITempAct[[#This Row],[Date]])=8,0,KCITempAct[[#This Row],[KCINHDD]]))","v":33.799999999999997},"Adj HDD and NDD =0 for July and August"]
["2018-01-22",54,30,{"$f":"AVERAGE(KCITempAct[[#This Row],[KCIHigh]:[KCILow]]\n)","v":42},{"$f":"IF(KCITempAct[[#This Row],[KCIAve]]<65,(65-KCITempAct[[#This Row],[KCIAve]]),0)","v":23},{"$f":"IF(MONTH(KCITempAct[[#This Row],[Date]])=7,0,IF(MONTH(KCITempAct[[#This Row],[Date]])=8,0,KCITempAct[[#This Row],[KCIHDD]]))","v":23},{"$f":"SUMPRODUCT((KCINHDD[Month]=MONTH(KCITempAct[[#This Row],[Date]]))*(KCINHDD[Day]=DAY(KCITempAct[[#This Row],[Date]]))*KCINHDD[KCINHDD])","v":33.43333333333333},{"$f":"IF(MONTH(KCITempAct[[#This Row],[Date]])=7,0,IF(MONTH(KCITempAct[[#This Row],[Date]])=8,0,KCITempAct[[#This Row],[KCINHDD]]))","v":33.43333333333333},"Adj HDD and NDD =0 for July and August"]
["2018-01-23",35,27,{"$f":"AVERAGE(KCITempAct[[#This Row],[KCIHigh]:[KCILow]]\n)","v":31},{"$f":"IF(KCITempAct[[#This Row],[KCIAve]]<65,(65-KCITempAct[[#This Row],[KCIAve]]),0)","v":34},{"$f":"IF(MONTH(KCITempAct[[#This Row],[Date]])=7,0,IF(MONTH(KCITempAct[[#This Row],[Date]])=8,0,KCITempAct[[#This Row],[KCIHDD]]))","v":34},{"$f":"SUMPRODUCT((KCINHDD[Month]=MONTH(KCITempAct[[#This Row],[Date]]))*(KCINHDD[Day]=DAY(KCITempAct[[#This Row],[Date]]))*KCINHDD[KCINHDD])","v":36.416666666666664},{"$f":"IF(MONTH(KCITempAct[[#This Row],[Date]])=7,0,IF(MONTH(KCITempAct[[#This Row],[Date]])=8,0,KCITempAct[[#This Row],[KCINHDD]]))","v":36.416666666666664},"Adj HDD and NDD =0 for July and August"]
["2018-01-24",49,23,{"$f":"AVERAGE(KCITempAct[[#This Row],[KCIHigh]:[KCILow]]\n)","v":36},{"$f":"IF(KCITempAct[[#This Row],[KCIAve]]<65,(65-KCITempAct[[#This Row],[KCIAve]]),0)","v":29},{"$f":"IF(MONTH(KCITempAct[[#This Row],[Date]])=7,0,IF(MONTH(KCITempAct[[#This Row],[Date]])=8,0,KCITempAct[[#This Row],[KCIHDD]]))","v":29},{"$f":"SUMPRODUCT((KCINHDD[Month]=MONTH(KCITempAct[[#This Row],[Date]]))*(KCINHDD[Day]=DAY(KCITempAct[[#This Row],[Date]]))*KCINHDD[KCINHDD])","v":35.799999999999997},{"$f":"IF(MONTH(KCITempAct[[#This Row],[Date]])=7,0,IF(MONTH(KCITempAct[[#This Row],[Date]])=8,0,KCITempAct[[#This Row],[KCINHDD]]))","v":35.799999999999997},"Adj HDD and NDD =0 for July and August"]
["2018-01-25",64,37,{"$f":"AVERAGE(KCITempAct[[#This Row],[KCIHigh]:[KCILow]]\n)","v":50.5},{"$f":"IF(KCITempAct[[#This Row],[KCIAve]]<65,(65-KCITempAct[[#This Row],[KCIAve]]),0)","v":14.5},{"$f":"IF(MONTH(KCITempAct[[#This Row],[Date]])=7,0,IF(MONTH(KCITempAct[[#This Row],[Date]])=8,0,KCITempAct[[#This Row],[KCIHDD]]))","v":14.5},{"$f":"SUMPRODUCT((KCINHDD[Month]=MONTH(KCITempAct[[#This Row],[Date]]))*(KCINHDD[Day]=DAY(KCITempAct[[#This Row],[Date]]))*KCINHDD[KCINHDD])","v":34.06666666666667},{"$f":"IF(MONTH(KCITempAct[[#This Row],[Date]])=7,0,IF(MONTH(KCITempAct[[#This Row],[Date]])=8,0,KCITempAct[[#This Row],[KCINHDD]]))","v":34.06666666666667},"Adj HDD and NDD =0 for July and August"]
["2018-01-26",59,37,{"$f":"AVERAGE(KCITempAct[[#This Row],[KCIHigh]:[KCILow]]\n)","v":48},{"$f":"IF(KCITempAct[[#This Row],[KCIAve]]<65,(65-KCITempAct[[#This Row],[KCIAve]]),0)","v":17},{"$f":"IF(MONTH(KCITempAct[[#This Row],[Date]])=7,0,IF(MONTH(KCITempAct[[#This Row],[Date]])=8,0,KCITempAct[[#This Row],[KCIHDD]]))","v":17},{"$f":"SUMPRODUCT((KCINHDD[Month]=MONTH(KCITempAct[[#This Row],[Date]]))*(KCINHDD[Day]=DAY(KCITempAct[[#This Row],[Date]]))*KCINHDD[KCINHDD])","v":33.049999999999997},{"$f":"IF(MONTH(KCITempAct[[#This Row],[Date]])=7,0,IF(MONTH(KCITempAct[[#This Row],[Date]])=8,0,KCITempAct[[#This Row],[KCINHDD]]))","v":33.049999999999997},"Adj HDD and NDD =0 for July and August"]
["2018-01-27",55,26,{"$f":"AVERAGE(KCITempAct[[#This Row],[KCIHigh]:[KCILow]]\n)","v":40.5},{"$f":"IF(KCITempAct[[#This Row],[KCIAve]]<65,(65-KCITempAct[[#This Row],[KCIAve]]),0)","v":24.5},{"$f":"IF(MONTH(KCITempAct[[#This Row],[Date]])=7,0,IF(MONTH(KCITempAct[[#This Row],[Date]])=8,0,KCITempAct[[#This Row],[KCIHDD]]))","v":24.5},{"$f":"SUMPRODUCT((KCINHDD[Month]=MONTH(KCITempAct[[#This Row],[Date]]))*(KCINHDD[Day]=DAY(KCITempAct[[#This Row],[Date]]))*KCINHDD[KCINHDD])","v":33.5},{"$f":"IF(MONTH(KCITempAct[[#This Row],[Date]])=7,0,IF(MONTH(KCITempAct[[#This Row],[Date]])=8,0,KCITempAct[[#This Row],[KCINHDD]]))","v":33.5},"Adj HDD and NDD =0 for July and August"]
["2018-01-28",39,23,{"$f":"AVERAGE(KCITempAct[[#This Row],[KCIHigh]:[KCILow]]\n)","v":31},{"$f":"IF(KCITempAct[[#This Row],[KCIAve]]<65,(65-KCITempAct[[#This Row],[KCIAve]]),0)","v":34},{"$f":"IF(MONTH(KCITempAct[[#This Row],[Date]])=7,0,IF(MONTH(KCITempAct[[#This Row],[Date]])=8,0,KCITempAct[[#This Row],[KCIHDD]]))","v":34},{"$f":"SUMPRODUCT((KCINHDD[Month]=MONTH(KCITempAct[[#This Row],[Date]]))*(KCINHDD[Day]=DAY(KCITempAct[[#This Row],[Date]]))*KCINHDD[KCINHDD])","v":33.06666666666667},{"$f":"IF(MONTH(KCITempAct[[#This Row],[Date]])=7,0,IF(MONTH(KCITempAct[[#This Row],[Date]])=8,0,KCITempAct[[#This Row],[KCINHDD]]))","v":33.06666666666667},"Adj HDD and NDD =0 for July and August"]
["2018-01-29",31,12,{"$f":"AVERAGE(KCITempAct[[#This Row],[KCIHigh]:[KCILow]]\n)","v":21.5},{"$f":"IF(KCITempAct[[#This Row],[KCIAve]]<65,(65-KCITempAct[[#This Row],[KCIAve]]),0)","v":43.5},{"$f":"IF(MONTH(KCITempAct[[#This Row],[Date]])=7,0,IF(MONTH(KCITempAct[[#This Row],[Date]])=8,0,KCITempAct[[#This Row],[KCIHDD]]))","v":43.5},{"$f":"SUMPRODUCT((KCINHDD[Month]=MONTH(KCITempAct[[#This Row],[Date]]))*(KCINHDD[Day]=DAY(KCITempAct[[#This Row],[Date]]))*KCINHDD[KCINHDD])","v":34.866666666666667},{"$f":"IF(MONTH(KCITempAct[[#This Row],[Date]])=7,0,IF(MONTH(KCITempAct[[#This Row],[Date]])=8,0,KCITempAct[[#This Row],[KCINHDD]]))","v":34.866666666666667},"Adj HDD and NDD =0 for July and August"]
["2018-01-30",50,18,{"$f":"AVERAGE(KCITempAct[[#This Row],[KCIHigh]:[KCILow]]\n)","v":34},{"$f":"IF(KCITempAct[[#This Row],[KCIAve]]<65,(65-KCITempAct[[#This Row],[KCIAve]]),0)","v":31},{"$f":"IF(MONTH(KCITempAct[[#This Row],[Date]])=7,0,IF(MONTH(KCITempAct[[#This Row],[Date]])=8,0,KCITempAct[[#This Row],[KCIHDD]]))","v":31},{"$f":"SUMPRODUCT((KCINHDD[Month]=MONTH(KCITempAct[[#This Row],[Date]]))*(KCINHDD[Day]=DAY(KCITempAct[[#This Row],[Date]]))*KCINHDD[KCINHDD])","v":36.31666666666667},{"$f":"IF(MONTH(KCITempAct[[#This Row],[Date]])=7,0,IF(MONTH(KCITempAct[[#This Row],[Date]])=8,0,KCITempAct[[#This Row],[KCINHDD]]))","v":36.31666666666667},"Adj HDD and NDD =0 for July and August"]
["2018-01-31",51,34,{"$f":"AVERAGE(KCITempAct[[#This Row],[KCIHigh]:[KCILow]]\n)","v":42.5},{"$f":"IF(KCITempAct[[#This Row],[KCIAve]]<65,(65-KCITempAct[[#This Row],[KCIAve]]),0)","v":22.5},{"$f":"IF(MONTH(KCITempAct[[#This Row],[Date]])=7,0,IF(MONTH(KCITempAct[[#This Row],[Date]])=8,0,KCITempAct[[#This Row],[KCIHDD]]))","v":22.5},{"$f":"SUMPRODUCT((KCINHDD[Month]=MONTH(KCITempAct[[#This Row],[Date]]))*(KCINHDD[Day]=DAY(KCITempAct[[#This Row],[Date]]))*KCINHDD[KCINHDD])","v":32.700000000000003},{"$f":"IF(MONTH(KCITempAct[[#This Row],[Date]])=7,0,IF(MONTH(KCITempAct[[#This Row],[Date]])=8,0,KCITempAct[[#This Row],[KCINHDD]]))","v":32.700000000000003},"Adj HDD and NDD =0 for July and August"]
["2018-02-01",41,11,{"$f":"AVERAGE(KCITempAct[[#This Row],[KCIHigh]:[KCILow]]\n)","v":26},{"$f":"IF(KCITempAct[[#This Row],[KCIAve]]<65,(65-KCITempAct[[#This Row],[KCIAve]]),0)","v":39},{"$f":"IF(MONTH(KCITempAct[[#This Row],[Date]])=7,0,IF(MONTH(KCITempAct[[#This Row],[Date]])=8,0,KCITempAct[[#This Row],[KCIHDD]]))","v":39},{"$f":"SUMPRODUCT((KCINHDD[Month]=MONTH(KCITempAct[[#This Row],[Date]]))*(KCINHDD[Day]=DAY(KCITempAct[[#This Row],[Date]]))*KCINHDD[KCINHDD])","v":33.266666666666666},{"$f":"IF(MONTH(KCITempAct[[#This Row],[Date]])=7,0,IF(MONTH(KCITempAct[[#This Row],[Date]])=8,0,KCITempAct[[#This Row],[KCINHDD]]))","v":33.266666666666666},"Adj HDD and NDD =0 for July and August"]
["2018-02-02",35,7,{"$f":"AVERAGE(KCITempAct[[#This Row],[KCIHigh]:[KCILow]]\n)","v":21},{"$f":"IF(KCITempAct[[#This Row],[KCIAve]]<65,(65-KCITempAct[[#This Row],[KCIAve]]),0)","v":44},{"$f":"IF(MONTH(KCITempAct[[#This Row],[Date]])=7,0,IF(MONTH(KCITempAct[[#This Row],[Date]])=8,0,KCITempAct[[#This Row],[KCIHDD]]))","v":44},{"$f":"SUMPRODUCT((KCINHDD[Month]=MONTH(KCITempAct[[#This Row],[Date]]))*(KCINHDD[Day]=DAY(KCITempAct[[#This Row],[Date]]))*KCINHDD[KCINHDD])","v":33.700000000000003},{"$f":"IF(MONTH(KCITempAct[[#This Row],[Date]])=7,0,IF(MONTH(KCITempAct[[#This Row],[Date]])=8,0,KCITempAct[[#This Row],[KCINHDD]]))","v":33.700000000000003},"Adj HDD and NDD =0 for July and August"]
["2018-02-03",51,28,{"$f":"AVERAGE(KCITempAct[[#This Row],[KCIHigh]:[KCILow]]\n)","v":39.5},{"$f":"IF(KCITempAct[[#This Row],[KCIAve]]<65,(65-KCITempAct[[#This Row],[KCIAve]]),0)","v":25.5},{"$f":"IF(MONTH(KCITempAct[[#This Row],[Date]])=7,0,IF(MONTH(KCITempAct[[#This Row],[Date]])=8,0,KCITempAct[[#This Row],[KCIHDD]]))","v":25.5},{"$f":"SUMPRODUCT((KCINHDD[Month]=MONTH(KCITempAct[[#This Row],[Date]]))*(KCINHDD[Day]=DAY(KCITempAct[[#This Row],[Date]]))*KCINHDD[KCINHDD])","v":32.666666666666664},{"$f":"IF(MONTH(KCITempAct[[#This Row],[Date]])=7,0,IF(MONTH(KCITempAct[[#This Row],[Date]])=8,0,KCITempAct[[#This Row],[KCINHDD]]))","v":32.666666666666664},"Adj HDD and NDD =0 for July and August"]
["2018-02-04",37,3,{"$f":"AVERAGE(KCITempAct[[#This Row],[KCIHigh]:[KCILow]]\n)","v":20},{"$f":"IF(KCITempAct[[#This Row],[KCIAve]]<65,(65-KCITempAct[[#This Row],[KCIAve]]),0)","v":45},{"$f":"IF(MONTH(KCITempAct[[#This Row],[Date]])=7,0,IF(MONTH(KCITempAct[[#This Row],[Date]])=8,0,KCITempAct[[#This Row],[KCIHDD]]))","v":45},{"$f":"SUMPRODUCT((KCINHDD[Month]=MONTH(KCITempAct[[#This Row],[Date]]))*(KCINHDD[Day]=DAY(KCITempAct[[#This Row],[Date]]))*KCINHDD[KCINHDD])","v":35.5},{"$f":"IF(MONTH(KCITempAct[[#This Row],[Date]])=7,0,IF(MONTH(KCITempAct[[#This Row],[Date]])=8,0,KCITempAct[[#This Row],[KCINHDD]]))","v":35.5},"Adj HDD and NDD =0 for July and August"]
["2018-02-05",20,-2,{"$f":"AVERAGE(KCITempAct[[#This Row],[KCIHigh]:[KCILow]]\n)","v":9},{"$f":"IF(KCITempAct[[#This Row],[KCIAve]]<65,(65-KCITempAct[[#This Row],[KCIAve]]),0)","v":56},{"$f":"IF(MONTH(KCITempAct[[#This Row],[Date]])=7,0,IF(MONTH(KCITempAct[[#This Row],[Date]])=8,0,KCITempAct[[#This Row],[KCIHDD]]))","v":56},{"$f":"SUMPRODUCT((KCINHDD[Month]=MONTH(KCITempAct[[#This Row],[Date]]))*(KCINHDD[Day]=DAY(KCITempAct[[#This Row],[Date]]))*KCINHDD[KCINHDD])","v":35.616666666666667},{"$f":"IF(MONTH(KCITempAct[[#This Row],[Date]])=7,0,IF(MONTH(KCITempAct[[#This Row],[Date]])=8,0,KCITempAct[[#This Row],[KCINHDD]]))","v":35.616666666666667},"Adj HDD and NDD =0 for July and August"]
["2018-02-06",19,9,{"$f":"AVERAGE(KCITempAct[[#This Row],[KCIHigh]:[KCILow]]\n)","v":14},{"$f":"IF(KCITempAct[[#This Row],[KCIAve]]<65,(65-KCITempAct[[#This Row],[KCIAve]]),0)","v":51},{"$f":"IF(MONTH(KCITempAct[[#This Row],[Date]])=7,0,IF(MONTH(KCITempAct[[#This Row],[Date]])=8,0,KCITempAct[[#This Row],[KCIHDD]]))","v":51},{"$f":"SUMPRODUCT((KCINHDD[Month]=MONTH(KCITempAct[[#This Row],[Date]]))*(KCINHDD[Day]=DAY(KCITempAct[[#This Row],[Date]]))*KCINHDD[KCINHDD])","v":32.716666666666669},{"$f":"IF(MONTH(KCITempAct[[#This Row],[Date]])=7,0,IF(MONTH(KCITempAct[[#This Row],[Date]])=8,0,KCITempAct[[#This Row],[KCINHDD]]))","v":32.716666666666669},"Adj HDD and NDD =0 for July and August"]
["2018-02-07",31,10,{"$f":"AVERAGE(KCITempAct[[#This Row],[KCIHigh]:[KCILow]]\n)","v":20.5},{"$f":"IF(KCITempAct[[#This Row],[KCIAve]]<65,(65-KCITempAct[[#This Row],[KCIAve]]),0)","v":44.5},{"$f":"IF(MONTH(KCITempAct[[#This Row],[Date]])=7,0,IF(MONTH(KCITempAct[[#This Row],[Date]])=8,0,KCITempAct[[#This Row],[KCIHDD]]))","v":44.5},{"$f":"SUMPRODUCT((KCINHDD[Month]=MONTH(KCITempAct[[#This Row],[Date]]))*(KCINHDD[Day]=DAY(KCITempAct[[#This Row],[Date]]))*KCINHDD[KCINHDD])","v":34.333333333333336},{"$f":"IF(MONTH(KCITempAct[[#This Row],[Date]])=7,0,IF(MONTH(KCITempAct[[#This Row],[Date]])=8,0,KCITempAct[[#This Row],[KCINHDD]]))","v":34.333333333333336},"Adj HDD and NDD =0 for July and August"]
["2018-02-08",53,17,{"$f":"AVERAGE(KCITempAct[[#This Row],[KCIHigh]:[KCILow]]\n)","v":35},{"$f":"IF(KCITempAct[[#This Row],[KCIAve]]<65,(65-KCITempAct[[#This Row],[KCIAve]]),0)","v":30},{"$f":"IF(MONTH(KCITempAct[[#This Row],[Date]])=7,0,IF(MONTH(KCITempAct[[#This Row],[Date]])=8,0,KCITempAct[[#This Row],[KCIHDD]]))","v":30},{"$f":"SUMPRODUCT((KCINHDD[Month]=MONTH(KCITempAct[[#This Row],[Date]]))*(KCINHDD[Day]=DAY(KCITempAct[[#This Row],[Date]]))*KCINHDD[KCINHDD])","v":36.266666666666666},{"$f":"IF(MONTH(KCITempAct[[#This Row],[Date]])=7,0,IF(MONTH(KCITempAct[[#This Row],[Date]])=8,0,KCITempAct[[#This Row],[KCINHDD]]))","v":36.266666666666666},"Adj HDD and NDD =0 for July and August"]
["2018-02-09",47,16,{"$f":"AVERAGE(KCITempAct[[#This Row],[KCIHigh]:[KCILow]]\n)","v":31.5},{"$f":"IF(KCITempAct[[#This Row],[KCIAve]]<65,(65-KCITempAct[[#This Row],[KCIAve]]),0)","v":33.5},{"$f":"IF(MONTH(KCITempAct[[#This Row],[Date]])=7,0,IF(MONTH(KCITempAct[[#This Row],[Date]])=8,0,KCITempAct[[#This Row],[KCIHDD]]))","v":33.5},{"$f":"SUMPRODUCT((KCINHDD[Month]=MONTH(KCITempAct[[#This Row],[Date]]))*(KCINHDD[Day]=DAY(KCITempAct[[#This Row],[Date]]))*KCINHDD[KCINHDD])","v":34.516666666666666},{"$f":"IF(MONTH(KCITempAct[[#This Row],[Date]])=7,0,IF(MONTH(KCITempAct[[#This Row],[Date]])=8,0,KCITempAct[[#This Row],[KCINHDD]]))","v":34.516666666666666},"Adj HDD and NDD =0 for July and August"]
["2018-02-10",22,11,{"$f":"AVERAGE(KCITempAct[[#This Row],[KCIHigh]:[KCILow]]\n)","v":16.5},{"$f":"IF(KCITempAct[[#This Row],[KCIAve]]<65,(65-KCITempAct[[#This Row],[KCIAve]]),0)","v":48.5},{"$f":"IF(MONTH(KCITempAct[[#This Row],[Date]])=7,0,IF(MONTH(KCITempAct[[#This Row],[Date]])=8,0,KCITempAct[[#This Row],[KCIHDD]]))","v":48.5},{"$f":"SUMPRODUCT((KCINHDD[Month]=MONTH(KCITempAct[[#This Row],[Date]]))*(KCINHDD[Day]=DAY(KCITempAct[[#This Row],[Date]]))*KCINHDD[KCINHDD])","v":33.883333333333333},{"$f":"IF(MONTH(KCITempAct[[#This Row],[Date]])=7,0,IF(MONTH(KCITempAct[[#This Row],[Date]])=8,0,KCITempAct[[#This Row],[KCINHDD]]))","v":33.883333333333333},"Adj HDD and NDD =0 for July and August"]
["2018-02-11",33,13,{"$f":"AVERAGE(KCITempAct[[#This Row],[KCIHigh]:[KCILow]]\n)","v":23},{"$f":"IF(KCITempAct[[#This Row],[KCIAve]]<65,(65-KCITempAct[[#This Row],[KCIAve]]),0)","v":42},{"$f":"IF(MONTH(KCITempAct[[#This Row],[Date]])=7,0,IF(MONTH(KCITempAct[[#This Row],[Date]])=8,0,KCITempAct[[#This Row],[KCIHDD]]))","v":42},{"$f":"SUMPRODUCT((KCINHDD[Month]=MONTH(KCITempAct[[#This Row],[Date]]))*(KCINHDD[Day]=DAY(KCITempAct[[#This Row],[Date]]))*KCINHDD[KCINHDD])","v":35.083333333333336},{"$f":"IF(MONTH(KCITempAct[[#This Row],[Date]])=7,0,IF(MONTH(KCITempAct[[#This Row],[Date]])=8,0,KCITempAct[[#This Row],[KCINHDD]]))","v":35.083333333333336},"Adj HDD and NDD =0 for July and August"]
["2018-02-12",36,11,{"$f":"AVERAGE(KCITempAct[[#This Row],[KCIHigh]:[KCILow]]\n)","v":23.5},{"$f":"IF(KCITempAct[[#This Row],[KCIAve]]<65,(65-KCITempAct[[#This Row],[KCIAve]]),0)","v":41.5},{"$f":"IF(MONTH(KCITempAct[[#This Row],[Date]])=7,0,IF(MONTH(KCITempAct[[#This Row],[Date]])=8,0,KCITempAct[[#This Row],[KCIHDD]]))","v":41.5},{"$f":"SUMPRODUCT((KCINHDD[Month]=MONTH(KCITempAct[[#This Row],[Date]]))*(KCINHDD[Day]=DAY(KCITempAct[[#This Row],[Date]]))*KCINHDD[KCINHDD])","v":36.6},{"$f":"IF(MONTH(KCITempAct[[#This Row],[Date]])=7,0,IF(MONTH(KCITempAct[[#This Row],[Date]])=8,0,KCITempAct[[#This Row],[KCINHDD]]))","v":36.6},"Adj HDD and NDD =0 for July and August"]
["2018-02-13",51,25,{"$f":"AVERAGE(KCITempAct[[#This Row],[KCIHigh]:[KCILow]]\n)","v":38},{"$f":"IF(KCITempAct[[#This Row],[KCIAve]]<65,(65-KCITempAct[[#This Row],[KCIAve]]),0)","v":27},{"$f":"IF(MONTH(KCITempAct[[#This Row],[Date]])=7,0,IF(MONTH(KCITempAct[[#This Row],[Date]])=8,0,KCITempAct[[#This Row],[KCIHDD]]))","v":27},{"$f":"SUMPRODUCT((KCINHDD[Month]=MONTH(KCITempAct[[#This Row],[Date]]))*(KCINHDD[Day]=DAY(KCITempAct[[#This Row],[Date]]))*KCINHDD[KCINHDD])","v":33.266666666666666},{"$f":"IF(MONTH(KCITempAct[[#This Row],[Date]])=7,0,IF(MONTH(KCITempAct[[#This Row],[Date]])=8,0,KCITempAct[[#This Row],[KCINHDD]]))","v":33.266666666666666},"Adj HDD and NDD =0 for July and August"]
["2018-02-14",56,32,{"$f":"AVERAGE(KCITempAct[[#This Row],[KCIHigh]:[KCILow]]\n)","v":44},{"$f":"IF(KCITempAct[[#This Row],[KCIAve]]<65,(65-KCITempAct[[#This Row],[KCIAve]]),0)","v":21},{"$f":"IF(MONTH(KCITempAct[[#This Row],[Date]])=7,0,IF(MONTH(KCITempAct[[#This Row],[Date]])=8,0,KCITempAct[[#This Row],[KCIHDD]]))","v":21},{"$f":"SUMPRODUCT((KCINHDD[Month]=MONTH(KCITempAct[[#This Row],[Date]]))*(KCINHDD[Day]=DAY(KCITempAct[[#This Row],[Date]]))*KCINHDD[KCINHDD])","v":30.716666666666665},{"$f":"IF(MONTH(KCITempAct[[#This Row],[Date]])=7,0,IF(MONTH(KCITempAct[[#This Row],[Date]])=8,0,KCITempAct[[#This Row],[KCINHDD]]))","v":30.716666666666665},"Adj HDD and NDD =0 for July and August"]
["2018-02-15",64,34,{"$f":"AVERAGE(KCITempAct[[#This Row],[KCIHigh]:[KCILow]]\n)","v":49},{"$f":"IF(KCITempAct[[#This Row],[KCIAve]]<65,(65-KCITempAct[[#This Row],[KCIAve]]),0)","v":16},{"$f":"IF(MONTH(KCITempAct[[#This Row],[Date]])=7,0,IF(MONTH(KCITempAct[[#This Row],[Date]])=8,0,KCITempAct[[#This Row],[KCIHDD]]))","v":16},{"$f":"SUMPRODUCT((KCINHDD[Month]=MONTH(KCITempAct[[#This Row],[Date]]))*(KCINHDD[Day]=DAY(KCITempAct[[#This Row],[Date]]))*KCINHDD[KCINHDD])","v":33.766666666666666},{"$f":"IF(MONTH(KCITempAct[[#This Row],[Date]])=7,0,IF(MONTH(KCITempAct[[#This Row],[Date]])=8,0,KCITempAct[[#This Row],[KCINHDD]]))","v":33.766666666666666},"Adj HDD and NDD =0 for July and August"]
["2018-02-16",37,22,{"$f":"AVERAGE(KCITempAct[[#This Row],[KCIHigh]:[KCILow]]\n)","v":29.5},{"$f":"IF(KCITempAct[[#This Row],[KCIAve]]<65,(65-KCITempAct[[#This Row],[KCIAve]]),0)","v":35.5},{"$f":"IF(MONTH(KCITempAct[[#This Row],[Date]])=7,0,IF(MONTH(KCITempAct[[#This Row],[Date]])=8,0,KCITempAct[[#This Row],[KCIHDD]]))","v":35.5},{"$f":"SUMPRODUCT((KCINHDD[Month]=MONTH(KCITempAct[[#This Row],[Date]]))*(KCINHDD[Day]=DAY(KCITempAct[[#This Row],[Date]]))*KCINHDD[KCINHDD])","v":34.56666666666667},{"$f":"IF(MONTH(KCITempAct[[#This Row],[Date]])=7,0,IF(MONTH(KCITempAct[[#This Row],[Date]])=8,0,KCITempAct[[#This Row],[KCINHDD]]))","v":34.56666666666667},"Adj HDD and NDD =0 for July and August"]
["2018-02-17",53,29,{"$f":"AVERAGE(KCITempAct[[#This Row],[KCIHigh]:[KCILow]]\n)","v":41},{"$f":"IF(KCITempAct[[#This Row],[KCIAve]]<65,(65-KCITempAct[[#This Row],[KCIAve]]),0)","v":24},{"$f":"IF(MONTH(KCITempAct[[#This Row],[Date]])=7,0,IF(MONTH(KCITempAct[[#This Row],[Date]])=8,0,KCITempAct[[#This Row],[KCIHDD]]))","v":24},{"$f":"SUMPRODUCT((KCINHDD[Month]=MONTH(KCITempAct[[#This Row],[Date]]))*(KCINHDD[Day]=DAY(KCITempAct[[#This Row],[Date]]))*KCINHDD[KCINHDD])","v":29.55},{"$f":"IF(MONTH(KCITempAct[[#This Row],[Date]])=7,0,IF(MONTH(KCITempAct[[#This Row],[Date]])=8,0,KCITempAct[[#This Row],[KCINHDD]]))","v":29.55},"Adj HDD and NDD =0 for July and August"]
["2018-02-18",58,31,{"$f":"AVERAGE(KCITempAct[[#This Row],[KCIHigh]:[KCILow]]\n)","v":44.5},{"$f":"IF(KCITempAct[[#This Row],[KCIAve]]<65,(65-KCITempAct[[#This Row],[KCIAve]]),0)","v":20.5},{"$f":"IF(MONTH(KCITempAct[[#This Row],[Date]])=7,0,IF(MONTH(KCITempAct[[#This Row],[Date]])=8,0,KCITempAct[[#This Row],[KCIHDD]]))","v":20.5},{"$f":"SUMPRODUCT((KCINHDD[Month]=MONTH(KCITempAct[[#This Row],[Date]]))*(KCINHDD[Day]=DAY(KCITempAct[[#This Row],[Date]]))*KCINHDD[KCINHDD])","v":28.05},{"$f":"IF(MONTH(KCITempAct[[#This Row],[Date]])=7,0,IF(MONTH(KCITempAct[[#This Row],[Date]])=8,0,KCITempAct[[#This Row],[KCINHDD]]))","v":28.05},"Adj HDD and NDD =0 for July and August"]
["2018-02-19",66,29,{"$f":"AVERAGE(KCITempAct[[#This Row],[KCIHigh]:[KCILow]]\n)","v":47.5},{"$f":"IF(KCITempAct[[#This Row],[KCIAve]]<65,(65-KCITempAct[[#This Row],[KCIAve]]),0)","v":17.5},{"$f":"IF(MONTH(KCITempAct[[#This Row],[Date]])=7,0,IF(MONTH(KCITempAct[[#This Row],[Date]])=8,0,KCITempAct[[#This Row],[KCIHDD]]))","v":17.5},{"$f":"SUMPRODUCT((KCINHDD[Month]=MONTH(KCITempAct[[#This Row],[Date]]))*(KCINHDD[Day]=DAY(KCITempAct[[#This Row],[Date]]))*KCINHDD[KCINHDD])","v":27.25},{"$f":"IF(MONTH(KCITempAct[[#This Row],[Date]])=7,0,IF(MONTH(KCITempAct[[#This Row],[Date]])=8,0,KCITempAct[[#This Row],[KCINHDD]]))","v":27.25},"Adj HDD and NDD =0 for July and August"]
["2018-02-20",30,19,{"$f":"AVERAGE(KCITempAct[[#This Row],[KCIHigh]:[KCILow]]\n)","v":24.5},{"$f":"IF(KCITempAct[[#This Row],[KCIAve]]<65,(65-KCITempAct[[#This Row],[KCIAve]]),0)","v":40.5},{"$f":"IF(MONTH(KCITempAct[[#This Row],[Date]])=7,0,IF(MONTH(KCITempAct[[#This Row],[Date]])=8,0,KCITempAct[[#This Row],[KCIHDD]]))","v":40.5},{"$f":"SUMPRODUCT((KCINHDD[Month]=MONTH(KCITempAct[[#This Row],[Date]]))*(KCINHDD[Day]=DAY(KCITempAct[[#This Row],[Date]]))*KCINHDD[KCINHDD])","v":26.1},{"$f":"IF(MONTH(KCITempAct[[#This Row],[Date]])=7,0,IF(MONTH(KCITempAct[[#This Row],[Date]])=8,0,KCITempAct[[#This Row],[KCINHDD]]))","v":26.1},"Adj HDD and NDD =0 for July and August"]
["2018-02-21",27,14,{"$f":"AVERAGE(KCITempAct[[#This Row],[KCIHigh]:[KCILow]]\n)","v":20.5},{"$f":"IF(KCITempAct[[#This Row],[KCIAve]]<65,(65-KCITempAct[[#This Row],[KCIAve]]),0)","v":44.5},{"$f":"IF(MONTH(KCITempAct[[#This Row],[Date]])=7,0,IF(MONTH(KCITempAct[[#This Row],[Date]])=8,0,KCITempAct[[#This Row],[KCIHDD]]))","v":44.5},{"$f":"SUMPRODUCT((KCINHDD[Month]=MONTH(KCITempAct[[#This Row],[Date]]))*(KCINHDD[Day]=DAY(KCITempAct[[#This Row],[Date]]))*KCINHDD[KCINHDD])","v":29.15},{"$f":"IF(MONTH(KCITempAct[[#This Row],[Date]])=7,0,IF(MONTH(KCITempAct[[#This Row],[Date]])=8,0,KCITempAct[[#This Row],[KCINHDD]]))","v":29.15},"Adj HDD and NDD =0 for July and August"]
["2018-02-22",33,25,{"$f":"AVERAGE(KCITempAct[[#This Row],[KCIHigh]:[KCILow]]\n)","v":29},{"$f":"IF(KCITempAct[[#This Row],[KCIAve]]<65,(65-KCITempAct[[#This Row],[KCIAve]]),0)","v":36},{"$f":"IF(MONTH(KCITempAct[[#This Row],[Date]])=7,0,IF(MONTH(KCITempAct[[#This Row],[Date]])=8,0,KCITempAct[[#This Row],[KCIHDD]]))","v":36},{"$f":"SUMPRODUCT((KCINHDD[Month]=MONTH(KCITempAct[[#This Row],[Date]]))*(KCINHDD[Day]=DAY(KCITempAct[[#This Row],[Date]]))*KCINHDD[KCINHDD])","v":27.783333333333335},{"$f":"IF(MONTH(KCITempAct[[#This Row],[Date]])=7,0,IF(MONTH(KCITempAct[[#This Row],[Date]])=8,0,KCITempAct[[#This Row],[KCINHDD]]))","v":27.783333333333335},"Adj HDD and NDD =0 for July and August"]
["2018-02-23",34,32,{"$f":"AVERAGE(KCITempAct[[#This Row],[KCIHigh]:[KCILow]]\n)","v":33},{"$f":"IF(KCITempAct[[#This Row],[KCIAve]]<65,(65-KCITempAct[[#This Row],[KCIAve]]),0)","v":32},{"$f":"IF(MONTH(KCITempAct[[#This Row],[Date]])=7,0,IF(MONTH(KCITempAct[[#This Row],[Date]])=8,0,KCITempAct[[#This Row],[KCIHDD]]))","v":32},{"$f":"SUMPRODUCT((KCINHDD[Month]=MONTH(KCITempAct[[#This Row],[Date]]))*(KCINHDD[Day]=DAY(KCITempAct[[#This Row],[Date]]))*KCINHDD[KCINHDD])","v":27.9},{"$f":"IF(MONTH(KCITempAct[[#This Row],[Date]])=7,0,IF(MONTH(KCITempAct[[#This Row],[Date]])=8,0,KCITempAct[[#This Row],[KCINHDD]]))","v":27.9},"Adj HDD and NDD =0 for July and August"]
["2018-02-24",40,31,{"$f":"AVERAGE(KCITempAct[[#This Row],[KCIHigh]:[KCILow]]\n)","v":35.5},{"$f":"IF(KCITempAct[[#This Row],[KCIAve]]<65,(65-KCITempAct[[#This Row],[KCIAve]]),0)","v":29.5},{"$f":"IF(MONTH(KCITempAct[[#This Row],[Date]])=7,0,IF(MONTH(KCITempAct[[#This Row],[Date]])=8,0,KCITempAct[[#This Row],[KCIHDD]]))","v":29.5},{"$f":"SUMPRODUCT((KCINHDD[Month]=MONTH(KCITempAct[[#This Row],[Date]]))*(KCINHDD[Day]=DAY(KCITempAct[[#This Row],[Date]]))*KCINHDD[KCINHDD])","v":29.4},{"$f":"IF(MONTH(KCITempAct[[#This Row],[Date]])=7,0,IF(MONTH(KCITempAct[[#This Row],[Date]])=8,0,KCITempAct[[#This Row],[KCINHDD]]))","v":29.4},"Adj HDD and NDD =0 for July and August"]
["2018-02-25",51,23,{"$f":"AVERAGE(KCITempAct[[#This Row],[KCIHigh]:[KCILow]]\n)","v":37},{"$f":"IF(KCITempAct[[#This Row],[KCIAve]]<65,(65-KCITempAct[[#This Row],[KCIAve]]),0)","v":28},{"$f":"IF(MONTH(KCITempAct[[#This Row],[Date]])=7,0,IF(MONTH(KCITempAct[[#This Row],[Date]])=8,0,KCITempAct[[#This Row],[KCIHDD]]))","v":28},{"$f":"SUMPRODUCT((KCINHDD[Month]=MONTH(KCITempAct[[#This Row],[Date]]))*(KCINHDD[Day]=DAY(KCITempAct[[#This Row],[Date]]))*KCINHDD[KCINHDD])","v":29.683333333333334},{"$f":"IF(MONTH(KCITempAct[[#This Row],[Date]])=7,0,IF(MONTH(KCITempAct[[#This Row],[Date]])=8,0,KCITempAct[[#This Row],[KCINHDD]]))","v":29.683333333333334},"Adj HDD and NDD =0 for July and August"]
["2018-02-26",62,28,{"$f":"AVERAGE(KCITempAct[[#This Row],[KCIHigh]:[KCILow]]\n)","v":45},{"$f":"IF(KCITempAct[[#This Row],[KCIAve]]<65,(65-KCITempAct[[#This Row],[KCIAve]]),0)","v":20},{"$f":"IF(MONTH(KCITempAct[[#This Row],[Date]])=7,0,IF(MONTH(KCITempAct[[#This Row],[Date]])=8,0,KCITempAct[[#This Row],[KCIHDD]]))","v":20},{"$f":"SUMPRODUCT((KCINHDD[Month]=MONTH(KCITempAct[[#This Row],[Date]]))*(KCINHDD[Day]=DAY(KCITempAct[[#This Row],[Date]]))*KCINHDD[KCINHDD])","v":30.3},{"$f":"IF(MONTH(KCITempAct[[#This Row],[Date]])=7,0,IF(MONTH(KCITempAct[[#This Row],[Date]])=8,0,KCITempAct[[#This Row],[KCINHDD]]))","v":30.3},"Adj HDD and NDD =0 for July and August"]
["2018-02-27",71,39,{"$f":"AVERAGE(KCITempAct[[#This Row],[KCIHigh]:[KCILow]]\n)","v":55},{"$f":"IF(KCITempAct[[#This Row],[KCIAve]]<65,(65-KCITempAct[[#This Row],[KCIAve]]),0)","v":10},{"$f":"IF(MONTH(KCITempAct[[#This Row],[Date]])=7,0,IF(MONTH(KCITempAct[[#This Row],[Date]])=8,0,KCITempAct[[#This Row],[KCIHDD]]))","v":10},{"$f":"SUMPRODUCT((KCINHDD[Month]=MONTH(KCITempAct[[#This Row],[Date]]))*(KCINHDD[Day]=DAY(KCITempAct[[#This Row],[Date]]))*KCINHDD[KCINHDD])","v":30.65},{"$f":"IF(MONTH(KCITempAct[[#This Row],[Date]])=7,0,IF(MONTH(KCITempAct[[#This Row],[Date]])=8,0,KCITempAct[[#This Row],[KCINHDD]]))","v":30.65},"Adj HDD and NDD =0 for July and August"]
["2018-02-28",59,44,{"$f":"AVERAGE(KCITempAct[[#This Row],[KCIHigh]:[KCILow]]\n)","v":51.5},{"$f":"IF(KCITempAct[[#This Row],[KCIAve]]<65,(65-KCITempAct[[#This Row],[KCIAve]]),0)","v":13.5},{"$f":"IF(MONTH(KCITempAct[[#This Row],[Date]])=7,0,IF(MONTH(KCITempAct[[#This Row],[Date]])=8,0,KCITempAct[[#This Row],[KCIHDD]]))","v":13.5},{"$f":"SUMPRODUCT((KCINHDD[Month]=MONTH(KCITempAct[[#This Row],[Date]]))*(KCINHDD[Day]=DAY(KCITempAct[[#This Row],[Date]]))*KCINHDD[KCINHDD])","v":27.9},{"$f":"IF(MONTH(KCITempAct[[#This Row],[Date]])=7,0,IF(MONTH(KCITempAct[[#This Row],[Date]])=8,0,KCITempAct[[#This Row],[KCINHDD]]))","v":27.9},"Adj HDD and NDD =0 for July and August"]
["2018-03-01",54,31,{"$f":"AVERAGE(KCITempAct[[#This Row],[KCIHigh]:[KCILow]]\n)","v":42.5},{"$f":"IF(KCITempAct[[#This Row],[KCIAve]]<65,(65-KCITempAct[[#This Row],[KCIAve]]),0)","v":22.5},{"$f":"IF(MONTH(KCITempAct[[#This Row],[Date]])=7,0,IF(MONTH(KCITempAct[[#This Row],[Date]])=8,0,KCITempAct[[#This Row],[KCIHDD]]))","v":22.5},{"$f":"SUMPRODUCT((KCINHDD[Month]=MONTH(KCITempAct[[#This Row],[Date]]))*(KCINHDD[Day]=DAY(KCITempAct[[#This Row],[Date]]))*KCINHDD[KCINHDD])","v":27.533333333333335},{"$f":"IF(MONTH(KCITempAct[[#This Row],[Date]])=7,0,IF(MONTH(KCITempAct[[#This Row],[Date]])=8,0,KCITempAct[[#This Row],[KCINHDD]]))","v":27.533333333333335},"Adj HDD and NDD =0 for July and August"]
["2018-03-02",58,30,{"$f":"AVERAGE(KCITempAct[[#This Row],[KCIHigh]:[KCILow]]\n)","v":44},{"$f":"IF(KCITempAct[[#This Row],[KCIAve]]<65,(65-KCITempAct[[#This Row],[KCIAve]]),0)","v":21},{"$f":"IF(MONTH(KCITempAct[[#This Row],[Date]])=7,0,IF(MONTH(KCITempAct[[#This Row],[Date]])=8,0,KCITempAct[[#This Row],[KCIHDD]]))","v":21},{"$f":"SUMPRODUCT((KCINHDD[Month]=MONTH(KCITempAct[[#This Row],[Date]]))*(KCINHDD[Day]=DAY(KCITempAct[[#This Row],[Date]]))*KCINHDD[KCINHDD])","v":30.35},{"$f":"IF(MONTH(KCITempAct[[#This Row],[Date]])=7,0,IF(MONTH(KCITempAct[[#This Row],[Date]])=8,0,KCITempAct[[#This Row],[KCINHDD]]))","v":30.35},"Adj HDD and NDD =0 for July and August"]
["2018-03-03",67,38,{"$f":"AVERAGE(KCITempAct[[#This Row],[KCIHigh]:[KCILow]]\n)","v":52.5},{"$f":"IF(KCITempAct[[#This Row],[KCIAve]]<65,(65-KCITempAct[[#This Row],[KCIAve]]),0)","v":12.5},{"$f":"IF(MONTH(KCITempAct[[#This Row],[Date]])=7,0,IF(MONTH(KCITempAct[[#This Row],[Date]])=8,0,KCITempAct[[#This Row],[KCIHDD]]))","v":12.5},{"$f":"SUMPRODUCT((KCINHDD[Month]=MONTH(KCITempAct[[#This Row],[Date]]))*(KCINHDD[Day]=DAY(KCITempAct[[#This Row],[Date]]))*KCINHDD[KCINHDD])","v":28.8},{"$f":"IF(MONTH(KCITempAct[[#This Row],[Date]])=7,0,IF(MONTH(KCITempAct[[#This Row],[Date]])=8,0,KCITempAct[[#This Row],[KCINHDD]]))","v":28.8},"Adj HDD and NDD =0 for July and August"]
["2018-03-04",64,44,{"$f":"AVERAGE(KCITempAct[[#This Row],[KCIHigh]:[KCILow]]\n)","v":54},{"$f":"IF(KCITempAct[[#This Row],[KCIAve]]<65,(65-KCITempAct[[#This Row],[KCIAve]]),0)","v":11},{"$f":"IF(MONTH(KCITempAct[[#This Row],[Date]])=7,0,IF(MONTH(KCITempAct[[#This Row],[Date]])=8,0,KCITempAct[[#This Row],[KCIHDD]]))","v":11},{"$f":"SUMPRODUCT((KCINHDD[Month]=MONTH(KCITempAct[[#This Row],[Date]]))*(KCINHDD[Day]=DAY(KCITempAct[[#This Row],[Date]]))*KCINHDD[KCINHDD])","v":25.116666666666667},{"$f":"IF(MONTH(KCITempAct[[#This Row],[Date]])=7,0,IF(MONTH(KCITempAct[[#This Row],[Date]])=8,0,KCITempAct[[#This Row],[KCINHDD]]))","v":25.116666666666667},"Adj HDD and NDD =0 for July and August"]
["2018-03-05",55,40,{"$f":"AVERAGE(KCITempAct[[#This Row],[KCIHigh]:[KCILow]]\n)","v":47.5},{"$f":"IF(KCITempAct[[#This Row],[KCIAve]]<65,(65-KCITempAct[[#This Row],[KCIAve]]),0)","v":17.5},{"$f":"IF(MONTH(KCITempAct[[#This Row],[Date]])=7,0,IF(MONTH(KCITempAct[[#This Row],[Date]])=8,0,KCITempAct[[#This Row],[KCIHDD]]))","v":17.5},{"$f":"SUMPRODUCT((KCINHDD[Month]=MONTH(KCITempAct[[#This Row],[Date]]))*(KCINHDD[Day]=DAY(KCITempAct[[#This Row],[Date]]))*KCINHDD[KCINHDD])","v":23.933333333333334},{"$f":"IF(MONTH(KCITempAct[[#This Row],[Date]])=7,0,IF(MONTH(KCITempAct[[#This Row],[Date]])=8,0,KCITempAct[[#This Row],[KCINHDD]]))","v":23.933333333333334},"Adj HDD and NDD =0 for July and August"]
["2018-03-06",43,31,{"$f":"AVERAGE(KCITempAct[[#This Row],[KCIHigh]:[KCILow]]\n)","v":37},{"$f":"IF(KCITempAct[[#This Row],[KCIAve]]<65,(65-KCITempAct[[#This Row],[KCIAve]]),0)","v":28},{"$f":"IF(MONTH(KCITempAct[[#This Row],[Date]])=7,0,IF(MONTH(KCITempAct[[#This Row],[Date]])=8,0,KCITempAct[[#This Row],[KCIHDD]]))","v":28},{"$f":"SUMPRODUCT((KCINHDD[Month]=MONTH(KCITempAct[[#This Row],[Date]]))*(KCINHDD[Day]=DAY(KCITempAct[[#This Row],[Date]]))*KCINHDD[KCINHDD])","v":22.666666666666668},{"$f":"IF(MONTH(KCITempAct[[#This Row],[Date]])=7,0,IF(MONTH(KCITempAct[[#This Row],[Date]])=8,0,KCITempAct[[#This Row],[KCINHDD]]))","v":22.666666666666668},"Adj HDD and NDD =0 for July and August"]
["2018-03-07",40,22,{"$f":"AVERAGE(KCITempAct[[#This Row],[KCIHigh]:[KCILow]]\n)","v":31},{"$f":"IF(KCITempAct[[#This Row],[KCIAve]]<65,(65-KCITempAct[[#This Row],[KCIAve]]),0)","v":34},{"$f":"IF(MONTH(KCITempAct[[#This Row],[Date]])=7,0,IF(MONTH(KCITempAct[[#This Row],[Date]])=8,0,KCITempAct[[#This Row],[KCIHDD]]))","v":34},{"$f":"SUMPRODUCT((KCINHDD[Month]=MONTH(KCITempAct[[#This Row],[Date]]))*(KCINHDD[Day]=DAY(KCITempAct[[#This Row],[Date]]))*KCINHDD[KCINHDD])","v":22.05},{"$f":"IF(MONTH(KCITempAct[[#This Row],[Date]])=7,0,IF(MONTH(KCITempAct[[#This Row],[Date]])=8,0,KCITempAct[[#This Row],[KCINHDD]]))","v":22.05},"Adj HDD and NDD =0 for July and August"]
["2018-03-08",46,19,{"$f":"AVERAGE(KCITempAct[[#This Row],[KCIHigh]:[KCILow]]\n)","v":32.5},{"$f":"IF(KCITempAct[[#This Row],[KCIAve]]<65,(65-KCITempAct[[#This Row],[KCIAve]]),0)","v":32.5},{"$f":"IF(MONTH(KCITempAct[[#This Row],[Date]])=7,0,IF(MONTH(KCITempAct[[#This Row],[Date]])=8,0,KCITempAct[[#This Row],[KCIHDD]]))","v":32.5},{"$f":"SUMPRODUCT((KCINHDD[Month]=MONTH(KCITempAct[[#This Row],[Date]]))*(KCINHDD[Day]=DAY(KCITempAct[[#This Row],[Date]]))*KCINHDD[KCINHDD])","v":22.65},{"$f":"IF(MONTH(KCITempAct[[#This Row],[Date]])=7,0,IF(MONTH(KCITempAct[[#This Row],[Date]])=8,0,KCITempAct[[#This Row],[KCINHDD]]))","v":22.65},"Adj HDD and NDD =0 for July and August"]
["2018-03-09",58,31,{"$f":"AVERAGE(KCITempAct[[#This Row],[KCIHigh]:[KCILow]]\n)","v":44.5},{"$f":"IF(KCITempAct[[#This Row],[KCIAve]]<65,(65-KCITempAct[[#This Row],[KCIAve]]),0)","v":20.5},{"$f":"IF(MONTH(KCITempAct[[#This Row],[Date]])=7,0,IF(MONTH(KCITempAct[[#This Row],[Date]])=8,0,KCITempAct[[#This Row],[KCIHDD]]))","v":20.5},{"$f":"SUMPRODUCT((KCINHDD[Month]=MONTH(KCITempAct[[#This Row],[Date]]))*(KCINHDD[Day]=DAY(KCITempAct[[#This Row],[Date]]))*KCINHDD[KCINHDD])","v":24.183333333333334},{"$f":"IF(MONTH(KCITempAct[[#This Row],[Date]])=7,0,IF(MONTH(KCITempAct[[#This Row],[Date]])=8,0,KCITempAct[[#This Row],[KCINHDD]]))","v":24.183333333333334},"Adj HDD and NDD =0 for July and August"]
["2018-03-10",57,28,{"$f":"AVERAGE(KCITempAct[[#This Row],[KCIHigh]:[KCILow]]\n)","v":42.5},{"$f":"IF(KCITempAct[[#This Row],[KCIAve]]<65,(65-KCITempAct[[#This Row],[KCIAve]]),0)","v":22.5},{"$f":"IF(MONTH(KCITempAct[[#This Row],[Date]])=7,0,IF(MONTH(KCITempAct[[#This Row],[Date]])=8,0,KCITempAct[[#This Row],[KCIHDD]]))","v":22.5},{"$f":"SUMPRODUCT((KCINHDD[Month]=MONTH(KCITempAct[[#This Row],[Date]]))*(KCINHDD[Day]=DAY(KCITempAct[[#This Row],[Date]]))*KCINHDD[KCINHDD])","v":23.583333333333332},{"$f":"IF(MONTH(KCITempAct[[#This Row],[Date]])=7,0,IF(MONTH(KCITempAct[[#This Row],[Date]])=8,0,KCITempAct[[#This Row],[KCINHDD]]))","v":23.583333333333332},"Adj HDD and NDD =0 for July and August"]
["2018-03-11",44,33,{"$f":"AVERAGE(KCITempAct[[#This Row],[KCIHigh]:[KCILow]]\n)","v":38.5},{"$f":"IF(KCITempAct[[#This Row],[KCIAve]]<65,(65-KCITempAct[[#This Row],[KCIAve]]),0)","v":26.5},{"$f":"IF(MONTH(KCITempAct[[#This Row],[Date]])=7,0,IF(MONTH(KCITempAct[[#This Row],[Date]])=8,0,KCITempAct[[#This Row],[KCIHDD]]))","v":26.5},{"$f":"SUMPRODUCT((KCINHDD[Month]=MONTH(KCITempAct[[#This Row],[Date]]))*(KCINHDD[Day]=DAY(KCITempAct[[#This Row],[Date]]))*KCINHDD[KCINHDD])","v":22.616666666666667},{"$f":"IF(MONTH(KCITempAct[[#This Row],[Date]])=7,0,IF(MONTH(KCITempAct[[#This Row],[Date]])=8,0,KCITempAct[[#This Row],[KCINHDD]]))","v":22.616666666666667},"Adj HDD and NDD =0 for July and August"]
["2018-03-12",53,31,{"$f":"AVERAGE(KCITempAct[[#This Row],[KCIHigh]:[KCILow]]\n)","v":42},{"$f":"IF(KCITempAct[[#This Row],[KCIAve]]<65,(65-KCITempAct[[#This Row],[KCIAve]]),0)","v":23},{"$f":"IF(MONTH(KCITempAct[[#This Row],[Date]])=7,0,IF(MONTH(KCITempAct[[#This Row],[Date]])=8,0,KCITempAct[[#This Row],[KCIHDD]]))","v":23},{"$f":"SUMPRODUCT((KCINHDD[Month]=MONTH(KCITempAct[[#This Row],[Date]]))*(KCINHDD[Day]=DAY(KCITempAct[[#This Row],[Date]]))*KCINHDD[KCINHDD])","v":20.350000000000001},{"$f":"IF(MONTH(KCITempAct[[#This Row],[Date]])=7,0,IF(MONTH(KCITempAct[[#This Row],[Date]])=8,0,KCITempAct[[#This Row],[KCINHDD]]))","v":20.350000000000001},"Adj HDD and NDD =0 for July and August"]
["2018-03-13",51,24,{"$f":"AVERAGE(KCITempAct[[#This Row],[KCIHigh]:[KCILow]]\n)","v":37.5},{"$f":"IF(KCITempAct[[#This Row],[KCIAve]]<65,(65-KCITempAct[[#This Row],[KCIAve]]),0)","v":27.5},{"$f":"IF(MONTH(KCITempAct[[#This Row],[Date]])=7,0,IF(MONTH(KCITempAct[[#This Row],[Date]])=8,0,KCITempAct[[#This Row],[KCIHDD]]))","v":27.5},{"$f":"SUMPRODUCT((KCINHDD[Month]=MONTH(KCITempAct[[#This Row],[Date]]))*(KCINHDD[Day]=DAY(KCITempAct[[#This Row],[Date]]))*KCINHDD[KCINHDD])","v":19.5},{"$f":"IF(MONTH(KCITempAct[[#This Row],[Date]])=7,0,IF(MONTH(KCITempAct[[#This Row],[Date]])=8,0,KCITempAct[[#This Row],[KCINHDD]]))","v":19.5},"Adj HDD and NDD =0 for July and August"]
["2018-03-14",65,20,{"$f":"AVERAGE(KCITempAct[[#This Row],[KCIHigh]:[KCILow]]\n)","v":42.5},{"$f":"IF(KCITempAct[[#This Row],[KCIAve]]<65,(65-KCITempAct[[#This Row],[KCIAve]]),0)","v":22.5},{"$f":"IF(MONTH(KCITempAct[[#This Row],[Date]])=7,0,IF(MONTH(KCITempAct[[#This Row],[Date]])=8,0,KCITempAct[[#This Row],[KCIHDD]]))","v":22.5},{"$f":"SUMPRODUCT((KCINHDD[Month]=MONTH(KCITempAct[[#This Row],[Date]]))*(KCINHDD[Day]=DAY(KCITempAct[[#This Row],[Date]]))*KCINHDD[KCINHDD])","v":18.45},{"$f":"IF(MONTH(KCITempAct[[#This Row],[Date]])=7,0,IF(MONTH(KCITempAct[[#This Row],[Date]])=8,0,KCITempAct[[#This Row],[KCINHDD]]))","v":18.45},"Adj HDD and NDD =0 for July and August"]
["2018-03-15",76,40,{"$f":"AVERAGE(KCITempAct[[#This Row],[KCIHigh]:[KCILow]]\n)","v":58},{"$f":"IF(KCITempAct[[#This Row],[KCIAve]]<65,(65-KCITempAct[[#This Row],[KCIAve]]),0)","v":7},{"$f":"IF(MONTH(KCITempAct[[#This Row],[Date]])=7,0,IF(MONTH(KCITempAct[[#This Row],[Date]])=8,0,KCITempAct[[#This Row],[KCIHDD]]))","v":7},{"$f":"SUMPRODUCT((KCINHDD[Month]=MONTH(KCITempAct[[#This Row],[Date]]))*(KCINHDD[Day]=DAY(KCITempAct[[#This Row],[Date]]))*KCINHDD[KCINHDD])","v":19.149999999999999},{"$f":"IF(MONTH(KCITempAct[[#This Row],[Date]])=7,0,IF(MONTH(KCITempAct[[#This Row],[Date]])=8,0,KCITempAct[[#This Row],[KCINHDD]]))","v":19.149999999999999},"Adj HDD and NDD =0 for July and August"]
["2018-03-16",54,41,{"$f":"AVERAGE(KCITempAct[[#This Row],[KCIHigh]:[KCILow]]\n)","v":47.5},{"$f":"IF(KCITempAct[[#This Row],[KCIAve]]<65,(65-KCITempAct[[#This Row],[KCIAve]]),0)","v":17.5},{"$f":"IF(MONTH(KCITempAct[[#This Row],[Date]])=7,0,IF(MONTH(KCITempAct[[#This Row],[Date]])=8,0,KCITempAct[[#This Row],[KCIHDD]]))","v":17.5},{"$f":"SUMPRODUCT((KCINHDD[Month]=MONTH(KCITempAct[[#This Row],[Date]]))*(KCINHDD[Day]=DAY(KCITempAct[[#This Row],[Date]]))*KCINHDD[KCINHDD])","v":19.316666666666666},{"$f":"IF(MONTH(KCITempAct[[#This Row],[Date]])=7,0,IF(MONTH(KCITempAct[[#This Row],[Date]])=8,0,KCITempAct[[#This Row],[KCINHDD]]))","v":19.316666666666666},"Adj HDD and NDD =0 for July and August"]
["2018-03-17",44,36,{"$f":"AVERAGE(KCITempAct[[#This Row],[KCIHigh]:[KCILow]]\n)","v":40},{"$f":"IF(KCITempAct[[#This Row],[KCIAve]]<65,(65-KCITempAct[[#This Row],[KCIAve]]),0)","v":25},{"$f":"IF(MONTH(KCITempAct[[#This Row],[Date]])=7,0,IF(MONTH(KCITempAct[[#This Row],[Date]])=8,0,KCITempAct[[#This Row],[KCIHDD]]))","v":25},{"$f":"SUMPRODUCT((KCINHDD[Month]=MONTH(KCITempAct[[#This Row],[Date]]))*(KCINHDD[Day]=DAY(KCITempAct[[#This Row],[Date]]))*KCINHDD[KCINHDD])","v":17.983333333333334},{"$f":"IF(MONTH(KCITempAct[[#This Row],[Date]])=7,0,IF(MONTH(KCITempAct[[#This Row],[Date]])=8,0,KCITempAct[[#This Row],[KCINHDD]]))","v":17.983333333333334},"Adj HDD and NDD =0 for July and August"]
["2018-03-18",49,38,{"$f":"AVERAGE(KCITempAct[[#This Row],[KCIHigh]:[KCILow]]\n)","v":43.5},{"$f":"IF(KCITempAct[[#This Row],[KCIAve]]<65,(65-KCITempAct[[#This Row],[KCIAve]]),0)","v":21.5},{"$f":"IF(MONTH(KCITempAct[[#This Row],[Date]])=7,0,IF(MONTH(KCITempAct[[#This Row],[Date]])=8,0,KCITempAct[[#This Row],[KCIHDD]]))","v":21.5},{"$f":"SUMPRODUCT((KCINHDD[Month]=MONTH(KCITempAct[[#This Row],[Date]]))*(KCINHDD[Day]=DAY(KCITempAct[[#This Row],[Date]]))*KCINHDD[KCINHDD])","v":18.883333333333333},{"$f":"IF(MONTH(KCITempAct[[#This Row],[Date]])=7,0,IF(MONTH(KCITempAct[[#This Row],[Date]])=8,0,KCITempAct[[#This Row],[KCINHDD]]))","v":18.883333333333333},"Adj HDD and NDD =0 for July and August"]
["2018-03-19",49,39,{"$f":"AVERAGE(KCITempAct[[#This Row],[KCIHigh]:[KCILow]]\n)","v":44},{"$f":"IF(KCITempAct[[#This Row],[KCIAve]]<65,(65-KCITempAct[[#This Row],[KCIAve]]),0)","v":21},{"$f":"IF(MONTH(KCITempAct[[#This Row],[Date]])=7,0,IF(MONTH(KCITempAct[[#This Row],[Date]])=8,0,KCITempAct[[#This Row],[KCIHDD]]))","v":21},{"$f":"SUMPRODUCT((KCINHDD[Month]=MONTH(KCITempAct[[#This Row],[Date]]))*(KCINHDD[Day]=DAY(KCITempAct[[#This Row],[Date]]))*KCINHDD[KCINHDD])","v":19.166666666666668},{"$f":"IF(MONTH(KCITempAct[[#This Row],[Date]])=7,0,IF(MONTH(KCITempAct[[#This Row],[Date]])=8,0,KCITempAct[[#This Row],[KCINHDD]]))","v":19.166666666666668},"Adj HDD and NDD =0 for July and August"]
["2018-03-20",50,36,{"$f":"AVERAGE(KCITempAct[[#This Row],[KCIHigh]:[KCILow]]\n)","v":43},{"$f":"IF(KCITempAct[[#This Row],[KCIAve]]<65,(65-KCITempAct[[#This Row],[KCIAve]]),0)","v":22},{"$f":"IF(MONTH(KCITempAct[[#This Row],[Date]])=7,0,IF(MONTH(KCITempAct[[#This Row],[Date]])=8,0,KCITempAct[[#This Row],[KCIHDD]]))","v":22},{"$f":"SUMPRODUCT((KCINHDD[Month]=MONTH(KCITempAct[[#This Row],[Date]]))*(KCINHDD[Day]=DAY(KCITempAct[[#This Row],[Date]]))*KCINHDD[KCINHDD])","v":18.8},{"$f":"IF(MONTH(KCITempAct[[#This Row],[Date]])=7,0,IF(MONTH(KCITempAct[[#This Row],[Date]])=8,0,KCITempAct[[#This Row],[KCINHDD]]))","v":18.8},"Adj HDD and NDD =0 for July and August"]
["2018-03-21",54,30,{"$f":"AVERAGE(KCITempAct[[#This Row],[KCIHigh]:[KCILow]]\n)","v":42},{"$f":"IF(KCITempAct[[#This Row],[KCIAve]]<65,(65-KCITempAct[[#This Row],[KCIAve]]),0)","v":23},{"$f":"IF(MONTH(KCITempAct[[#This Row],[Date]])=7,0,IF(MONTH(KCITempAct[[#This Row],[Date]])=8,0,KCITempAct[[#This Row],[KCIHDD]]))","v":23},{"$f":"SUMPRODUCT((KCINHDD[Month]=MONTH(KCITempAct[[#This Row],[Date]]))*(KCINHDD[Day]=DAY(KCITempAct[[#This Row],[Date]]))*KCINHDD[KCINHDD])","v":18.649999999999999},{"$f":"IF(MONTH(KCITempAct[[#This Row],[Date]])=7,0,IF(MONTH(KCITempAct[[#This Row],[Date]])=8,0,KCITempAct[[#This Row],[KCINHDD]]))","v":18.649999999999999},"Adj HDD and NDD =0 for July and August"]
["2018-03-22",67,37,{"$f":"AVERAGE(KCITempAct[[#This Row],[KCIHigh]:[KCILow]]\n)","v":52},{"$f":"IF(KCITempAct[[#This Row],[KCIAve]]<65,(65-KCITempAct[[#This Row],[KCIAve]]),0)","v":13},{"$f":"IF(MONTH(KCITempAct[[#This Row],[Date]])=7,0,IF(MONTH(KCITempAct[[#This Row],[Date]])=8,0,KCITempAct[[#This Row],[KCIHDD]]))","v":13},{"$f":"SUMPRODUCT((KCINHDD[Month]=MONTH(KCITempAct[[#This Row],[Date]]))*(KCINHDD[Day]=DAY(KCITempAct[[#This Row],[Date]]))*KCINHDD[KCINHDD])","v":17.616666666666667},{"$f":"IF(MONTH(KCITempAct[[#This Row],[Date]])=7,0,IF(MONTH(KCITempAct[[#This Row],[Date]])=8,0,KCITempAct[[#This Row],[KCINHDD]]))","v":17.616666666666667},"Adj HDD and NDD =0 for July and August"]
["2018-03-23",58,43,{"$f":"AVERAGE(KCITempAct[[#This Row],[KCIHigh]:[KCILow]]\n)","v":50.5},{"$f":"IF(KCITempAct[[#This Row],[KCIAve]]<65,(65-KCITempAct[[#This Row],[KCIAve]]),0)","v":14.5},{"$f":"IF(MONTH(KCITempAct[[#This Row],[Date]])=7,0,IF(MONTH(KCITempAct[[#This Row],[Date]])=8,0,KCITempAct[[#This Row],[KCIHDD]]))","v":14.5},{"$f":"SUMPRODUCT((KCINHDD[Month]=MONTH(KCITempAct[[#This Row],[Date]]))*(KCINHDD[Day]=DAY(KCITempAct[[#This Row],[Date]]))*KCINHDD[KCINHDD])","v":15.4},{"$f":"IF(MONTH(KCITempAct[[#This Row],[Date]])=7,0,IF(MONTH(KCITempAct[[#This Row],[Date]])=8,0,KCITempAct[[#This Row],[KCINHDD]]))","v":15.4},"Adj HDD and NDD =0 for July and August"]
["2018-03-24",49,35,{"$f":"AVERAGE(KCITempAct[[#This Row],[KCIHigh]:[KCILow]]\n)","v":42},{"$f":"IF(KCITempAct[[#This Row],[KCIAve]]<65,(65-KCITempAct[[#This Row],[KCIAve]]),0)","v":23},{"$f":"IF(MONTH(KCITempAct[[#This Row],[Date]])=7,0,IF(MONTH(KCITempAct[[#This Row],[Date]])=8,0,KCITempAct[[#This Row],[KCIHDD]]))","v":23},{"$f":"SUMPRODUCT((KCINHDD[Month]=MONTH(KCITempAct[[#This Row],[Date]]))*(KCINHDD[Day]=DAY(KCITempAct[[#This Row],[Date]]))*KCINHDD[KCINHDD])","v":18.216666666666665},{"$f":"IF(MONTH(KCITempAct[[#This Row],[Date]])=7,0,IF(MONTH(KCITempAct[[#This Row],[Date]])=8,0,KCITempAct[[#This Row],[KCINHDD]]))","v":18.216666666666665},"Adj HDD and NDD =0 for July and August"]
["2018-03-25",44,33,{"$f":"AVERAGE(KCITempAct[[#This Row],[KCIHigh]:[KCILow]]\n)","v":38.5},{"$f":"IF(KCITempAct[[#This Row],[KCIAve]]<65,(65-KCITempAct[[#This Row],[KCIAve]]),0)","v":26.5},{"$f":"IF(MONTH(KCITempAct[[#This Row],[Date]])=7,0,IF(MONTH(KCITempAct[[#This Row],[Date]])=8,0,KCITempAct[[#This Row],[KCIHDD]]))","v":26.5},{"$f":"SUMPRODUCT((KCINHDD[Month]=MONTH(KCITempAct[[#This Row],[Date]]))*(KCINHDD[Day]=DAY(KCITempAct[[#This Row],[Date]]))*KCINHDD[KCINHDD])","v":19.916666666666668},{"$f":"IF(MONTH(KCITempAct[[#This Row],[Date]])=7,0,IF(MONTH(KCITempAct[[#This Row],[Date]])=8,0,KCITempAct[[#This Row],[KCINHDD]]))","v":19.916666666666668},"Adj HDD and NDD =0 for July and August"]
["2018-03-26",51,41,{"$f":"AVERAGE(KCITempAct[[#This Row],[KCIHigh]:[KCILow]]\n)","v":46},{"$f":"IF(KCITempAct[[#This Row],[KCIAve]]<65,(65-KCITempAct[[#This Row],[KCIAve]]),0)","v":19},{"$f":"IF(MONTH(KCITempAct[[#This Row],[Date]])=7,0,IF(MONTH(KCITempAct[[#This Row],[Date]])=8,0,KCITempAct[[#This Row],[KCIHDD]]))","v":19},{"$f":"SUMPRODUCT((KCINHDD[Month]=MONTH(KCITempAct[[#This Row],[Date]]))*(KCINHDD[Day]=DAY(KCITempAct[[#This Row],[Date]]))*KCINHDD[KCINHDD])","v":17.866666666666667},{"$f":"IF(MONTH(KCITempAct[[#This Row],[Date]])=7,0,IF(MONTH(KCITempAct[[#This Row],[Date]])=8,0,KCITempAct[[#This Row],[KCINHDD]]))","v":17.866666666666667},"Adj HDD and NDD =0 for July and August"]
["2018-03-27",46,39,{"$f":"AVERAGE(KCITempAct[[#This Row],[KCIHigh]:[KCILow]]\n)","v":42.5},{"$f":"IF(KCITempAct[[#This Row],[KCIAve]]<65,(65-KCITempAct[[#This Row],[KCIAve]]),0)","v":22.5},{"$f":"IF(MONTH(KCITempAct[[#This Row],[Date]])=7,0,IF(MONTH(KCITempAct[[#This Row],[Date]])=8,0,KCITempAct[[#This Row],[KCIHDD]]))","v":22.5},{"$f":"SUMPRODUCT((KCINHDD[Month]=MONTH(KCITempAct[[#This Row],[Date]]))*(KCINHDD[Day]=DAY(KCITempAct[[#This Row],[Date]]))*KCINHDD[KCINHDD])","v":17.266666666666666},{"$f":"IF(MONTH(KCITempAct[[#This Row],[Date]])=7,0,IF(MONTH(KCITempAct[[#This Row],[Date]])=8,0,KCITempAct[[#This Row],[KCINHDD]]))","v":17.266666666666666},"Adj HDD and NDD =0 for July and August"]
["2018-03-28",51,38,{"$f":"AVERAGE(KCITempAct[[#This Row],[KCIHigh]:[KCILow]]\n)","v":44.5},{"$f":"IF(KCITempAct[[#This Row],[KCIAve]]<65,(65-KCITempAct[[#This Row],[KCIAve]]),0)","v":20.5},{"$f":"IF(MONTH(KCITempAct[[#This Row],[Date]])=7,0,IF(MONTH(KCITempAct[[#This Row],[Date]])=8,0,KCITempAct[[#This Row],[KCIHDD]]))","v":20.5},{"$f":"SUMPRODUCT((KCINHDD[Month]=MONTH(KCITempAct[[#This Row],[Date]]))*(KCINHDD[Day]=DAY(KCITempAct[[#This Row],[Date]]))*KCINHDD[KCINHDD])","v":16.716666666666665},{"$f":"IF(MONTH(KCITempAct[[#This Row],[Date]])=7,0,IF(MONTH(KCITempAct[[#This Row],[Date]])=8,0,KCITempAct[[#This Row],[KCINHDD]]))","v":16.716666666666665},"Adj HDD and NDD =0 for July and August"]
["2018-03-29",44,35,{"$f":"AVERAGE(KCITempAct[[#This Row],[KCIHigh]:[KCILow]]\n)","v":39.5},{"$f":"IF(KCITempAct[[#This Row],[KCIAve]]<65,(65-KCITempAct[[#This Row],[KCIAve]]),0)","v":25.5},{"$f":"IF(MONTH(KCITempAct[[#This Row],[Date]])=7,0,IF(MONTH(KCITempAct[[#This Row],[Date]])=8,0,KCITempAct[[#This Row],[KCIHDD]]))","v":25.5},{"$f":"SUMPRODUCT((KCINHDD[Month]=MONTH(KCITempAct[[#This Row],[Date]]))*(KCINHDD[Day]=DAY(KCITempAct[[#This Row],[Date]]))*KCINHDD[KCINHDD])","v":14.566666666666666},{"$f":"IF(MONTH(KCITempAct[[#This Row],[Date]])=7,0,IF(MONTH(KCITempAct[[#This Row],[Date]])=8,0,KCITempAct[[#This Row],[KCINHDD]]))","v":14.566666666666666},"Adj HDD and NDD =0 for July and August"]
["2018-03-30",58,27,{"$f":"AVERAGE(KCITempAct[[#This Row],[KCIHigh]:[KCILow]]\n)","v":42.5},{"$f":"IF(KCITempAct[[#This Row],[KCIAve]]<65,(65-KCITempAct[[#This Row],[KCIAve]]),0)","v":22.5},{"$f":"IF(MONTH(KCITempAct[[#This Row],[Date]])=7,0,IF(MONTH(KCITempAct[[#This Row],[Date]])=8,0,KCITempAct[[#This Row],[KCIHDD]]))","v":22.5},{"$f":"SUMPRODUCT((KCINHDD[Month]=MONTH(KCITempAct[[#This Row],[Date]]))*(KCINHDD[Day]=DAY(KCITempAct[[#This Row],[Date]]))*KCINHDD[KCINHDD])","v":13.9},{"$f":"IF(MONTH(KCITempAct[[#This Row],[Date]])=7,0,IF(MONTH(KCITempAct[[#This Row],[Date]])=8,0,KCITempAct[[#This Row],[KCINHDD]]))","v":13.9},"Adj HDD and NDD =0 for July and August"]
["2018-03-31",62,32,{"$f":"AVERAGE(KCITempAct[[#This Row],[KCIHigh]:[KCILow]]\n)","v":47},{"$f":"IF(KCITempAct[[#This Row],[KCIAve]]<65,(65-KCITempAct[[#This Row],[KCIAve]]),0)","v":18},{"$f":"IF(MONTH(KCITempAct[[#This Row],[Date]])=7,0,IF(MONTH(KCITempAct[[#This Row],[Date]])=8,0,KCITempAct[[#This Row],[KCIHDD]]))","v":18},{"$f":"SUMPRODUCT((KCINHDD[Month]=MONTH(KCITempAct[[#This Row],[Date]]))*(KCINHDD[Day]=DAY(KCITempAct[[#This Row],[Date]]))*KCINHDD[KCINHDD])","v":15.366666666666667},{"$f":"IF(MONTH(KCITempAct[[#This Row],[Date]])=7,0,IF(MONTH(KCITempAct[[#This Row],[Date]])=8,0,KCITempAct[[#This Row],[KCINHDD]]))","v":15.366666666666667},"Adj HDD and NDD =0 for July and August"]
["2018-04-01",33,22,{"$f":"AVERAGE(KCITempAct[[#This Row],[KCIHigh]:[KCILow]]\n)","v":27.5},{"$f":"IF(KCITempAct[[#This Row],[KCIAve]]<65,(65-KCITempAct[[#This Row],[KCIAve]]),0)","v":37.5},{"$f":"IF(MONTH(KCITempAct[[#This Row],[Date]])=7,0,IF(MONTH(KCITempAct[[#This Row],[Date]])=8,0,KCITempAct[[#This Row],[KCIHDD]]))","v":37.5},{"$f":"SUMPRODUCT((KCINHDD[Month]=MONTH(KCITempAct[[#This Row],[Date]]))*(KCINHDD[Day]=DAY(KCITempAct[[#This Row],[Date]]))*KCINHDD[KCINHDD])","v":16.066666666666666},{"$f":"IF(MONTH(KCITempAct[[#This Row],[Date]])=7,0,IF(MONTH(KCITempAct[[#This Row],[Date]])=8,0,KCITempAct[[#This Row],[KCINHDD]]))","v":16.066666666666666},"Adj HDD and NDD =0 for July and August"]
["2018-04-02",34,21,{"$f":"AVERAGE(KCITempAct[[#This Row],[KCIHigh]:[KCILow]]\n)","v":27.5},{"$f":"IF(KCITempAct[[#This Row],[KCIAve]]<65,(65-KCITempAct[[#This Row],[KCIAve]]),0)","v":37.5},{"$f":"IF(MONTH(KCITempAct[[#This Row],[Date]])=7,0,IF(MONTH(KCITempAct[[#This Row],[Date]])=8,0,KCITempAct[[#This Row],[KCIHDD]]))","v":37.5},{"$f":"SUMPRODUCT((KCINHDD[Month]=MONTH(KCITempAct[[#This Row],[Date]]))*(KCINHDD[Day]=DAY(KCITempAct[[#This Row],[Date]]))*KCINHDD[KCINHDD])","v":13.633333333333333},{"$f":"IF(MONTH(KCITempAct[[#This Row],[Date]])=7,0,IF(MONTH(KCITempAct[[#This Row],[Date]])=8,0,KCITempAct[[#This Row],[KCINHDD]]))","v":13.633333333333333},"Adj HDD and NDD =0 for July and August"]
["2018-04-03",40,24,{"$f":"AVERAGE(KCITempAct[[#This Row],[KCIHigh]:[KCILow]]\n)","v":32},{"$f":"IF(KCITempAct[[#This Row],[KCIAve]]<65,(65-KCITempAct[[#This Row],[KCIAve]]),0)","v":33},{"$f":"IF(MONTH(KCITempAct[[#This Row],[Date]])=7,0,IF(MONTH(KCITempAct[[#This Row],[Date]])=8,0,KCITempAct[[#This Row],[KCIHDD]]))","v":33},{"$f":"SUMPRODUCT((KCINHDD[Month]=MONTH(KCITempAct[[#This Row],[Date]]))*(KCINHDD[Day]=DAY(KCITempAct[[#This Row],[Date]]))*KCINHDD[KCINHDD])","v":14},{"$f":"IF(MONTH(KCITempAct[[#This Row],[Date]])=7,0,IF(MONTH(KCITempAct[[#This Row],[Date]])=8,0,KCITempAct[[#This Row],[KCINHDD]]))","v":14},"Adj HDD and NDD =0 for July and August"]
["2018-04-04",45,17,{"$f":"AVERAGE(KCITempAct[[#This Row],[KCIHigh]:[KCILow]]\n)","v":31},{"$f":"IF(KCITempAct[[#This Row],[KCIAve]]<65,(65-KCITempAct[[#This Row],[KCIAve]]),0)","v":34},{"$f":"IF(MONTH(KCITempAct[[#This Row],[Date]])=7,0,IF(MONTH(KCITempAct[[#This Row],[Date]])=8,0,KCITempAct[[#This Row],[KCIHDD]]))","v":34},{"$f":"SUMPRODUCT((KCINHDD[Month]=MONTH(KCITempAct[[#This Row],[Date]]))*(KCINHDD[Day]=DAY(KCITempAct[[#This Row],[Date]]))*KCINHDD[KCINHDD])","v":15.95},{"$f":"IF(MONTH(KCITempAct[[#This Row],[Date]])=7,0,IF(MONTH(KCITempAct[[#This Row],[Date]])=8,0,KCITempAct[[#This Row],[KCINHDD]]))","v":15.95},"Adj HDD and NDD =0 for July and August"]
["2018-04-05",67,34,{"$f":"AVERAGE(KCITempAct[[#This Row],[KCIHigh]:[KCILow]]\n)","v":50.5},{"$f":"IF(KCITempAct[[#This Row],[KCIAve]]<65,(65-KCITempAct[[#This Row],[KCIAve]]),0)","v":14.5},{"$f":"IF(MONTH(KCITempAct[[#This Row],[Date]])=7,0,IF(MONTH(KCITempAct[[#This Row],[Date]])=8,0,KCITempAct[[#This Row],[KCIHDD]]))","v":14.5},{"$f":"SUMPRODUCT((KCINHDD[Month]=MONTH(KCITempAct[[#This Row],[Date]]))*(KCINHDD[Day]=DAY(KCITempAct[[#This Row],[Date]]))*KCINHDD[KCINHDD])","v":13.583333333333334},{"$f":"IF(MONTH(KCITempAct[[#This Row],[Date]])=7,0,IF(MONTH(KCITempAct[[#This Row],[Date]])=8,0,KCITempAct[[#This Row],[KCINHDD]]))","v":13.583333333333334},"Adj HDD and NDD =0 for July and August"]
["2018-04-06",44,23,{"$f":"AVERAGE(KCITempAct[[#This Row],[KCIHigh]:[KCILow]]\n)","v":33.5},{"$f":"IF(KCITempAct[[#This Row],[KCIAve]]<65,(65-KCITempAct[[#This Row],[KCIAve]]),0)","v":31.5},{"$f":"IF(MONTH(KCITempAct[[#This Row],[Date]])=7,0,IF(MONTH(KCITempAct[[#This Row],[Date]])=8,0,KCITempAct[[#This Row],[KCIHDD]]))","v":31.5},{"$f":"SUMPRODUCT((KCINHDD[Month]=MONTH(KCITempAct[[#This Row],[Date]]))*(KCINHDD[Day]=DAY(KCITempAct[[#This Row],[Date]]))*KCINHDD[KCINHDD])","v":11.633333333333333},{"$f":"IF(MONTH(KCITempAct[[#This Row],[Date]])=7,0,IF(MONTH(KCITempAct[[#This Row],[Date]])=8,0,KCITempAct[[#This Row],[KCINHDD]]))","v":11.633333333333333},"Adj HDD and NDD =0 for July and August"]
["2018-04-07",44,16,{"$f":"AVERAGE(KCITempAct[[#This Row],[KCIHigh]:[KCILow]]\n)","v":30},{"$f":"IF(KCITempAct[[#This Row],[KCIAve]]<65,(65-KCITempAct[[#This Row],[KCIAve]]),0)","v":35},{"$f":"IF(MONTH(KCITempAct[[#This Row],[Date]])=7,0,IF(MONTH(KCITempAct[[#This Row],[Date]])=8,0,KCITempAct[[#This Row],[KCIHDD]]))","v":35},{"$f":"SUMPRODUCT((KCINHDD[Month]=MONTH(KCITempAct[[#This Row],[Date]]))*(KCINHDD[Day]=DAY(KCITempAct[[#This Row],[Date]]))*KCINHDD[KCINHDD])","v":13.083333333333334},{"$f":"IF(MONTH(KCITempAct[[#This Row],[Date]])=7,0,IF(MONTH(KCITempAct[[#This Row],[Date]])=8,0,KCITempAct[[#This Row],[KCINHDD]]))","v":13.083333333333334},"Adj HDD and NDD =0 for July and August"]
["2018-04-08",38,30,{"$f":"AVERAGE(KCITempAct[[#This Row],[KCIHigh]:[KCILow]]\n)","v":34},{"$f":"IF(KCITempAct[[#This Row],[KCIAve]]<65,(65-KCITempAct[[#This Row],[KCIAve]]),0)","v":31},{"$f":"IF(MONTH(KCITempAct[[#This Row],[Date]])=7,0,IF(MONTH(KCITempAct[[#This Row],[Date]])=8,0,KCITempAct[[#This Row],[KCIHDD]]))","v":31},{"$f":"SUMPRODUCT((KCINHDD[Month]=MONTH(KCITempAct[[#This Row],[Date]]))*(KCINHDD[Day]=DAY(KCITempAct[[#This Row],[Date]]))*KCINHDD[KCINHDD])","v":13.666666666666666},{"$f":"IF(MONTH(KCITempAct[[#This Row],[Date]])=7,0,IF(MONTH(KCITempAct[[#This Row],[Date]])=8,0,KCITempAct[[#This Row],[KCINHDD]]))","v":13.666666666666666},"Adj HDD and NDD =0 for July and August"]
["2018-04-09",42,29,{"$f":"AVERAGE(KCITempAct[[#This Row],[KCIHigh]:[KCILow]]\n)","v":35.5},{"$f":"IF(KCITempAct[[#This Row],[KCIAve]]<65,(65-KCITempAct[[#This Row],[KCIAve]]),0)","v":29.5},{"$f":"IF(MONTH(KCITempAct[[#This Row],[Date]])=7,0,IF(MONTH(KCITempAct[[#This Row],[Date]])=8,0,KCITempAct[[#This Row],[KCIHDD]]))","v":29.5},{"$f":"SUMPRODUCT((KCINHDD[Month]=MONTH(KCITempAct[[#This Row],[Date]]))*(KCINHDD[Day]=DAY(KCITempAct[[#This Row],[Date]]))*KCINHDD[KCINHDD])","v":13.05},{"$f":"IF(MONTH(KCITempAct[[#This Row],[Date]])=7,0,IF(MONTH(KCITempAct[[#This Row],[Date]])=8,0,KCITempAct[[#This Row],[KCINHDD]]))","v":13.05},"Adj HDD and NDD =0 for July and August"]
["2018-04-10",61,26,{"$f":"AVERAGE(KCITempAct[[#This Row],[KCIHigh]:[KCILow]]\n)","v":43.5},{"$f":"IF(KCITempAct[[#This Row],[KCIAve]]<65,(65-KCITempAct[[#This Row],[KCIAve]]),0)","v":21.5},{"$f":"IF(MONTH(KCITempAct[[#This Row],[Date]])=7,0,IF(MONTH(KCITempAct[[#This Row],[Date]])=8,0,KCITempAct[[#This Row],[KCIHDD]]))","v":21.5},{"$f":"SUMPRODUCT((KCINHDD[Month]=MONTH(KCITempAct[[#This Row],[Date]]))*(KCINHDD[Day]=DAY(KCITempAct[[#This Row],[Date]]))*KCINHDD[KCINHDD])","v":11.066666666666666},{"$f":"IF(MONTH(KCITempAct[[#This Row],[Date]])=7,0,IF(MONTH(KCITempAct[[#This Row],[Date]])=8,0,KCITempAct[[#This Row],[KCINHDD]]))","v":11.066666666666666},"Adj HDD and NDD =0 for July and August"]
["2018-04-11",80,47,{"$f":"AVERAGE(KCITempAct[[#This Row],[KCIHigh]:[KCILow]]\n)","v":63.5},{"$f":"IF(KCITempAct[[#This Row],[KCIAve]]<65,(65-KCITempAct[[#This Row],[KCIAve]]),0)","v":1.5},{"$f":"IF(MONTH(KCITempAct[[#This Row],[Date]])=7,0,IF(MONTH(KCITempAct[[#This Row],[Date]])=8,0,KCITempAct[[#This Row],[KCIHDD]]))","v":1.5},{"$f":"SUMPRODUCT((KCINHDD[Month]=MONTH(KCITempAct[[#This Row],[Date]]))*(KCINHDD[Day]=DAY(KCITempAct[[#This Row],[Date]]))*KCINHDD[KCINHDD])","v":12.016666666666667},{"$f":"IF(MONTH(KCITempAct[[#This Row],[Date]])=7,0,IF(MONTH(KCITempAct[[#This Row],[Date]])=8,0,KCITempAct[[#This Row],[KCINHDD]]))","v":12.016666666666667},"Adj HDD and NDD =0 for July and August"]
["2018-04-12",82,55,{"$f":"AVERAGE(KCITempAct[[#This Row],[KCIHigh]:[KCILow]]\n)","v":68.5},{"$f":"IF(KCITempAct[[#This Row],[KCIAve]]<65,(65-KCITempAct[[#This Row],[KCIAve]]),0)","v":0},{"$f":"IF(MONTH(KCITempAct[[#This Row],[Date]])=7,0,IF(MONTH(KCITempAct[[#This Row],[Date]])=8,0,KCITempAct[[#This Row],[KCIHDD]]))","v":0},{"$f":"SUMPRODUCT((KCINHDD[Month]=MONTH(KCITempAct[[#This Row],[Date]]))*(KCINHDD[Day]=DAY(KCITempAct[[#This Row],[Date]]))*KCINHDD[KCINHDD])","v":13.85},{"$f":"IF(MONTH(KCITempAct[[#This Row],[Date]])=7,0,IF(MONTH(KCITempAct[[#This Row],[Date]])=8,0,KCITempAct[[#This Row],[KCINHDD]]))","v":13.85},"Adj HDD and NDD =0 for July and August"]
["2018-04-13",83,51,{"$f":"AVERAGE(KCITempAct[[#This Row],[KCIHigh]:[KCILow]]\n)","v":67},{"$f":"IF(KCITempAct[[#This Row],[KCIAve]]<65,(65-KCITempAct[[#This Row],[KCIAve]]),0)","v":0},{"$f":"IF(MONTH(KCITempAct[[#This Row],[Date]])=7,0,IF(MONTH(KCITempAct[[#This Row],[Date]])=8,0,KCITempAct[[#This Row],[KCIHDD]]))","v":0},{"$f":"SUMPRODUCT((KCINHDD[Month]=MONTH(KCITempAct[[#This Row],[Date]]))*(KCINHDD[Day]=DAY(KCITempAct[[#This Row],[Date]]))*KCINHDD[KCINHDD])","v":12.1},{"$f":"IF(MONTH(KCITempAct[[#This Row],[Date]])=7,0,IF(MONTH(KCITempAct[[#This Row],[Date]])=8,0,KCITempAct[[#This Row],[KCINHDD]]))","v":12.1},"Adj HDD and NDD =0 for July and August"]
["2018-04-14",52,30,{"$f":"AVERAGE(KCITempAct[[#This Row],[KCIHigh]:[KCILow]]\n)","v":41},{"$f":"IF(KCITempAct[[#This Row],[KCIAve]]<65,(65-KCITempAct[[#This Row],[KCIAve]]),0)","v":24},{"$f":"IF(MONTH(KCITempAct[[#This Row],[Date]])=7,0,IF(MONTH(KCITempAct[[#This Row],[Date]])=8,0,KCITempAct[[#This Row],[KCIHDD]]))","v":24},{"$f":"SUMPRODUCT((KCINHDD[Month]=MONTH(KCITempAct[[#This Row],[Date]]))*(KCINHDD[Day]=DAY(KCITempAct[[#This Row],[Date]]))*KCINHDD[KCINHDD])","v":10.199999999999999},{"$f":"IF(MONTH(KCITempAct[[#This Row],[Date]])=7,0,IF(MONTH(KCITempAct[[#This Row],[Date]])=8,0,KCITempAct[[#This Row],[KCINHDD]]))","v":10.199999999999999},"Adj HDD and NDD =0 for July and August"]
["2018-04-15",31,26,{"$f":"AVERAGE(KCITempAct[[#This Row],[KCIHigh]:[KCILow]]\n)","v":28.5},{"$f":"IF(KCITempAct[[#This Row],[KCIAve]]<65,(65-KCITempAct[[#This Row],[KCIAve]]),0)","v":36.5},{"$f":"IF(MONTH(KCITempAct[[#This Row],[Date]])=7,0,IF(MONTH(KCITempAct[[#This Row],[Date]])=8,0,KCITempAct[[#This Row],[KCIHDD]]))","v":36.5},{"$f":"SUMPRODUCT((KCINHDD[Month]=MONTH(KCITempAct[[#This Row],[Date]]))*(KCINHDD[Day]=DAY(KCITempAct[[#This Row],[Date]]))*KCINHDD[KCINHDD])","v":10.533333333333333},{"$f":"IF(MONTH(KCITempAct[[#This Row],[Date]])=7,0,IF(MONTH(KCITempAct[[#This Row],[Date]])=8,0,KCITempAct[[#This Row],[KCINHDD]]))","v":10.533333333333333},"Adj HDD and NDD =0 for July and August"]
["2018-04-16",51,26,{"$f":"AVERAGE(KCITempAct[[#This Row],[KCIHigh]:[KCILow]]\n)","v":38.5},{"$f":"IF(KCITempAct[[#This Row],[KCIAve]]<65,(65-KCITempAct[[#This Row],[KCIAve]]),0)","v":26.5},{"$f":"IF(MONTH(KCITempAct[[#This Row],[Date]])=7,0,IF(MONTH(KCITempAct[[#This Row],[Date]])=8,0,KCITempAct[[#This Row],[KCIHDD]]))","v":26.5},{"$f":"SUMPRODUCT((KCINHDD[Month]=MONTH(KCITempAct[[#This Row],[Date]]))*(KCINHDD[Day]=DAY(KCITempAct[[#This Row],[Date]]))*KCINHDD[KCINHDD])","v":10.483333333333333},{"$f":"IF(MONTH(KCITempAct[[#This Row],[Date]])=7,0,IF(MONTH(KCITempAct[[#This Row],[Date]])=8,0,KCITempAct[[#This Row],[KCINHDD]]))","v":10.483333333333333},"Adj HDD and NDD =0 for July and August"]
["2018-04-17",65,33,{"$f":"AVERAGE(KCITempAct[[#This Row],[KCIHigh]:[KCILow]]\n)","v":49},{"$f":"IF(KCITempAct[[#This Row],[KCIAve]]<65,(65-KCITempAct[[#This Row],[KCIAve]]),0)","v":16},{"$f":"IF(MONTH(KCITempAct[[#This Row],[Date]])=7,0,IF(MONTH(KCITempAct[[#This Row],[Date]])=8,0,KCITempAct[[#This Row],[KCIHDD]]))","v":16},{"$f":"SUMPRODUCT((KCINHDD[Month]=MONTH(KCITempAct[[#This Row],[Date]]))*(KCINHDD[Day]=DAY(KCITempAct[[#This Row],[Date]]))*KCINHDD[KCINHDD])","v":10.5},{"$f":"IF(MONTH(KCITempAct[[#This Row],[Date]])=7,0,IF(MONTH(KCITempAct[[#This Row],[Date]])=8,0,KCITempAct[[#This Row],[KCINHDD]]))","v":10.5},"Adj HDD and NDD =0 for July and August"]
["2018-04-18",53,35,{"$f":"AVERAGE(KCITempAct[[#This Row],[KCIHigh]:[KCILow]]\n)","v":44},{"$f":"IF(KCITempAct[[#This Row],[KCIAve]]<65,(65-KCITempAct[[#This Row],[KCIAve]]),0)","v":21},{"$f":"IF(MONTH(KCITempAct[[#This Row],[Date]])=7,0,IF(MONTH(KCITempAct[[#This Row],[Date]])=8,0,KCITempAct[[#This Row],[KCIHDD]]))","v":21},{"$f":"SUMPRODUCT((KCINHDD[Month]=MONTH(KCITempAct[[#This Row],[Date]]))*(KCINHDD[Day]=DAY(KCITempAct[[#This Row],[Date]]))*KCINHDD[KCINHDD])","v":7.9833333333333334},{"$f":"IF(MONTH(KCITempAct[[#This Row],[Date]])=7,0,IF(MONTH(KCITempAct[[#This Row],[Date]])=8,0,KCITempAct[[#This Row],[KCINHDD]]))","v":7.9833333333333334},"Adj HDD and NDD =0 for July and August"]
["2018-04-19",59,28,{"$f":"AVERAGE(KCITempAct[[#This Row],[KCIHigh]:[KCILow]]\n)","v":43.5},{"$f":"IF(KCITempAct[[#This Row],[KCIAve]]<65,(65-KCITempAct[[#This Row],[KCIAve]]),0)","v":21.5},{"$f":"IF(MONTH(KCITempAct[[#This Row],[Date]])=7,0,IF(MONTH(KCITempAct[[#This Row],[Date]])=8,0,KCITempAct[[#This Row],[KCIHDD]]))","v":21.5},{"$f":"SUMPRODUCT((KCINHDD[Month]=MONTH(KCITempAct[[#This Row],[Date]]))*(KCINHDD[Day]=DAY(KCITempAct[[#This Row],[Date]]))*KCINHDD[KCINHDD])","v":8.1166666666666671},{"$f":"IF(MONTH(KCITempAct[[#This Row],[Date]])=7,0,IF(MONTH(KCITempAct[[#This Row],[Date]])=8,0,KCITempAct[[#This Row],[KCINHDD]]))","v":8.1166666666666671},"Adj HDD and NDD =0 for July and August"]
["2018-04-20",63,37,{"$f":"AVERAGE(KCITempAct[[#This Row],[KCIHigh]:[KCILow]]\n)","v":50},{"$f":"IF(KCITempAct[[#This Row],[KCIAve]]<65,(65-KCITempAct[[#This Row],[KCIAve]]),0)","v":15},{"$f":"IF(MONTH(KCITempAct[[#This Row],[Date]])=7,0,IF(MONTH(KCITempAct[[#This Row],[Date]])=8,0,KCITempAct[[#This Row],[KCIHDD]]))","v":15},{"$f":"SUMPRODUCT((KCINHDD[Month]=MONTH(KCITempAct[[#This Row],[Date]]))*(KCINHDD[Day]=DAY(KCITempAct[[#This Row],[Date]]))*KCINHDD[KCINHDD])","v":9.6999999999999993},{"$f":"IF(MONTH(KCITempAct[[#This Row],[Date]])=7,0,IF(MONTH(KCITempAct[[#This Row],[Date]])=8,0,KCITempAct[[#This Row],[KCINHDD]]))","v":9.6999999999999993},"Adj HDD and NDD =0 for July and August"]
["2018-04-21",64,48,{"$f":"AVERAGE(KCITempAct[[#This Row],[KCIHigh]:[KCILow]]\n)","v":56},{"$f":"IF(KCITempAct[[#This Row],[KCIAve]]<65,(65-KCITempAct[[#This Row],[KCIAve]]),0)","v":9},{"$f":"IF(MONTH(KCITempAct[[#This Row],[Date]])=7,0,IF(MONTH(KCITempAct[[#This Row],[Date]])=8,0,KCITempAct[[#This Row],[KCIHDD]]))","v":9},{"$f":"SUMPRODUCT((KCINHDD[Month]=MONTH(KCITempAct[[#This Row],[Date]]))*(KCINHDD[Day]=DAY(KCITempAct[[#This Row],[Date]]))*KCINHDD[KCINHDD])","v":9.3666666666666671},{"$f":"IF(MONTH(KCITempAct[[#This Row],[Date]])=7,0,IF(MONTH(KCITempAct[[#This Row],[Date]])=8,0,KCITempAct[[#This Row],[KCINHDD]]))","v":9.3666666666666671},"Adj HDD and NDD =0 for July and August"]
["2018-04-22",67,47,{"$f":"AVERAGE(KCITempAct[[#This Row],[KCIHigh]:[KCILow]]\n)","v":57},{"$f":"IF(KCITempAct[[#This Row],[KCIAve]]<65,(65-KCITempAct[[#This Row],[KCIAve]]),0)","v":8},{"$f":"IF(MONTH(KCITempAct[[#This Row],[Date]])=7,0,IF(MONTH(KCITempAct[[#This Row],[Date]])=8,0,KCITempAct[[#This Row],[KCIHDD]]))","v":8},{"$f":"SUMPRODUCT((KCINHDD[Month]=MONTH(KCITempAct[[#This Row],[Date]]))*(KCINHDD[Day]=DAY(KCITempAct[[#This Row],[Date]]))*KCINHDD[KCINHDD])","v":9.4},{"$f":"IF(MONTH(KCITempAct[[#This Row],[Date]])=7,0,IF(MONTH(KCITempAct[[#This Row],[Date]])=8,0,KCITempAct[[#This Row],[KCINHDD]]))","v":9.4},"Adj HDD and NDD =0 for July and August"]
["2018-04-23",75,52,{"$f":"AVERAGE(KCITempAct[[#This Row],[KCIHigh]:[KCILow]]\n)","v":63.5},{"$f":"IF(KCITempAct[[#This Row],[KCIAve]]<65,(65-KCITempAct[[#This Row],[KCIAve]]),0)","v":1.5},{"$f":"IF(MONTH(KCITempAct[[#This Row],[Date]])=7,0,IF(MONTH(KCITempAct[[#This Row],[Date]])=8,0,KCITempAct[[#This Row],[KCIHDD]]))","v":1.5},{"$f":"SUMPRODUCT((KCINHDD[Month]=MONTH(KCITempAct[[#This Row],[Date]]))*(KCINHDD[Day]=DAY(KCITempAct[[#This Row],[Date]]))*KCINHDD[KCINHDD])","v":8.15},{"$f":"IF(MONTH(KCITempAct[[#This Row],[Date]])=7,0,IF(MONTH(KCITempAct[[#This Row],[Date]])=8,0,KCITempAct[[#This Row],[KCINHDD]]))","v":8.15},"Adj HDD and NDD =0 for July and August"]
["2018-04-24",78,46,{"$f":"AVERAGE(KCITempAct[[#This Row],[KCIHigh]:[KCILow]]\n)","v":62},{"$f":"IF(KCITempAct[[#This Row],[KCIAve]]<65,(65-KCITempAct[[#This Row],[KCIAve]]),0)","v":3},{"$f":"IF(MONTH(KCITempAct[[#This Row],[Date]])=7,0,IF(MONTH(KCITempAct[[#This Row],[Date]])=8,0,KCITempAct[[#This Row],[KCIHDD]]))","v":3},{"$f":"SUMPRODUCT((KCINHDD[Month]=MONTH(KCITempAct[[#This Row],[Date]]))*(KCINHDD[Day]=DAY(KCITempAct[[#This Row],[Date]]))*KCINHDD[KCINHDD])","v":7.4},{"$f":"IF(MONTH(KCITempAct[[#This Row],[Date]])=7,0,IF(MONTH(KCITempAct[[#This Row],[Date]])=8,0,KCITempAct[[#This Row],[KCINHDD]]))","v":7.4},"Adj HDD and NDD =0 for July and August"]
["2018-04-25",57,43,{"$f":"AVERAGE(KCITempAct[[#This Row],[KCIHigh]:[KCILow]]\n)","v":50},{"$f":"IF(KCITempAct[[#This Row],[KCIAve]]<65,(65-KCITempAct[[#This Row],[KCIAve]]),0)","v":15},{"$f":"IF(MONTH(KCITempAct[[#This Row],[Date]])=7,0,IF(MONTH(KCITempAct[[#This Row],[Date]])=8,0,KCITempAct[[#This Row],[KCIHDD]]))","v":15},{"$f":"SUMPRODUCT((KCINHDD[Month]=MONTH(KCITempAct[[#This Row],[Date]]))*(KCINHDD[Day]=DAY(KCITempAct[[#This Row],[Date]]))*KCINHDD[KCINHDD])","v":8.2833333333333332},{"$f":"IF(MONTH(KCITempAct[[#This Row],[Date]])=7,0,IF(MONTH(KCITempAct[[#This Row],[Date]])=8,0,KCITempAct[[#This Row],[KCINHDD]]))","v":8.2833333333333332},"Adj HDD and NDD =0 for July and August"]
["2018-04-26",69,36,{"$f":"AVERAGE(KCITempAct[[#This Row],[KCIHigh]:[KCILow]]\n)","v":52.5},{"$f":"IF(KCITempAct[[#This Row],[KCIAve]]<65,(65-KCITempAct[[#This Row],[KCIAve]]),0)","v":12.5},{"$f":"IF(MONTH(KCITempAct[[#This Row],[Date]])=7,0,IF(MONTH(KCITempAct[[#This Row],[Date]])=8,0,KCITempAct[[#This Row],[KCIHDD]]))","v":12.5},{"$f":"SUMPRODUCT((KCINHDD[Month]=MONTH(KCITempAct[[#This Row],[Date]]))*(KCINHDD[Day]=DAY(KCITempAct[[#This Row],[Date]]))*KCINHDD[KCINHDD])","v":9.4833333333333325},{"$f":"IF(MONTH(KCITempAct[[#This Row],[Date]])=7,0,IF(MONTH(KCITempAct[[#This Row],[Date]])=8,0,KCITempAct[[#This Row],[KCINHDD]]))","v":9.4833333333333325},"Adj HDD and NDD =0 for July and August"]
["2018-04-27",75,42,{"$f":"AVERAGE(KCITempAct[[#This Row],[KCIHigh]:[KCILow]]\n)","v":58.5},{"$f":"IF(KCITempAct[[#This Row],[KCIAve]]<65,(65-KCITempAct[[#This Row],[KCIAve]]),0)","v":6.5},{"$f":"IF(MONTH(KCITempAct[[#This Row],[Date]])=7,0,IF(MONTH(KCITempAct[[#This Row],[Date]])=8,0,KCITempAct[[#This Row],[KCIHDD]]))","v":6.5},{"$f":"SUMPRODUCT((KCINHDD[Month]=MONTH(KCITempAct[[#This Row],[Date]]))*(KCINHDD[Day]=DAY(KCITempAct[[#This Row],[Date]]))*KCINHDD[KCINHDD])","v":9.5666666666666664},{"$f":"IF(MONTH(KCITempAct[[#This Row],[Date]])=7,0,IF(MONTH(KCITempAct[[#This Row],[Date]])=8,0,KCITempAct[[#This Row],[KCINHDD]]))","v":9.5666666666666664},"Adj HDD and NDD =0 for July and August"]
["2018-04-28",68,41,{"$f":"AVERAGE(KCITempAct[[#This Row],[KCIHigh]:[KCILow]]\n)","v":54.5},{"$f":"IF(KCITempAct[[#This Row],[KCIAve]]<65,(65-KCITempAct[[#This Row],[KCIAve]]),0)","v":10.5},{"$f":"IF(MONTH(KCITempAct[[#This Row],[Date]])=7,0,IF(MONTH(KCITempAct[[#This Row],[Date]])=8,0,KCITempAct[[#This Row],[KCIHDD]]))","v":10.5},{"$f":"SUMPRODUCT((KCINHDD[Month]=MONTH(KCITempAct[[#This Row],[Date]]))*(KCINHDD[Day]=DAY(KCITempAct[[#This Row],[Date]]))*KCINHDD[KCINHDD])","v":9.25},{"$f":"IF(MONTH(KCITempAct[[#This Row],[Date]])=7,0,IF(MONTH(KCITempAct[[#This Row],[Date]])=8,0,KCITempAct[[#This Row],[KCINHDD]]))","v":9.25},"Adj HDD and NDD =0 for July and August"]
["2018-04-29",72,45,{"$f":"AVERAGE(KCITempAct[[#This Row],[KCIHigh]:[KCILow]]\n)","v":58.5},{"$f":"IF(KCITempAct[[#This Row],[KCIAve]]<65,(65-KCITempAct[[#This Row],[KCIAve]]),0)","v":6.5},{"$f":"IF(MONTH(KCITempAct[[#This Row],[Date]])=7,0,IF(MONTH(KCITempAct[[#This Row],[Date]])=8,0,KCITempAct[[#This Row],[KCIHDD]]))","v":6.5},{"$f":"SUMPRODUCT((KCINHDD[Month]=MONTH(KCITempAct[[#This Row],[Date]]))*(KCINHDD[Day]=DAY(KCITempAct[[#This Row],[Date]]))*KCINHDD[KCINHDD])","v":7.916666666666667},{"$f":"IF(MONTH(KCITempAct[[#This Row],[Date]])=7,0,IF(MONTH(KCITempAct[[#This Row],[Date]])=8,0,KCITempAct[[#This Row],[KCINHDD]]))","v":7.916666666666667},"Adj HDD and NDD =0 for July and August"]
["2018-04-30",82,57,{"$f":"AVERAGE(KCITempAct[[#This Row],[KCIHigh]:[KCILow]]\n)","v":69.5},{"$f":"IF(KCITempAct[[#This Row],[KCIAve]]<65,(65-KCITempAct[[#This Row],[KCIAve]]),0)","v":0},{"$f":"IF(MONTH(KCITempAct[[#This Row],[Date]])=7,0,IF(MONTH(KCITempAct[[#This Row],[Date]])=8,0,KCITempAct[[#This Row],[KCIHDD]]))","v":0},{"$f":"SUMPRODUCT((KCINHDD[Month]=MONTH(KCITempAct[[#This Row],[Date]]))*(KCINHDD[Day]=DAY(KCITempAct[[#This Row],[Date]]))*KCINHDD[KCINHDD])","v":6.4833333333333334},{"$f":"IF(MONTH(KCITempAct[[#This Row],[Date]])=7,0,IF(MONTH(KCITempAct[[#This Row],[Date]])=8,0,KCITempAct[[#This Row],[KCINHDD]]))","v":6.4833333333333334},"Adj HDD and NDD =0 for July and August"]
["2018-05-01",78,63,{"$f":"AVERAGE(KCITempAct[[#This Row],[KCIHigh]:[KCILow]]\n)","v":70.5},{"$f":"IF(KCITempAct[[#This Row],[KCIAve]]<65,(65-KCITempAct[[#This Row],[KCIAve]]),0)","v":0},{"$f":"IF(MONTH(KCITempAct[[#This Row],[Date]])=7,0,IF(MONTH(KCITempAct[[#This Row],[Date]])=8,0,KCITempAct[[#This Row],[KCIHDD]]))","v":0},{"$f":"SUMPRODUCT((KCINHDD[Month]=MONTH(KCITempAct[[#This Row],[Date]]))*(KCINHDD[Day]=DAY(KCITempAct[[#This Row],[Date]]))*KCINHDD[KCINHDD])","v":7.5666666666666664},{"$f":"IF(MONTH(KCITempAct[[#This Row],[Date]])=7,0,IF(MONTH(KCITempAct[[#This Row],[Date]])=8,0,KCITempAct[[#This Row],[KCINHDD]]))","v":7.5666666666666664},"Adj HDD and NDD =0 for July and August"]
["2018-05-02",81,62,{"$f":"AVERAGE(KCITempAct[[#This Row],[KCIHigh]:[KCILow]]\n)","v":71.5},{"$f":"IF(KCITempAct[[#This Row],[KCIAve]]<65,(65-KCITempAct[[#This Row],[KCIAve]]),0)","v":0},{"$f":"IF(MONTH(KCITempAct[[#This Row],[Date]])=7,0,IF(MONTH(KCITempAct[[#This Row],[Date]])=8,0,KCITempAct[[#This Row],[KCIHDD]]))","v":0},{"$f":"SUMPRODUCT((KCINHDD[Month]=MONTH(KCITempAct[[#This Row],[Date]]))*(KCINHDD[Day]=DAY(KCITempAct[[#This Row],[Date]]))*KCINHDD[KCINHDD])","v":8.0500000000000007},{"$f":"IF(MONTH(KCITempAct[[#This Row],[Date]])=7,0,IF(MONTH(KCITempAct[[#This Row],[Date]])=8,0,KCITempAct[[#This Row],[KCINHDD]]))","v":8.0500000000000007},"Adj HDD and NDD =0 for July and August"]
["2018-05-03",80,57,{"$f":"AVERAGE(KCITempAct[[#This Row],[KCIHigh]:[KCILow]]\n)","v":68.5},{"$f":"IF(KCITempAct[[#This Row],[KCIAve]]<65,(65-KCITempAct[[#This Row],[KCIAve]]),0)","v":0},{"$f":"IF(MONTH(KCITempAct[[#This Row],[Date]])=7,0,IF(MONTH(KCITempAct[[#This Row],[Date]])=8,0,KCITempAct[[#This Row],[KCIHDD]]))","v":0},{"$f":"SUMPRODUCT((KCINHDD[Month]=MONTH(KCITempAct[[#This Row],[Date]]))*(KCINHDD[Day]=DAY(KCITempAct[[#This Row],[Date]]))*KCINHDD[KCINHDD])","v":7.0166666666666666},{"$f":"IF(MONTH(KCITempAct[[#This Row],[Date]])=7,0,IF(MONTH(KCITempAct[[#This Row],[Date]])=8,0,KCITempAct[[#This Row],[KCINHDD]]))","v":7.0166666666666666},"Adj HDD and NDD =0 for July and August"]
["2018-05-04",78,55,{"$f":"AVERAGE(KCITempAct[[#This Row],[KCIHigh]:[KCILow]]\n)","v":66.5},{"$f":"IF(KCITempAct[[#This Row],[KCIAve]]<65,(65-KCITempAct[[#This Row],[KCIAve]]),0)","v":0},{"$f":"IF(MONTH(KCITempAct[[#This Row],[Date]])=7,0,IF(MONTH(KCITempAct[[#This Row],[Date]])=8,0,KCITempAct[[#This Row],[KCIHDD]]))","v":0},{"$f":"SUMPRODUCT((KCINHDD[Month]=MONTH(KCITempAct[[#This Row],[Date]]))*(KCINHDD[Day]=DAY(KCITempAct[[#This Row],[Date]]))*KCINHDD[KCINHDD])","v":5.0333333333333332},{"$f":"IF(MONTH(KCITempAct[[#This Row],[Date]])=7,0,IF(MONTH(KCITempAct[[#This Row],[Date]])=8,0,KCITempAct[[#This Row],[KCINHDD]]))","v":5.0333333333333332},"Adj HDD and NDD =0 for July and August"]
["2018-05-05",84,54,{"$f":"AVERAGE(KCITempAct[[#This Row],[KCIHigh]:[KCILow]]\n)","v":69},{"$f":"IF(KCITempAct[[#This Row],[KCIAve]]<65,(65-KCITempAct[[#This Row],[KCIAve]]),0)","v":0},{"$f":"IF(MONTH(KCITempAct[[#This Row],[Date]])=7,0,IF(MONTH(KCITempAct[[#This Row],[Date]])=8,0,KCITempAct[[#This Row],[KCIHDD]]))","v":0},{"$f":"SUMPRODUCT((KCINHDD[Month]=MONTH(KCITempAct[[#This Row],[Date]]))*(KCINHDD[Day]=DAY(KCITempAct[[#This Row],[Date]]))*KCINHDD[KCINHDD])","v":4.25},{"$f":"IF(MONTH(KCITempAct[[#This Row],[Date]])=7,0,IF(MONTH(KCITempAct[[#This Row],[Date]])=8,0,KCITempAct[[#This Row],[KCINHDD]]))","v":4.25},"Adj HDD and NDD =0 for July and August"]
["2018-05-06",85,55,{"$f":"AVERAGE(KCITempAct[[#This Row],[KCIHigh]:[KCILow]]\n)","v":70},{"$f":"IF(KCITempAct[[#This Row],[KCIAve]]<65,(65-KCITempAct[[#This Row],[KCIAve]]),0)","v":0},{"$f":"IF(MONTH(KCITempAct[[#This Row],[Date]])=7,0,IF(MONTH(KCITempAct[[#This Row],[Date]])=8,0,KCITempAct[[#This Row],[KCIHDD]]))","v":0},{"$f":"SUMPRODUCT((KCINHDD[Month]=MONTH(KCITempAct[[#This Row],[Date]]))*(KCINHDD[Day]=DAY(KCITempAct[[#This Row],[Date]]))*KCINHDD[KCINHDD])","v":3.3833333333333333},{"$f":"IF(MONTH(KCITempAct[[#This Row],[Date]])=7,0,IF(MONTH(KCITempAct[[#This Row],[Date]])=8,0,KCITempAct[[#This Row],[KCINHDD]]))","v":3.3833333333333333},"Adj HDD and NDD =0 for July and August"]
["2018-05-07",83,58,{"$f":"AVERAGE(KCITempAct[[#This Row],[KCIHigh]:[KCILow]]\n)","v":70.5},{"$f":"IF(KCITempAct[[#This Row],[KCIAve]]<65,(65-KCITempAct[[#This Row],[KCIAve]]),0)","v":0},{"$f":"IF(MONTH(KCITempAct[[#This Row],[Date]])=7,0,IF(MONTH(KCITempAct[[#This Row],[Date]])=8,0,KCITempAct[[#This Row],[KCIHDD]]))","v":0},{"$f":"SUMPRODUCT((KCINHDD[Month]=MONTH(KCITempAct[[#This Row],[Date]]))*(KCINHDD[Day]=DAY(KCITempAct[[#This Row],[Date]]))*KCINHDD[KCINHDD])","v":3.4833333333333334},{"$f":"IF(MONTH(KCITempAct[[#This Row],[Date]])=7,0,IF(MONTH(KCITempAct[[#This Row],[Date]])=8,0,KCITempAct[[#This Row],[KCINHDD]]))","v":3.4833333333333334},"Adj HDD and NDD =0 for July and August"]
["2018-05-08",86,64,{"$f":"AVERAGE(KCITempAct[[#This Row],[KCIHigh]:[KCILow]]\n)","v":75},{"$f":"IF(KCITempAct[[#This Row],[KCIAve]]<65,(65-KCITempAct[[#This Row],[KCIAve]]),0)","v":0},{"$f":"IF(MONTH(KCITempAct[[#This Row],[Date]])=7,0,IF(MONTH(KCITempAct[[#This Row],[Date]])=8,0,KCITempAct[[#This Row],[KCIHDD]]))","v":0},{"$f":"SUMPRODUCT((KCINHDD[Month]=MONTH(KCITempAct[[#This Row],[Date]]))*(KCINHDD[Day]=DAY(KCITempAct[[#This Row],[Date]]))*KCINHDD[KCINHDD])","v":2.4333333333333331},{"$f":"IF(MONTH(KCITempAct[[#This Row],[Date]])=7,0,IF(MONTH(KCITempAct[[#This Row],[Date]])=8,0,KCITempAct[[#This Row],[KCINHDD]]))","v":2.4333333333333331},"Adj HDD and NDD =0 for July and August"]
["2018-05-09",85,62,{"$f":"AVERAGE(KCITempAct[[#This Row],[KCIHigh]:[KCILow]]\n)","v":73.5},{"$f":"IF(KCITempAct[[#This Row],[KCIAve]]<65,(65-KCITempAct[[#This Row],[KCIAve]]),0)","v":0},{"$f":"IF(MONTH(KCITempAct[[#This Row],[Date]])=7,0,IF(MONTH(KCITempAct[[#This Row],[Date]])=8,0,KCITempAct[[#This Row],[KCIHDD]]))","v":0},{"$f":"SUMPRODUCT((KCINHDD[Month]=MONTH(KCITempAct[[#This Row],[Date]]))*(KCINHDD[Day]=DAY(KCITempAct[[#This Row],[Date]]))*KCINHDD[KCINHDD])","v":4.2166666666666668},{"$f":"IF(MONTH(KCITempAct[[#This Row],[Date]])=7,0,IF(MONTH(KCITempAct[[#This Row],[Date]])=8,0,KCITempAct[[#This Row],[KCINHDD]]))","v":4.2166666666666668},"Adj HDD and NDD =0 for July and August"]
["2018-05-10",87,59,{"$f":"AVERAGE(KCITempAct[[#This Row],[KCIHigh]:[KCILow]]\n)","v":73},{"$f":"IF(KCITempAct[[#This Row],[KCIAve]]<65,(65-KCITempAct[[#This Row],[KCIAve]]),0)","v":0},{"$f":"IF(MONTH(KCITempAct[[#This Row],[Date]])=7,0,IF(MONTH(KCITempAct[[#This Row],[Date]])=8,0,KCITempAct[[#This Row],[KCIHDD]]))","v":0},{"$f":"SUMPRODUCT((KCINHDD[Month]=MONTH(KCITempAct[[#This Row],[Date]]))*(KCINHDD[Day]=DAY(KCITempAct[[#This Row],[Date]]))*KCINHDD[KCINHDD])","v":4.2833333333333332},{"$f":"IF(MONTH(KCITempAct[[#This Row],[Date]])=7,0,IF(MONTH(KCITempAct[[#This Row],[Date]])=8,0,KCITempAct[[#This Row],[KCINHDD]]))","v":4.2833333333333332},"Adj HDD and NDD =0 for July and August"]
["2018-05-11",84,64,{"$f":"AVERAGE(KCITempAct[[#This Row],[KCIHigh]:[KCILow]]\n)","v":74},{"$f":"IF(KCITempAct[[#This Row],[KCIAve]]<65,(65-KCITempAct[[#This Row],[KCIAve]]),0)","v":0},{"$f":"IF(MONTH(KCITempAct[[#This Row],[Date]])=7,0,IF(MONTH(KCITempAct[[#This Row],[Date]])=8,0,KCITempAct[[#This Row],[KCIHDD]]))","v":0},{"$f":"SUMPRODUCT((KCINHDD[Month]=MONTH(KCITempAct[[#This Row],[Date]]))*(KCINHDD[Day]=DAY(KCITempAct[[#This Row],[Date]]))*KCINHDD[KCINHDD])","v":4.7333333333333334},{"$f":"IF(MONTH(KCITempAct[[#This Row],[Date]])=7,0,IF(MONTH(KCITempAct[[#This Row],[Date]])=8,0,KCITempAct[[#This Row],[KCINHDD]]))","v":4.7333333333333334},"Adj HDD and NDD =0 for July and August"]
["2018-05-12",84,69,{"$f":"AVERAGE(KCITempAct[[#This Row],[KCIHigh]:[KCILow]]\n)","v":76.5},{"$f":"IF(KCITempAct[[#This Row],[KCIAve]]<65,(65-KCITempAct[[#This Row],[KCIAve]]),0)","v":0},{"$f":"IF(MONTH(KCITempAct[[#This Row],[Date]])=7,0,IF(MONTH(KCITempAct[[#This Row],[Date]])=8,0,KCITempAct[[#This Row],[KCIHDD]]))","v":0},{"$f":"SUMPRODUCT((KCINHDD[Month]=MONTH(KCITempAct[[#This Row],[Date]]))*(KCINHDD[Day]=DAY(KCITempAct[[#This Row],[Date]]))*KCINHDD[KCINHDD])","v":5.5333333333333332},{"$f":"IF(MONTH(KCITempAct[[#This Row],[Date]])=7,0,IF(MONTH(KCITempAct[[#This Row],[Date]])=8,0,KCITempAct[[#This Row],[KCINHDD]]))","v":5.5333333333333332},"Adj HDD and NDD =0 for July and August"]
["2018-05-13",90,69,{"$f":"AVERAGE(KCITempAct[[#This Row],[KCIHigh]:[KCILow]]\n)","v":79.5},{"$f":"IF(KCITempAct[[#This Row],[KCIAve]]<65,(65-KCITempAct[[#This Row],[KCIAve]]),0)","v":0},{"$f":"IF(MONTH(KCITempAct[[#This Row],[Date]])=7,0,IF(MONTH(KCITempAct[[#This Row],[Date]])=8,0,KCITempAct[[#This Row],[KCIHDD]]))","v":0},{"$f":"SUMPRODUCT((KCINHDD[Month]=MONTH(KCITempAct[[#This Row],[Date]]))*(KCINHDD[Day]=DAY(KCITempAct[[#This Row],[Date]]))*KCINHDD[KCINHDD])","v":4.8166666666666664},{"$f":"IF(MONTH(KCITempAct[[#This Row],[Date]])=7,0,IF(MONTH(KCITempAct[[#This Row],[Date]])=8,0,KCITempAct[[#This Row],[KCINHDD]]))","v":4.8166666666666664},"Adj HDD and NDD =0 for July and August"]
["2018-05-14",86,65,{"$f":"AVERAGE(KCITempAct[[#This Row],[KCIHigh]:[KCILow]]\n)","v":75.5},{"$f":"IF(KCITempAct[[#This Row],[KCIAve]]<65,(65-KCITempAct[[#This Row],[KCIAve]]),0)","v":0},{"$f":"IF(MONTH(KCITempAct[[#This Row],[Date]])=7,0,IF(MONTH(KCITempAct[[#This Row],[Date]])=8,0,KCITempAct[[#This Row],[KCIHDD]]))","v":0},{"$f":"SUMPRODUCT((KCINHDD[Month]=MONTH(KCITempAct[[#This Row],[Date]]))*(KCINHDD[Day]=DAY(KCITempAct[[#This Row],[Date]]))*KCINHDD[KCINHDD])","v":5.05},{"$f":"IF(MONTH(KCITempAct[[#This Row],[Date]])=7,0,IF(MONTH(KCITempAct[[#This Row],[Date]])=8,0,KCITempAct[[#This Row],[KCINHDD]]))","v":5.05},"Adj HDD and NDD =0 for July and August"]
["2018-05-15",79,65,{"$f":"AVERAGE(KCITempAct[[#This Row],[KCIHigh]:[KCILow]]\n)","v":72},{"$f":"IF(KCITempAct[[#This Row],[KCIAve]]<65,(65-KCITempAct[[#This Row],[KCIAve]]),0)","v":0},{"$f":"IF(MONTH(KCITempAct[[#This Row],[Date]])=7,0,IF(MONTH(KCITempAct[[#This Row],[Date]])=8,0,KCITempAct[[#This Row],[KCIHDD]]))","v":0},{"$f":"SUMPRODUCT((KCINHDD[Month]=MONTH(KCITempAct[[#This Row],[Date]]))*(KCINHDD[Day]=DAY(KCITempAct[[#This Row],[Date]]))*KCINHDD[KCINHDD])","v":3.6},{"$f":"IF(MONTH(KCITempAct[[#This Row],[Date]])=7,0,IF(MONTH(KCITempAct[[#This Row],[Date]])=8,0,KCITempAct[[#This Row],[KCINHDD]]))","v":3.6},"Adj HDD and NDD =0 for July and August"]
["2018-05-16",81,59,{"$f":"AVERAGE(KCITempAct[[#This Row],[KCIHigh]:[KCILow]]\n)","v":70},{"$f":"IF(KCITempAct[[#This Row],[KCIAve]]<65,(65-KCITempAct[[#This Row],[KCIAve]]),0)","v":0},{"$f":"IF(MONTH(KCITempAct[[#This Row],[Date]])=7,0,IF(MONTH(KCITempAct[[#This Row],[Date]])=8,0,KCITempAct[[#This Row],[KCIHDD]]))","v":0},{"$f":"SUMPRODUCT((KCINHDD[Month]=MONTH(KCITempAct[[#This Row],[Date]]))*(KCINHDD[Day]=DAY(KCITempAct[[#This Row],[Date]]))*KCINHDD[KCINHDD])","v":3.35},{"$f":"IF(MONTH(KCITempAct[[#This Row],[Date]])=7,0,IF(MONTH(KCITempAct[[#This Row],[Date]])=8,0,KCITempAct[[#This Row],[KCINHDD]]))","v":3.35},"Adj HDD and NDD =0 for July and August"]
["2018-05-17",83,60,{"$f":"AVERAGE(KCITempAct[[#This Row],[KCIHigh]:[KCILow]]\n)","v":71.5},{"$f":"IF(KCITempAct[[#This Row],[KCIAve]]<65,(65-KCITempAct[[#This Row],[KCIAve]]),0)","v":0},{"$f":"IF(MONTH(KCITempAct[[#This Row],[Date]])=7,0,IF(MONTH(KCITempAct[[#This Row],[Date]])=8,0,KCITempAct[[#This Row],[KCIHDD]]))","v":0},{"$f":"SUMPRODUCT((KCINHDD[Month]=MONTH(KCITempAct[[#This Row],[Date]]))*(KCINHDD[Day]=DAY(KCITempAct[[#This Row],[Date]]))*KCINHDD[KCINHDD])","v":2.8},{"$f":"IF(MONTH(KCITempAct[[#This Row],[Date]])=7,0,IF(MONTH(KCITempAct[[#This Row],[Date]])=8,0,KCITempAct[[#This Row],[KCINHDD]]))","v":2.8},"Adj HDD and NDD =0 for July and August"]
["2018-05-18",85,58,{"$f":"AVERAGE(KCITempAct[[#This Row],[KCIHigh]:[KCILow]]\n)","v":71.5},{"$f":"IF(KCITempAct[[#This Row],[KCIAve]]<65,(65-KCITempAct[[#This Row],[KCIAve]]),0)","v":0},{"$f":"IF(MONTH(KCITempAct[[#This Row],[Date]])=7,0,IF(MONTH(KCITempAct[[#This Row],[Date]])=8,0,KCITempAct[[#This Row],[KCIHDD]]))","v":0},{"$f":"SUMPRODUCT((KCINHDD[Month]=MONTH(KCITempAct[[#This Row],[Date]]))*(KCINHDD[Day]=DAY(KCITempAct[[#This Row],[Date]]))*KCINHDD[KCINHDD])","v":2.7},{"$f":"IF(MONTH(KCITempAct[[#This Row],[Date]])=7,0,IF(MONTH(KCITempAct[[#This Row],[Date]])=8,0,KCITempAct[[#This Row],[KCINHDD]]))","v":2.7},"Adj HDD and NDD =0 for July and August"]
["2018-05-19",81,64,{"$f":"AVERAGE(KCITempAct[[#This Row],[KCIHigh]:[KCILow]]\n)","v":72.5},{"$f":"IF(KCITempAct[[#This Row],[KCIAve]]<65,(65-KCITempAct[[#This Row],[KCIAve]]),0)","v":0},{"$f":"IF(MONTH(KCITempAct[[#This Row],[Date]])=7,0,IF(MONTH(KCITempAct[[#This Row],[Date]])=8,0,KCITempAct[[#This Row],[KCIHDD]]))","v":0},{"$f":"SUMPRODUCT((KCINHDD[Month]=MONTH(KCITempAct[[#This Row],[Date]]))*(KCINHDD[Day]=DAY(KCITempAct[[#This Row],[Date]]))*KCINHDD[KCINHDD])","v":3.35},{"$f":"IF(MONTH(KCITempAct[[#This Row],[Date]])=7,0,IF(MONTH(KCITempAct[[#This Row],[Date]])=8,0,KCITempAct[[#This Row],[KCINHDD]]))","v":3.35},"Adj HDD and NDD =0 for July and August"]
["2018-05-20",71,61,{"$f":"AVERAGE(KCITempAct[[#This Row],[KCIHigh]:[KCILow]]\n)","v":66},{"$f":"IF(KCITempAct[[#This Row],[KCIAve]]<65,(65-KCITempAct[[#This Row],[KCIAve]]),0)","v":0},{"$f":"IF(MONTH(KCITempAct[[#This Row],[Date]])=7,0,IF(MONTH(KCITempAct[[#This Row],[Date]])=8,0,KCITempAct[[#This Row],[KCIHDD]]))","v":0},{"$f":"SUMPRODUCT((KCINHDD[Month]=MONTH(KCITempAct[[#This Row],[Date]]))*(KCINHDD[Day]=DAY(KCITempAct[[#This Row],[Date]]))*KCINHDD[KCINHDD])","v":3.1333333333333333},{"$f":"IF(MONTH(KCITempAct[[#This Row],[Date]])=7,0,IF(MONTH(KCITempAct[[#This Row],[Date]])=8,0,KCITempAct[[#This Row],[KCINHDD]]))","v":3.1333333333333333},"Adj HDD and NDD =0 for July and August"]
["2018-05-21",72,59,{"$f":"AVERAGE(KCITempAct[[#This Row],[KCIHigh]:[KCILow]]\n)","v":65.5},{"$f":"IF(KCITempAct[[#This Row],[KCIAve]]<65,(65-KCITempAct[[#This Row],[KCIAve]]),0)","v":0},{"$f":"IF(MONTH(KCITempAct[[#This Row],[Date]])=7,0,IF(MONTH(KCITempAct[[#This Row],[Date]])=8,0,KCITempAct[[#This Row],[KCIHDD]]))","v":0},{"$f":"SUMPRODUCT((KCINHDD[Month]=MONTH(KCITempAct[[#This Row],[Date]]))*(KCINHDD[Day]=DAY(KCITempAct[[#This Row],[Date]]))*KCINHDD[KCINHDD])","v":2.6166666666666667},{"$f":"IF(MONTH(KCITempAct[[#This Row],[Date]])=7,0,IF(MONTH(KCITempAct[[#This Row],[Date]])=8,0,KCITempAct[[#This Row],[KCINHDD]]))","v":2.6166666666666667},"Adj HDD and NDD =0 for July and August"]
["2018-05-22",85,56,{"$f":"AVERAGE(KCITempAct[[#This Row],[KCIHigh]:[KCILow]]\n)","v":70.5},{"$f":"IF(KCITempAct[[#This Row],[KCIAve]]<65,(65-KCITempAct[[#This Row],[KCIAve]]),0)","v":0},{"$f":"IF(MONTH(KCITempAct[[#This Row],[Date]])=7,0,IF(MONTH(KCITempAct[[#This Row],[Date]])=8,0,KCITempAct[[#This Row],[KCIHDD]]))","v":0},{"$f":"SUMPRODUCT((KCINHDD[Month]=MONTH(KCITempAct[[#This Row],[Date]]))*(KCINHDD[Day]=DAY(KCITempAct[[#This Row],[Date]]))*KCINHDD[KCINHDD])","v":1.4333333333333333},{"$f":"IF(MONTH(KCITempAct[[#This Row],[Date]])=7,0,IF(MONTH(KCITempAct[[#This Row],[Date]])=8,0,KCITempAct[[#This Row],[KCINHDD]]))","v":1.4333333333333333},"Adj HDD and NDD =0 for July and August"]
["2018-05-23",88,66,{"$f":"AVERAGE(KCITempAct[[#This Row],[KCIHigh]:[KCILow]]\n)","v":77},{"$f":"IF(KCITempAct[[#This Row],[KCIAve]]<65,(65-KCITempAct[[#This Row],[KCIAve]]),0)","v":0},{"$f":"IF(MONTH(KCITempAct[[#This Row],[Date]])=7,0,IF(MONTH(KCITempAct[[#This Row],[Date]])=8,0,KCITempAct[[#This Row],[KCIHDD]]))","v":0},{"$f":"SUMPRODUCT((KCINHDD[Month]=MONTH(KCITempAct[[#This Row],[Date]]))*(KCINHDD[Day]=DAY(KCITempAct[[#This Row],[Date]]))*KCINHDD[KCINHDD])","v":1.5666666666666667},{"$f":"IF(MONTH(KCITempAct[[#This Row],[Date]])=7,0,IF(MONTH(KCITempAct[[#This Row],[Date]])=8,0,KCITempAct[[#This Row],[KCINHDD]]))","v":1.5666666666666667},"Adj HDD and NDD =0 for July and August"]
["2018-05-24",85,64,{"$f":"AVERAGE(KCITempAct[[#This Row],[KCIHigh]:[KCILow]]\n)","v":74.5},{"$f":"IF(KCITempAct[[#This Row],[KCIAve]]<65,(65-KCITempAct[[#This Row],[KCIAve]]),0)","v":0},{"$f":"IF(MONTH(KCITempAct[[#This Row],[Date]])=7,0,IF(MONTH(KCITempAct[[#This Row],[Date]])=8,0,KCITempAct[[#This Row],[KCIHDD]]))","v":0},{"$f":"SUMPRODUCT((KCINHDD[Month]=MONTH(KCITempAct[[#This Row],[Date]]))*(KCINHDD[Day]=DAY(KCITempAct[[#This Row],[Date]]))*KCINHDD[KCINHDD])","v":2.2999999999999998},{"$f":"IF(MONTH(KCITempAct[[#This Row],[Date]])=7,0,IF(MONTH(KCITempAct[[#This Row],[Date]])=8,0,KCITempAct[[#This Row],[KCINHDD]]))","v":2.2999999999999998},"Adj HDD and NDD =0 for July and August"]
["2018-05-25",85,66,{"$f":"AVERAGE(KCITempAct[[#This Row],[KCIHigh]:[KCILow]]\n)","v":75.5},{"$f":"IF(KCITempAct[[#This Row],[KCIAve]]<65,(65-KCITempAct[[#This Row],[KCIAve]]),0)","v":0},{"$f":"IF(MONTH(KCITempAct[[#This Row],[Date]])=7,0,IF(MONTH(KCITempAct[[#This Row],[Date]])=8,0,KCITempAct[[#This Row],[KCIHDD]]))","v":0},{"$f":"SUMPRODUCT((KCINHDD[Month]=MONTH(KCITempAct[[#This Row],[Date]]))*(KCINHDD[Day]=DAY(KCITempAct[[#This Row],[Date]]))*KCINHDD[KCINHDD])","v":1.8833333333333333},{"$f":"IF(MONTH(KCITempAct[[#This Row],[Date]])=7,0,IF(MONTH(KCITempAct[[#This Row],[Date]])=8,0,KCITempAct[[#This Row],[KCINHDD]]))","v":1.8833333333333333},"Adj HDD and NDD =0 for July and August"]
["2018-05-26",93,68,{"$f":"AVERAGE(KCITempAct[[#This Row],[KCIHigh]:[KCILow]]\n)","v":80.5},{"$f":"IF(KCITempAct[[#This Row],[KCIAve]]<65,(65-KCITempAct[[#This Row],[KCIAve]]),0)","v":0},{"$f":"IF(MONTH(KCITempAct[[#This Row],[Date]])=7,0,IF(MONTH(KCITempAct[[#This Row],[Date]])=8,0,KCITempAct[[#This Row],[KCIHDD]]))","v":0},{"$f":"SUMPRODUCT((KCINHDD[Month]=MONTH(KCITempAct[[#This Row],[Date]]))*(KCINHDD[Day]=DAY(KCITempAct[[#This Row],[Date]]))*KCINHDD[KCINHDD])","v":2.0333333333333332},{"$f":"IF(MONTH(KCITempAct[[#This Row],[Date]])=7,0,IF(MONTH(KCITempAct[[#This Row],[Date]])=8,0,KCITempAct[[#This Row],[KCINHDD]]))","v":2.0333333333333332},"Adj HDD and NDD =0 for July and August"]
["2018-05-27",93,69,{"$f":"AVERAGE(KCITempAct[[#This Row],[KCIHigh]:[KCILow]]\n)","v":81},{"$f":"IF(KCITempAct[[#This Row],[KCIAve]]<65,(65-KCITempAct[[#This Row],[KCIAve]]),0)","v":0},{"$f":"IF(MONTH(KCITempAct[[#This Row],[Date]])=7,0,IF(MONTH(KCITempAct[[#This Row],[Date]])=8,0,KCITempAct[[#This Row],[KCIHDD]]))","v":0},{"$f":"SUMPRODUCT((KCINHDD[Month]=MONTH(KCITempAct[[#This Row],[Date]]))*(KCINHDD[Day]=DAY(KCITempAct[[#This Row],[Date]]))*KCINHDD[KCINHDD])","v":1.7333333333333334},{"$f":"IF(MONTH(KCITempAct[[#This Row],[Date]])=7,0,IF(MONTH(KCITempAct[[#This Row],[Date]])=8,0,KCITempAct[[#This Row],[KCINHDD]]))","v":1.7333333333333334},"Adj HDD and NDD =0 for July and August"]
["2018-05-28",94,70,{"$f":"AVERAGE(KCITempAct[[#This Row],[KCIHigh]:[KCILow]]\n)","v":82},{"$f":"IF(KCITempAct[[#This Row],[KCIAve]]<65,(65-KCITempAct[[#This Row],[KCIAve]]),0)","v":0},{"$f":"IF(MONTH(KCITempAct[[#This Row],[Date]])=7,0,IF(MONTH(KCITempAct[[#This Row],[Date]])=8,0,KCITempAct[[#This Row],[KCIHDD]]))","v":0},{"$f":"SUMPRODUCT((KCINHDD[Month]=MONTH(KCITempAct[[#This Row],[Date]]))*(KCINHDD[Day]=DAY(KCITempAct[[#This Row],[Date]]))*KCINHDD[KCINHDD])","v":1.85},{"$f":"IF(MONTH(KCITempAct[[#This Row],[Date]])=7,0,IF(MONTH(KCITempAct[[#This Row],[Date]])=8,0,KCITempAct[[#This Row],[KCINHDD]]))","v":1.85},"Adj HDD and NDD =0 for July and August"]
["2018-05-29",91,64,{"$f":"AVERAGE(KCITempAct[[#This Row],[KCIHigh]:[KCILow]]\n)","v":77.5},{"$f":"IF(KCITempAct[[#This Row],[KCIAve]]<65,(65-KCITempAct[[#This Row],[KCIAve]]),0)","v":0},{"$f":"IF(MONTH(KCITempAct[[#This Row],[Date]])=7,0,IF(MONTH(KCITempAct[[#This Row],[Date]])=8,0,KCITempAct[[#This Row],[KCIHDD]]))","v":0},{"$f":"SUMPRODUCT((KCINHDD[Month]=MONTH(KCITempAct[[#This Row],[Date]]))*(KCINHDD[Day]=DAY(KCITempAct[[#This Row],[Date]]))*KCINHDD[KCINHDD])","v":1.1666666666666667},{"$f":"IF(MONTH(KCITempAct[[#This Row],[Date]])=7,0,IF(MONTH(KCITempAct[[#This Row],[Date]])=8,0,KCITempAct[[#This Row],[KCINHDD]]))","v":1.1666666666666667},"Adj HDD and NDD =0 for July and August"]
["2018-05-30",86,61,{"$f":"AVERAGE(KCITempAct[[#This Row],[KCIHigh]:[KCILow]]\n)","v":73.5},{"$f":"IF(KCITempAct[[#This Row],[KCIAve]]<65,(65-KCITempAct[[#This Row],[KCIAve]]),0)","v":0},{"$f":"IF(MONTH(KCITempAct[[#This Row],[Date]])=7,0,IF(MONTH(KCITempAct[[#This Row],[Date]])=8,0,KCITempAct[[#This Row],[KCIHDD]]))","v":0},{"$f":"SUMPRODUCT((KCINHDD[Month]=MONTH(KCITempAct[[#This Row],[Date]]))*(KCINHDD[Day]=DAY(KCITempAct[[#This Row],[Date]]))*KCINHDD[KCINHDD])","v":0.8},{"$f":"IF(MONTH(KCITempAct[[#This Row],[Date]])=7,0,IF(MONTH(KCITempAct[[#This Row],[Date]])=8,0,KCITempAct[[#This Row],[KCINHDD]]))","v":0.8},"Adj HDD and NDD =0 for July and August"]
["2018-05-31",91,68,{"$f":"AVERAGE(KCITempAct[[#This Row],[KCIHigh]:[KCILow]]\n)","v":79.5},{"$f":"IF(KCITempAct[[#This Row],[KCIAve]]<65,(65-KCITempAct[[#This Row],[KCIAve]]),0)","v":0},{"$f":"IF(MONTH(KCITempAct[[#This Row],[Date]])=7,0,IF(MONTH(KCITempAct[[#This Row],[Date]])=8,0,KCITempAct[[#This Row],[KCIHDD]]))","v":0},{"$f":"SUMPRODUCT((KCINHDD[Month]=MONTH(KCITempAct[[#This Row],[Date]]))*(KCINHDD[Day]=DAY(KCITempAct[[#This Row],[Date]]))*KCINHDD[KCINHDD])","v":1.2},{"$f":"IF(MONTH(KCITempAct[[#This Row],[Date]])=7,0,IF(MONTH(KCITempAct[[#This Row],[Date]])=8,0,KCITempAct[[#This Row],[KCINHDD]]))","v":1.2},"Adj HDD and NDD =0 for July and August"]
["2018-06-01",91,67,{"$f":"AVERAGE(KCITempAct[[#This Row],[KCIHigh]:[KCILow]]\n)","v":79},{"$f":"IF(KCITempAct[[#This Row],[KCIAve]]<65,(65-KCITempAct[[#This Row],[KCIAve]]),0)","v":0},{"$f":"IF(MONTH(KCITempAct[[#This Row],[Date]])=7,0,IF(MONTH(KCITempAct[[#This Row],[Date]])=8,0,KCITempAct[[#This Row],[KCIHDD]]))","v":0},{"$f":"SUMPRODUCT((KCINHDD[Month]=MONTH(KCITempAct[[#This Row],[Date]]))*(KCINHDD[Day]=DAY(KCITempAct[[#This Row],[Date]]))*KCINHDD[KCINHDD])","v":0.8833333333333333},{"$f":"IF(MONTH(KCITempAct[[#This Row],[Date]])=7,0,IF(MONTH(KCITempAct[[#This Row],[Date]])=8,0,KCITempAct[[#This Row],[KCINHDD]]))","v":0.8833333333333333},"Adj HDD and NDD =0 for July and August"]
["2018-06-02",82,62,{"$f":"AVERAGE(KCITempAct[[#This Row],[KCIHigh]:[KCILow]]\n)","v":72},{"$f":"IF(KCITempAct[[#This Row],[KCIAve]]<65,(65-KCITempAct[[#This Row],[KCIAve]]),0)","v":0},{"$f":"IF(MONTH(KCITempAct[[#This Row],[Date]])=7,0,IF(MONTH(KCITempAct[[#This Row],[Date]])=8,0,KCITempAct[[#This Row],[KCIHDD]]))","v":0},{"$f":"SUMPRODUCT((KCINHDD[Month]=MONTH(KCITempAct[[#This Row],[Date]]))*(KCINHDD[Day]=DAY(KCITempAct[[#This Row],[Date]]))*KCINHDD[KCINHDD])","v":0.65},{"$f":"IF(MONTH(KCITempAct[[#This Row],[Date]])=7,0,IF(MONTH(KCITempAct[[#This Row],[Date]])=8,0,KCITempAct[[#This Row],[KCINHDD]]))","v":0.65},"Adj HDD and NDD =0 for July and August"]
["2018-06-03",82,57,{"$f":"AVERAGE(KCITempAct[[#This Row],[KCIHigh]:[KCILow]]\n)","v":69.5},{"$f":"IF(KCITempAct[[#This Row],[KCIAve]]<65,(65-KCITempAct[[#This Row],[KCIAve]]),0)","v":0},{"$f":"IF(MONTH(KCITempAct[[#This Row],[Date]])=7,0,IF(MONTH(KCITempAct[[#This Row],[Date]])=8,0,KCITempAct[[#This Row],[KCIHDD]]))","v":0},{"$f":"SUMPRODUCT((KCINHDD[Month]=MONTH(KCITempAct[[#This Row],[Date]]))*(KCINHDD[Day]=DAY(KCITempAct[[#This Row],[Date]]))*KCINHDD[KCINHDD])","v":0.91666666666666663},{"$f":"IF(MONTH(KCITempAct[[#This Row],[Date]])=7,0,IF(MONTH(KCITempAct[[#This Row],[Date]])=8,0,KCITempAct[[#This Row],[KCINHDD]]))","v":0.91666666666666663},"Adj HDD and NDD =0 for July and August"]
["2018-06-04",76,61,{"$f":"AVERAGE(KCITempAct[[#This Row],[KCIHigh]:[KCILow]]\n)","v":68.5},{"$f":"IF(KCITempAct[[#This Row],[KCIAve]]<65,(65-KCITempAct[[#This Row],[KCIAve]]),0)","v":0},{"$f":"IF(MONTH(KCITempAct[[#This Row],[Date]])=7,0,IF(MONTH(KCITempAct[[#This Row],[Date]])=8,0,KCITempAct[[#This Row],[KCIHDD]]))","v":0},{"$f":"SUMPRODUCT((KCINHDD[Month]=MONTH(KCITempAct[[#This Row],[Date]]))*(KCINHDD[Day]=DAY(KCITempAct[[#This Row],[Date]]))*KCINHDD[KCINHDD])","v":1.2},{"$f":"IF(MONTH(KCITempAct[[#This Row],[Date]])=7,0,IF(MONTH(KCITempAct[[#This Row],[Date]])=8,0,KCITempAct[[#This Row],[KCINHDD]]))","v":1.2},"Adj HDD and NDD =0 for July and August"]
["2018-06-05",86,56,{"$f":"AVERAGE(KCITempAct[[#This Row],[KCIHigh]:[KCILow]]\n)","v":71},{"$f":"IF(KCITempAct[[#This Row],[KCIAve]]<65,(65-KCITempAct[[#This Row],[KCIAve]]),0)","v":0},{"$f":"IF(MONTH(KCITempAct[[#This Row],[Date]])=7,0,IF(MONTH(KCITempAct[[#This Row],[Date]])=8,0,KCITempAct[[#This Row],[KCIHDD]]))","v":0},{"$f":"SUMPRODUCT((KCINHDD[Month]=MONTH(KCITempAct[[#This Row],[Date]]))*(KCINHDD[Day]=DAY(KCITempAct[[#This Row],[Date]]))*KCINHDD[KCINHDD])","v":0.68333333333333335},{"$f":"IF(MONTH(KCITempAct[[#This Row],[Date]])=7,0,IF(MONTH(KCITempAct[[#This Row],[Date]])=8,0,KCITempAct[[#This Row],[KCINHDD]]))","v":0.68333333333333335},"Adj HDD and NDD =0 for July and August"]
["2018-06-06",90,64,{"$f":"AVERAGE(KCITempAct[[#This Row],[KCIHigh]:[KCILow]]\n)","v":77},{"$f":"IF(KCITempAct[[#This Row],[KCIAve]]<65,(65-KCITempAct[[#This Row],[KCIAve]]),0)","v":0},{"$f":"IF(MONTH(KCITempAct[[#This Row],[Date]])=7,0,IF(MONTH(KCITempAct[[#This Row],[Date]])=8,0,KCITempAct[[#This Row],[KCIHDD]]))","v":0},{"$f":"SUMPRODUCT((KCINHDD[Month]=MONTH(KCITempAct[[#This Row],[Date]]))*(KCINHDD[Day]=DAY(KCITempAct[[#This Row],[Date]]))*KCINHDD[KCINHDD])","v":0.31666666666666665},{"$f":"IF(MONTH(KCITempAct[[#This Row],[Date]])=7,0,IF(MONTH(KCITempAct[[#This Row],[Date]])=8,0,KCITempAct[[#This Row],[KCINHDD]]))","v":0.31666666666666665},"Adj HDD and NDD =0 for July and August"]
["2018-06-07",88,66,{"$f":"AVERAGE(KCITempAct[[#This Row],[KCIHigh]:[KCILow]]\n)","v":77},{"$f":"IF(KCITempAct[[#This Row],[KCIAve]]<65,(65-KCITempAct[[#This Row],[KCIAve]]),0)","v":0},{"$f":"IF(MONTH(KCITempAct[[#This Row],[Date]])=7,0,IF(MONTH(KCITempAct[[#This Row],[Date]])=8,0,KCITempAct[[#This Row],[KCIHDD]]))","v":0},{"$f":"SUMPRODUCT((KCINHDD[Month]=MONTH(KCITempAct[[#This Row],[Date]]))*(KCINHDD[Day]=DAY(KCITempAct[[#This Row],[Date]]))*KCINHDD[KCINHDD])","v":0.3},{"$f":"IF(MONTH(KCITempAct[[#This Row],[Date]])=7,0,IF(MONTH(KCITempAct[[#This Row],[Date]])=8,0,KCITempAct[[#This Row],[KCINHDD]]))","v":0.3},"Adj HDD and NDD =0 for July and August"]
["2018-06-08",92,66,{"$f":"AVERAGE(KCITempAct[[#This Row],[KCIHigh]:[KCILow]]\n)","v":79},{"$f":"IF(KCITempAct[[#This Row],[KCIAve]]<65,(65-KCITempAct[[#This Row],[KCIAve]]),0)","v":0},{"$f":"IF(MONTH(KCITempAct[[#This Row],[Date]])=7,0,IF(MONTH(KCITempAct[[#This Row],[Date]])=8,0,KCITempAct[[#This Row],[KCIHDD]]))","v":0},{"$f":"SUMPRODUCT((KCINHDD[Month]=MONTH(KCITempAct[[#This Row],[Date]]))*(KCINHDD[Day]=DAY(KCITempAct[[#This Row],[Date]]))*KCINHDD[KCINHDD])","v":0.21666666666666667},{"$f":"IF(MONTH(KCITempAct[[#This Row],[Date]])=7,0,IF(MONTH(KCITempAct[[#This Row],[Date]])=8,0,KCITempAct[[#This Row],[KCINHDD]]))","v":0.21666666666666667},"Adj HDD and NDD =0 for July and August"]
["2018-06-09",91,70,{"$f":"AVERAGE(KCITempAct[[#This Row],[KCIHigh]:[KCILow]]\n)","v":80.5},{"$f":"IF(KCITempAct[[#This Row],[KCIAve]]<65,(65-KCITempAct[[#This Row],[KCIAve]]),0)","v":0},{"$f":"IF(MONTH(KCITempAct[[#This Row],[Date]])=7,0,IF(MONTH(KCITempAct[[#This Row],[Date]])=8,0,KCITempAct[[#This Row],[KCIHDD]]))","v":0},{"$f":"SUMPRODUCT((KCINHDD[Month]=MONTH(KCITempAct[[#This Row],[Date]]))*(KCINHDD[Day]=DAY(KCITempAct[[#This Row],[Date]]))*KCINHDD[KCINHDD])","v":0.16666666666666666},{"$f":"IF(MONTH(KCITempAct[[#This Row],[Date]])=7,0,IF(MONTH(KCITempAct[[#This Row],[Date]])=8,0,KCITempAct[[#This Row],[KCINHDD]]))","v":0.16666666666666666},"Adj HDD and NDD =0 for July and August"]
["2018-06-10",94,75,{"$f":"AVERAGE(KCITempAct[[#This Row],[KCIHigh]:[KCILow]]\n)","v":84.5},{"$f":"IF(KCITempAct[[#This Row],[KCIAve]]<65,(65-KCITempAct[[#This Row],[KCIAve]]),0)","v":0},{"$f":"IF(MONTH(KCITempAct[[#This Row],[Date]])=7,0,IF(MONTH(KCITempAct[[#This Row],[Date]])=8,0,KCITempAct[[#This Row],[KCIHDD]]))","v":0},{"$f":"SUMPRODUCT((KCINHDD[Month]=MONTH(KCITempAct[[#This Row],[Date]]))*(KCINHDD[Day]=DAY(KCITempAct[[#This Row],[Date]]))*KCINHDD[KCINHDD])","v":3.3333333333333333E-2},{"$f":"IF(MONTH(KCITempAct[[#This Row],[Date]])=7,0,IF(MONTH(KCITempAct[[#This Row],[Date]])=8,0,KCITempAct[[#This Row],[KCINHDD]]))","v":3.3333333333333333E-2},"Adj HDD and NDD =0 for July and August"]
["2018-06-11",95,68,{"$f":"AVERAGE(KCITempAct[[#This Row],[KCIHigh]:[KCILow]]\n)","v":81.5},{"$f":"IF(KCITempAct[[#This Row],[KCIAve]]<65,(65-KCITempAct[[#This Row],[KCIAve]]),0)","v":0},{"$f":"IF(MONTH(KCITempAct[[#This Row],[Date]])=7,0,IF(MONTH(KCITempAct[[#This Row],[Date]])=8,0,KCITempAct[[#This Row],[KCIHDD]]))","v":0},{"$f":"SUMPRODUCT((KCINHDD[Month]=MONTH(KCITempAct[[#This Row],[Date]]))*(KCINHDD[Day]=DAY(KCITempAct[[#This Row],[Date]]))*KCINHDD[KCINHDD])","v":0.05},{"$f":"IF(MONTH(KCITempAct[[#This Row],[Date]])=7,0,IF(MONTH(KCITempAct[[#This Row],[Date]])=8,0,KCITempAct[[#This Row],[KCINHDD]]))","v":0.05},"Adj HDD and NDD =0 for July and August"]
["2018-06-12",86,68,{"$f":"AVERAGE(KCITempAct[[#This Row],[KCIHigh]:[KCILow]]\n)","v":77},{"$f":"IF(KCITempAct[[#This Row],[KCIAve]]<65,(65-KCITempAct[[#This Row],[KCIAve]]),0)","v":0},{"$f":"IF(MONTH(KCITempAct[[#This Row],[Date]])=7,0,IF(MONTH(KCITempAct[[#This Row],[Date]])=8,0,KCITempAct[[#This Row],[KCIHDD]]))","v":0},{"$f":"SUMPRODUCT((KCINHDD[Month]=MONTH(KCITempAct[[#This Row],[Date]]))*(KCINHDD[Day]=DAY(KCITempAct[[#This Row],[Date]]))*KCINHDD[KCINHDD])","v":3.3333333333333333E-2},{"$f":"IF(MONTH(KCITempAct[[#This Row],[Date]])=7,0,IF(MONTH(KCITempAct[[#This Row],[Date]])=8,0,KCITempAct[[#This Row],[KCINHDD]]))","v":3.3333333333333333E-2},"Adj HDD and NDD =0 for July and August"]
["2018-06-13",83,71,{"$f":"AVERAGE(KCITempAct[[#This Row],[KCIHigh]:[KCILow]]\n)","v":77},{"$f":"IF(KCITempAct[[#This Row],[KCIAve]]<65,(65-KCITempAct[[#This Row],[KCIAve]]),0)","v":0},{"$f":"IF(MONTH(KCITempAct[[#This Row],[Date]])=7,0,IF(MONTH(KCITempAct[[#This Row],[Date]])=8,0,KCITempAct[[#This Row],[KCIHDD]]))","v":0},{"$f":"SUMPRODUCT((KCINHDD[Month]=MONTH(KCITempAct[[#This Row],[Date]]))*(KCINHDD[Day]=DAY(KCITempAct[[#This Row],[Date]]))*KCINHDD[KCINHDD])","v":0.05},{"$f":"IF(MONTH(KCITempAct[[#This Row],[Date]])=7,0,IF(MONTH(KCITempAct[[#This Row],[Date]])=8,0,KCITempAct[[#This Row],[KCINHDD]]))","v":0.05},"Adj HDD and NDD =0 for July and August"]
["2018-06-14",96,71,{"$f":"AVERAGE(KCITempAct[[#This Row],[KCIHigh]:[KCILow]]\n)","v":83.5},{"$f":"IF(KCITempAct[[#This Row],[KCIAve]]<65,(65-KCITempAct[[#This Row],[KCIAve]]),0)","v":0},{"$f":"IF(MONTH(KCITempAct[[#This Row],[Date]])=7,0,IF(MONTH(KCITempAct[[#This Row],[Date]])=8,0,KCITempAct[[#This Row],[KCIHDD]]))","v":0},{"$f":"SUMPRODUCT((KCINHDD[Month]=MONTH(KCITempAct[[#This Row],[Date]]))*(KCINHDD[Day]=DAY(KCITempAct[[#This Row],[Date]]))*KCINHDD[KCINHDD])","v":0},{"$f":"IF(MONTH(KCITempAct[[#This Row],[Date]])=7,0,IF(MONTH(KCITempAct[[#This Row],[Date]])=8,0,KCITempAct[[#This Row],[KCINHDD]]))","v":0},"Adj HDD and NDD =0 for July and August"]
["2018-06-15",95,75,{"$f":"AVERAGE(KCITempAct[[#This Row],[KCIHigh]:[KCILow]]\n)","v":85},{"$f":"IF(KCITempAct[[#This Row],[KCIAve]]<65,(65-KCITempAct[[#This Row],[KCIAve]]),0)","v":0},{"$f":"IF(MONTH(KCITempAct[[#This Row],[Date]])=7,0,IF(MONTH(KCITempAct[[#This Row],[Date]])=8,0,KCITempAct[[#This Row],[KCIHDD]]))","v":0},{"$f":"SUMPRODUCT((KCINHDD[Month]=MONTH(KCITempAct[[#This Row],[Date]]))*(KCINHDD[Day]=DAY(KCITempAct[[#This Row],[Date]]))*KCINHDD[KCINHDD])","v":0},{"$f":"IF(MONTH(KCITempAct[[#This Row],[Date]])=7,0,IF(MONTH(KCITempAct[[#This Row],[Date]])=8,0,KCITempAct[[#This Row],[KCINHDD]]))","v":0},"Adj HDD and NDD =0 for July and August"]
["2018-06-16",95,73,{"$f":"AVERAGE(KCITempAct[[#This Row],[KCIHigh]:[KCILow]]\n)","v":84},{"$f":"IF(KCITempAct[[#This Row],[KCIAve]]<65,(65-KCITempAct[[#This Row],[KCIAve]]),0)","v":0},{"$f":"IF(MONTH(KCITempAct[[#This Row],[Date]])=7,0,IF(MONTH(KCITempAct[[#This Row],[Date]])=8,0,KCITempAct[[#This Row],[KCIHDD]]))","v":0},{"$f":"SUMPRODUCT((KCINHDD[Month]=MONTH(KCITempAct[[#This Row],[Date]]))*(KCINHDD[Day]=DAY(KCITempAct[[#This Row],[Date]]))*KCINHDD[KCINHDD])","v":0.25},{"$f":"IF(MONTH(KCITempAct[[#This Row],[Date]])=7,0,IF(MONTH(KCITempAct[[#This Row],[Date]])=8,0,KCITempAct[[#This Row],[KCINHDD]]))","v":0.25},"Adj HDD and NDD =0 for July and August"]
["2018-06-17",95,74,{"$f":"AVERAGE(KCITempAct[[#This Row],[KCIHigh]:[KCILow]]\n)","v":84.5},{"$f":"IF(KCITempAct[[#This Row],[KCIAve]]<65,(65-KCITempAct[[#This Row],[KCIAve]]),0)","v":0},{"$f":"IF(MONTH(KCITempAct[[#This Row],[Date]])=7,0,IF(MONTH(KCITempAct[[#This Row],[Date]])=8,0,KCITempAct[[#This Row],[KCIHDD]]))","v":0},{"$f":"SUMPRODUCT((KCINHDD[Month]=MONTH(KCITempAct[[#This Row],[Date]]))*(KCINHDD[Day]=DAY(KCITempAct[[#This Row],[Date]]))*KCINHDD[KCINHDD])","v":0.25},{"$f":"IF(MONTH(KCITempAct[[#This Row],[Date]])=7,0,IF(MONTH(KCITempAct[[#This Row],[Date]])=8,0,KCITempAct[[#This Row],[KCINHDD]]))","v":0.25},"Adj HDD and NDD =0 for July and August"]
["2018-06-18",94,73,{"$f":"AVERAGE(KCITempAct[[#This Row],[KCIHigh]:[KCILow]]\n)","v":83.5},{"$f":"IF(KCITempAct[[#This Row],[KCIAve]]<65,(65-KCITempAct[[#This Row],[KCIAve]]),0)","v":0},{"$f":"IF(MONTH(KCITempAct[[#This Row],[Date]])=7,0,IF(MONTH(KCITempAct[[#This Row],[Date]])=8,0,KCITempAct[[#This Row],[KCIHDD]]))","v":0},{"$f":"SUMPRODUCT((KCINHDD[Month]=MONTH(KCITempAct[[#This Row],[Date]]))*(KCINHDD[Day]=DAY(KCITempAct[[#This Row],[Date]]))*KCINHDD[KCINHDD])","v":8.3333333333333329E-2},{"$f":"IF(MONTH(KCITempAct[[#This Row],[Date]])=7,0,IF(MONTH(KCITempAct[[#This Row],[Date]])=8,0,KCITempAct[[#This Row],[KCINHDD]]))","v":8.3333333333333329E-2},"Adj HDD and NDD =0 for July and August"]
["2018-06-19",83,68,{"$f":"AVERAGE(KCITempAct[[#This Row],[KCIHigh]:[KCILow]]\n)","v":75.5},{"$f":"IF(KCITempAct[[#This Row],[KCIAve]]<65,(65-KCITempAct[[#This Row],[KCIAve]]),0)","v":0},{"$f":"IF(MONTH(KCITempAct[[#This Row],[Date]])=7,0,IF(MONTH(KCITempAct[[#This Row],[Date]])=8,0,KCITempAct[[#This Row],[KCIHDD]]))","v":0},{"$f":"SUMPRODUCT((KCINHDD[Month]=MONTH(KCITempAct[[#This Row],[Date]]))*(KCINHDD[Day]=DAY(KCITempAct[[#This Row],[Date]]))*KCINHDD[KCINHDD])","v":6.6666666666666666E-2},{"$f":"IF(MONTH(KCITempAct[[#This Row],[Date]])=7,0,IF(MONTH(KCITempAct[[#This Row],[Date]])=8,0,KCITempAct[[#This Row],[KCINHDD]]))","v":6.6666666666666666E-2},"Adj HDD and NDD =0 for July and August"]
["2018-06-20",83,65,{"$f":"AVERAGE(KCITempAct[[#This Row],[KCIHigh]:[KCILow]]\n)","v":74},{"$f":"IF(KCITempAct[[#This Row],[KCIAve]]<65,(65-KCITempAct[[#This Row],[KCIAve]]),0)","v":0},{"$f":"IF(MONTH(KCITempAct[[#This Row],[Date]])=7,0,IF(MONTH(KCITempAct[[#This Row],[Date]])=8,0,KCITempAct[[#This Row],[KCIHDD]]))","v":0},{"$f":"SUMPRODUCT((KCINHDD[Month]=MONTH(KCITempAct[[#This Row],[Date]]))*(KCINHDD[Day]=DAY(KCITempAct[[#This Row],[Date]]))*KCINHDD[KCINHDD])","v":0.05},{"$f":"IF(MONTH(KCITempAct[[#This Row],[Date]])=7,0,IF(MONTH(KCITempAct[[#This Row],[Date]])=8,0,KCITempAct[[#This Row],[KCINHDD]]))","v":0.05},"Adj HDD and NDD =0 for July and August"]
["2018-06-21",70,62,{"$f":"AVERAGE(KCITempAct[[#This Row],[KCIHigh]:[KCILow]]\n)","v":66},{"$f":"IF(KCITempAct[[#This Row],[KCIAve]]<65,(65-KCITempAct[[#This Row],[KCIAve]]),0)","v":0},{"$f":"IF(MONTH(KCITempAct[[#This Row],[Date]])=7,0,IF(MONTH(KCITempAct[[#This Row],[Date]])=8,0,KCITempAct[[#This Row],[KCIHDD]]))","v":0},{"$f":"SUMPRODUCT((KCINHDD[Month]=MONTH(KCITempAct[[#This Row],[Date]]))*(KCINHDD[Day]=DAY(KCITempAct[[#This Row],[Date]]))*KCINHDD[KCINHDD])","v":0.1},{"$f":"IF(MONTH(KCITempAct[[#This Row],[Date]])=7,0,IF(MONTH(KCITempAct[[#This Row],[Date]])=8,0,KCITempAct[[#This Row],[KCINHDD]]))","v":0.1},"Adj HDD and NDD =0 for July and August"]
["2018-06-22",72,62,{"$f":"AVERAGE(KCITempAct[[#This Row],[KCIHigh]:[KCILow]]\n)","v":67},{"$f":"IF(KCITempAct[[#This Row],[KCIAve]]<65,(65-KCITempAct[[#This Row],[KCIAve]]),0)","v":0},{"$f":"IF(MONTH(KCITempAct[[#This Row],[Date]])=7,0,IF(MONTH(KCITempAct[[#This Row],[Date]])=8,0,KCITempAct[[#This Row],[KCIHDD]]))","v":0},{"$f":"SUMPRODUCT((KCINHDD[Month]=MONTH(KCITempAct[[#This Row],[Date]]))*(KCINHDD[Day]=DAY(KCITempAct[[#This Row],[Date]]))*KCINHDD[KCINHDD])","v":0},{"$f":"IF(MONTH(KCITempAct[[#This Row],[Date]])=7,0,IF(MONTH(KCITempAct[[#This Row],[Date]])=8,0,KCITempAct[[#This Row],[KCINHDD]]))","v":0},"Adj HDD and NDD =0 for July and August"]
["2018-06-23",83,61,{"$f":"AVERAGE(KCITempAct[[#This Row],[KCIHigh]:[KCILow]]\n)","v":72},{"$f":"IF(KCITempAct[[#This Row],[KCIAve]]<65,(65-KCITempAct[[#This Row],[KCIAve]]),0)","v":0},{"$f":"IF(MONTH(KCITempAct[[#This Row],[Date]])=7,0,IF(MONTH(KCITempAct[[#This Row],[Date]])=8,0,KCITempAct[[#This Row],[KCIHDD]]))","v":0},{"$f":"SUMPRODUCT((KCINHDD[Month]=MONTH(KCITempAct[[#This Row],[Date]]))*(KCINHDD[Day]=DAY(KCITempAct[[#This Row],[Date]]))*KCINHDD[KCINHDD])","v":0},{"$f":"IF(MONTH(KCITempAct[[#This Row],[Date]])=7,0,IF(MONTH(KCITempAct[[#This Row],[Date]])=8,0,KCITempAct[[#This Row],[KCINHDD]]))","v":0},"Adj HDD and NDD =0 for July and August"]
["2018-06-24",85,67,{"$f":"AVERAGE(KCITempAct[[#This Row],[KCIHigh]:[KCILow]]\n)","v":76},{"$f":"IF(KCITempAct[[#This Row],[KCIAve]]<65,(65-KCITempAct[[#This Row],[KCIAve]]),0)","v":0},{"$f":"IF(MONTH(KCITempAct[[#This Row],[Date]])=7,0,IF(MONTH(KCITempAct[[#This Row],[Date]])=8,0,KCITempAct[[#This Row],[KCIHDD]]))","v":0},{"$f":"SUMPRODUCT((KCINHDD[Month]=MONTH(KCITempAct[[#This Row],[Date]]))*(KCINHDD[Day]=DAY(KCITempAct[[#This Row],[Date]]))*KCINHDD[KCINHDD])","v":0},{"$f":"IF(MONTH(KCITempAct[[#This Row],[Date]])=7,0,IF(MONTH(KCITempAct[[#This Row],[Date]])=8,0,KCITempAct[[#This Row],[KCINHDD]]))","v":0},"Adj HDD and NDD =0 for July and August"]
["2018-06-25",84,68,{"$f":"AVERAGE(KCITempAct[[#This Row],[KCIHigh]:[KCILow]]\n)","v":76},{"$f":"IF(KCITempAct[[#This Row],[KCIAve]]<65,(65-KCITempAct[[#This Row],[KCIAve]]),0)","v":0},{"$f":"IF(MONTH(KCITempAct[[#This Row],[Date]])=7,0,IF(MONTH(KCITempAct[[#This Row],[Date]])=8,0,KCITempAct[[#This Row],[KCIHDD]]))","v":0},{"$f":"SUMPRODUCT((KCINHDD[Month]=MONTH(KCITempAct[[#This Row],[Date]]))*(KCINHDD[Day]=DAY(KCITempAct[[#This Row],[Date]]))*KCINHDD[KCINHDD])","v":0.1},{"$f":"IF(MONTH(KCITempAct[[#This Row],[Date]])=7,0,IF(MONTH(KCITempAct[[#This Row],[Date]])=8,0,KCITempAct[[#This Row],[KCINHDD]]))","v":0.1},"Adj HDD and NDD =0 for July and August"]
["2018-06-26",87,67,{"$f":"AVERAGE(KCITempAct[[#This Row],[KCIHigh]:[KCILow]]\n)","v":77},{"$f":"IF(KCITempAct[[#This Row],[KCIAve]]<65,(65-KCITempAct[[#This Row],[KCIAve]]),0)","v":0},{"$f":"IF(MONTH(KCITempAct[[#This Row],[Date]])=7,0,IF(MONTH(KCITempAct[[#This Row],[Date]])=8,0,KCITempAct[[#This Row],[KCIHDD]]))","v":0},{"$f":"SUMPRODUCT((KCINHDD[Month]=MONTH(KCITempAct[[#This Row],[Date]]))*(KCINHDD[Day]=DAY(KCITempAct[[#This Row],[Date]]))*KCINHDD[KCINHDD])","v":0.05},{"$f":"IF(MONTH(KCITempAct[[#This Row],[Date]])=7,0,IF(MONTH(KCITempAct[[#This Row],[Date]])=8,0,KCITempAct[[#This Row],[KCINHDD]]))","v":0.05},"Adj HDD and NDD =0 for July and August"]
["2018-06-27",90,68,{"$f":"AVERAGE(KCITempAct[[#This Row],[KCIHigh]:[KCILow]]\n)","v":79},{"$f":"IF(KCITempAct[[#This Row],[KCIAve]]<65,(65-KCITempAct[[#This Row],[KCIAve]]),0)","v":0},{"$f":"IF(MONTH(KCITempAct[[#This Row],[Date]])=7,0,IF(MONTH(KCITempAct[[#This Row],[Date]])=8,0,KCITempAct[[#This Row],[KCIHDD]]))","v":0},{"$f":"SUMPRODUCT((KCINHDD[Month]=MONTH(KCITempAct[[#This Row],[Date]]))*(KCINHDD[Day]=DAY(KCITempAct[[#This Row],[Date]]))*KCINHDD[KCINHDD])","v":3.3333333333333333E-2},{"$f":"IF(MONTH(KCITempAct[[#This Row],[Date]])=7,0,IF(MONTH(KCITempAct[[#This Row],[Date]])=8,0,KCITempAct[[#This Row],[KCINHDD]]))","v":3.3333333333333333E-2},"Adj HDD and NDD =0 for July and August"]
["2018-06-28",99,76,{"$f":"AVERAGE(KCITempAct[[#This Row],[KCIHigh]:[KCILow]]\n)","v":87.5},{"$f":"IF(KCITempAct[[#This Row],[KCIAve]]<65,(65-KCITempAct[[#This Row],[KCIAve]]),0)","v":0},{"$f":"IF(MONTH(KCITempAct[[#This Row],[Date]])=7,0,IF(MONTH(KCITempAct[[#This Row],[Date]])=8,0,KCITempAct[[#This Row],[KCIHDD]]))","v":0},{"$f":"SUMPRODUCT((KCINHDD[Month]=MONTH(KCITempAct[[#This Row],[Date]]))*(KCINHDD[Day]=DAY(KCITempAct[[#This Row],[Date]]))*KCINHDD[KCINHDD])","v":0},{"$f":"IF(MONTH(KCITempAct[[#This Row],[Date]])=7,0,IF(MONTH(KCITempAct[[#This Row],[Date]])=8,0,KCITempAct[[#This Row],[KCINHDD]]))","v":0},"Adj HDD and NDD =0 for July and August"]
["2018-06-29",97,77,{"$f":"AVERAGE(KCITempAct[[#This Row],[KCIHigh]:[KCILow]]\n)","v":87},{"$f":"IF(KCITempAct[[#This Row],[KCIAve]]<65,(65-KCITempAct[[#This Row],[KCIAve]]),0)","v":0},{"$f":"IF(MONTH(KCITempAct[[#This Row],[Date]])=7,0,IF(MONTH(KCITempAct[[#This Row],[Date]])=8,0,KCITempAct[[#This Row],[KCIHDD]]))","v":0},{"$f":"SUMPRODUCT((KCINHDD[Month]=MONTH(KCITempAct[[#This Row],[Date]]))*(KCINHDD[Day]=DAY(KCITempAct[[#This Row],[Date]]))*KCINHDD[KCINHDD])","v":1.6666666666666666E-2},{"$f":"IF(MONTH(KCITempAct[[#This Row],[Date]])=7,0,IF(MONTH(KCITempAct[[#This Row],[Date]])=8,0,KCITempAct[[#This Row],[KCINHDD]]))","v":1.6666666666666666E-2},"Adj HDD and NDD =0 for July and August"]
["2018-06-30",96,72,{"$f":"AVERAGE(KCITempAct[[#This Row],[KCIHigh]:[KCILow]]\n)","v":84},{"$f":"IF(KCITempAct[[#This Row],[KCIAve]]<65,(65-KCITempAct[[#This Row],[KCIAve]]),0)","v":0},{"$f":"IF(MONTH(KCITempAct[[#This Row],[Date]])=7,0,IF(MONTH(KCITempAct[[#This Row],[Date]])=8,0,KCITempAct[[#This Row],[KCIHDD]]))","v":0},{"$f":"SUMPRODUCT((KCINHDD[Month]=MONTH(KCITempAct[[#This Row],[Date]]))*(KCINHDD[Day]=DAY(KCITempAct[[#This Row],[Date]]))*KCINHDD[KCINHDD])","v":0},{"$f":"IF(MONTH(KCITempAct[[#This Row],[Date]])=7,0,IF(MONTH(KCITempAct[[#This Row],[Date]])=8,0,KCITempAct[[#This Row],[KCINHDD]]))","v":0},"Adj HDD and NDD =0 for July and August"]
["2018-07-01",84,71,{"$f":"AVERAGE(KCITempAct[[#This Row],[KCIHigh]:[KCILow]]\n)","v":77.5},{"$f":"IF(KCITempAct[[#This Row],[KCIAve]]<65,(65-KCITempAct[[#This Row],[KCIAve]]),0)","v":0},{"$f":"IF(MONTH(KCITempAct[[#This Row],[Date]])=7,0,IF(MONTH(KCITempAct[[#This Row],[Date]])=8,0,KCITempAct[[#This Row],[KCIHDD]]))","v":0},{"$f":"SUMPRODUCT((KCINHDD[Month]=MONTH(KCITempAct[[#This Row],[Date]]))*(KCINHDD[Day]=DAY(KCITempAct[[#This Row],[Date]]))*KCINHDD[KCINHDD])","v":1.6666666666666666E-2},{"$f":"IF(MONTH(KCITempAct[[#This Row],[Date]])=7,0,IF(MONTH(KCITempAct[[#This Row],[Date]])=8,0,KCITempAct[[#This Row],[KCINHDD]]))","v":0},"Adj HDD and NDD =0 for July and August"]
["2018-07-02",87,65,{"$f":"AVERAGE(KCITempAct[[#This Row],[KCIHigh]:[KCILow]]\n)","v":76},{"$f":"IF(KCITempAct[[#This Row],[KCIAve]]<65,(65-KCITempAct[[#This Row],[KCIAve]]),0)","v":0},{"$f":"IF(MONTH(KCITempAct[[#This Row],[Date]])=7,0,IF(MONTH(KCITempAct[[#This Row],[Date]])=8,0,KCITempAct[[#This Row],[KCIHDD]]))","v":0},{"$f":"SUMPRODUCT((KCINHDD[Month]=MONTH(KCITempAct[[#This Row],[Date]]))*(KCINHDD[Day]=DAY(KCITempAct[[#This Row],[Date]]))*KCINHDD[KCINHDD])","v":0.05},{"$f":"IF(MONTH(KCITempAct[[#This Row],[Date]])=7,0,IF(MONTH(KCITempAct[[#This Row],[Date]])=8,0,KCITempAct[[#This Row],[KCINHDD]]))","v":0},"Adj HDD and NDD =0 for July and August"]
["2018-07-03",94,72,{"$f":"AVERAGE(KCITempAct[[#This Row],[KCIHigh]:[KCILow]]\n)","v":83},{"$f":"IF(KCITempAct[[#This Row],[KCIAve]]<65,(65-KCITempAct[[#This Row],[KCIAve]]),0)","v":0},{"$f":"IF(MONTH(KCITempAct[[#This Row],[Date]])=7,0,IF(MONTH(KCITempAct[[#This Row],[Date]])=8,0,KCITempAct[[#This Row],[KCIHDD]]))","v":0},{"$f":"SUMPRODUCT((KCINHDD[Month]=MONTH(KCITempAct[[#This Row],[Date]]))*(KCINHDD[Day]=DAY(KCITempAct[[#This Row],[Date]]))*KCINHDD[KCINHDD])","v":3.3333333333333333E-2},{"$f":"IF(MONTH(KCITempAct[[#This Row],[Date]])=7,0,IF(MONTH(KCITempAct[[#This Row],[Date]])=8,0,KCITempAct[[#This Row],[KCINHDD]]))","v":0},"Adj HDD and NDD =0 for July and August"]
["2018-07-04",93,73,{"$f":"AVERAGE(KCITempAct[[#This Row],[KCIHigh]:[KCILow]]\n)","v":83},{"$f":"IF(KCITempAct[[#This Row],[KCIAve]]<65,(65-KCITempAct[[#This Row],[KCIAve]]),0)","v":0},{"$f":"IF(MONTH(KCITempAct[[#This Row],[Date]])=7,0,IF(MONTH(KCITempAct[[#This Row],[Date]])=8,0,KCITempAct[[#This Row],[KCIHDD]]))","v":0},{"$f":"SUMPRODUCT((KCINHDD[Month]=MONTH(KCITempAct[[#This Row],[Date]]))*(KCINHDD[Day]=DAY(KCITempAct[[#This Row],[Date]]))*KCINHDD[KCINHDD])","v":8.3333333333333329E-2},{"$f":"IF(MONTH(KCITempAct[[#This Row],[Date]])=7,0,IF(MONTH(KCITempAct[[#This Row],[Date]])=8,0,KCITempAct[[#This Row],[KCINHDD]]))","v":0},"Adj HDD and NDD =0 for July and August"]
["2018-07-05",91,73,{"$f":"AVERAGE(KCITempAct[[#This Row],[KCIHigh]:[KCILow]]\n)","v":82},{"$f":"IF(KCITempAct[[#This Row],[KCIAve]]<65,(65-KCITempAct[[#This Row],[KCIAve]]),0)","v":0},{"$f":"IF(MONTH(KCITempAct[[#This Row],[Date]])=7,0,IF(MONTH(KCITempAct[[#This Row],[Date]])=8,0,KCITempAct[[#This Row],[KCIHDD]]))","v":0},{"$f":"SUMPRODUCT((KCINHDD[Month]=MONTH(KCITempAct[[#This Row],[Date]]))*(KCINHDD[Day]=DAY(KCITempAct[[#This Row],[Date]]))*KCINHDD[KCINHDD])","v":1.6666666666666666E-2},{"$f":"IF(MONTH(KCITempAct[[#This Row],[Date]])=7,0,IF(MONTH(KCITempAct[[#This Row],[Date]])=8,0,KCITempAct[[#This Row],[KCINHDD]]))","v":0},"Adj HDD and NDD =0 for July and August"]
["2018-07-06",92,74,{"$f":"AVERAGE(KCITempAct[[#This Row],[KCIHigh]:[KCILow]]\n)","v":83},{"$f":"IF(KCITempAct[[#This Row],[KCIAve]]<65,(65-KCITempAct[[#This Row],[KCIAve]]),0)","v":0},{"$f":"IF(MONTH(KCITempAct[[#This Row],[Date]])=7,0,IF(MONTH(KCITempAct[[#This Row],[Date]])=8,0,KCITempAct[[#This Row],[KCIHDD]]))","v":0},{"$f":"SUMPRODUCT((KCINHDD[Month]=MONTH(KCITempAct[[#This Row],[Date]]))*(KCINHDD[Day]=DAY(KCITempAct[[#This Row],[Date]]))*KCINHDD[KCINHDD])","v":0},{"$f":"IF(MONTH(KCITempAct[[#This Row],[Date]])=7,0,IF(MONTH(KCITempAct[[#This Row],[Date]])=8,0,KCITempAct[[#This Row],[KCINHDD]]))","v":0},"Adj HDD and NDD =0 for July and August"]
["2018-07-07",87,69,{"$f":"AVERAGE(KCITempAct[[#This Row],[KCIHigh]:[KCILow]]\n)","v":78},{"$f":"IF(KCITempAct[[#This Row],[KCIAve]]<65,(65-KCITempAct[[#This Row],[KCIAve]]),0)","v":0},{"$f":"IF(MONTH(KCITempAct[[#This Row],[Date]])=7,0,IF(MONTH(KCITempAct[[#This Row],[Date]])=8,0,KCITempAct[[#This Row],[KCIHDD]]))","v":0},{"$f":"SUMPRODUCT((KCINHDD[Month]=MONTH(KCITempAct[[#This Row],[Date]]))*(KCINHDD[Day]=DAY(KCITempAct[[#This Row],[Date]]))*KCINHDD[KCINHDD])","v":0},{"$f":"IF(MONTH(KCITempAct[[#This Row],[Date]])=7,0,IF(MONTH(KCITempAct[[#This Row],[Date]])=8,0,KCITempAct[[#This Row],[KCINHDD]]))","v":0},"Adj HDD and NDD =0 for July and August"]
["2018-07-08",91,62,{"$f":"AVERAGE(KCITempAct[[#This Row],[KCIHigh]:[KCILow]]\n)","v":76.5},{"$f":"IF(KCITempAct[[#This Row],[KCIAve]]<65,(65-KCITempAct[[#This Row],[KCIAve]]),0)","v":0},{"$f":"IF(MONTH(KCITempAct[[#This Row],[Date]])=7,0,IF(MONTH(KCITempAct[[#This Row],[Date]])=8,0,KCITempAct[[#This Row],[KCIHDD]]))","v":0},{"$f":"SUMPRODUCT((KCINHDD[Month]=MONTH(KCITempAct[[#This Row],[Date]]))*(KCINHDD[Day]=DAY(KCITempAct[[#This Row],[Date]]))*KCINHDD[KCINHDD])","v":6.6666666666666666E-2},{"$f":"IF(MONTH(KCITempAct[[#This Row],[Date]])=7,0,IF(MONTH(KCITempAct[[#This Row],[Date]])=8,0,KCITempAct[[#This Row],[KCINHDD]]))","v":0},"Adj HDD and NDD =0 for July and August"]
["2018-07-09",95,67,{"$f":"AVERAGE(KCITempAct[[#This Row],[KCIHigh]:[KCILow]]\n)","v":81},{"$f":"IF(KCITempAct[[#This Row],[KCIAve]]<65,(65-KCITempAct[[#This Row],[KCIAve]]),0)","v":0},{"$f":"IF(MONTH(KCITempAct[[#This Row],[Date]])=7,0,IF(MONTH(KCITempAct[[#This Row],[Date]])=8,0,KCITempAct[[#This Row],[KCIHDD]]))","v":0},{"$f":"SUMPRODUCT((KCINHDD[Month]=MONTH(KCITempAct[[#This Row],[Date]]))*(KCINHDD[Day]=DAY(KCITempAct[[#This Row],[Date]]))*KCINHDD[KCINHDD])","v":0},{"$f":"IF(MONTH(KCITempAct[[#This Row],[Date]])=7,0,IF(MONTH(KCITempAct[[#This Row],[Date]])=8,0,KCITempAct[[#This Row],[KCINHDD]]))","v":0},"Adj HDD and NDD =0 for July and August"]
["2018-07-10",96,71,{"$f":"AVERAGE(KCITempAct[[#This Row],[KCIHigh]:[KCILow]]\n)","v":83.5},{"$f":"IF(KCITempAct[[#This Row],[KCIAve]]<65,(65-KCITempAct[[#This Row],[KCIAve]]),0)","v":0},{"$f":"IF(MONTH(KCITempAct[[#This Row],[Date]])=7,0,IF(MONTH(KCITempAct[[#This Row],[Date]])=8,0,KCITempAct[[#This Row],[KCIHDD]]))","v":0},{"$f":"SUMPRODUCT((KCINHDD[Month]=MONTH(KCITempAct[[#This Row],[Date]]))*(KCINHDD[Day]=DAY(KCITempAct[[#This Row],[Date]]))*KCINHDD[KCINHDD])","v":0},{"$f":"IF(MONTH(KCITempAct[[#This Row],[Date]])=7,0,IF(MONTH(KCITempAct[[#This Row],[Date]])=8,0,KCITempAct[[#This Row],[KCINHDD]]))","v":0},"Adj HDD and NDD =0 for July and August"]
["2018-07-11",99,76,{"$f":"AVERAGE(KCITempAct[[#This Row],[KCIHigh]:[KCILow]]\n)","v":87.5},{"$f":"IF(KCITempAct[[#This Row],[KCIAve]]<65,(65-KCITempAct[[#This Row],[KCIAve]]),0)","v":0},{"$f":"IF(MONTH(KCITempAct[[#This Row],[Date]])=7,0,IF(MONTH(KCITempAct[[#This Row],[Date]])=8,0,KCITempAct[[#This Row],[KCIHDD]]))","v":0},{"$f":"SUMPRODUCT((KCINHDD[Month]=MONTH(KCITempAct[[#This Row],[Date]]))*(KCINHDD[Day]=DAY(KCITempAct[[#This Row],[Date]]))*KCINHDD[KCINHDD])","v":0},{"$f":"IF(MONTH(KCITempAct[[#This Row],[Date]])=7,0,IF(MONTH(KCITempAct[[#This Row],[Date]])=8,0,KCITempAct[[#This Row],[KCINHDD]]))","v":0},"Adj HDD and NDD =0 for July and August"]
["2018-07-12",100,76,{"$f":"AVERAGE(KCITempAct[[#This Row],[KCIHigh]:[KCILow]]\n)","v":88},{"$f":"IF(KCITempAct[[#This Row],[KCIAve]]<65,(65-KCITempAct[[#This Row],[KCIAve]]),0)","v":0},{"$f":"IF(MONTH(KCITempAct[[#This Row],[Date]])=7,0,IF(MONTH(KCITempAct[[#This Row],[Date]])=8,0,KCITempAct[[#This Row],[KCIHDD]]))","v":0},{"$f":"SUMPRODUCT((KCINHDD[Month]=MONTH(KCITempAct[[#This Row],[Date]]))*(KCINHDD[Day]=DAY(KCITempAct[[#This Row],[Date]]))*KCINHDD[KCINHDD])","v":0},{"$f":"IF(MONTH(KCITempAct[[#This Row],[Date]])=7,0,IF(MONTH(KCITempAct[[#This Row],[Date]])=8,0,KCITempAct[[#This Row],[KCINHDD]]))","v":0},"Adj HDD and NDD =0 for July and August"]
["2018-07-13",99,73,{"$f":"AVERAGE(KCITempAct[[#This Row],[KCIHigh]:[KCILow]]\n)","v":86},{"$f":"IF(KCITempAct[[#This Row],[KCIAve]]<65,(65-KCITempAct[[#This Row],[KCIAve]]),0)","v":0},{"$f":"IF(MONTH(KCITempAct[[#This Row],[Date]])=7,0,IF(MONTH(KCITempAct[[#This Row],[Date]])=8,0,KCITempAct[[#This Row],[KCIHDD]]))","v":0},{"$f":"SUMPRODUCT((KCINHDD[Month]=MONTH(KCITempAct[[#This Row],[Date]]))*(KCINHDD[Day]=DAY(KCITempAct[[#This Row],[Date]]))*KCINHDD[KCINHDD])","v":0},{"$f":"IF(MONTH(KCITempAct[[#This Row],[Date]])=7,0,IF(MONTH(KCITempAct[[#This Row],[Date]])=8,0,KCITempAct[[#This Row],[KCINHDD]]))","v":0},"Adj HDD and NDD =0 for July and August"]
["2018-07-14",89,72,{"$f":"AVERAGE(KCITempAct[[#This Row],[KCIHigh]:[KCILow]]\n)","v":80.5},{"$f":"IF(KCITempAct[[#This Row],[KCIAve]]<65,(65-KCITempAct[[#This Row],[KCIAve]]),0)","v":0},{"$f":"IF(MONTH(KCITempAct[[#This Row],[Date]])=7,0,IF(MONTH(KCITempAct[[#This Row],[Date]])=8,0,KCITempAct[[#This Row],[KCIHDD]]))","v":0},{"$f":"SUMPRODUCT((KCINHDD[Month]=MONTH(KCITempAct[[#This Row],[Date]]))*(KCINHDD[Day]=DAY(KCITempAct[[#This Row],[Date]]))*KCINHDD[KCINHDD])","v":0},{"$f":"IF(MONTH(KCITempAct[[#This Row],[Date]])=7,0,IF(MONTH(KCITempAct[[#This Row],[Date]])=8,0,KCITempAct[[#This Row],[KCINHDD]]))","v":0},"Adj HDD and NDD =0 for July and August"]
["2018-07-15",94,69,{"$f":"AVERAGE(KCITempAct[[#This Row],[KCIHigh]:[KCILow]]\n)","v":81.5},{"$f":"IF(KCITempAct[[#This Row],[KCIAve]]<65,(65-KCITempAct[[#This Row],[KCIAve]]),0)","v":0},{"$f":"IF(MONTH(KCITempAct[[#This Row],[Date]])=7,0,IF(MONTH(KCITempAct[[#This Row],[Date]])=8,0,KCITempAct[[#This Row],[KCIHDD]]))","v":0},{"$f":"SUMPRODUCT((KCINHDD[Month]=MONTH(KCITempAct[[#This Row],[Date]]))*(KCINHDD[Day]=DAY(KCITempAct[[#This Row],[Date]]))*KCINHDD[KCINHDD])","v":3.3333333333333333E-2},{"$f":"IF(MONTH(KCITempAct[[#This Row],[Date]])=7,0,IF(MONTH(KCITempAct[[#This Row],[Date]])=8,0,KCITempAct[[#This Row],[KCINHDD]]))","v":0},"Adj HDD and NDD =0 for July and August"]
["2018-07-16",95,72,{"$f":"AVERAGE(KCITempAct[[#This Row],[KCIHigh]:[KCILow]]\n)","v":83.5},{"$f":"IF(KCITempAct[[#This Row],[KCIAve]]<65,(65-KCITempAct[[#This Row],[KCIAve]]),0)","v":0},{"$f":"IF(MONTH(KCITempAct[[#This Row],[Date]])=7,0,IF(MONTH(KCITempAct[[#This Row],[Date]])=8,0,KCITempAct[[#This Row],[KCIHDD]]))","v":0},{"$f":"SUMPRODUCT((KCINHDD[Month]=MONTH(KCITempAct[[#This Row],[Date]]))*(KCINHDD[Day]=DAY(KCITempAct[[#This Row],[Date]]))*KCINHDD[KCINHDD])","v":0},{"$f":"IF(MONTH(KCITempAct[[#This Row],[Date]])=7,0,IF(MONTH(KCITempAct[[#This Row],[Date]])=8,0,KCITempAct[[#This Row],[KCINHDD]]))","v":0},"Adj HDD and NDD =0 for July and August"]
["2018-07-17",81,72,{"$f":"AVERAGE(KCITempAct[[#This Row],[KCIHigh]:[KCILow]]\n)","v":76.5},{"$f":"IF(KCITempAct[[#This Row],[KCIAve]]<65,(65-KCITempAct[[#This Row],[KCIAve]]),0)","v":0},{"$f":"IF(MONTH(KCITempAct[[#This Row],[Date]])=7,0,IF(MONTH(KCITempAct[[#This Row],[Date]])=8,0,KCITempAct[[#This Row],[KCIHDD]]))","v":0},{"$f":"SUMPRODUCT((KCINHDD[Month]=MONTH(KCITempAct[[#This Row],[Date]]))*(KCINHDD[Day]=DAY(KCITempAct[[#This Row],[Date]]))*KCINHDD[KCINHDD])","v":0},{"$f":"IF(MONTH(KCITempAct[[#This Row],[Date]])=7,0,IF(MONTH(KCITempAct[[#This Row],[Date]])=8,0,KCITempAct[[#This Row],[KCINHDD]]))","v":0},"Adj HDD and NDD =0 for July and August"]
["2018-07-18",85,69,{"$f":"AVERAGE(KCITempAct[[#This Row],[KCIHigh]:[KCILow]]\n)","v":77},{"$f":"IF(KCITempAct[[#This Row],[KCIAve]]<65,(65-KCITempAct[[#This Row],[KCIAve]]),0)","v":0},{"$f":"IF(MONTH(KCITempAct[[#This Row],[Date]])=7,0,IF(MONTH(KCITempAct[[#This Row],[Date]])=8,0,KCITempAct[[#This Row],[KCIHDD]]))","v":0},{"$f":"SUMPRODUCT((KCINHDD[Month]=MONTH(KCITempAct[[#This Row],[Date]]))*(KCINHDD[Day]=DAY(KCITempAct[[#This Row],[Date]]))*KCINHDD[KCINHDD])","v":0},{"$f":"IF(MONTH(KCITempAct[[#This Row],[Date]])=7,0,IF(MONTH(KCITempAct[[#This Row],[Date]])=8,0,KCITempAct[[#This Row],[KCINHDD]]))","v":0},"Adj HDD and NDD =0 for July and August"]
["2018-07-19",96,69,{"$f":"AVERAGE(KCITempAct[[#This Row],[KCIHigh]:[KCILow]]\n)","v":82.5},{"$f":"IF(KCITempAct[[#This Row],[KCIAve]]<65,(65-KCITempAct[[#This Row],[KCIAve]]),0)","v":0},{"$f":"IF(MONTH(KCITempAct[[#This Row],[Date]])=7,0,IF(MONTH(KCITempAct[[#This Row],[Date]])=8,0,KCITempAct[[#This Row],[KCIHDD]]))","v":0},{"$f":"SUMPRODUCT((KCINHDD[Month]=MONTH(KCITempAct[[#This Row],[Date]]))*(KCINHDD[Day]=DAY(KCITempAct[[#This Row],[Date]]))*KCINHDD[KCINHDD])","v":0},{"$f":"IF(MONTH(KCITempAct[[#This Row],[Date]])=7,0,IF(MONTH(KCITempAct[[#This Row],[Date]])=8,0,KCITempAct[[#This Row],[KCINHDD]]))","v":0},"Adj HDD and NDD =0 for July and August"]
["2018-07-20",89,68,{"$f":"AVERAGE(KCITempAct[[#This Row],[KCIHigh]:[KCILow]]\n)","v":78.5},{"$f":"IF(KCITempAct[[#This Row],[KCIAve]]<65,(65-KCITempAct[[#This Row],[KCIAve]]),0)","v":0},{"$f":"IF(MONTH(KCITempAct[[#This Row],[Date]])=7,0,IF(MONTH(KCITempAct[[#This Row],[Date]])=8,0,KCITempAct[[#This Row],[KCIHDD]]))","v":0},{"$f":"SUMPRODUCT((KCINHDD[Month]=MONTH(KCITempAct[[#This Row],[Date]]))*(KCINHDD[Day]=DAY(KCITempAct[[#This Row],[Date]]))*KCINHDD[KCINHDD])","v":0},{"$f":"IF(MONTH(KCITempAct[[#This Row],[Date]])=7,0,IF(MONTH(KCITempAct[[#This Row],[Date]])=8,0,KCITempAct[[#This Row],[KCINHDD]]))","v":0},"Adj HDD and NDD =0 for July and August"]
["2018-07-21",89,67,{"$f":"AVERAGE(KCITempAct[[#This Row],[KCIHigh]:[KCILow]]\n)","v":78},{"$f":"IF(KCITempAct[[#This Row],[KCIAve]]<65,(65-KCITempAct[[#This Row],[KCIAve]]),0)","v":0},{"$f":"IF(MONTH(KCITempAct[[#This Row],[Date]])=7,0,IF(MONTH(KCITempAct[[#This Row],[Date]])=8,0,KCITempAct[[#This Row],[KCIHDD]]))","v":0},{"$f":"SUMPRODUCT((KCINHDD[Month]=MONTH(KCITempAct[[#This Row],[Date]]))*(KCINHDD[Day]=DAY(KCITempAct[[#This Row],[Date]]))*KCINHDD[KCINHDD])","v":0},{"$f":"IF(MONTH(KCITempAct[[#This Row],[Date]])=7,0,IF(MONTH(KCITempAct[[#This Row],[Date]])=8,0,KCITempAct[[#This Row],[KCINHDD]]))","v":0},"Adj HDD and NDD =0 for July and August"]
["2018-07-22",88,65,{"$f":"AVERAGE(KCITempAct[[#This Row],[KCIHigh]:[KCILow]]\n)","v":76.5},{"$f":"IF(KCITempAct[[#This Row],[KCIAve]]<65,(65-KCITempAct[[#This Row],[KCIAve]]),0)","v":0},{"$f":"IF(MONTH(KCITempAct[[#This Row],[Date]])=7,0,IF(MONTH(KCITempAct[[#This Row],[Date]])=8,0,KCITempAct[[#This Row],[KCIHDD]]))","v":0},{"$f":"SUMPRODUCT((KCINHDD[Month]=MONTH(KCITempAct[[#This Row],[Date]]))*(KCINHDD[Day]=DAY(KCITempAct[[#This Row],[Date]]))*KCINHDD[KCINHDD])","v":0},{"$f":"IF(MONTH(KCITempAct[[#This Row],[Date]])=7,0,IF(MONTH(KCITempAct[[#This Row],[Date]])=8,0,KCITempAct[[#This Row],[KCINHDD]]))","v":0},"Adj HDD and NDD =0 for July and August"]
["2018-07-23",85,64,{"$f":"AVERAGE(KCITempAct[[#This Row],[KCIHigh]:[KCILow]]\n)","v":74.5},{"$f":"IF(KCITempAct[[#This Row],[KCIAve]]<65,(65-KCITempAct[[#This Row],[KCIAve]]),0)","v":0},{"$f":"IF(MONTH(KCITempAct[[#This Row],[Date]])=7,0,IF(MONTH(KCITempAct[[#This Row],[Date]])=8,0,KCITempAct[[#This Row],[KCIHDD]]))","v":0},{"$f":"SUMPRODUCT((KCINHDD[Month]=MONTH(KCITempAct[[#This Row],[Date]]))*(KCINHDD[Day]=DAY(KCITempAct[[#This Row],[Date]]))*KCINHDD[KCINHDD])","v":0},{"$f":"IF(MONTH(KCITempAct[[#This Row],[Date]])=7,0,IF(MONTH(KCITempAct[[#This Row],[Date]])=8,0,KCITempAct[[#This Row],[KCINHDD]]))","v":0},"Adj HDD and NDD =0 for July and August"]
["2018-07-24",89,67,{"$f":"AVERAGE(KCITempAct[[#This Row],[KCIHigh]:[KCILow]]\n)","v":78},{"$f":"IF(KCITempAct[[#This Row],[KCIAve]]<65,(65-KCITempAct[[#This Row],[KCIAve]]),0)","v":0},{"$f":"IF(MONTH(KCITempAct[[#This Row],[Date]])=7,0,IF(MONTH(KCITempAct[[#This Row],[Date]])=8,0,KCITempAct[[#This Row],[KCIHDD]]))","v":0},{"$f":"SUMPRODUCT((KCINHDD[Month]=MONTH(KCITempAct[[#This Row],[Date]]))*(KCINHDD[Day]=DAY(KCITempAct[[#This Row],[Date]]))*KCINHDD[KCINHDD])","v":1.6666666666666666E-2},{"$f":"IF(MONTH(KCITempAct[[#This Row],[Date]])=7,0,IF(MONTH(KCITempAct[[#This Row],[Date]])=8,0,KCITempAct[[#This Row],[KCINHDD]]))","v":0},"Adj HDD and NDD =0 for July and August"]
["2018-07-25",90,64,{"$f":"AVERAGE(KCITempAct[[#This Row],[KCIHigh]:[KCILow]]\n)","v":77},{"$f":"IF(KCITempAct[[#This Row],[KCIAve]]<65,(65-KCITempAct[[#This Row],[KCIAve]]),0)","v":0},{"$f":"IF(MONTH(KCITempAct[[#This Row],[Date]])=7,0,IF(MONTH(KCITempAct[[#This Row],[Date]])=8,0,KCITempAct[[#This Row],[KCIHDD]]))","v":0},{"$f":"SUMPRODUCT((KCINHDD[Month]=MONTH(KCITempAct[[#This Row],[Date]]))*(KCINHDD[Day]=DAY(KCITempAct[[#This Row],[Date]]))*KCINHDD[KCINHDD])","v":0},{"$f":"IF(MONTH(KCITempAct[[#This Row],[Date]])=7,0,IF(MONTH(KCITempAct[[#This Row],[Date]])=8,0,KCITempAct[[#This Row],[KCINHDD]]))","v":0},"Adj HDD and NDD =0 for July and August"]
["2018-07-26",82,67,{"$f":"AVERAGE(KCITempAct[[#This Row],[KCIHigh]:[KCILow]]\n)","v":74.5},{"$f":"IF(KCITempAct[[#This Row],[KCIAve]]<65,(65-KCITempAct[[#This Row],[KCIAve]]),0)","v":0},{"$f":"IF(MONTH(KCITempAct[[#This Row],[Date]])=7,0,IF(MONTH(KCITempAct[[#This Row],[Date]])=8,0,KCITempAct[[#This Row],[KCIHDD]]))","v":0},{"$f":"SUMPRODUCT((KCINHDD[Month]=MONTH(KCITempAct[[#This Row],[Date]]))*(KCINHDD[Day]=DAY(KCITempAct[[#This Row],[Date]]))*KCINHDD[KCINHDD])","v":0},{"$f":"IF(MONTH(KCITempAct[[#This Row],[Date]])=7,0,IF(MONTH(KCITempAct[[#This Row],[Date]])=8,0,KCITempAct[[#This Row],[KCINHDD]]))","v":0},"Adj HDD and NDD =0 for July and August"]
["2018-07-27",85,63,{"$f":"AVERAGE(KCITempAct[[#This Row],[KCIHigh]:[KCILow]]\n)","v":74},{"$f":"IF(KCITempAct[[#This Row],[KCIAve]]<65,(65-KCITempAct[[#This Row],[KCIAve]]),0)","v":0},{"$f":"IF(MONTH(KCITempAct[[#This Row],[Date]])=7,0,IF(MONTH(KCITempAct[[#This Row],[Date]])=8,0,KCITempAct[[#This Row],[KCIHDD]]))","v":0},{"$f":"SUMPRODUCT((KCINHDD[Month]=MONTH(KCITempAct[[#This Row],[Date]]))*(KCINHDD[Day]=DAY(KCITempAct[[#This Row],[Date]]))*KCINHDD[KCINHDD])","v":0},{"$f":"IF(MONTH(KCITempAct[[#This Row],[Date]])=7,0,IF(MONTH(KCITempAct[[#This Row],[Date]])=8,0,KCITempAct[[#This Row],[KCINHDD]]))","v":0},"Adj HDD and NDD =0 for July and August"]
["2018-07-28",84,68,{"$f":"AVERAGE(KCITempAct[[#This Row],[KCIHigh]:[KCILow]]\n)","v":76},{"$f":"IF(KCITempAct[[#This Row],[KCIAve]]<65,(65-KCITempAct[[#This Row],[KCIAve]]),0)","v":0},{"$f":"IF(MONTH(KCITempAct[[#This Row],[Date]])=7,0,IF(MONTH(KCITempAct[[#This Row],[Date]])=8,0,KCITempAct[[#This Row],[KCIHDD]]))","v":0},{"$f":"SUMPRODUCT((KCINHDD[Month]=MONTH(KCITempAct[[#This Row],[Date]]))*(KCINHDD[Day]=DAY(KCITempAct[[#This Row],[Date]]))*KCINHDD[KCINHDD])","v":0},{"$f":"IF(MONTH(KCITempAct[[#This Row],[Date]])=7,0,IF(MONTH(KCITempAct[[#This Row],[Date]])=8,0,KCITempAct[[#This Row],[KCINHDD]]))","v":0},"Adj HDD and NDD =0 for July and August"]
["2018-07-29",76,66,{"$f":"AVERAGE(KCITempAct[[#This Row],[KCIHigh]:[KCILow]]\n)","v":71},{"$f":"IF(KCITempAct[[#This Row],[KCIAve]]<65,(65-KCITempAct[[#This Row],[KCIAve]]),0)","v":0},{"$f":"IF(MONTH(KCITempAct[[#This Row],[Date]])=7,0,IF(MONTH(KCITempAct[[#This Row],[Date]])=8,0,KCITempAct[[#This Row],[KCIHDD]]))","v":0},{"$f":"SUMPRODUCT((KCINHDD[Month]=MONTH(KCITempAct[[#This Row],[Date]]))*(KCINHDD[Day]=DAY(KCITempAct[[#This Row],[Date]]))*KCINHDD[KCINHDD])","v":0},{"$f":"IF(MONTH(KCITempAct[[#This Row],[Date]])=7,0,IF(MONTH(KCITempAct[[#This Row],[Date]])=8,0,KCITempAct[[#This Row],[KCINHDD]]))","v":0},"Adj HDD and NDD =0 for July and August"]
["2018-07-30",80,61,{"$f":"AVERAGE(KCITempAct[[#This Row],[KCIHigh]:[KCILow]]\n)","v":70.5},{"$f":"IF(KCITempAct[[#This Row],[KCIAve]]<65,(65-KCITempAct[[#This Row],[KCIAve]]),0)","v":0},{"$f":"IF(MONTH(KCITempAct[[#This Row],[Date]])=7,0,IF(MONTH(KCITempAct[[#This Row],[Date]])=8,0,KCITempAct[[#This Row],[KCIHDD]]))","v":0},{"$f":"SUMPRODUCT((KCINHDD[Month]=MONTH(KCITempAct[[#This Row],[Date]]))*(KCINHDD[Day]=DAY(KCITempAct[[#This Row],[Date]]))*KCINHDD[KCINHDD])","v":0},{"$f":"IF(MONTH(KCITempAct[[#This Row],[Date]])=7,0,IF(MONTH(KCITempAct[[#This Row],[Date]])=8,0,KCITempAct[[#This Row],[KCINHDD]]))","v":0},"Adj HDD and NDD =0 for July and August"]
["2018-07-31",85,59,{"$f":"AVERAGE(KCITempAct[[#This Row],[KCIHigh]:[KCILow]]\n)","v":72},{"$f":"IF(KCITempAct[[#This Row],[KCIAve]]<65,(65-KCITempAct[[#This Row],[KCIAve]]),0)","v":0},{"$f":"IF(MONTH(KCITempAct[[#This Row],[Date]])=7,0,IF(MONTH(KCITempAct[[#This Row],[Date]])=8,0,KCITempAct[[#This Row],[KCIHDD]]))","v":0},{"$f":"SUMPRODUCT((KCINHDD[Month]=MONTH(KCITempAct[[#This Row],[Date]]))*(KCINHDD[Day]=DAY(KCITempAct[[#This Row],[Date]]))*KCINHDD[KCINHDD])","v":0},{"$f":"IF(MONTH(KCITempAct[[#This Row],[Date]])=7,0,IF(MONTH(KCITempAct[[#This Row],[Date]])=8,0,KCITempAct[[#This Row],[KCINHDD]]))","v":0},"Adj HDD and NDD =0 for July and August"]
["2018-08-01",88,60,{"$f":"AVERAGE(KCITempAct[[#This Row],[KCIHigh]:[KCILow]]\n)","v":74},{"$f":"IF(KCITempAct[[#This Row],[KCIAve]]<65,(65-KCITempAct[[#This Row],[KCIAve]]),0)","v":0},{"$f":"IF(MONTH(KCITempAct[[#This Row],[Date]])=7,0,IF(MONTH(KCITempAct[[#This Row],[Date]])=8,0,KCITempAct[[#This Row],[KCIHDD]]))","v":0},{"$f":"SUMPRODUCT((KCINHDD[Month]=MONTH(KCITempAct[[#This Row],[Date]]))*(KCINHDD[Day]=DAY(KCITempAct[[#This Row],[Date]]))*KCINHDD[KCINHDD])","v":0},{"$f":"IF(MONTH(KCITempAct[[#This Row],[Date]])=7,0,IF(MONTH(KCITempAct[[#This Row],[Date]])=8,0,KCITempAct[[#This Row],[KCINHDD]]))","v":0},"Adj HDD and NDD =0 for July and August"]
["2018-08-02",93,63,{"$f":"AVERAGE(KCITempAct[[#This Row],[KCIHigh]:[KCILow]]\n)","v":78},{"$f":"IF(KCITempAct[[#This Row],[KCIAve]]<65,(65-KCITempAct[[#This Row],[KCIAve]]),0)","v":0},{"$f":"IF(MONTH(KCITempAct[[#This Row],[Date]])=7,0,IF(MONTH(KCITempAct[[#This Row],[Date]])=8,0,KCITempAct[[#This Row],[KCIHDD]]))","v":0},{"$f":"SUMPRODUCT((KCINHDD[Month]=MONTH(KCITempAct[[#This Row],[Date]]))*(KCINHDD[Day]=DAY(KCITempAct[[#This Row],[Date]]))*KCINHDD[KCINHDD])","v":0},{"$f":"IF(MONTH(KCITempAct[[#This Row],[Date]])=7,0,IF(MONTH(KCITempAct[[#This Row],[Date]])=8,0,KCITempAct[[#This Row],[KCINHDD]]))","v":0},"Adj HDD and NDD =0 for July and August"]
["2018-08-03",93,64,{"$f":"AVERAGE(KCITempAct[[#This Row],[KCIHigh]:[KCILow]]\n)","v":78.5},{"$f":"IF(KCITempAct[[#This Row],[KCIAve]]<65,(65-KCITempAct[[#This Row],[KCIAve]]),0)","v":0},{"$f":"IF(MONTH(KCITempAct[[#This Row],[Date]])=7,0,IF(MONTH(KCITempAct[[#This Row],[Date]])=8,0,KCITempAct[[#This Row],[KCIHDD]]))","v":0},{"$f":"SUMPRODUCT((KCINHDD[Month]=MONTH(KCITempAct[[#This Row],[Date]]))*(KCINHDD[Day]=DAY(KCITempAct[[#This Row],[Date]]))*KCINHDD[KCINHDD])","v":0},{"$f":"IF(MONTH(KCITempAct[[#This Row],[Date]])=7,0,IF(MONTH(KCITempAct[[#This Row],[Date]])=8,0,KCITempAct[[#This Row],[KCINHDD]]))","v":0},"Adj HDD and NDD =0 for July and August"]
["2018-08-04",91,67,{"$f":"AVERAGE(KCITempAct[[#This Row],[KCIHigh]:[KCILow]]\n)","v":79},{"$f":"IF(KCITempAct[[#This Row],[KCIAve]]<65,(65-KCITempAct[[#This Row],[KCIAve]]),0)","v":0},{"$f":"IF(MONTH(KCITempAct[[#This Row],[Date]])=7,0,IF(MONTH(KCITempAct[[#This Row],[Date]])=8,0,KCITempAct[[#This Row],[KCIHDD]]))","v":0},{"$f":"SUMPRODUCT((KCINHDD[Month]=MONTH(KCITempAct[[#This Row],[Date]]))*(KCINHDD[Day]=DAY(KCITempAct[[#This Row],[Date]]))*KCINHDD[KCINHDD])","v":3.3333333333333333E-2},{"$f":"IF(MONTH(KCITempAct[[#This Row],[Date]])=7,0,IF(MONTH(KCITempAct[[#This Row],[Date]])=8,0,KCITempAct[[#This Row],[KCINHDD]]))","v":0},"Adj HDD and NDD =0 for July and August"]
["2018-08-05",97,73,{"$f":"AVERAGE(KCITempAct[[#This Row],[KCIHigh]:[KCILow]]\n)","v":85},{"$f":"IF(KCITempAct[[#This Row],[KCIAve]]<65,(65-KCITempAct[[#This Row],[KCIAve]]),0)","v":0},{"$f":"IF(MONTH(KCITempAct[[#This Row],[Date]])=7,0,IF(MONTH(KCITempAct[[#This Row],[Date]])=8,0,KCITempAct[[#This Row],[KCIHDD]]))","v":0},{"$f":"SUMPRODUCT((KCINHDD[Month]=MONTH(KCITempAct[[#This Row],[Date]]))*(KCINHDD[Day]=DAY(KCITempAct[[#This Row],[Date]]))*KCINHDD[KCINHDD])","v":0.2},{"$f":"IF(MONTH(KCITempAct[[#This Row],[Date]])=7,0,IF(MONTH(KCITempAct[[#This Row],[Date]])=8,0,KCITempAct[[#This Row],[KCINHDD]]))","v":0},"Adj HDD and NDD =0 for July and August"]
["2018-08-06",95,73,{"$f":"AVERAGE(KCITempAct[[#This Row],[KCIHigh]:[KCILow]]\n)","v":84},{"$f":"IF(KCITempAct[[#This Row],[KCIAve]]<65,(65-KCITempAct[[#This Row],[KCIAve]]),0)","v":0},{"$f":"IF(MONTH(KCITempAct[[#This Row],[Date]])=7,0,IF(MONTH(KCITempAct[[#This Row],[Date]])=8,0,KCITempAct[[#This Row],[KCIHDD]]))","v":0},{"$f":"SUMPRODUCT((KCINHDD[Month]=MONTH(KCITempAct[[#This Row],[Date]]))*(KCINHDD[Day]=DAY(KCITempAct[[#This Row],[Date]]))*KCINHDD[KCINHDD])","v":0},{"$f":"IF(MONTH(KCITempAct[[#This Row],[Date]])=7,0,IF(MONTH(KCITempAct[[#This Row],[Date]])=8,0,KCITempAct[[#This Row],[KCINHDD]]))","v":0},"Adj HDD and NDD =0 for July and August"]
["2018-08-07",86,68,{"$f":"AVERAGE(KCITempAct[[#This Row],[KCIHigh]:[KCILow]]\n)","v":77},{"$f":"IF(KCITempAct[[#This Row],[KCIAve]]<65,(65-KCITempAct[[#This Row],[KCIAve]]),0)","v":0},{"$f":"IF(MONTH(KCITempAct[[#This Row],[Date]])=7,0,IF(MONTH(KCITempAct[[#This Row],[Date]])=8,0,KCITempAct[[#This Row],[KCIHDD]]))","v":0},{"$f":"SUMPRODUCT((KCINHDD[Month]=MONTH(KCITempAct[[#This Row],[Date]]))*(KCINHDD[Day]=DAY(KCITempAct[[#This Row],[Date]]))*KCINHDD[KCINHDD])","v":0},{"$f":"IF(MONTH(KCITempAct[[#This Row],[Date]])=7,0,IF(MONTH(KCITempAct[[#This Row],[Date]])=8,0,KCITempAct[[#This Row],[KCINHDD]]))","v":0},"Adj HDD and NDD =0 for July and August"]
["2018-08-08",90,67,{"$f":"AVERAGE(KCITempAct[[#This Row],[KCIHigh]:[KCILow]]\n)","v":78.5},{"$f":"IF(KCITempAct[[#This Row],[KCIAve]]<65,(65-KCITempAct[[#This Row],[KCIAve]]),0)","v":0},{"$f":"IF(MONTH(KCITempAct[[#This Row],[Date]])=7,0,IF(MONTH(KCITempAct[[#This Row],[Date]])=8,0,KCITempAct[[#This Row],[KCIHDD]]))","v":0},{"$f":"SUMPRODUCT((KCINHDD[Month]=MONTH(KCITempAct[[#This Row],[Date]]))*(KCINHDD[Day]=DAY(KCITempAct[[#This Row],[Date]]))*KCINHDD[KCINHDD])","v":0},{"$f":"IF(MONTH(KCITempAct[[#This Row],[Date]])=7,0,IF(MONTH(KCITempAct[[#This Row],[Date]])=8,0,KCITempAct[[#This Row],[KCINHDD]]))","v":0},"Adj HDD and NDD =0 for July and August"]
["2018-08-09",94,67,{"$f":"AVERAGE(KCITempAct[[#This Row],[KCIHigh]:[KCILow]]\n)","v":80.5},{"$f":"IF(KCITempAct[[#This Row],[KCIAve]]<65,(65-KCITempAct[[#This Row],[KCIAve]]),0)","v":0},{"$f":"IF(MONTH(KCITempAct[[#This Row],[Date]])=7,0,IF(MONTH(KCITempAct[[#This Row],[Date]])=8,0,KCITempAct[[#This Row],[KCIHDD]]))","v":0},{"$f":"SUMPRODUCT((KCINHDD[Month]=MONTH(KCITempAct[[#This Row],[Date]]))*(KCINHDD[Day]=DAY(KCITempAct[[#This Row],[Date]]))*KCINHDD[KCINHDD])","v":0},{"$f":"IF(MONTH(KCITempAct[[#This Row],[Date]])=7,0,IF(MONTH(KCITempAct[[#This Row],[Date]])=8,0,KCITempAct[[#This Row],[KCINHDD]]))","v":0},"Adj HDD and NDD =0 for July and August"]
["2018-08-10",90,67,{"$f":"AVERAGE(KCITempAct[[#This Row],[KCIHigh]:[KCILow]]\n)","v":78.5},{"$f":"IF(KCITempAct[[#This Row],[KCIAve]]<65,(65-KCITempAct[[#This Row],[KCIAve]]),0)","v":0},{"$f":"IF(MONTH(KCITempAct[[#This Row],[Date]])=7,0,IF(MONTH(KCITempAct[[#This Row],[Date]])=8,0,KCITempAct[[#This Row],[KCIHDD]]))","v":0},{"$f":"SUMPRODUCT((KCINHDD[Month]=MONTH(KCITempAct[[#This Row],[Date]]))*(KCINHDD[Day]=DAY(KCITempAct[[#This Row],[Date]]))*KCINHDD[KCINHDD])","v":0},{"$f":"IF(MONTH(KCITempAct[[#This Row],[Date]])=7,0,IF(MONTH(KCITempAct[[#This Row],[Date]])=8,0,KCITempAct[[#This Row],[KCINHDD]]))","v":0},"Adj HDD and NDD =0 for July and August"]
["2018-08-11",90,65,{"$f":"AVERAGE(KCITempAct[[#This Row],[KCIHigh]:[KCILow]]\n)","v":77.5},{"$f":"IF(KCITempAct[[#This Row],[KCIAve]]<65,(65-KCITempAct[[#This Row],[KCIAve]]),0)","v":0},{"$f":"IF(MONTH(KCITempAct[[#This Row],[Date]])=7,0,IF(MONTH(KCITempAct[[#This Row],[Date]])=8,0,KCITempAct[[#This Row],[KCIHDD]]))","v":0},{"$f":"SUMPRODUCT((KCINHDD[Month]=MONTH(KCITempAct[[#This Row],[Date]]))*(KCINHDD[Day]=DAY(KCITempAct[[#This Row],[Date]]))*KCINHDD[KCINHDD])","v":0.05},{"$f":"IF(MONTH(KCITempAct[[#This Row],[Date]])=7,0,IF(MONTH(KCITempAct[[#This Row],[Date]])=8,0,KCITempAct[[#This Row],[KCINHDD]]))","v":0},"Adj HDD and NDD =0 for July and August"]
["2018-08-12",91,68,{"$f":"AVERAGE(KCITempAct[[#This Row],[KCIHigh]:[KCILow]]\n)","v":79.5},{"$f":"IF(KCITempAct[[#This Row],[KCIAve]]<65,(65-KCITempAct[[#This Row],[KCIAve]]),0)","v":0},{"$f":"IF(MONTH(KCITempAct[[#This Row],[Date]])=7,0,IF(MONTH(KCITempAct[[#This Row],[Date]])=8,0,KCITempAct[[#This Row],[KCIHDD]]))","v":0},{"$f":"SUMPRODUCT((KCINHDD[Month]=MONTH(KCITempAct[[#This Row],[Date]]))*(KCINHDD[Day]=DAY(KCITempAct[[#This Row],[Date]]))*KCINHDD[KCINHDD])","v":0.11666666666666667},{"$f":"IF(MONTH(KCITempAct[[#This Row],[Date]])=7,0,IF(MONTH(KCITempAct[[#This Row],[Date]])=8,0,KCITempAct[[#This Row],[KCINHDD]]))","v":0},"Adj HDD and NDD =0 for July and August"]
["2018-08-13",92,68,{"$f":"AVERAGE(KCITempAct[[#This Row],[KCIHigh]:[KCILow]]\n)","v":80},{"$f":"IF(KCITempAct[[#This Row],[KCIAve]]<65,(65-KCITempAct[[#This Row],[KCIAve]]),0)","v":0},{"$f":"IF(MONTH(KCITempAct[[#This Row],[Date]])=7,0,IF(MONTH(KCITempAct[[#This Row],[Date]])=8,0,KCITempAct[[#This Row],[KCIHDD]]))","v":0},{"$f":"SUMPRODUCT((KCINHDD[Month]=MONTH(KCITempAct[[#This Row],[Date]]))*(KCINHDD[Day]=DAY(KCITempAct[[#This Row],[Date]]))*KCINHDD[KCINHDD])","v":1.6666666666666666E-2},{"$f":"IF(MONTH(KCITempAct[[#This Row],[Date]])=7,0,IF(MONTH(KCITempAct[[#This Row],[Date]])=8,0,KCITempAct[[#This Row],[KCINHDD]]))","v":0},"Adj HDD and NDD =0 for July and August"]
["2018-08-14",83,70,{"$f":"AVERAGE(KCITempAct[[#This Row],[KCIHigh]:[KCILow]]\n)","v":76.5},{"$f":"IF(KCITempAct[[#This Row],[KCIAve]]<65,(65-KCITempAct[[#This Row],[KCIAve]]),0)","v":0},{"$f":"IF(MONTH(KCITempAct[[#This Row],[Date]])=7,0,IF(MONTH(KCITempAct[[#This Row],[Date]])=8,0,KCITempAct[[#This Row],[KCIHDD]]))","v":0},{"$f":"SUMPRODUCT((KCINHDD[Month]=MONTH(KCITempAct[[#This Row],[Date]]))*(KCINHDD[Day]=DAY(KCITempAct[[#This Row],[Date]]))*KCINHDD[KCINHDD])","v":0},{"$f":"IF(MONTH(KCITempAct[[#This Row],[Date]])=7,0,IF(MONTH(KCITempAct[[#This Row],[Date]])=8,0,KCITempAct[[#This Row],[KCINHDD]]))","v":0},"Adj HDD and NDD =0 for July and August"]
["2018-08-15",86,70,{"$f":"AVERAGE(KCITempAct[[#This Row],[KCIHigh]:[KCILow]]\n)","v":78},{"$f":"IF(KCITempAct[[#This Row],[KCIAve]]<65,(65-KCITempAct[[#This Row],[KCIAve]]),0)","v":0},{"$f":"IF(MONTH(KCITempAct[[#This Row],[Date]])=7,0,IF(MONTH(KCITempAct[[#This Row],[Date]])=8,0,KCITempAct[[#This Row],[KCIHDD]]))","v":0},{"$f":"SUMPRODUCT((KCINHDD[Month]=MONTH(KCITempAct[[#This Row],[Date]]))*(KCINHDD[Day]=DAY(KCITempAct[[#This Row],[Date]]))*KCINHDD[KCINHDD])","v":8.3333333333333329E-2},{"$f":"IF(MONTH(KCITempAct[[#This Row],[Date]])=7,0,IF(MONTH(KCITempAct[[#This Row],[Date]])=8,0,KCITempAct[[#This Row],[KCINHDD]]))","v":0},"Adj HDD and NDD =0 for July and August"]
["2018-08-16",90,69,{"$f":"AVERAGE(KCITempAct[[#This Row],[KCIHigh]:[KCILow]]\n)","v":79.5},{"$f":"IF(KCITempAct[[#This Row],[KCIAve]]<65,(65-KCITempAct[[#This Row],[KCIAve]]),0)","v":0},{"$f":"IF(MONTH(KCITempAct[[#This Row],[Date]])=7,0,IF(MONTH(KCITempAct[[#This Row],[Date]])=8,0,KCITempAct[[#This Row],[KCIHDD]]))","v":0},{"$f":"SUMPRODUCT((KCINHDD[Month]=MONTH(KCITempAct[[#This Row],[Date]]))*(KCINHDD[Day]=DAY(KCITempAct[[#This Row],[Date]]))*KCINHDD[KCINHDD])","v":1.6666666666666666E-2},{"$f":"IF(MONTH(KCITempAct[[#This Row],[Date]])=7,0,IF(MONTH(KCITempAct[[#This Row],[Date]])=8,0,KCITempAct[[#This Row],[KCINHDD]]))","v":0},"Adj HDD and NDD =0 for July and August"]
["2018-08-17",87,66,{"$f":"AVERAGE(KCITempAct[[#This Row],[KCIHigh]:[KCILow]]\n)","v":76.5},{"$f":"IF(KCITempAct[[#This Row],[KCIAve]]<65,(65-KCITempAct[[#This Row],[KCIAve]]),0)","v":0},{"$f":"IF(MONTH(KCITempAct[[#This Row],[Date]])=7,0,IF(MONTH(KCITempAct[[#This Row],[Date]])=8,0,KCITempAct[[#This Row],[KCIHDD]]))","v":0},{"$f":"SUMPRODUCT((KCINHDD[Month]=MONTH(KCITempAct[[#This Row],[Date]]))*(KCINHDD[Day]=DAY(KCITempAct[[#This Row],[Date]]))*KCINHDD[KCINHDD])","v":0},{"$f":"IF(MONTH(KCITempAct[[#This Row],[Date]])=7,0,IF(MONTH(KCITempAct[[#This Row],[Date]])=8,0,KCITempAct[[#This Row],[KCINHDD]]))","v":0},"Adj HDD and NDD =0 for July and August"]
["2018-08-18",90,66,{"$f":"AVERAGE(KCITempAct[[#This Row],[KCIHigh]:[KCILow]]\n)","v":78},{"$f":"IF(KCITempAct[[#This Row],[KCIAve]]<65,(65-KCITempAct[[#This Row],[KCIAve]]),0)","v":0},{"$f":"IF(MONTH(KCITempAct[[#This Row],[Date]])=7,0,IF(MONTH(KCITempAct[[#This Row],[Date]])=8,0,KCITempAct[[#This Row],[KCIHDD]]))","v":0},{"$f":"SUMPRODUCT((KCINHDD[Month]=MONTH(KCITempAct[[#This Row],[Date]]))*(KCINHDD[Day]=DAY(KCITempAct[[#This Row],[Date]]))*KCINHDD[KCINHDD])","v":0},{"$f":"IF(MONTH(KCITempAct[[#This Row],[Date]])=7,0,IF(MONTH(KCITempAct[[#This Row],[Date]])=8,0,KCITempAct[[#This Row],[KCINHDD]]))","v":0},"Adj HDD and NDD =0 for July and August"]
["2018-08-19",79,70,{"$f":"AVERAGE(KCITempAct[[#This Row],[KCIHigh]:[KCILow]]\n)","v":74.5},{"$f":"IF(KCITempAct[[#This Row],[KCIAve]]<65,(65-KCITempAct[[#This Row],[KCIAve]]),0)","v":0},{"$f":"IF(MONTH(KCITempAct[[#This Row],[Date]])=7,0,IF(MONTH(KCITempAct[[#This Row],[Date]])=8,0,KCITempAct[[#This Row],[KCIHDD]]))","v":0},{"$f":"SUMPRODUCT((KCINHDD[Month]=MONTH(KCITempAct[[#This Row],[Date]]))*(KCINHDD[Day]=DAY(KCITempAct[[#This Row],[Date]]))*KCINHDD[KCINHDD])","v":0.05},{"$f":"IF(MONTH(KCITempAct[[#This Row],[Date]])=7,0,IF(MONTH(KCITempAct[[#This Row],[Date]])=8,0,KCITempAct[[#This Row],[KCINHDD]]))","v":0},"Adj HDD and NDD =0 for July and August"]
["2018-08-20",73,67,{"$f":"AVERAGE(KCITempAct[[#This Row],[KCIHigh]:[KCILow]]\n)","v":70},{"$f":"IF(KCITempAct[[#This Row],[KCIAve]]<65,(65-KCITempAct[[#This Row],[KCIAve]]),0)","v":0},{"$f":"IF(MONTH(KCITempAct[[#This Row],[Date]])=7,0,IF(MONTH(KCITempAct[[#This Row],[Date]])=8,0,KCITempAct[[#This Row],[KCIHDD]]))","v":0},{"$f":"SUMPRODUCT((KCINHDD[Month]=MONTH(KCITempAct[[#This Row],[Date]]))*(KCINHDD[Day]=DAY(KCITempAct[[#This Row],[Date]]))*KCINHDD[KCINHDD])","v":0},{"$f":"IF(MONTH(KCITempAct[[#This Row],[Date]])=7,0,IF(MONTH(KCITempAct[[#This Row],[Date]])=8,0,KCITempAct[[#This Row],[KCINHDD]]))","v":0},"Adj HDD and NDD =0 for July and August"]
["2018-08-21",81,62,{"$f":"AVERAGE(KCITempAct[[#This Row],[KCIHigh]:[KCILow]]\n)","v":71.5},{"$f":"IF(KCITempAct[[#This Row],[KCIAve]]<65,(65-KCITempAct[[#This Row],[KCIAve]]),0)","v":0},{"$f":"IF(MONTH(KCITempAct[[#This Row],[Date]])=7,0,IF(MONTH(KCITempAct[[#This Row],[Date]])=8,0,KCITempAct[[#This Row],[KCIHDD]]))","v":0},{"$f":"SUMPRODUCT((KCINHDD[Month]=MONTH(KCITempAct[[#This Row],[Date]]))*(KCINHDD[Day]=DAY(KCITempAct[[#This Row],[Date]]))*KCINHDD[KCINHDD])","v":0},{"$f":"IF(MONTH(KCITempAct[[#This Row],[Date]])=7,0,IF(MONTH(KCITempAct[[#This Row],[Date]])=8,0,KCITempAct[[#This Row],[KCINHDD]]))","v":0},"Adj HDD and NDD =0 for July and August"]
["2018-08-22",78,60,{"$f":"AVERAGE(KCITempAct[[#This Row],[KCIHigh]:[KCILow]]\n)","v":69},{"$f":"IF(KCITempAct[[#This Row],[KCIAve]]<65,(65-KCITempAct[[#This Row],[KCIAve]]),0)","v":0},{"$f":"IF(MONTH(KCITempAct[[#This Row],[Date]])=7,0,IF(MONTH(KCITempAct[[#This Row],[Date]])=8,0,KCITempAct[[#This Row],[KCIHDD]]))","v":0},{"$f":"SUMPRODUCT((KCINHDD[Month]=MONTH(KCITempAct[[#This Row],[Date]]))*(KCINHDD[Day]=DAY(KCITempAct[[#This Row],[Date]]))*KCINHDD[KCINHDD])","v":0},{"$f":"IF(MONTH(KCITempAct[[#This Row],[Date]])=7,0,IF(MONTH(KCITempAct[[#This Row],[Date]])=8,0,KCITempAct[[#This Row],[KCINHDD]]))","v":0},"Adj HDD and NDD =0 for July and August"]
["2018-08-23",75,59,{"$f":"AVERAGE(KCITempAct[[#This Row],[KCIHigh]:[KCILow]]\n)","v":67},{"$f":"IF(KCITempAct[[#This Row],[KCIAve]]<65,(65-KCITempAct[[#This Row],[KCIAve]]),0)","v":0},{"$f":"IF(MONTH(KCITempAct[[#This Row],[Date]])=7,0,IF(MONTH(KCITempAct[[#This Row],[Date]])=8,0,KCITempAct[[#This Row],[KCIHDD]]))","v":0},{"$f":"SUMPRODUCT((KCINHDD[Month]=MONTH(KCITempAct[[#This Row],[Date]]))*(KCINHDD[Day]=DAY(KCITempAct[[#This Row],[Date]]))*KCINHDD[KCINHDD])","v":1.6666666666666666E-2},{"$f":"IF(MONTH(KCITempAct[[#This Row],[Date]])=7,0,IF(MONTH(KCITempAct[[#This Row],[Date]])=8,0,KCITempAct[[#This Row],[KCINHDD]]))","v":0},"Adj HDD and NDD =0 for July and August"]
["2018-08-24",89,68,{"$f":"AVERAGE(KCITempAct[[#This Row],[KCIHigh]:[KCILow]]\n)","v":78.5},{"$f":"IF(KCITempAct[[#This Row],[KCIAve]]<65,(65-KCITempAct[[#This Row],[KCIAve]]),0)","v":0},{"$f":"IF(MONTH(KCITempAct[[#This Row],[Date]])=7,0,IF(MONTH(KCITempAct[[#This Row],[Date]])=8,0,KCITempAct[[#This Row],[KCIHDD]]))","v":0},{"$f":"SUMPRODUCT((KCINHDD[Month]=MONTH(KCITempAct[[#This Row],[Date]]))*(KCINHDD[Day]=DAY(KCITempAct[[#This Row],[Date]]))*KCINHDD[KCINHDD])","v":0},{"$f":"IF(MONTH(KCITempAct[[#This Row],[Date]])=7,0,IF(MONTH(KCITempAct[[#This Row],[Date]])=8,0,KCITempAct[[#This Row],[KCINHDD]]))","v":0},"Adj HDD and NDD =0 for July and August"]
["2018-08-25",93,75,{"$f":"AVERAGE(KCITempAct[[#This Row],[KCIHigh]:[KCILow]]\n)","v":84},{"$f":"IF(KCITempAct[[#This Row],[KCIAve]]<65,(65-KCITempAct[[#This Row],[KCIAve]]),0)","v":0},{"$f":"IF(MONTH(KCITempAct[[#This Row],[Date]])=7,0,IF(MONTH(KCITempAct[[#This Row],[Date]])=8,0,KCITempAct[[#This Row],[KCIHDD]]))","v":0},{"$f":"SUMPRODUCT((KCINHDD[Month]=MONTH(KCITempAct[[#This Row],[Date]]))*(KCINHDD[Day]=DAY(KCITempAct[[#This Row],[Date]]))*KCINHDD[KCINHDD])","v":0},{"$f":"IF(MONTH(KCITempAct[[#This Row],[Date]])=7,0,IF(MONTH(KCITempAct[[#This Row],[Date]])=8,0,KCITempAct[[#This Row],[KCINHDD]]))","v":0},"Adj HDD and NDD =0 for July and August"]
["2018-08-26",90,77,{"$f":"AVERAGE(KCITempAct[[#This Row],[KCIHigh]:[KCILow]]\n)","v":83.5},{"$f":"IF(KCITempAct[[#This Row],[KCIAve]]<65,(65-KCITempAct[[#This Row],[KCIAve]]),0)","v":0},{"$f":"IF(MONTH(KCITempAct[[#This Row],[Date]])=7,0,IF(MONTH(KCITempAct[[#This Row],[Date]])=8,0,KCITempAct[[#This Row],[KCIHDD]]))","v":0},{"$f":"SUMPRODUCT((KCINHDD[Month]=MONTH(KCITempAct[[#This Row],[Date]]))*(KCINHDD[Day]=DAY(KCITempAct[[#This Row],[Date]]))*KCINHDD[KCINHDD])","v":0.13333333333333333},{"$f":"IF(MONTH(KCITempAct[[#This Row],[Date]])=7,0,IF(MONTH(KCITempAct[[#This Row],[Date]])=8,0,KCITempAct[[#This Row],[KCINHDD]]))","v":0},"Adj HDD and NDD =0 for July and August"]
["2018-08-27",91,74,{"$f":"AVERAGE(KCITempAct[[#This Row],[KCIHigh]:[KCILow]]\n)","v":82.5},{"$f":"IF(KCITempAct[[#This Row],[KCIAve]]<65,(65-KCITempAct[[#This Row],[KCIAve]]),0)","v":0},{"$f":"IF(MONTH(KCITempAct[[#This Row],[Date]])=7,0,IF(MONTH(KCITempAct[[#This Row],[Date]])=8,0,KCITempAct[[#This Row],[KCIHDD]]))","v":0},{"$f":"SUMPRODUCT((KCINHDD[Month]=MONTH(KCITempAct[[#This Row],[Date]]))*(KCINHDD[Day]=DAY(KCITempAct[[#This Row],[Date]]))*KCINHDD[KCINHDD])","v":0.05},{"$f":"IF(MONTH(KCITempAct[[#This Row],[Date]])=7,0,IF(MONTH(KCITempAct[[#This Row],[Date]])=8,0,KCITempAct[[#This Row],[KCINHDD]]))","v":0},"Adj HDD and NDD =0 for July and August"]
["2018-08-28",92,67,{"$f":"AVERAGE(KCITempAct[[#This Row],[KCIHigh]:[KCILow]]\n)","v":79.5},{"$f":"IF(KCITempAct[[#This Row],[KCIAve]]<65,(65-KCITempAct[[#This Row],[KCIAve]]),0)","v":0},{"$f":"IF(MONTH(KCITempAct[[#This Row],[Date]])=7,0,IF(MONTH(KCITempAct[[#This Row],[Date]])=8,0,KCITempAct[[#This Row],[KCIHDD]]))","v":0},{"$f":"SUMPRODUCT((KCINHDD[Month]=MONTH(KCITempAct[[#This Row],[Date]]))*(KCINHDD[Day]=DAY(KCITempAct[[#This Row],[Date]]))*KCINHDD[KCINHDD])","v":0},{"$f":"IF(MONTH(KCITempAct[[#This Row],[Date]])=7,0,IF(MONTH(KCITempAct[[#This Row],[Date]])=8,0,KCITempAct[[#This Row],[KCINHDD]]))","v":0},"Adj HDD and NDD =0 for July and August"]
["2018-08-29",77,60,{"$f":"AVERAGE(KCITempAct[[#This Row],[KCIHigh]:[KCILow]]\n)","v":68.5},{"$f":"IF(KCITempAct[[#This Row],[KCIAve]]<65,(65-KCITempAct[[#This Row],[KCIAve]]),0)","v":0},{"$f":"IF(MONTH(KCITempAct[[#This Row],[Date]])=7,0,IF(MONTH(KCITempAct[[#This Row],[Date]])=8,0,KCITempAct[[#This Row],[KCIHDD]]))","v":0},{"$f":"SUMPRODUCT((KCINHDD[Month]=MONTH(KCITempAct[[#This Row],[Date]]))*(KCINHDD[Day]=DAY(KCITempAct[[#This Row],[Date]]))*KCINHDD[KCINHDD])","v":0.13333333333333333},{"$f":"IF(MONTH(KCITempAct[[#This Row],[Date]])=7,0,IF(MONTH(KCITempAct[[#This Row],[Date]])=8,0,KCITempAct[[#This Row],[KCINHDD]]))","v":0},"Adj HDD and NDD =0 for July and August"]
["2018-08-30",78,68,{"$f":"AVERAGE(KCITempAct[[#This Row],[KCIHigh]:[KCILow]]\n)","v":73},{"$f":"IF(KCITempAct[[#This Row],[KCIAve]]<65,(65-KCITempAct[[#This Row],[KCIAve]]),0)","v":0},{"$f":"IF(MONTH(KCITempAct[[#This Row],[Date]])=7,0,IF(MONTH(KCITempAct[[#This Row],[Date]])=8,0,KCITempAct[[#This Row],[KCIHDD]]))","v":0},{"$f":"SUMPRODUCT((KCINHDD[Month]=MONTH(KCITempAct[[#This Row],[Date]]))*(KCINHDD[Day]=DAY(KCITempAct[[#This Row],[Date]]))*KCINHDD[KCINHDD])","v":0.15},{"$f":"IF(MONTH(KCITempAct[[#This Row],[Date]])=7,0,IF(MONTH(KCITempAct[[#This Row],[Date]])=8,0,KCITempAct[[#This Row],[KCINHDD]]))","v":0},"Adj HDD and NDD =0 for July and August"]
["2018-08-31",87,68,{"$f":"AVERAGE(KCITempAct[[#This Row],[KCIHigh]:[KCILow]]\n)","v":77.5},{"$f":"IF(KCITempAct[[#This Row],[KCIAve]]<65,(65-KCITempAct[[#This Row],[KCIAve]]),0)","v":0},{"$f":"IF(MONTH(KCITempAct[[#This Row],[Date]])=7,0,IF(MONTH(KCITempAct[[#This Row],[Date]])=8,0,KCITempAct[[#This Row],[KCIHDD]]))","v":0},{"$f":"SUMPRODUCT((KCINHDD[Month]=MONTH(KCITempAct[[#This Row],[Date]]))*(KCINHDD[Day]=DAY(KCITempAct[[#This Row],[Date]]))*KCINHDD[KCINHDD])","v":8.3333333333333329E-2},{"$f":"IF(MONTH(KCITempAct[[#This Row],[Date]])=7,0,IF(MONTH(KCITempAct[[#This Row],[Date]])=8,0,KCITempAct[[#This Row],[KCINHDD]]))","v":0},"Adj HDD and NDD =0 for July and August"]
["2018-09-01",90,74,{"$f":"AVERAGE(KCITempAct[[#This Row],[KCIHigh]:[KCILow]]\n)","v":82},{"$f":"IF(KCITempAct[[#This Row],[KCIAve]]<65,(65-KCITempAct[[#This Row],[KCIAve]]),0)","v":0},{"$f":"IF(MONTH(KCITempAct[[#This Row],[Date]])=7,0,IF(MONTH(KCITempAct[[#This Row],[Date]])=8,0,KCITempAct[[#This Row],[KCIHDD]]))","v":0},{"$f":"SUMPRODUCT((KCINHDD[Month]=MONTH(KCITempAct[[#This Row],[Date]]))*(KCINHDD[Day]=DAY(KCITempAct[[#This Row],[Date]]))*KCINHDD[KCINHDD])","v":0.05},{"$f":"IF(MONTH(KCITempAct[[#This Row],[Date]])=7,0,IF(MONTH(KCITempAct[[#This Row],[Date]])=8,0,KCITempAct[[#This Row],[KCINHDD]]))","v":0.05},"Adj HDD and NDD =0 for July and August"]
["2018-09-02",87,73,{"$f":"AVERAGE(KCITempAct[[#This Row],[KCIHigh]:[KCILow]]\n)","v":80},{"$f":"IF(KCITempAct[[#This Row],[KCIAve]]<65,(65-KCITempAct[[#This Row],[KCIAve]]),0)","v":0},{"$f":"IF(MONTH(KCITempAct[[#This Row],[Date]])=7,0,IF(MONTH(KCITempAct[[#This Row],[Date]])=8,0,KCITempAct[[#This Row],[KCIHDD]]))","v":0},{"$f":"SUMPRODUCT((KCINHDD[Month]=MONTH(KCITempAct[[#This Row],[Date]]))*(KCINHDD[Day]=DAY(KCITempAct[[#This Row],[Date]]))*KCINHDD[KCINHDD])","v":3.3333333333333333E-2},{"$f":"IF(MONTH(KCITempAct[[#This Row],[Date]])=7,0,IF(MONTH(KCITempAct[[#This Row],[Date]])=8,0,KCITempAct[[#This Row],[KCINHDD]]))","v":3.3333333333333333E-2},"Adj HDD and NDD =0 for July and August"]
["2018-09-03",88,74,{"$f":"AVERAGE(KCITempAct[[#This Row],[KCIHigh]:[KCILow]]\n)","v":81},{"$f":"IF(KCITempAct[[#This Row],[KCIAve]]<65,(65-KCITempAct[[#This Row],[KCIAve]]),0)","v":0},{"$f":"IF(MONTH(KCITempAct[[#This Row],[Date]])=7,0,IF(MONTH(KCITempAct[[#This Row],[Date]])=8,0,KCITempAct[[#This Row],[KCIHDD]]))","v":0},{"$f":"SUMPRODUCT((KCINHDD[Month]=MONTH(KCITempAct[[#This Row],[Date]]))*(KCINHDD[Day]=DAY(KCITempAct[[#This Row],[Date]]))*KCINHDD[KCINHDD])","v":0.16666666666666666},{"$f":"IF(MONTH(KCITempAct[[#This Row],[Date]])=7,0,IF(MONTH(KCITempAct[[#This Row],[Date]])=8,0,KCITempAct[[#This Row],[KCINHDD]]))","v":0.16666666666666666},"Adj HDD and NDD =0 for July and August"]
["2018-09-04",84,72,{"$f":"AVERAGE(KCITempAct[[#This Row],[KCIHigh]:[KCILow]]\n)","v":78},{"$f":"IF(KCITempAct[[#This Row],[KCIAve]]<65,(65-KCITempAct[[#This Row],[KCIAve]]),0)","v":0},{"$f":"IF(MONTH(KCITempAct[[#This Row],[Date]])=7,0,IF(MONTH(KCITempAct[[#This Row],[Date]])=8,0,KCITempAct[[#This Row],[KCIHDD]]))","v":0},{"$f":"SUMPRODUCT((KCINHDD[Month]=MONTH(KCITempAct[[#This Row],[Date]]))*(KCINHDD[Day]=DAY(KCITempAct[[#This Row],[Date]]))*KCINHDD[KCINHDD])","v":0.3},{"$f":"IF(MONTH(KCITempAct[[#This Row],[Date]])=7,0,IF(MONTH(KCITempAct[[#This Row],[Date]])=8,0,KCITempAct[[#This Row],[KCINHDD]]))","v":0.3},"Adj HDD and NDD =0 for July and August"]
["2018-09-05",75,70,{"$f":"AVERAGE(KCITempAct[[#This Row],[KCIHigh]:[KCILow]]\n)","v":72.5},{"$f":"IF(KCITempAct[[#This Row],[KCIAve]]<65,(65-KCITempAct[[#This Row],[KCIAve]]),0)","v":0},{"$f":"IF(MONTH(KCITempAct[[#This Row],[Date]])=7,0,IF(MONTH(KCITempAct[[#This Row],[Date]])=8,0,KCITempAct[[#This Row],[KCIHDD]]))","v":0},{"$f":"SUMPRODUCT((KCINHDD[Month]=MONTH(KCITempAct[[#This Row],[Date]]))*(KCINHDD[Day]=DAY(KCITempAct[[#This Row],[Date]]))*KCINHDD[KCINHDD])","v":0.45},{"$f":"IF(MONTH(KCITempAct[[#This Row],[Date]])=7,0,IF(MONTH(KCITempAct[[#This Row],[Date]])=8,0,KCITempAct[[#This Row],[KCINHDD]]))","v":0.45},"Adj HDD and NDD =0 for July and August"]
["2018-09-06",74,69,{"$f":"AVERAGE(KCITempAct[[#This Row],[KCIHigh]:[KCILow]]\n)","v":71.5},{"$f":"IF(KCITempAct[[#This Row],[KCIAve]]<65,(65-KCITempAct[[#This Row],[KCIAve]]),0)","v":0},{"$f":"IF(MONTH(KCITempAct[[#This Row],[Date]])=7,0,IF(MONTH(KCITempAct[[#This Row],[Date]])=8,0,KCITempAct[[#This Row],[KCIHDD]]))","v":0},{"$f":"SUMPRODUCT((KCINHDD[Month]=MONTH(KCITempAct[[#This Row],[Date]]))*(KCINHDD[Day]=DAY(KCITempAct[[#This Row],[Date]]))*KCINHDD[KCINHDD])","v":0.48333333333333334},{"$f":"IF(MONTH(KCITempAct[[#This Row],[Date]])=7,0,IF(MONTH(KCITempAct[[#This Row],[Date]])=8,0,KCITempAct[[#This Row],[KCINHDD]]))","v":0.48333333333333334},"Adj HDD and NDD =0 for July and August"]
["2018-09-07",70,64,{"$f":"AVERAGE(KCITempAct[[#This Row],[KCIHigh]:[KCILow]]\n)","v":67},{"$f":"IF(KCITempAct[[#This Row],[KCIAve]]<65,(65-KCITempAct[[#This Row],[KCIAve]]),0)","v":0},{"$f":"IF(MONTH(KCITempAct[[#This Row],[Date]])=7,0,IF(MONTH(KCITempAct[[#This Row],[Date]])=8,0,KCITempAct[[#This Row],[KCIHDD]]))","v":0},{"$f":"SUMPRODUCT((KCINHDD[Month]=MONTH(KCITempAct[[#This Row],[Date]]))*(KCINHDD[Day]=DAY(KCITempAct[[#This Row],[Date]]))*KCINHDD[KCINHDD])","v":0.38333333333333336},{"$f":"IF(MONTH(KCITempAct[[#This Row],[Date]])=7,0,IF(MONTH(KCITempAct[[#This Row],[Date]])=8,0,KCITempAct[[#This Row],[KCINHDD]]))","v":0.38333333333333336},"Adj HDD and NDD =0 for July and August"]
["2018-09-08",70,56,{"$f":"AVERAGE(KCITempAct[[#This Row],[KCIHigh]:[KCILow]]\n)","v":63},{"$f":"IF(KCITempAct[[#This Row],[KCIAve]]<65,(65-KCITempAct[[#This Row],[KCIAve]]),0)","v":2},{"$f":"IF(MONTH(KCITempAct[[#This Row],[Date]])=7,0,IF(MONTH(KCITempAct[[#This Row],[Date]])=8,0,KCITempAct[[#This Row],[KCIHDD]]))","v":2},{"$f":"SUMPRODUCT((KCINHDD[Month]=MONTH(KCITempAct[[#This Row],[Date]]))*(KCINHDD[Day]=DAY(KCITempAct[[#This Row],[Date]]))*KCINHDD[KCINHDD])","v":1.0666666666666667},{"$f":"IF(MONTH(KCITempAct[[#This Row],[Date]])=7,0,IF(MONTH(KCITempAct[[#This Row],[Date]])=8,0,KCITempAct[[#This Row],[KCINHDD]]))","v":1.0666666666666667},"Adj HDD and NDD =0 for July and August"]
["2018-09-09",76,52,{"$f":"AVERAGE(KCITempAct[[#This Row],[KCIHigh]:[KCILow]]\n)","v":64},{"$f":"IF(KCITempAct[[#This Row],[KCIAve]]<65,(65-KCITempAct[[#This Row],[KCIAve]]),0)","v":1},{"$f":"IF(MONTH(KCITempAct[[#This Row],[Date]])=7,0,IF(MONTH(KCITempAct[[#This Row],[Date]])=8,0,KCITempAct[[#This Row],[KCIHDD]]))","v":1},{"$f":"SUMPRODUCT((KCINHDD[Month]=MONTH(KCITempAct[[#This Row],[Date]]))*(KCINHDD[Day]=DAY(KCITempAct[[#This Row],[Date]]))*KCINHDD[KCINHDD])","v":0.96666666666666667},{"$f":"IF(MONTH(KCITempAct[[#This Row],[Date]])=7,0,IF(MONTH(KCITempAct[[#This Row],[Date]])=8,0,KCITempAct[[#This Row],[KCINHDD]]))","v":0.96666666666666667},"Adj HDD and NDD =0 for July and August"]
["2018-09-10",80,55,{"$f":"AVERAGE(KCITempAct[[#This Row],[KCIHigh]:[KCILow]]\n)","v":67.5},{"$f":"IF(KCITempAct[[#This Row],[KCIAve]]<65,(65-KCITempAct[[#This Row],[KCIAve]]),0)","v":0},{"$f":"IF(MONTH(KCITempAct[[#This Row],[Date]])=7,0,IF(MONTH(KCITempAct[[#This Row],[Date]])=8,0,KCITempAct[[#This Row],[KCIHDD]]))","v":0},{"$f":"SUMPRODUCT((KCINHDD[Month]=MONTH(KCITempAct[[#This Row],[Date]]))*(KCINHDD[Day]=DAY(KCITempAct[[#This Row],[Date]]))*KCINHDD[KCINHDD])","v":0.85},{"$f":"IF(MONTH(KCITempAct[[#This Row],[Date]])=7,0,IF(MONTH(KCITempAct[[#This Row],[Date]])=8,0,KCITempAct[[#This Row],[KCINHDD]]))","v":0.85},"Adj HDD and NDD =0 for July and August"]
["2018-09-11",81,59,{"$f":"AVERAGE(KCITempAct[[#This Row],[KCIHigh]:[KCILow]]\n)","v":70},{"$f":"IF(KCITempAct[[#This Row],[KCIAve]]<65,(65-KCITempAct[[#This Row],[KCIAve]]),0)","v":0},{"$f":"IF(MONTH(KCITempAct[[#This Row],[Date]])=7,0,IF(MONTH(KCITempAct[[#This Row],[Date]])=8,0,KCITempAct[[#This Row],[KCIHDD]]))","v":0},{"$f":"SUMPRODUCT((KCINHDD[Month]=MONTH(KCITempAct[[#This Row],[Date]]))*(KCINHDD[Day]=DAY(KCITempAct[[#This Row],[Date]]))*KCINHDD[KCINHDD])","v":0.8666666666666667},{"$f":"IF(MONTH(KCITempAct[[#This Row],[Date]])=7,0,IF(MONTH(KCITempAct[[#This Row],[Date]])=8,0,KCITempAct[[#This Row],[KCINHDD]]))","v":0.8666666666666667},"Adj HDD and NDD =0 for July and August"]
["2018-09-12",80,59,{"$f":"AVERAGE(KCITempAct[[#This Row],[KCIHigh]:[KCILow]]\n)","v":69.5},{"$f":"IF(KCITempAct[[#This Row],[KCIAve]]<65,(65-KCITempAct[[#This Row],[KCIAve]]),0)","v":0},{"$f":"IF(MONTH(KCITempAct[[#This Row],[Date]])=7,0,IF(MONTH(KCITempAct[[#This Row],[Date]])=8,0,KCITempAct[[#This Row],[KCIHDD]]))","v":0},{"$f":"SUMPRODUCT((KCINHDD[Month]=MONTH(KCITempAct[[#This Row],[Date]]))*(KCINHDD[Day]=DAY(KCITempAct[[#This Row],[Date]]))*KCINHDD[KCINHDD])","v":1.0166666666666666},{"$f":"IF(MONTH(KCITempAct[[#This Row],[Date]])=7,0,IF(MONTH(KCITempAct[[#This Row],[Date]])=8,0,KCITempAct[[#This Row],[KCINHDD]]))","v":1.0166666666666666},"Adj HDD and NDD =0 for July and August"]
["2018-09-13",83,64,{"$f":"AVERAGE(KCITempAct[[#This Row],[KCIHigh]:[KCILow]]\n)","v":73.5},{"$f":"IF(KCITempAct[[#This Row],[KCIAve]]<65,(65-KCITempAct[[#This Row],[KCIAve]]),0)","v":0},{"$f":"IF(MONTH(KCITempAct[[#This Row],[Date]])=7,0,IF(MONTH(KCITempAct[[#This Row],[Date]])=8,0,KCITempAct[[#This Row],[KCIHDD]]))","v":0},{"$f":"SUMPRODUCT((KCINHDD[Month]=MONTH(KCITempAct[[#This Row],[Date]]))*(KCINHDD[Day]=DAY(KCITempAct[[#This Row],[Date]]))*KCINHDD[KCINHDD])","v":1.1166666666666667},{"$f":"IF(MONTH(KCITempAct[[#This Row],[Date]])=7,0,IF(MONTH(KCITempAct[[#This Row],[Date]])=8,0,KCITempAct[[#This Row],[KCINHDD]]))","v":1.1166666666666667},"Adj HDD and NDD =0 for July and August"]
["2018-09-14",89,67,{"$f":"AVERAGE(KCITempAct[[#This Row],[KCIHigh]:[KCILow]]\n)","v":78},{"$f":"IF(KCITempAct[[#This Row],[KCIAve]]<65,(65-KCITempAct[[#This Row],[KCIAve]]),0)","v":0},{"$f":"IF(MONTH(KCITempAct[[#This Row],[Date]])=7,0,IF(MONTH(KCITempAct[[#This Row],[Date]])=8,0,KCITempAct[[#This Row],[KCIHDD]]))","v":0},{"$f":"SUMPRODUCT((KCINHDD[Month]=MONTH(KCITempAct[[#This Row],[Date]]))*(KCINHDD[Day]=DAY(KCITempAct[[#This Row],[Date]]))*KCINHDD[KCINHDD])","v":2.0333333333333332},{"$f":"IF(MONTH(KCITempAct[[#This Row],[Date]])=7,0,IF(MONTH(KCITempAct[[#This Row],[Date]])=8,0,KCITempAct[[#This Row],[KCINHDD]]))","v":2.0333333333333332},"Adj HDD and NDD =0 for July and August"]
["2018-09-15",91,69,{"$f":"AVERAGE(KCITempAct[[#This Row],[KCIHigh]:[KCILow]]\n)","v":80},{"$f":"IF(KCITempAct[[#This Row],[KCIAve]]<65,(65-KCITempAct[[#This Row],[KCIAve]]),0)","v":0},{"$f":"IF(MONTH(KCITempAct[[#This Row],[Date]])=7,0,IF(MONTH(KCITempAct[[#This Row],[Date]])=8,0,KCITempAct[[#This Row],[KCIHDD]]))","v":0},{"$f":"SUMPRODUCT((KCINHDD[Month]=MONTH(KCITempAct[[#This Row],[Date]]))*(KCINHDD[Day]=DAY(KCITempAct[[#This Row],[Date]]))*KCINHDD[KCINHDD])","v":2.5833333333333335},{"$f":"IF(MONTH(KCITempAct[[#This Row],[Date]])=7,0,IF(MONTH(KCITempAct[[#This Row],[Date]])=8,0,KCITempAct[[#This Row],[KCINHDD]]))","v":2.5833333333333335},"Adj HDD and NDD =0 for July and August"]
["2018-09-16",89,67,{"$f":"AVERAGE(KCITempAct[[#This Row],[KCIHigh]:[KCILow]]\n)","v":78},{"$f":"IF(KCITempAct[[#This Row],[KCIAve]]<65,(65-KCITempAct[[#This Row],[KCIAve]]),0)","v":0},{"$f":"IF(MONTH(KCITempAct[[#This Row],[Date]])=7,0,IF(MONTH(KCITempAct[[#This Row],[Date]])=8,0,KCITempAct[[#This Row],[KCIHDD]]))","v":0},{"$f":"SUMPRODUCT((KCINHDD[Month]=MONTH(KCITempAct[[#This Row],[Date]]))*(KCINHDD[Day]=DAY(KCITempAct[[#This Row],[Date]]))*KCINHDD[KCINHDD])","v":1.7166666666666666},{"$f":"IF(MONTH(KCITempAct[[#This Row],[Date]])=7,0,IF(MONTH(KCITempAct[[#This Row],[Date]])=8,0,KCITempAct[[#This Row],[KCINHDD]]))","v":1.7166666666666666},"Adj HDD and NDD =0 for July and August"]
["2018-09-17",90,68,{"$f":"AVERAGE(KCITempAct[[#This Row],[KCIHigh]:[KCILow]]\n)","v":79},{"$f":"IF(KCITempAct[[#This Row],[KCIAve]]<65,(65-KCITempAct[[#This Row],[KCIAve]]),0)","v":0},{"$f":"IF(MONTH(KCITempAct[[#This Row],[Date]])=7,0,IF(MONTH(KCITempAct[[#This Row],[Date]])=8,0,KCITempAct[[#This Row],[KCIHDD]]))","v":0},{"$f":"SUMPRODUCT((KCINHDD[Month]=MONTH(KCITempAct[[#This Row],[Date]]))*(KCINHDD[Day]=DAY(KCITempAct[[#This Row],[Date]]))*KCINHDD[KCINHDD])","v":0.96666666666666667},{"$f":"IF(MONTH(KCITempAct[[#This Row],[Date]])=7,0,IF(MONTH(KCITempAct[[#This Row],[Date]])=8,0,KCITempAct[[#This Row],[KCINHDD]]))","v":0.96666666666666667},"Adj HDD and NDD =0 for July and August"]
["2018-09-18",94,70,{"$f":"AVERAGE(KCITempAct[[#This Row],[KCIHigh]:[KCILow]]\n)","v":82},{"$f":"IF(KCITempAct[[#This Row],[KCIAve]]<65,(65-KCITempAct[[#This Row],[KCIAve]]),0)","v":0},{"$f":"IF(MONTH(KCITempAct[[#This Row],[Date]])=7,0,IF(MONTH(KCITempAct[[#This Row],[Date]])=8,0,KCITempAct[[#This Row],[KCIHDD]]))","v":0},{"$f":"SUMPRODUCT((KCINHDD[Month]=MONTH(KCITempAct[[#This Row],[Date]]))*(KCINHDD[Day]=DAY(KCITempAct[[#This Row],[Date]]))*KCINHDD[KCINHDD])","v":1.25},{"$f":"IF(MONTH(KCITempAct[[#This Row],[Date]])=7,0,IF(MONTH(KCITempAct[[#This Row],[Date]])=8,0,KCITempAct[[#This Row],[KCINHDD]]))","v":1.25},"Adj HDD and NDD =0 for July and August"]
["2018-09-19",94,70,{"$f":"AVERAGE(KCITempAct[[#This Row],[KCIHigh]:[KCILow]]\n)","v":82},{"$f":"IF(KCITempAct[[#This Row],[KCIAve]]<65,(65-KCITempAct[[#This Row],[KCIAve]]),0)","v":0},{"$f":"IF(MONTH(KCITempAct[[#This Row],[Date]])=7,0,IF(MONTH(KCITempAct[[#This Row],[Date]])=8,0,KCITempAct[[#This Row],[KCIHDD]]))","v":0},{"$f":"SUMPRODUCT((KCINHDD[Month]=MONTH(KCITempAct[[#This Row],[Date]]))*(KCINHDD[Day]=DAY(KCITempAct[[#This Row],[Date]]))*KCINHDD[KCINHDD])","v":1.6166666666666667},{"$f":"IF(MONTH(KCITempAct[[#This Row],[Date]])=7,0,IF(MONTH(KCITempAct[[#This Row],[Date]])=8,0,KCITempAct[[#This Row],[KCINHDD]]))","v":1.6166666666666667},"Adj HDD and NDD =0 for July and August"]
["2018-09-20",94,70,{"$f":"AVERAGE(KCITempAct[[#This Row],[KCIHigh]:[KCILow]]\n)","v":82},{"$f":"IF(KCITempAct[[#This Row],[KCIAve]]<65,(65-KCITempAct[[#This Row],[KCIAve]]),0)","v":0},{"$f":"IF(MONTH(KCITempAct[[#This Row],[Date]])=7,0,IF(MONTH(KCITempAct[[#This Row],[Date]])=8,0,KCITempAct[[#This Row],[KCIHDD]]))","v":0},{"$f":"SUMPRODUCT((KCINHDD[Month]=MONTH(KCITempAct[[#This Row],[Date]]))*(KCINHDD[Day]=DAY(KCITempAct[[#This Row],[Date]]))*KCINHDD[KCINHDD])","v":2.1},{"$f":"IF(MONTH(KCITempAct[[#This Row],[Date]])=7,0,IF(MONTH(KCITempAct[[#This Row],[Date]])=8,0,KCITempAct[[#This Row],[KCINHDD]]))","v":2.1},"Adj HDD and NDD =0 for July and August"]
["2018-09-21",70,54,{"$f":"AVERAGE(KCITempAct[[#This Row],[KCIHigh]:[KCILow]]\n)","v":62},{"$f":"IF(KCITempAct[[#This Row],[KCIAve]]<65,(65-KCITempAct[[#This Row],[KCIAve]]),0)","v":3},{"$f":"IF(MONTH(KCITempAct[[#This Row],[Date]])=7,0,IF(MONTH(KCITempAct[[#This Row],[Date]])=8,0,KCITempAct[[#This Row],[KCIHDD]]))","v":3},{"$f":"SUMPRODUCT((KCINHDD[Month]=MONTH(KCITempAct[[#This Row],[Date]]))*(KCINHDD[Day]=DAY(KCITempAct[[#This Row],[Date]]))*KCINHDD[KCINHDD])","v":2.4333333333333331},{"$f":"IF(MONTH(KCITempAct[[#This Row],[Date]])=7,0,IF(MONTH(KCITempAct[[#This Row],[Date]])=8,0,KCITempAct[[#This Row],[KCINHDD]]))","v":2.4333333333333331},"Adj HDD and NDD =0 for July and August"]
["2018-09-22",73,46,{"$f":"AVERAGE(KCITempAct[[#This Row],[KCIHigh]:[KCILow]]\n)","v":59.5},{"$f":"IF(KCITempAct[[#This Row],[KCIAve]]<65,(65-KCITempAct[[#This Row],[KCIAve]]),0)","v":5.5},{"$f":"IF(MONTH(KCITempAct[[#This Row],[Date]])=7,0,IF(MONTH(KCITempAct[[#This Row],[Date]])=8,0,KCITempAct[[#This Row],[KCIHDD]]))","v":5.5},{"$f":"SUMPRODUCT((KCINHDD[Month]=MONTH(KCITempAct[[#This Row],[Date]]))*(KCINHDD[Day]=DAY(KCITempAct[[#This Row],[Date]]))*KCINHDD[KCINHDD])","v":3.45},{"$f":"IF(MONTH(KCITempAct[[#This Row],[Date]])=7,0,IF(MONTH(KCITempAct[[#This Row],[Date]])=8,0,KCITempAct[[#This Row],[KCINHDD]]))","v":3.45},"Adj HDD and NDD =0 for July and August"]
["2018-09-23",79,50,{"$f":"AVERAGE(KCITempAct[[#This Row],[KCIHigh]:[KCILow]]\n)","v":64.5},{"$f":"IF(KCITempAct[[#This Row],[KCIAve]]<65,(65-KCITempAct[[#This Row],[KCIAve]]),0)","v":0.5},{"$f":"IF(MONTH(KCITempAct[[#This Row],[Date]])=7,0,IF(MONTH(KCITempAct[[#This Row],[Date]])=8,0,KCITempAct[[#This Row],[KCIHDD]]))","v":0.5},{"$f":"SUMPRODUCT((KCINHDD[Month]=MONTH(KCITempAct[[#This Row],[Date]]))*(KCINHDD[Day]=DAY(KCITempAct[[#This Row],[Date]]))*KCINHDD[KCINHDD])","v":3.3},{"$f":"IF(MONTH(KCITempAct[[#This Row],[Date]])=7,0,IF(MONTH(KCITempAct[[#This Row],[Date]])=8,0,KCITempAct[[#This Row],[KCINHDD]]))","v":3.3},"Adj HDD and NDD =0 for July and August"]
["2018-09-24",77,60,{"$f":"AVERAGE(KCITempAct[[#This Row],[KCIHigh]:[KCILow]]\n)","v":68.5},{"$f":"IF(KCITempAct[[#This Row],[KCIAve]]<65,(65-KCITempAct[[#This Row],[KCIAve]]),0)","v":0},{"$f":"IF(MONTH(KCITempAct[[#This Row],[Date]])=7,0,IF(MONTH(KCITempAct[[#This Row],[Date]])=8,0,KCITempAct[[#This Row],[KCIHDD]]))","v":0},{"$f":"SUMPRODUCT((KCINHDD[Month]=MONTH(KCITempAct[[#This Row],[Date]]))*(KCINHDD[Day]=DAY(KCITempAct[[#This Row],[Date]]))*KCINHDD[KCINHDD])","v":3.1833333333333331},{"$f":"IF(MONTH(KCITempAct[[#This Row],[Date]])=7,0,IF(MONTH(KCITempAct[[#This Row],[Date]])=8,0,KCITempAct[[#This Row],[KCINHDD]]))","v":3.1833333333333331},"Adj HDD and NDD =0 for July and August"]
["2018-09-25",79,50,{"$f":"AVERAGE(KCITempAct[[#This Row],[KCIHigh]:[KCILow]]\n)","v":64.5},{"$f":"IF(KCITempAct[[#This Row],[KCIAve]]<65,(65-KCITempAct[[#This Row],[KCIAve]]),0)","v":0.5},{"$f":"IF(MONTH(KCITempAct[[#This Row],[Date]])=7,0,IF(MONTH(KCITempAct[[#This Row],[Date]])=8,0,KCITempAct[[#This Row],[KCIHDD]]))","v":0.5},{"$f":"SUMPRODUCT((KCINHDD[Month]=MONTH(KCITempAct[[#This Row],[Date]]))*(KCINHDD[Day]=DAY(KCITempAct[[#This Row],[Date]]))*KCINHDD[KCINHDD])","v":2.95},{"$f":"IF(MONTH(KCITempAct[[#This Row],[Date]])=7,0,IF(MONTH(KCITempAct[[#This Row],[Date]])=8,0,KCITempAct[[#This Row],[KCINHDD]]))","v":2.95},"Adj HDD and NDD =0 for July and August"]
["2018-09-26",69,42,{"$f":"AVERAGE(KCITempAct[[#This Row],[KCIHigh]:[KCILow]]\n)","v":55.5},{"$f":"IF(KCITempAct[[#This Row],[KCIAve]]<65,(65-KCITempAct[[#This Row],[KCIAve]]),0)","v":9.5},{"$f":"IF(MONTH(KCITempAct[[#This Row],[Date]])=7,0,IF(MONTH(KCITempAct[[#This Row],[Date]])=8,0,KCITempAct[[#This Row],[KCIHDD]]))","v":9.5},{"$f":"SUMPRODUCT((KCINHDD[Month]=MONTH(KCITempAct[[#This Row],[Date]]))*(KCINHDD[Day]=DAY(KCITempAct[[#This Row],[Date]]))*KCINHDD[KCINHDD])","v":3.1333333333333333},{"$f":"IF(MONTH(KCITempAct[[#This Row],[Date]])=7,0,IF(MONTH(KCITempAct[[#This Row],[Date]])=8,0,KCITempAct[[#This Row],[KCINHDD]]))","v":3.1333333333333333},"Adj HDD and NDD =0 for July and August"]
["2018-09-27",73,40,{"$f":"AVERAGE(KCITempAct[[#This Row],[KCIHigh]:[KCILow]]\n)","v":56.5},{"$f":"IF(KCITempAct[[#This Row],[KCIAve]]<65,(65-KCITempAct[[#This Row],[KCIAve]]),0)","v":8.5},{"$f":"IF(MONTH(KCITempAct[[#This Row],[Date]])=7,0,IF(MONTH(KCITempAct[[#This Row],[Date]])=8,0,KCITempAct[[#This Row],[KCIHDD]]))","v":8.5},{"$f":"SUMPRODUCT((KCINHDD[Month]=MONTH(KCITempAct[[#This Row],[Date]]))*(KCINHDD[Day]=DAY(KCITempAct[[#This Row],[Date]]))*KCINHDD[KCINHDD])","v":3.0666666666666669},{"$f":"IF(MONTH(KCITempAct[[#This Row],[Date]])=7,0,IF(MONTH(KCITempAct[[#This Row],[Date]])=8,0,KCITempAct[[#This Row],[KCINHDD]]))","v":3.0666666666666669},"Adj HDD and NDD =0 for July and August"]
["2018-09-28",65,47,{"$f":"AVERAGE(KCITempAct[[#This Row],[KCIHigh]:[KCILow]]\n)","v":56},{"$f":"IF(KCITempAct[[#This Row],[KCIAve]]<65,(65-KCITempAct[[#This Row],[KCIAve]]),0)","v":9},{"$f":"IF(MONTH(KCITempAct[[#This Row],[Date]])=7,0,IF(MONTH(KCITempAct[[#This Row],[Date]])=8,0,KCITempAct[[#This Row],[KCIHDD]]))","v":9},{"$f":"SUMPRODUCT((KCINHDD[Month]=MONTH(KCITempAct[[#This Row],[Date]]))*(KCINHDD[Day]=DAY(KCITempAct[[#This Row],[Date]]))*KCINHDD[KCINHDD])","v":3.5666666666666669},{"$f":"IF(MONTH(KCITempAct[[#This Row],[Date]])=7,0,IF(MONTH(KCITempAct[[#This Row],[Date]])=8,0,KCITempAct[[#This Row],[KCINHDD]]))","v":3.5666666666666669},"Adj HDD and NDD =0 for July and August"]
["2018-09-29",69,46,{"$f":"AVERAGE(KCITempAct[[#This Row],[KCIHigh]:[KCILow]]\n)","v":57.5},{"$f":"IF(KCITempAct[[#This Row],[KCIAve]]<65,(65-KCITempAct[[#This Row],[KCIAve]]),0)","v":7.5},{"$f":"IF(MONTH(KCITempAct[[#This Row],[Date]])=7,0,IF(MONTH(KCITempAct[[#This Row],[Date]])=8,0,KCITempAct[[#This Row],[KCIHDD]]))","v":7.5},{"$f":"SUMPRODUCT((KCINHDD[Month]=MONTH(KCITempAct[[#This Row],[Date]]))*(KCINHDD[Day]=DAY(KCITempAct[[#This Row],[Date]]))*KCINHDD[KCINHDD])","v":4.2666666666666666},{"$f":"IF(MONTH(KCITempAct[[#This Row],[Date]])=7,0,IF(MONTH(KCITempAct[[#This Row],[Date]])=8,0,KCITempAct[[#This Row],[KCINHDD]]))","v":4.2666666666666666},"Adj HDD and NDD =0 for July and August"]
["2018-09-30",75,68,{"$f":"AVERAGE(KCITempAct[[#This Row],[KCIHigh]:[KCILow]]\n)","v":71.5},{"$f":"IF(KCITempAct[[#This Row],[KCIAve]]<65,(65-KCITempAct[[#This Row],[KCIAve]]),0)","v":0},{"$f":"IF(MONTH(KCITempAct[[#This Row],[Date]])=7,0,IF(MONTH(KCITempAct[[#This Row],[Date]])=8,0,KCITempAct[[#This Row],[KCIHDD]]))","v":0},{"$f":"SUMPRODUCT((KCINHDD[Month]=MONTH(KCITempAct[[#This Row],[Date]]))*(KCINHDD[Day]=DAY(KCITempAct[[#This Row],[Date]]))*KCINHDD[KCINHDD])","v":2.4166666666666665},{"$f":"IF(MONTH(KCITempAct[[#This Row],[Date]])=7,0,IF(MONTH(KCITempAct[[#This Row],[Date]])=8,0,KCITempAct[[#This Row],[KCINHDD]]))","v":2.4166666666666665},"Adj HDD and NDD =0 for July and August"]
["2018-10-01",81,61,{"$f":"AVERAGE(KCITempAct[[#This Row],[KCIHigh]:[KCILow]]\n)","v":71},{"$f":"IF(KCITempAct[[#This Row],[KCIAve]]<65,(65-KCITempAct[[#This Row],[KCIAve]]),0)","v":0},{"$f":"IF(MONTH(KCITempAct[[#This Row],[Date]])=7,0,IF(MONTH(KCITempAct[[#This Row],[Date]])=8,0,KCITempAct[[#This Row],[KCIHDD]]))","v":0},{"$f":"SUMPRODUCT((KCINHDD[Month]=MONTH(KCITempAct[[#This Row],[Date]]))*(KCINHDD[Day]=DAY(KCITempAct[[#This Row],[Date]]))*KCINHDD[KCINHDD])","v":2.95},{"$f":"IF(MONTH(KCITempAct[[#This Row],[Date]])=7,0,IF(MONTH(KCITempAct[[#This Row],[Date]])=8,0,KCITempAct[[#This Row],[KCINHDD]]))","v":2.95},"Adj HDD and NDD =0 for July and August"]
["2018-10-02",88,58,{"$f":"AVERAGE(KCITempAct[[#This Row],[KCIHigh]:[KCILow]]\n)","v":73},{"$f":"IF(KCITempAct[[#This Row],[KCIAve]]<65,(65-KCITempAct[[#This Row],[KCIAve]]),0)","v":0},{"$f":"IF(MONTH(KCITempAct[[#This Row],[Date]])=7,0,IF(MONTH(KCITempAct[[#This Row],[Date]])=8,0,KCITempAct[[#This Row],[KCIHDD]]))","v":0},{"$f":"SUMPRODUCT((KCINHDD[Month]=MONTH(KCITempAct[[#This Row],[Date]]))*(KCINHDD[Day]=DAY(KCITempAct[[#This Row],[Date]]))*KCINHDD[KCINHDD])","v":5.1833333333333336},{"$f":"IF(MONTH(KCITempAct[[#This Row],[Date]])=7,0,IF(MONTH(KCITempAct[[#This Row],[Date]])=8,0,KCITempAct[[#This Row],[KCINHDD]]))","v":5.1833333333333336},"Adj HDD and NDD =0 for July and August"]
["2018-10-03",91,65,{"$f":"AVERAGE(KCITempAct[[#This Row],[KCIHigh]:[KCILow]]\n)","v":78},{"$f":"IF(KCITempAct[[#This Row],[KCIAve]]<65,(65-KCITempAct[[#This Row],[KCIAve]]),0)","v":0},{"$f":"IF(MONTH(KCITempAct[[#This Row],[Date]])=7,0,IF(MONTH(KCITempAct[[#This Row],[Date]])=8,0,KCITempAct[[#This Row],[KCIHDD]]))","v":0},{"$f":"SUMPRODUCT((KCINHDD[Month]=MONTH(KCITempAct[[#This Row],[Date]]))*(KCINHDD[Day]=DAY(KCITempAct[[#This Row],[Date]]))*KCINHDD[KCINHDD])","v":5.2166666666666668},{"$f":"IF(MONTH(KCITempAct[[#This Row],[Date]])=7,0,IF(MONTH(KCITempAct[[#This Row],[Date]])=8,0,KCITempAct[[#This Row],[KCINHDD]]))","v":5.2166666666666668},"Adj HDD and NDD =0 for July and August"]
["2018-10-04",65,48,{"$f":"AVERAGE(KCITempAct[[#This Row],[KCIHigh]:[KCILow]]\n)","v":56.5},{"$f":"IF(KCITempAct[[#This Row],[KCIAve]]<65,(65-KCITempAct[[#This Row],[KCIAve]]),0)","v":8.5},{"$f":"IF(MONTH(KCITempAct[[#This Row],[Date]])=7,0,IF(MONTH(KCITempAct[[#This Row],[Date]])=8,0,KCITempAct[[#This Row],[KCIHDD]]))","v":8.5},{"$f":"SUMPRODUCT((KCINHDD[Month]=MONTH(KCITempAct[[#This Row],[Date]]))*(KCINHDD[Day]=DAY(KCITempAct[[#This Row],[Date]]))*KCINHDD[KCINHDD])","v":6.083333333333333},{"$f":"IF(MONTH(KCITempAct[[#This Row],[Date]])=7,0,IF(MONTH(KCITempAct[[#This Row],[Date]])=8,0,KCITempAct[[#This Row],[KCINHDD]]))","v":6.083333333333333},"Adj HDD and NDD =0 for July and August"]
["2018-10-05",78,53,{"$f":"AVERAGE(KCITempAct[[#This Row],[KCIHigh]:[KCILow]]\n)","v":65.5},{"$f":"IF(KCITempAct[[#This Row],[KCIAve]]<65,(65-KCITempAct[[#This Row],[KCIAve]]),0)","v":0},{"$f":"IF(MONTH(KCITempAct[[#This Row],[Date]])=7,0,IF(MONTH(KCITempAct[[#This Row],[Date]])=8,0,KCITempAct[[#This Row],[KCIHDD]]))","v":0},{"$f":"SUMPRODUCT((KCINHDD[Month]=MONTH(KCITempAct[[#This Row],[Date]]))*(KCINHDD[Day]=DAY(KCITempAct[[#This Row],[Date]]))*KCINHDD[KCINHDD])","v":5.9333333333333336},{"$f":"IF(MONTH(KCITempAct[[#This Row],[Date]])=7,0,IF(MONTH(KCITempAct[[#This Row],[Date]])=8,0,KCITempAct[[#This Row],[KCINHDD]]))","v":5.9333333333333336},"Adj HDD and NDD =0 for July and August"]
["2018-10-06",66,51,{"$f":"AVERAGE(KCITempAct[[#This Row],[KCIHigh]:[KCILow]]\n)","v":58.5},{"$f":"IF(KCITempAct[[#This Row],[KCIAve]]<65,(65-KCITempAct[[#This Row],[KCIAve]]),0)","v":6.5},{"$f":"IF(MONTH(KCITempAct[[#This Row],[Date]])=7,0,IF(MONTH(KCITempAct[[#This Row],[Date]])=8,0,KCITempAct[[#This Row],[KCIHDD]]))","v":6.5},{"$f":"SUMPRODUCT((KCINHDD[Month]=MONTH(KCITempAct[[#This Row],[Date]]))*(KCINHDD[Day]=DAY(KCITempAct[[#This Row],[Date]]))*KCINHDD[KCINHDD])","v":6.6833333333333336},{"$f":"IF(MONTH(KCITempAct[[#This Row],[Date]])=7,0,IF(MONTH(KCITempAct[[#This Row],[Date]])=8,0,KCITempAct[[#This Row],[KCINHDD]]))","v":6.6833333333333336},"Adj HDD and NDD =0 for July and August"]
["2018-10-07",67,51,{"$f":"AVERAGE(KCITempAct[[#This Row],[KCIHigh]:[KCILow]]\n)","v":59},{"$f":"IF(KCITempAct[[#This Row],[KCIAve]]<65,(65-KCITempAct[[#This Row],[KCIAve]]),0)","v":6},{"$f":"IF(MONTH(KCITempAct[[#This Row],[Date]])=7,0,IF(MONTH(KCITempAct[[#This Row],[Date]])=8,0,KCITempAct[[#This Row],[KCIHDD]]))","v":6},{"$f":"SUMPRODUCT((KCINHDD[Month]=MONTH(KCITempAct[[#This Row],[Date]]))*(KCINHDD[Day]=DAY(KCITempAct[[#This Row],[Date]]))*KCINHDD[KCINHDD])","v":6.95},{"$f":"IF(MONTH(KCITempAct[[#This Row],[Date]])=7,0,IF(MONTH(KCITempAct[[#This Row],[Date]])=8,0,KCITempAct[[#This Row],[KCINHDD]]))","v":6.95},"Adj HDD and NDD =0 for July and August"]
["2018-10-08",80,65,{"$f":"AVERAGE(KCITempAct[[#This Row],[KCIHigh]:[KCILow]]\n)","v":72.5},{"$f":"IF(KCITempAct[[#This Row],[KCIAve]]<65,(65-KCITempAct[[#This Row],[KCIAve]]),0)","v":0},{"$f":"IF(MONTH(KCITempAct[[#This Row],[Date]])=7,0,IF(MONTH(KCITempAct[[#This Row],[Date]])=8,0,KCITempAct[[#This Row],[KCIHDD]]))","v":0},{"$f":"SUMPRODUCT((KCINHDD[Month]=MONTH(KCITempAct[[#This Row],[Date]]))*(KCINHDD[Day]=DAY(KCITempAct[[#This Row],[Date]]))*KCINHDD[KCINHDD])","v":6.35},{"$f":"IF(MONTH(KCITempAct[[#This Row],[Date]])=7,0,IF(MONTH(KCITempAct[[#This Row],[Date]])=8,0,KCITempAct[[#This Row],[KCINHDD]]))","v":6.35},"Adj HDD and NDD =0 for July and August"]
["2018-10-09",73,64,{"$f":"AVERAGE(KCITempAct[[#This Row],[KCIHigh]:[KCILow]]\n)","v":68.5},{"$f":"IF(KCITempAct[[#This Row],[KCIAve]]<65,(65-KCITempAct[[#This Row],[KCIAve]]),0)","v":0},{"$f":"IF(MONTH(KCITempAct[[#This Row],[Date]])=7,0,IF(MONTH(KCITempAct[[#This Row],[Date]])=8,0,KCITempAct[[#This Row],[KCIHDD]]))","v":0},{"$f":"SUMPRODUCT((KCINHDD[Month]=MONTH(KCITempAct[[#This Row],[Date]]))*(KCINHDD[Day]=DAY(KCITempAct[[#This Row],[Date]]))*KCINHDD[KCINHDD])","v":6.2833333333333332},{"$f":"IF(MONTH(KCITempAct[[#This Row],[Date]])=7,0,IF(MONTH(KCITempAct[[#This Row],[Date]])=8,0,KCITempAct[[#This Row],[KCINHDD]]))","v":6.2833333333333332},"Adj HDD and NDD =0 for July and August"]
["2018-10-10",64,44,{"$f":"AVERAGE(KCITempAct[[#This Row],[KCIHigh]:[KCILow]]\n)","v":54},{"$f":"IF(KCITempAct[[#This Row],[KCIAve]]<65,(65-KCITempAct[[#This Row],[KCIAve]]),0)","v":11},{"$f":"IF(MONTH(KCITempAct[[#This Row],[Date]])=7,0,IF(MONTH(KCITempAct[[#This Row],[Date]])=8,0,KCITempAct[[#This Row],[KCIHDD]]))","v":11},{"$f":"SUMPRODUCT((KCINHDD[Month]=MONTH(KCITempAct[[#This Row],[Date]]))*(KCINHDD[Day]=DAY(KCITempAct[[#This Row],[Date]]))*KCINHDD[KCINHDD])","v":8.1666666666666661},{"$f":"IF(MONTH(KCITempAct[[#This Row],[Date]])=7,0,IF(MONTH(KCITempAct[[#This Row],[Date]])=8,0,KCITempAct[[#This Row],[KCINHDD]]))","v":8.1666666666666661},"Adj HDD and NDD =0 for July and August"]
["2018-10-11",54,38,{"$f":"AVERAGE(KCITempAct[[#This Row],[KCIHigh]:[KCILow]]\n)","v":46},{"$f":"IF(KCITempAct[[#This Row],[KCIAve]]<65,(65-KCITempAct[[#This Row],[KCIAve]]),0)","v":19},{"$f":"IF(MONTH(KCITempAct[[#This Row],[Date]])=7,0,IF(MONTH(KCITempAct[[#This Row],[Date]])=8,0,KCITempAct[[#This Row],[KCIHDD]]))","v":19},{"$f":"SUMPRODUCT((KCINHDD[Month]=MONTH(KCITempAct[[#This Row],[Date]]))*(KCINHDD[Day]=DAY(KCITempAct[[#This Row],[Date]]))*KCINHDD[KCINHDD])","v":8.1333333333333329},{"$f":"IF(MONTH(KCITempAct[[#This Row],[Date]])=7,0,IF(MONTH(KCITempAct[[#This Row],[Date]])=8,0,KCITempAct[[#This Row],[KCINHDD]]))","v":8.1333333333333329},"Adj HDD and NDD =0 for July and August"]
["2018-10-12",47,43,{"$f":"AVERAGE(KCITempAct[[#This Row],[KCIHigh]:[KCILow]]\n)","v":45},{"$f":"IF(KCITempAct[[#This Row],[KCIAve]]<65,(65-KCITempAct[[#This Row],[KCIAve]]),0)","v":20},{"$f":"IF(MONTH(KCITempAct[[#This Row],[Date]])=7,0,IF(MONTH(KCITempAct[[#This Row],[Date]])=8,0,KCITempAct[[#This Row],[KCIHDD]]))","v":20},{"$f":"SUMPRODUCT((KCINHDD[Month]=MONTH(KCITempAct[[#This Row],[Date]]))*(KCINHDD[Day]=DAY(KCITempAct[[#This Row],[Date]]))*KCINHDD[KCINHDD])","v":7.75},{"$f":"IF(MONTH(KCITempAct[[#This Row],[Date]])=7,0,IF(MONTH(KCITempAct[[#This Row],[Date]])=8,0,KCITempAct[[#This Row],[KCINHDD]]))","v":7.75},"Adj HDD and NDD =0 for July and August"]
["2018-10-13",56,38,{"$f":"AVERAGE(KCITempAct[[#This Row],[KCIHigh]:[KCILow]]\n)","v":47},{"$f":"IF(KCITempAct[[#This Row],[KCIAve]]<65,(65-KCITempAct[[#This Row],[KCIAve]]),0)","v":18},{"$f":"IF(MONTH(KCITempAct[[#This Row],[Date]])=7,0,IF(MONTH(KCITempAct[[#This Row],[Date]])=8,0,KCITempAct[[#This Row],[KCIHDD]]))","v":18},{"$f":"SUMPRODUCT((KCINHDD[Month]=MONTH(KCITempAct[[#This Row],[Date]]))*(KCINHDD[Day]=DAY(KCITempAct[[#This Row],[Date]]))*KCINHDD[KCINHDD])","v":8.3666666666666671},{"$f":"IF(MONTH(KCITempAct[[#This Row],[Date]])=7,0,IF(MONTH(KCITempAct[[#This Row],[Date]])=8,0,KCITempAct[[#This Row],[KCINHDD]]))","v":8.3666666666666671},"Adj HDD and NDD =0 for July and August"]
["2018-10-14",52,33,{"$f":"AVERAGE(KCITempAct[[#This Row],[KCIHigh]:[KCILow]]\n)","v":42.5},{"$f":"IF(KCITempAct[[#This Row],[KCIAve]]<65,(65-KCITempAct[[#This Row],[KCIAve]]),0)","v":22.5},{"$f":"IF(MONTH(KCITempAct[[#This Row],[Date]])=7,0,IF(MONTH(KCITempAct[[#This Row],[Date]])=8,0,KCITempAct[[#This Row],[KCIHDD]]))","v":22.5},{"$f":"SUMPRODUCT((KCINHDD[Month]=MONTH(KCITempAct[[#This Row],[Date]]))*(KCINHDD[Day]=DAY(KCITempAct[[#This Row],[Date]]))*KCINHDD[KCINHDD])","v":8.0500000000000007},{"$f":"IF(MONTH(KCITempAct[[#This Row],[Date]])=7,0,IF(MONTH(KCITempAct[[#This Row],[Date]])=8,0,KCITempAct[[#This Row],[KCINHDD]]))","v":8.0500000000000007},"Adj HDD and NDD =0 for July and August"]
["2018-10-15",47,30,{"$f":"AVERAGE(KCITempAct[[#This Row],[KCIHigh]:[KCILow]]\n)","v":38.5},{"$f":"IF(KCITempAct[[#This Row],[KCIAve]]<65,(65-KCITempAct[[#This Row],[KCIAve]]),0)","v":26.5},{"$f":"IF(MONTH(KCITempAct[[#This Row],[Date]])=7,0,IF(MONTH(KCITempAct[[#This Row],[Date]])=8,0,KCITempAct[[#This Row],[KCIHDD]]))","v":26.5},{"$f":"SUMPRODUCT((KCINHDD[Month]=MONTH(KCITempAct[[#This Row],[Date]]))*(KCINHDD[Day]=DAY(KCITempAct[[#This Row],[Date]]))*KCINHDD[KCINHDD])","v":9.6},{"$f":"IF(MONTH(KCITempAct[[#This Row],[Date]])=7,0,IF(MONTH(KCITempAct[[#This Row],[Date]])=8,0,KCITempAct[[#This Row],[KCINHDD]]))","v":9.6},"Adj HDD and NDD =0 for July and August"]
["2018-10-16",63,26,{"$f":"AVERAGE(KCITempAct[[#This Row],[KCIHigh]:[KCILow]]\n)","v":44.5},{"$f":"IF(KCITempAct[[#This Row],[KCIAve]]<65,(65-KCITempAct[[#This Row],[KCIAve]]),0)","v":20.5},{"$f":"IF(MONTH(KCITempAct[[#This Row],[Date]])=7,0,IF(MONTH(KCITempAct[[#This Row],[Date]])=8,0,KCITempAct[[#This Row],[KCIHDD]]))","v":20.5},{"$f":"SUMPRODUCT((KCINHDD[Month]=MONTH(KCITempAct[[#This Row],[Date]]))*(KCINHDD[Day]=DAY(KCITempAct[[#This Row],[Date]]))*KCINHDD[KCINHDD])","v":9.9499999999999993},{"$f":"IF(MONTH(KCITempAct[[#This Row],[Date]])=7,0,IF(MONTH(KCITempAct[[#This Row],[Date]])=8,0,KCITempAct[[#This Row],[KCINHDD]]))","v":9.9499999999999993},"Adj HDD and NDD =0 for July and August"]
["2018-10-17",68,38,{"$f":"AVERAGE(KCITempAct[[#This Row],[KCIHigh]:[KCILow]]\n)","v":53},{"$f":"IF(KCITempAct[[#This Row],[KCIAve]]<65,(65-KCITempAct[[#This Row],[KCIAve]]),0)","v":12},{"$f":"IF(MONTH(KCITempAct[[#This Row],[Date]])=7,0,IF(MONTH(KCITempAct[[#This Row],[Date]])=8,0,KCITempAct[[#This Row],[KCIHDD]]))","v":12},{"$f":"SUMPRODUCT((KCINHDD[Month]=MONTH(KCITempAct[[#This Row],[Date]]))*(KCINHDD[Day]=DAY(KCITempAct[[#This Row],[Date]]))*KCINHDD[KCINHDD])","v":9.4833333333333325},{"$f":"IF(MONTH(KCITempAct[[#This Row],[Date]])=7,0,IF(MONTH(KCITempAct[[#This Row],[Date]])=8,0,KCITempAct[[#This Row],[KCINHDD]]))","v":9.4833333333333325},"Adj HDD and NDD =0 for July and August"]
["2018-10-18",66,39,{"$f":"AVERAGE(KCITempAct[[#This Row],[KCIHigh]:[KCILow]]\n)","v":52.5},{"$f":"IF(KCITempAct[[#This Row],[KCIAve]]<65,(65-KCITempAct[[#This Row],[KCIAve]]),0)","v":12.5},{"$f":"IF(MONTH(KCITempAct[[#This Row],[Date]])=7,0,IF(MONTH(KCITempAct[[#This Row],[Date]])=8,0,KCITempAct[[#This Row],[KCIHDD]]))","v":12.5},{"$f":"SUMPRODUCT((KCINHDD[Month]=MONTH(KCITempAct[[#This Row],[Date]]))*(KCINHDD[Day]=DAY(KCITempAct[[#This Row],[Date]]))*KCINHDD[KCINHDD])","v":10.65},{"$f":"IF(MONTH(KCITempAct[[#This Row],[Date]])=7,0,IF(MONTH(KCITempAct[[#This Row],[Date]])=8,0,KCITempAct[[#This Row],[KCINHDD]]))","v":10.65},"Adj HDD and NDD =0 for July and August"]
["2018-10-19",66,51,{"$f":"AVERAGE(KCITempAct[[#This Row],[KCIHigh]:[KCILow]]\n)","v":58.5},{"$f":"IF(KCITempAct[[#This Row],[KCIAve]]<65,(65-KCITempAct[[#This Row],[KCIAve]]),0)","v":6.5},{"$f":"IF(MONTH(KCITempAct[[#This Row],[Date]])=7,0,IF(MONTH(KCITempAct[[#This Row],[Date]])=8,0,KCITempAct[[#This Row],[KCIHDD]]))","v":6.5},{"$f":"SUMPRODUCT((KCINHDD[Month]=MONTH(KCITempAct[[#This Row],[Date]]))*(KCINHDD[Day]=DAY(KCITempAct[[#This Row],[Date]]))*KCINHDD[KCINHDD])","v":10.8},{"$f":"IF(MONTH(KCITempAct[[#This Row],[Date]])=7,0,IF(MONTH(KCITempAct[[#This Row],[Date]])=8,0,KCITempAct[[#This Row],[KCINHDD]]))","v":10.8},"Adj HDD and NDD =0 for July and August"]
["2018-10-20",64,39,{"$f":"AVERAGE(KCITempAct[[#This Row],[KCIHigh]:[KCILow]]\n)","v":51.5},{"$f":"IF(KCITempAct[[#This Row],[KCIAve]]<65,(65-KCITempAct[[#This Row],[KCIAve]]),0)","v":13.5},{"$f":"IF(MONTH(KCITempAct[[#This Row],[Date]])=7,0,IF(MONTH(KCITempAct[[#This Row],[Date]])=8,0,KCITempAct[[#This Row],[KCIHDD]]))","v":13.5},{"$f":"SUMPRODUCT((KCINHDD[Month]=MONTH(KCITempAct[[#This Row],[Date]]))*(KCINHDD[Day]=DAY(KCITempAct[[#This Row],[Date]]))*KCINHDD[KCINHDD])","v":9.4666666666666668},{"$f":"IF(MONTH(KCITempAct[[#This Row],[Date]])=7,0,IF(MONTH(KCITempAct[[#This Row],[Date]])=8,0,KCITempAct[[#This Row],[KCINHDD]]))","v":9.4666666666666668},"Adj HDD and NDD =0 for July and August"]
["2018-10-21",64,29,{"$f":"AVERAGE(KCITempAct[[#This Row],[KCIHigh]:[KCILow]]\n)","v":46.5},{"$f":"IF(KCITempAct[[#This Row],[KCIAve]]<65,(65-KCITempAct[[#This Row],[KCIAve]]),0)","v":18.5},{"$f":"IF(MONTH(KCITempAct[[#This Row],[Date]])=7,0,IF(MONTH(KCITempAct[[#This Row],[Date]])=8,0,KCITempAct[[#This Row],[KCIHDD]]))","v":18.5},{"$f":"SUMPRODUCT((KCINHDD[Month]=MONTH(KCITempAct[[#This Row],[Date]]))*(KCINHDD[Day]=DAY(KCITempAct[[#This Row],[Date]]))*KCINHDD[KCINHDD])","v":9.7166666666666668},{"$f":"IF(MONTH(KCITempAct[[#This Row],[Date]])=7,0,IF(MONTH(KCITempAct[[#This Row],[Date]])=8,0,KCITempAct[[#This Row],[KCINHDD]]))","v":9.7166666666666668},"Adj HDD and NDD =0 for July and August"]
["2018-10-22",71,44,{"$f":"AVERAGE(KCITempAct[[#This Row],[KCIHigh]:[KCILow]]\n)","v":57.5},{"$f":"IF(KCITempAct[[#This Row],[KCIAve]]<65,(65-KCITempAct[[#This Row],[KCIAve]]),0)","v":7.5},{"$f":"IF(MONTH(KCITempAct[[#This Row],[Date]])=7,0,IF(MONTH(KCITempAct[[#This Row],[Date]])=8,0,KCITempAct[[#This Row],[KCIHDD]]))","v":7.5},{"$f":"SUMPRODUCT((KCINHDD[Month]=MONTH(KCITempAct[[#This Row],[Date]]))*(KCINHDD[Day]=DAY(KCITempAct[[#This Row],[Date]]))*KCINHDD[KCINHDD])","v":9.5},{"$f":"IF(MONTH(KCITempAct[[#This Row],[Date]])=7,0,IF(MONTH(KCITempAct[[#This Row],[Date]])=8,0,KCITempAct[[#This Row],[KCINHDD]]))","v":9.5},"Adj HDD and NDD =0 for July and August"]
["2018-10-23",65,43,{"$f":"AVERAGE(KCITempAct[[#This Row],[KCIHigh]:[KCILow]]\n)","v":54},{"$f":"IF(KCITempAct[[#This Row],[KCIAve]]<65,(65-KCITempAct[[#This Row],[KCIAve]]),0)","v":11},{"$f":"IF(MONTH(KCITempAct[[#This Row],[Date]])=7,0,IF(MONTH(KCITempAct[[#This Row],[Date]])=8,0,KCITempAct[[#This Row],[KCIHDD]]))","v":11},{"$f":"SUMPRODUCT((KCINHDD[Month]=MONTH(KCITempAct[[#This Row],[Date]]))*(KCINHDD[Day]=DAY(KCITempAct[[#This Row],[Date]]))*KCINHDD[KCINHDD])","v":11.066666666666666},{"$f":"IF(MONTH(KCITempAct[[#This Row],[Date]])=7,0,IF(MONTH(KCITempAct[[#This Row],[Date]])=8,0,KCITempAct[[#This Row],[KCINHDD]]))","v":11.066666666666666},"Adj HDD and NDD =0 for July and August"]
["2018-10-24",62,40,{"$f":"AVERAGE(KCITempAct[[#This Row],[KCIHigh]:[KCILow]]\n)","v":51},{"$f":"IF(KCITempAct[[#This Row],[KCIAve]]<65,(65-KCITempAct[[#This Row],[KCIAve]]),0)","v":14},{"$f":"IF(MONTH(KCITempAct[[#This Row],[Date]])=7,0,IF(MONTH(KCITempAct[[#This Row],[Date]])=8,0,KCITempAct[[#This Row],[KCIHDD]]))","v":14},{"$f":"SUMPRODUCT((KCINHDD[Month]=MONTH(KCITempAct[[#This Row],[Date]]))*(KCINHDD[Day]=DAY(KCITempAct[[#This Row],[Date]]))*KCINHDD[KCINHDD])","v":12.433333333333334},{"$f":"IF(MONTH(KCITempAct[[#This Row],[Date]])=7,0,IF(MONTH(KCITempAct[[#This Row],[Date]])=8,0,KCITempAct[[#This Row],[KCINHDD]]))","v":12.433333333333334},"Adj HDD and NDD =0 for July and August"]
["2018-10-25",51,46,{"$f":"AVERAGE(KCITempAct[[#This Row],[KCIHigh]:[KCILow]]\n)","v":48.5},{"$f":"IF(KCITempAct[[#This Row],[KCIAve]]<65,(65-KCITempAct[[#This Row],[KCIAve]]),0)","v":16.5},{"$f":"IF(MONTH(KCITempAct[[#This Row],[Date]])=7,0,IF(MONTH(KCITempAct[[#This Row],[Date]])=8,0,KCITempAct[[#This Row],[KCIHDD]]))","v":16.5},{"$f":"SUMPRODUCT((KCINHDD[Month]=MONTH(KCITempAct[[#This Row],[Date]]))*(KCINHDD[Day]=DAY(KCITempAct[[#This Row],[Date]]))*KCINHDD[KCINHDD])","v":12.15},{"$f":"IF(MONTH(KCITempAct[[#This Row],[Date]])=7,0,IF(MONTH(KCITempAct[[#This Row],[Date]])=8,0,KCITempAct[[#This Row],[KCINHDD]]))","v":12.15},"Adj HDD and NDD =0 for July and August"]
["2018-10-26",58,43,{"$f":"AVERAGE(KCITempAct[[#This Row],[KCIHigh]:[KCILow]]\n)","v":50.5},{"$f":"IF(KCITempAct[[#This Row],[KCIAve]]<65,(65-KCITempAct[[#This Row],[KCIAve]]),0)","v":14.5},{"$f":"IF(MONTH(KCITempAct[[#This Row],[Date]])=7,0,IF(MONTH(KCITempAct[[#This Row],[Date]])=8,0,KCITempAct[[#This Row],[KCIHDD]]))","v":14.5},{"$f":"SUMPRODUCT((KCINHDD[Month]=MONTH(KCITempAct[[#This Row],[Date]]))*(KCINHDD[Day]=DAY(KCITempAct[[#This Row],[Date]]))*KCINHDD[KCINHDD])","v":13.983333333333333},{"$f":"IF(MONTH(KCITempAct[[#This Row],[Date]])=7,0,IF(MONTH(KCITempAct[[#This Row],[Date]])=8,0,KCITempAct[[#This Row],[KCINHDD]]))","v":13.983333333333333},"Adj HDD and NDD =0 for July and August"]
["2018-10-27",72,40,{"$f":"AVERAGE(KCITempAct[[#This Row],[KCIHigh]:[KCILow]]\n)","v":56},{"$f":"IF(KCITempAct[[#This Row],[KCIAve]]<65,(65-KCITempAct[[#This Row],[KCIAve]]),0)","v":9},{"$f":"IF(MONTH(KCITempAct[[#This Row],[Date]])=7,0,IF(MONTH(KCITempAct[[#This Row],[Date]])=8,0,KCITempAct[[#This Row],[KCIHDD]]))","v":9},{"$f":"SUMPRODUCT((KCINHDD[Month]=MONTH(KCITempAct[[#This Row],[Date]]))*(KCINHDD[Day]=DAY(KCITempAct[[#This Row],[Date]]))*KCINHDD[KCINHDD])","v":15.2},{"$f":"IF(MONTH(KCITempAct[[#This Row],[Date]])=7,0,IF(MONTH(KCITempAct[[#This Row],[Date]])=8,0,KCITempAct[[#This Row],[KCINHDD]]))","v":15.2},"Adj HDD and NDD =0 for July and August"]
["2018-10-28",66,44,{"$f":"AVERAGE(KCITempAct[[#This Row],[KCIHigh]:[KCILow]]\n)","v":55},{"$f":"IF(KCITempAct[[#This Row],[KCIAve]]<65,(65-KCITempAct[[#This Row],[KCIAve]]),0)","v":10},{"$f":"IF(MONTH(KCITempAct[[#This Row],[Date]])=7,0,IF(MONTH(KCITempAct[[#This Row],[Date]])=8,0,KCITempAct[[#This Row],[KCIHDD]]))","v":10},{"$f":"SUMPRODUCT((KCINHDD[Month]=MONTH(KCITempAct[[#This Row],[Date]]))*(KCINHDD[Day]=DAY(KCITempAct[[#This Row],[Date]]))*KCINHDD[KCINHDD])","v":13.066666666666666},{"$f":"IF(MONTH(KCITempAct[[#This Row],[Date]])=7,0,IF(MONTH(KCITempAct[[#This Row],[Date]])=8,0,KCITempAct[[#This Row],[KCINHDD]]))","v":13.066666666666666},"Adj HDD and NDD =0 for July and August"]
["2018-10-29",72,40,{"$f":"AVERAGE(KCITempAct[[#This Row],[KCIHigh]:[KCILow]]\n)","v":56},{"$f":"IF(KCITempAct[[#This Row],[KCIAve]]<65,(65-KCITempAct[[#This Row],[KCIAve]]),0)","v":9},{"$f":"IF(MONTH(KCITempAct[[#This Row],[Date]])=7,0,IF(MONTH(KCITempAct[[#This Row],[Date]])=8,0,KCITempAct[[#This Row],[KCIHDD]]))","v":9},{"$f":"SUMPRODUCT((KCINHDD[Month]=MONTH(KCITempAct[[#This Row],[Date]]))*(KCINHDD[Day]=DAY(KCITempAct[[#This Row],[Date]]))*KCINHDD[KCINHDD])","v":12.483333333333333},{"$f":"IF(MONTH(KCITempAct[[#This Row],[Date]])=7,0,IF(MONTH(KCITempAct[[#This Row],[Date]])=8,0,KCITempAct[[#This Row],[KCINHDD]]))","v":12.483333333333333},"Adj HDD and NDD =0 for July and August"]
["2018-10-30",65,52,{"$f":"AVERAGE(KCITempAct[[#This Row],[KCIHigh]:[KCILow]]\n)","v":58.5},{"$f":"IF(KCITempAct[[#This Row],[KCIAve]]<65,(65-KCITempAct[[#This Row],[KCIAve]]),0)","v":6.5},{"$f":"IF(MONTH(KCITempAct[[#This Row],[Date]])=7,0,IF(MONTH(KCITempAct[[#This Row],[Date]])=8,0,KCITempAct[[#This Row],[KCIHDD]]))","v":6.5},{"$f":"SUMPRODUCT((KCINHDD[Month]=MONTH(KCITempAct[[#This Row],[Date]]))*(KCINHDD[Day]=DAY(KCITempAct[[#This Row],[Date]]))*KCINHDD[KCINHDD])","v":13.8},{"$f":"IF(MONTH(KCITempAct[[#This Row],[Date]])=7,0,IF(MONTH(KCITempAct[[#This Row],[Date]])=8,0,KCITempAct[[#This Row],[KCINHDD]]))","v":13.8},"Adj HDD and NDD =0 for July and August"]
["2018-10-31",58,44,{"$f":"AVERAGE(KCITempAct[[#This Row],[KCIHigh]:[KCILow]]\n)","v":51},{"$f":"IF(KCITempAct[[#This Row],[KCIAve]]<65,(65-KCITempAct[[#This Row],[KCIAve]]),0)","v":14},{"$f":"IF(MONTH(KCITempAct[[#This Row],[Date]])=7,0,IF(MONTH(KCITempAct[[#This Row],[Date]])=8,0,KCITempAct[[#This Row],[KCIHDD]]))","v":14},{"$f":"SUMPRODUCT((KCINHDD[Month]=MONTH(KCITempAct[[#This Row],[Date]]))*(KCINHDD[Day]=DAY(KCITempAct[[#This Row],[Date]]))*KCINHDD[KCINHDD])","v":16.666666666666668},{"$f":"IF(MONTH(KCITempAct[[#This Row],[Date]])=7,0,IF(MONTH(KCITempAct[[#This Row],[Date]])=8,0,KCITempAct[[#This Row],[KCINHDD]]))","v":16.666666666666668},"Adj HDD and NDD =0 for July and August"]
["2018-11-01",60,40,{"$f":"AVERAGE(KCITempAct[[#This Row],[KCIHigh]:[KCILow]]\n)","v":50},{"$f":"IF(KCITempAct[[#This Row],[KCIAve]]<65,(65-KCITempAct[[#This Row],[KCIAve]]),0)","v":15},{"$f":"IF(MONTH(KCITempAct[[#This Row],[Date]])=7,0,IF(MONTH(KCITempAct[[#This Row],[Date]])=8,0,KCITempAct[[#This Row],[KCIHDD]]))","v":15},{"$f":"SUMPRODUCT((KCINHDD[Month]=MONTH(KCITempAct[[#This Row],[Date]]))*(KCINHDD[Day]=DAY(KCITempAct[[#This Row],[Date]]))*KCINHDD[KCINHDD])","v":15.466666666666667},{"$f":"IF(MONTH(KCITempAct[[#This Row],[Date]])=7,0,IF(MONTH(KCITempAct[[#This Row],[Date]])=8,0,KCITempAct[[#This Row],[KCINHDD]]))","v":15.466666666666667},"Adj HDD and NDD =0 for July and August"]
["2018-11-02",53,40,{"$f":"AVERAGE(KCITempAct[[#This Row],[KCIHigh]:[KCILow]]\n)","v":46.5},{"$f":"IF(KCITempAct[[#This Row],[KCIAve]]<65,(65-KCITempAct[[#This Row],[KCIAve]]),0)","v":18.5},{"$f":"IF(MONTH(KCITempAct[[#This Row],[Date]])=7,0,IF(MONTH(KCITempAct[[#This Row],[Date]])=8,0,KCITempAct[[#This Row],[KCIHDD]]))","v":18.5},{"$f":"SUMPRODUCT((KCINHDD[Month]=MONTH(KCITempAct[[#This Row],[Date]]))*(KCINHDD[Day]=DAY(KCITempAct[[#This Row],[Date]]))*KCINHDD[KCINHDD])","v":17.433333333333334},{"$f":"IF(MONTH(KCITempAct[[#This Row],[Date]])=7,0,IF(MONTH(KCITempAct[[#This Row],[Date]])=8,0,KCITempAct[[#This Row],[KCINHDD]]))","v":17.433333333333334},"Adj HDD and NDD =0 for July and August"]
["2018-11-03",60,41,{"$f":"AVERAGE(KCITempAct[[#This Row],[KCIHigh]:[KCILow]]\n)","v":50.5},{"$f":"IF(KCITempAct[[#This Row],[KCIAve]]<65,(65-KCITempAct[[#This Row],[KCIAve]]),0)","v":14.5},{"$f":"IF(MONTH(KCITempAct[[#This Row],[Date]])=7,0,IF(MONTH(KCITempAct[[#This Row],[Date]])=8,0,KCITempAct[[#This Row],[KCIHDD]]))","v":14.5},{"$f":"SUMPRODUCT((KCINHDD[Month]=MONTH(KCITempAct[[#This Row],[Date]]))*(KCINHDD[Day]=DAY(KCITempAct[[#This Row],[Date]]))*KCINHDD[KCINHDD])","v":16.816666666666666},{"$f":"IF(MONTH(KCITempAct[[#This Row],[Date]])=7,0,IF(MONTH(KCITempAct[[#This Row],[Date]])=8,0,KCITempAct[[#This Row],[KCINHDD]]))","v":16.816666666666666},"Adj HDD and NDD =0 for July and August"]
["2018-11-04",51,34,{"$f":"AVERAGE(KCITempAct[[#This Row],[KCIHigh]:[KCILow]]\n)","v":42.5},{"$f":"IF(KCITempAct[[#This Row],[KCIAve]]<65,(65-KCITempAct[[#This Row],[KCIAve]]),0)","v":22.5},{"$f":"IF(MONTH(KCITempAct[[#This Row],[Date]])=7,0,IF(MONTH(KCITempAct[[#This Row],[Date]])=8,0,KCITempAct[[#This Row],[KCIHDD]]))","v":22.5},{"$f":"SUMPRODUCT((KCINHDD[Month]=MONTH(KCITempAct[[#This Row],[Date]]))*(KCINHDD[Day]=DAY(KCITempAct[[#This Row],[Date]]))*KCINHDD[KCINHDD])","v":17.166666666666668},{"$f":"IF(MONTH(KCITempAct[[#This Row],[Date]])=7,0,IF(MONTH(KCITempAct[[#This Row],[Date]])=8,0,KCITempAct[[#This Row],[KCINHDD]]))","v":17.166666666666668},"Adj HDD and NDD =0 for July and August"]
["2018-11-05",51,37,{"$f":"AVERAGE(KCITempAct[[#This Row],[KCIHigh]:[KCILow]]\n)","v":44},{"$f":"IF(KCITempAct[[#This Row],[KCIAve]]<65,(65-KCITempAct[[#This Row],[KCIAve]]),0)","v":21},{"$f":"IF(MONTH(KCITempAct[[#This Row],[Date]])=7,0,IF(MONTH(KCITempAct[[#This Row],[Date]])=8,0,KCITempAct[[#This Row],[KCIHDD]]))","v":21},{"$f":"SUMPRODUCT((KCINHDD[Month]=MONTH(KCITempAct[[#This Row],[Date]]))*(KCINHDD[Day]=DAY(KCITempAct[[#This Row],[Date]]))*KCINHDD[KCINHDD])","v":17.383333333333333},{"$f":"IF(MONTH(KCITempAct[[#This Row],[Date]])=7,0,IF(MONTH(KCITempAct[[#This Row],[Date]])=8,0,KCITempAct[[#This Row],[KCINHDD]]))","v":17.383333333333333},"Adj HDD and NDD =0 for July and August"]
["2018-11-06",51,32,{"$f":"AVERAGE(KCITempAct[[#This Row],[KCIHigh]:[KCILow]]\n)","v":41.5},{"$f":"IF(KCITempAct[[#This Row],[KCIAve]]<65,(65-KCITempAct[[#This Row],[KCIAve]]),0)","v":23.5},{"$f":"IF(MONTH(KCITempAct[[#This Row],[Date]])=7,0,IF(MONTH(KCITempAct[[#This Row],[Date]])=8,0,KCITempAct[[#This Row],[KCIHDD]]))","v":23.5},{"$f":"SUMPRODUCT((KCINHDD[Month]=MONTH(KCITempAct[[#This Row],[Date]]))*(KCINHDD[Day]=DAY(KCITempAct[[#This Row],[Date]]))*KCINHDD[KCINHDD])","v":18.55},{"$f":"IF(MONTH(KCITempAct[[#This Row],[Date]])=7,0,IF(MONTH(KCITempAct[[#This Row],[Date]])=8,0,KCITempAct[[#This Row],[KCINHDD]]))","v":18.55},"Adj HDD and NDD =0 for July and August"]
["2018-11-07",46,31,{"$f":"AVERAGE(KCITempAct[[#This Row],[KCIHigh]:[KCILow]]\n)","v":38.5},{"$f":"IF(KCITempAct[[#This Row],[KCIAve]]<65,(65-KCITempAct[[#This Row],[KCIAve]]),0)","v":26.5},{"$f":"IF(MONTH(KCITempAct[[#This Row],[Date]])=7,0,IF(MONTH(KCITempAct[[#This Row],[Date]])=8,0,KCITempAct[[#This Row],[KCIHDD]]))","v":26.5},{"$f":"SUMPRODUCT((KCINHDD[Month]=MONTH(KCITempAct[[#This Row],[Date]]))*(KCINHDD[Day]=DAY(KCITempAct[[#This Row],[Date]]))*KCINHDD[KCINHDD])","v":18.600000000000001},{"$f":"IF(MONTH(KCITempAct[[#This Row],[Date]])=7,0,IF(MONTH(KCITempAct[[#This Row],[Date]])=8,0,KCITempAct[[#This Row],[KCINHDD]]))","v":18.600000000000001},"Adj HDD and NDD =0 for July and August"]
["2018-11-08",36,27,{"$f":"AVERAGE(KCITempAct[[#This Row],[KCIHigh]:[KCILow]]\n)","v":31.5},{"$f":"IF(KCITempAct[[#This Row],[KCIAve]]<65,(65-KCITempAct[[#This Row],[KCIAve]]),0)","v":33.5},{"$f":"IF(MONTH(KCITempAct[[#This Row],[Date]])=7,0,IF(MONTH(KCITempAct[[#This Row],[Date]])=8,0,KCITempAct[[#This Row],[KCIHDD]]))","v":33.5},{"$f":"SUMPRODUCT((KCINHDD[Month]=MONTH(KCITempAct[[#This Row],[Date]]))*(KCINHDD[Day]=DAY(KCITempAct[[#This Row],[Date]]))*KCINHDD[KCINHDD])","v":18.333333333333332},{"$f":"IF(MONTH(KCITempAct[[#This Row],[Date]])=7,0,IF(MONTH(KCITempAct[[#This Row],[Date]])=8,0,KCITempAct[[#This Row],[KCINHDD]]))","v":18.333333333333332},"Adj HDD and NDD =0 for July and August"]
["2018-11-09",34,13,{"$f":"AVERAGE(KCITempAct[[#This Row],[KCIHigh]:[KCILow]]\n)","v":23.5},{"$f":"IF(KCITempAct[[#This Row],[KCIAve]]<65,(65-KCITempAct[[#This Row],[KCIAve]]),0)","v":41.5},{"$f":"IF(MONTH(KCITempAct[[#This Row],[Date]])=7,0,IF(MONTH(KCITempAct[[#This Row],[Date]])=8,0,KCITempAct[[#This Row],[KCIHDD]]))","v":41.5},{"$f":"SUMPRODUCT((KCINHDD[Month]=MONTH(KCITempAct[[#This Row],[Date]]))*(KCINHDD[Day]=DAY(KCITempAct[[#This Row],[Date]]))*KCINHDD[KCINHDD])","v":16.733333333333334},{"$f":"IF(MONTH(KCITempAct[[#This Row],[Date]])=7,0,IF(MONTH(KCITempAct[[#This Row],[Date]])=8,0,KCITempAct[[#This Row],[KCINHDD]]))","v":16.733333333333334},"Adj HDD and NDD =0 for July and August"]
["2018-11-10",36,9,{"$f":"AVERAGE(KCITempAct[[#This Row],[KCIHigh]:[KCILow]]\n)","v":22.5},{"$f":"IF(KCITempAct[[#This Row],[KCIAve]]<65,(65-KCITempAct[[#This Row],[KCIAve]]),0)","v":42.5},{"$f":"IF(MONTH(KCITempAct[[#This Row],[Date]])=7,0,IF(MONTH(KCITempAct[[#This Row],[Date]])=8,0,KCITempAct[[#This Row],[KCIHDD]]))","v":42.5},{"$f":"SUMPRODUCT((KCINHDD[Month]=MONTH(KCITempAct[[#This Row],[Date]]))*(KCINHDD[Day]=DAY(KCITempAct[[#This Row],[Date]]))*KCINHDD[KCINHDD])","v":19.783333333333335},{"$f":"IF(MONTH(KCITempAct[[#This Row],[Date]])=7,0,IF(MONTH(KCITempAct[[#This Row],[Date]])=8,0,KCITempAct[[#This Row],[KCINHDD]]))","v":19.783333333333335},"Adj HDD and NDD =0 for July and August"]
["2018-11-11",48,25,{"$f":"AVERAGE(KCITempAct[[#This Row],[KCIHigh]:[KCILow]]\n)","v":36.5},{"$f":"IF(KCITempAct[[#This Row],[KCIAve]]<65,(65-KCITempAct[[#This Row],[KCIAve]]),0)","v":28.5},{"$f":"IF(MONTH(KCITempAct[[#This Row],[Date]])=7,0,IF(MONTH(KCITempAct[[#This Row],[Date]])=8,0,KCITempAct[[#This Row],[KCIHDD]]))","v":28.5},{"$f":"SUMPRODUCT((KCINHDD[Month]=MONTH(KCITempAct[[#This Row],[Date]]))*(KCINHDD[Day]=DAY(KCITempAct[[#This Row],[Date]]))*KCINHDD[KCINHDD])","v":22.15},{"$f":"IF(MONTH(KCITempAct[[#This Row],[Date]])=7,0,IF(MONTH(KCITempAct[[#This Row],[Date]])=8,0,KCITempAct[[#This Row],[KCINHDD]]))","v":22.15},"Adj HDD and NDD =0 for July and August"]
["2018-11-12",32,17,{"$f":"AVERAGE(KCITempAct[[#This Row],[KCIHigh]:[KCILow]]\n)","v":24.5},{"$f":"IF(KCITempAct[[#This Row],[KCIAve]]<65,(65-KCITempAct[[#This Row],[KCIAve]]),0)","v":40.5},{"$f":"IF(MONTH(KCITempAct[[#This Row],[Date]])=7,0,IF(MONTH(KCITempAct[[#This Row],[Date]])=8,0,KCITempAct[[#This Row],[KCIHDD]]))","v":40.5},{"$f":"SUMPRODUCT((KCINHDD[Month]=MONTH(KCITempAct[[#This Row],[Date]]))*(KCINHDD[Day]=DAY(KCITempAct[[#This Row],[Date]]))*KCINHDD[KCINHDD])","v":22.6},{"$f":"IF(MONTH(KCITempAct[[#This Row],[Date]])=7,0,IF(MONTH(KCITempAct[[#This Row],[Date]])=8,0,KCITempAct[[#This Row],[KCINHDD]]))","v":22.6},"Adj HDD and NDD =0 for July and August"]
["2018-11-13",33,12,{"$f":"AVERAGE(KCITempAct[[#This Row],[KCIHigh]:[KCILow]]\n)","v":22.5},{"$f":"IF(KCITempAct[[#This Row],[KCIAve]]<65,(65-KCITempAct[[#This Row],[KCIAve]]),0)","v":42.5},{"$f":"IF(MONTH(KCITempAct[[#This Row],[Date]])=7,0,IF(MONTH(KCITempAct[[#This Row],[Date]])=8,0,KCITempAct[[#This Row],[KCIHDD]]))","v":42.5},{"$f":"SUMPRODUCT((KCINHDD[Month]=MONTH(KCITempAct[[#This Row],[Date]]))*(KCINHDD[Day]=DAY(KCITempAct[[#This Row],[Date]]))*KCINHDD[KCINHDD])","v":21.8},{"$f":"IF(MONTH(KCITempAct[[#This Row],[Date]])=7,0,IF(MONTH(KCITempAct[[#This Row],[Date]])=8,0,KCITempAct[[#This Row],[KCINHDD]]))","v":21.8},"Adj HDD and NDD =0 for July and August"]
["2018-11-14",39,15,{"$f":"AVERAGE(KCITempAct[[#This Row],[KCIHigh]:[KCILow]]\n)","v":27},{"$f":"IF(KCITempAct[[#This Row],[KCIAve]]<65,(65-KCITempAct[[#This Row],[KCIAve]]),0)","v":38},{"$f":"IF(MONTH(KCITempAct[[#This Row],[Date]])=7,0,IF(MONTH(KCITempAct[[#This Row],[Date]])=8,0,KCITempAct[[#This Row],[KCIHDD]]))","v":38},{"$f":"SUMPRODUCT((KCINHDD[Month]=MONTH(KCITempAct[[#This Row],[Date]]))*(KCINHDD[Day]=DAY(KCITempAct[[#This Row],[Date]]))*KCINHDD[KCINHDD])","v":20.316666666666666},{"$f":"IF(MONTH(KCITempAct[[#This Row],[Date]])=7,0,IF(MONTH(KCITempAct[[#This Row],[Date]])=8,0,KCITempAct[[#This Row],[KCINHDD]]))","v":20.316666666666666},"Adj HDD and NDD =0 for July and August"]
["2018-11-15",50,18,{"$f":"AVERAGE(KCITempAct[[#This Row],[KCIHigh]:[KCILow]]\n)","v":34},{"$f":"IF(KCITempAct[[#This Row],[KCIAve]]<65,(65-KCITempAct[[#This Row],[KCIAve]]),0)","v":31},{"$f":"IF(MONTH(KCITempAct[[#This Row],[Date]])=7,0,IF(MONTH(KCITempAct[[#This Row],[Date]])=8,0,KCITempAct[[#This Row],[KCIHDD]]))","v":31},{"$f":"SUMPRODUCT((KCINHDD[Month]=MONTH(KCITempAct[[#This Row],[Date]]))*(KCINHDD[Day]=DAY(KCITempAct[[#This Row],[Date]]))*KCINHDD[KCINHDD])","v":21.883333333333333},{"$f":"IF(MONTH(KCITempAct[[#This Row],[Date]])=7,0,IF(MONTH(KCITempAct[[#This Row],[Date]])=8,0,KCITempAct[[#This Row],[KCINHDD]]))","v":21.883333333333333},"Adj HDD and NDD =0 for July and August"]
["2018-11-16",57,30,{"$f":"AVERAGE(KCITempAct[[#This Row],[KCIHigh]:[KCILow]]\n)","v":43.5},{"$f":"IF(KCITempAct[[#This Row],[KCIAve]]<65,(65-KCITempAct[[#This Row],[KCIAve]]),0)","v":21.5},{"$f":"IF(MONTH(KCITempAct[[#This Row],[Date]])=7,0,IF(MONTH(KCITempAct[[#This Row],[Date]])=8,0,KCITempAct[[#This Row],[KCIHDD]]))","v":21.5},{"$f":"SUMPRODUCT((KCINHDD[Month]=MONTH(KCITempAct[[#This Row],[Date]]))*(KCINHDD[Day]=DAY(KCITempAct[[#This Row],[Date]]))*KCINHDD[KCINHDD])","v":20.916666666666668},{"$f":"IF(MONTH(KCITempAct[[#This Row],[Date]])=7,0,IF(MONTH(KCITempAct[[#This Row],[Date]])=8,0,KCITempAct[[#This Row],[KCINHDD]]))","v":20.916666666666668},"Adj HDD and NDD =0 for July and August"]
["2018-11-17",44,27,{"$f":"AVERAGE(KCITempAct[[#This Row],[KCIHigh]:[KCILow]]\n)","v":35.5},{"$f":"IF(KCITempAct[[#This Row],[KCIAve]]<65,(65-KCITempAct[[#This Row],[KCIAve]]),0)","v":29.5},{"$f":"IF(MONTH(KCITempAct[[#This Row],[Date]])=7,0,IF(MONTH(KCITempAct[[#This Row],[Date]])=8,0,KCITempAct[[#This Row],[KCIHDD]]))","v":29.5},{"$f":"SUMPRODUCT((KCINHDD[Month]=MONTH(KCITempAct[[#This Row],[Date]]))*(KCINHDD[Day]=DAY(KCITempAct[[#This Row],[Date]]))*KCINHDD[KCINHDD])","v":20.066666666666666},{"$f":"IF(MONTH(KCITempAct[[#This Row],[Date]])=7,0,IF(MONTH(KCITempAct[[#This Row],[Date]])=8,0,KCITempAct[[#This Row],[KCINHDD]]))","v":20.066666666666666},"Adj HDD and NDD =0 for July and August"]
["2018-11-18",34,23,{"$f":"AVERAGE(KCITempAct[[#This Row],[KCIHigh]:[KCILow]]\n)","v":28.5},{"$f":"IF(KCITempAct[[#This Row],[KCIAve]]<65,(65-KCITempAct[[#This Row],[KCIAve]]),0)","v":36.5},{"$f":"IF(MONTH(KCITempAct[[#This Row],[Date]])=7,0,IF(MONTH(KCITempAct[[#This Row],[Date]])=8,0,KCITempAct[[#This Row],[KCIHDD]]))","v":36.5},{"$f":"SUMPRODUCT((KCINHDD[Month]=MONTH(KCITempAct[[#This Row],[Date]]))*(KCINHDD[Day]=DAY(KCITempAct[[#This Row],[Date]]))*KCINHDD[KCINHDD])","v":20.8},{"$f":"IF(MONTH(KCITempAct[[#This Row],[Date]])=7,0,IF(MONTH(KCITempAct[[#This Row],[Date]])=8,0,KCITempAct[[#This Row],[KCINHDD]]))","v":20.8},"Adj HDD and NDD =0 for July and August"]
["2018-11-19",42,20,{"$f":"AVERAGE(KCITempAct[[#This Row],[KCIHigh]:[KCILow]]\n)","v":31},{"$f":"IF(KCITempAct[[#This Row],[KCIAve]]<65,(65-KCITempAct[[#This Row],[KCIAve]]),0)","v":34},{"$f":"IF(MONTH(KCITempAct[[#This Row],[Date]])=7,0,IF(MONTH(KCITempAct[[#This Row],[Date]])=8,0,KCITempAct[[#This Row],[KCIHDD]]))","v":34},{"$f":"SUMPRODUCT((KCINHDD[Month]=MONTH(KCITempAct[[#This Row],[Date]]))*(KCINHDD[Day]=DAY(KCITempAct[[#This Row],[Date]]))*KCINHDD[KCINHDD])","v":19.616666666666667},{"$f":"IF(MONTH(KCITempAct[[#This Row],[Date]])=7,0,IF(MONTH(KCITempAct[[#This Row],[Date]])=8,0,KCITempAct[[#This Row],[KCINHDD]]))","v":19.616666666666667},"Adj HDD and NDD =0 for July and August"]
["2018-11-20",45,18,{"$f":"AVERAGE(KCITempAct[[#This Row],[KCIHigh]:[KCILow]]\n)","v":31.5},{"$f":"IF(KCITempAct[[#This Row],[KCIAve]]<65,(65-KCITempAct[[#This Row],[KCIAve]]),0)","v":33.5},{"$f":"IF(MONTH(KCITempAct[[#This Row],[Date]])=7,0,IF(MONTH(KCITempAct[[#This Row],[Date]])=8,0,KCITempAct[[#This Row],[KCIHDD]]))","v":33.5},{"$f":"SUMPRODUCT((KCINHDD[Month]=MONTH(KCITempAct[[#This Row],[Date]]))*(KCINHDD[Day]=DAY(KCITempAct[[#This Row],[Date]]))*KCINHDD[KCINHDD])","v":21.8},{"$f":"IF(MONTH(KCITempAct[[#This Row],[Date]])=7,0,IF(MONTH(KCITempAct[[#This Row],[Date]])=8,0,KCITempAct[[#This Row],[KCINHDD]]))","v":21.8},"Adj HDD and NDD =0 for July and August"]
["2018-11-21",61,31,{"$f":"AVERAGE(KCITempAct[[#This Row],[KCIHigh]:[KCILow]]\n)","v":46},{"$f":"IF(KCITempAct[[#This Row],[KCIAve]]<65,(65-KCITempAct[[#This Row],[KCIAve]]),0)","v":19},{"$f":"IF(MONTH(KCITempAct[[#This Row],[Date]])=7,0,IF(MONTH(KCITempAct[[#This Row],[Date]])=8,0,KCITempAct[[#This Row],[KCIHDD]]))","v":19},{"$f":"SUMPRODUCT((KCINHDD[Month]=MONTH(KCITempAct[[#This Row],[Date]]))*(KCINHDD[Day]=DAY(KCITempAct[[#This Row],[Date]]))*KCINHDD[KCINHDD])","v":22.783333333333335},{"$f":"IF(MONTH(KCITempAct[[#This Row],[Date]])=7,0,IF(MONTH(KCITempAct[[#This Row],[Date]])=8,0,KCITempAct[[#This Row],[KCINHDD]]))","v":22.783333333333335},"Adj HDD and NDD =0 for July and August"]
["2018-11-22",63,39,{"$f":"AVERAGE(KCITempAct[[#This Row],[KCIHigh]:[KCILow]]\n)","v":51},{"$f":"IF(KCITempAct[[#This Row],[KCIAve]]<65,(65-KCITempAct[[#This Row],[KCIAve]]),0)","v":14},{"$f":"IF(MONTH(KCITempAct[[#This Row],[Date]])=7,0,IF(MONTH(KCITempAct[[#This Row],[Date]])=8,0,KCITempAct[[#This Row],[KCIHDD]]))","v":14},{"$f":"SUMPRODUCT((KCINHDD[Month]=MONTH(KCITempAct[[#This Row],[Date]]))*(KCINHDD[Day]=DAY(KCITempAct[[#This Row],[Date]]))*KCINHDD[KCINHDD])","v":22.95},{"$f":"IF(MONTH(KCITempAct[[#This Row],[Date]])=7,0,IF(MONTH(KCITempAct[[#This Row],[Date]])=8,0,KCITempAct[[#This Row],[KCINHDD]]))","v":22.95},"Adj HDD and NDD =0 for July and August"]
["2018-11-23",51,41,{"$f":"AVERAGE(KCITempAct[[#This Row],[KCIHigh]:[KCILow]]\n)","v":46},{"$f":"IF(KCITempAct[[#This Row],[KCIAve]]<65,(65-KCITempAct[[#This Row],[KCIAve]]),0)","v":19},{"$f":"IF(MONTH(KCITempAct[[#This Row],[Date]])=7,0,IF(MONTH(KCITempAct[[#This Row],[Date]])=8,0,KCITempAct[[#This Row],[KCIHDD]]))","v":19},{"$f":"SUMPRODUCT((KCINHDD[Month]=MONTH(KCITempAct[[#This Row],[Date]]))*(KCINHDD[Day]=DAY(KCITempAct[[#This Row],[Date]]))*KCINHDD[KCINHDD])","v":23.95},{"$f":"IF(MONTH(KCITempAct[[#This Row],[Date]])=7,0,IF(MONTH(KCITempAct[[#This Row],[Date]])=8,0,KCITempAct[[#This Row],[KCINHDD]]))","v":23.95},"Adj HDD and NDD =0 for July and August"]
["2018-11-24",61,33,{"$f":"AVERAGE(KCITempAct[[#This Row],[KCIHigh]:[KCILow]]\n)","v":47},{"$f":"IF(KCITempAct[[#This Row],[KCIAve]]<65,(65-KCITempAct[[#This Row],[KCIAve]]),0)","v":18},{"$f":"IF(MONTH(KCITempAct[[#This Row],[Date]])=7,0,IF(MONTH(KCITempAct[[#This Row],[Date]])=8,0,KCITempAct[[#This Row],[KCIHDD]]))","v":18},{"$f":"SUMPRODUCT((KCINHDD[Month]=MONTH(KCITempAct[[#This Row],[Date]]))*(KCINHDD[Day]=DAY(KCITempAct[[#This Row],[Date]]))*KCINHDD[KCINHDD])","v":25},{"$f":"IF(MONTH(KCITempAct[[#This Row],[Date]])=7,0,IF(MONTH(KCITempAct[[#This Row],[Date]])=8,0,KCITempAct[[#This Row],[KCINHDD]]))","v":25},"Adj HDD and NDD =0 for July and August"]
["2018-11-25",50,21,{"$f":"AVERAGE(KCITempAct[[#This Row],[KCIHigh]:[KCILow]]\n)","v":35.5},{"$f":"IF(KCITempAct[[#This Row],[KCIAve]]<65,(65-KCITempAct[[#This Row],[KCIAve]]),0)","v":29.5},{"$f":"IF(MONTH(KCITempAct[[#This Row],[Date]])=7,0,IF(MONTH(KCITempAct[[#This Row],[Date]])=8,0,KCITempAct[[#This Row],[KCIHDD]]))","v":29.5},{"$f":"SUMPRODUCT((KCINHDD[Month]=MONTH(KCITempAct[[#This Row],[Date]]))*(KCINHDD[Day]=DAY(KCITempAct[[#This Row],[Date]]))*KCINHDD[KCINHDD])","v":25.85},{"$f":"IF(MONTH(KCITempAct[[#This Row],[Date]])=7,0,IF(MONTH(KCITempAct[[#This Row],[Date]])=8,0,KCITempAct[[#This Row],[KCINHDD]]))","v":25.85},"Adj HDD and NDD =0 for July and August"]
["2018-11-26",27,16,{"$f":"AVERAGE(KCITempAct[[#This Row],[KCIHigh]:[KCILow]]\n)","v":21.5},{"$f":"IF(KCITempAct[[#This Row],[KCIAve]]<65,(65-KCITempAct[[#This Row],[KCIAve]]),0)","v":43.5},{"$f":"IF(MONTH(KCITempAct[[#This Row],[Date]])=7,0,IF(MONTH(KCITempAct[[#This Row],[Date]])=8,0,KCITempAct[[#This Row],[KCIHDD]]))","v":43.5},{"$f":"SUMPRODUCT((KCINHDD[Month]=MONTH(KCITempAct[[#This Row],[Date]]))*(KCINHDD[Day]=DAY(KCITempAct[[#This Row],[Date]]))*KCINHDD[KCINHDD])","v":24.583333333333332},{"$f":"IF(MONTH(KCITempAct[[#This Row],[Date]])=7,0,IF(MONTH(KCITempAct[[#This Row],[Date]])=8,0,KCITempAct[[#This Row],[KCINHDD]]))","v":24.583333333333332},"Adj HDD and NDD =0 for July and August"]
["2018-11-27",26,12,{"$f":"AVERAGE(KCITempAct[[#This Row],[KCIHigh]:[KCILow]]\n)","v":19},{"$f":"IF(KCITempAct[[#This Row],[KCIAve]]<65,(65-KCITempAct[[#This Row],[KCIAve]]),0)","v":46},{"$f":"IF(MONTH(KCITempAct[[#This Row],[Date]])=7,0,IF(MONTH(KCITempAct[[#This Row],[Date]])=8,0,KCITempAct[[#This Row],[KCIHDD]]))","v":46},{"$f":"SUMPRODUCT((KCINHDD[Month]=MONTH(KCITempAct[[#This Row],[Date]]))*(KCINHDD[Day]=DAY(KCITempAct[[#This Row],[Date]]))*KCINHDD[KCINHDD])","v":26.733333333333334},{"$f":"IF(MONTH(KCITempAct[[#This Row],[Date]])=7,0,IF(MONTH(KCITempAct[[#This Row],[Date]])=8,0,KCITempAct[[#This Row],[KCINHDD]]))","v":26.733333333333334},"Adj HDD and NDD =0 for July and August"]
["2018-11-28",36,19,{"$f":"AVERAGE(KCITempAct[[#This Row],[KCIHigh]:[KCILow]]\n)","v":27.5},{"$f":"IF(KCITempAct[[#This Row],[KCIAve]]<65,(65-KCITempAct[[#This Row],[KCIAve]]),0)","v":37.5},{"$f":"IF(MONTH(KCITempAct[[#This Row],[Date]])=7,0,IF(MONTH(KCITempAct[[#This Row],[Date]])=8,0,KCITempAct[[#This Row],[KCIHDD]]))","v":37.5},{"$f":"SUMPRODUCT((KCINHDD[Month]=MONTH(KCITempAct[[#This Row],[Date]]))*(KCINHDD[Day]=DAY(KCITempAct[[#This Row],[Date]]))*KCINHDD[KCINHDD])","v":24.916666666666668},{"$f":"IF(MONTH(KCITempAct[[#This Row],[Date]])=7,0,IF(MONTH(KCITempAct[[#This Row],[Date]])=8,0,KCITempAct[[#This Row],[KCINHDD]]))","v":24.916666666666668},"Adj HDD and NDD =0 for July and August"]
["2018-11-29",45,24,{"$f":"AVERAGE(KCITempAct[[#This Row],[KCIHigh]:[KCILow]]\n)","v":34.5},{"$f":"IF(KCITempAct[[#This Row],[KCIAve]]<65,(65-KCITempAct[[#This Row],[KCIAve]]),0)","v":30.5},{"$f":"IF(MONTH(KCITempAct[[#This Row],[Date]])=7,0,IF(MONTH(KCITempAct[[#This Row],[Date]])=8,0,KCITempAct[[#This Row],[KCIHDD]]))","v":30.5},{"$f":"SUMPRODUCT((KCINHDD[Month]=MONTH(KCITempAct[[#This Row],[Date]]))*(KCINHDD[Day]=DAY(KCITempAct[[#This Row],[Date]]))*KCINHDD[KCINHDD])","v":25},{"$f":"IF(MONTH(KCITempAct[[#This Row],[Date]])=7,0,IF(MONTH(KCITempAct[[#This Row],[Date]])=8,0,KCITempAct[[#This Row],[KCINHDD]]))","v":25},"Adj HDD and NDD =0 for July and August"]
["2018-11-30",41,27,{"$f":"AVERAGE(KCITempAct[[#This Row],[KCIHigh]:[KCILow]]\n)","v":34},{"$f":"IF(KCITempAct[[#This Row],[KCIAve]]<65,(65-KCITempAct[[#This Row],[KCIAve]]),0)","v":31},{"$f":"IF(MONTH(KCITempAct[[#This Row],[Date]])=7,0,IF(MONTH(KCITempAct[[#This Row],[Date]])=8,0,KCITempAct[[#This Row],[KCIHDD]]))","v":31},{"$f":"SUMPRODUCT((KCINHDD[Month]=MONTH(KCITempAct[[#This Row],[Date]]))*(KCINHDD[Day]=DAY(KCITempAct[[#This Row],[Date]]))*KCINHDD[KCINHDD])","v":27.8},{"$f":"IF(MONTH(KCITempAct[[#This Row],[Date]])=7,0,IF(MONTH(KCITempAct[[#This Row],[Date]])=8,0,KCITempAct[[#This Row],[KCINHDD]]))","v":27.8},"Adj HDD and NDD =0 for July and August"]
["2018-12-01",52,35,{"$f":"AVERAGE(KCITempAct[[#This Row],[KCIHigh]:[KCILow]]\n)","v":43.5},{"$f":"IF(KCITempAct[[#This Row],[KCIAve]]<65,(65-KCITempAct[[#This Row],[KCIAve]]),0)","v":21.5},{"$f":"IF(MONTH(KCITempAct[[#This Row],[Date]])=7,0,IF(MONTH(KCITempAct[[#This Row],[Date]])=8,0,KCITempAct[[#This Row],[KCIHDD]]))","v":21.5},{"$f":"SUMPRODUCT((KCINHDD[Month]=MONTH(KCITempAct[[#This Row],[Date]]))*(KCINHDD[Day]=DAY(KCITempAct[[#This Row],[Date]]))*KCINHDD[KCINHDD])","v":26.983333333333334},{"$f":"IF(MONTH(KCITempAct[[#This Row],[Date]])=7,0,IF(MONTH(KCITempAct[[#This Row],[Date]])=8,0,KCITempAct[[#This Row],[KCINHDD]]))","v":26.983333333333334},"Adj HDD and NDD =0 for July and August"]
["2018-12-02",36,30,{"$f":"AVERAGE(KCITempAct[[#This Row],[KCIHigh]:[KCILow]]\n)","v":33},{"$f":"IF(KCITempAct[[#This Row],[KCIAve]]<65,(65-KCITempAct[[#This Row],[KCIAve]]),0)","v":32},{"$f":"IF(MONTH(KCITempAct[[#This Row],[Date]])=7,0,IF(MONTH(KCITempAct[[#This Row],[Date]])=8,0,KCITempAct[[#This Row],[KCIHDD]]))","v":32},{"$f":"SUMPRODUCT((KCINHDD[Month]=MONTH(KCITempAct[[#This Row],[Date]]))*(KCINHDD[Day]=DAY(KCITempAct[[#This Row],[Date]]))*KCINHDD[KCINHDD])","v":25.366666666666667},{"$f":"IF(MONTH(KCITempAct[[#This Row],[Date]])=7,0,IF(MONTH(KCITempAct[[#This Row],[Date]])=8,0,KCITempAct[[#This Row],[KCINHDD]]))","v":25.366666666666667},"Adj HDD and NDD =0 for July and August"]
["2018-12-03",30,27,{"$f":"AVERAGE(KCITempAct[[#This Row],[KCIHigh]:[KCILow]]\n)","v":28.5},{"$f":"IF(KCITempAct[[#This Row],[KCIAve]]<65,(65-KCITempAct[[#This Row],[KCIAve]]),0)","v":36.5},{"$f":"IF(MONTH(KCITempAct[[#This Row],[Date]])=7,0,IF(MONTH(KCITempAct[[#This Row],[Date]])=8,0,KCITempAct[[#This Row],[KCIHDD]]))","v":36.5},{"$f":"SUMPRODUCT((KCINHDD[Month]=MONTH(KCITempAct[[#This Row],[Date]]))*(KCINHDD[Day]=DAY(KCITempAct[[#This Row],[Date]]))*KCINHDD[KCINHDD])","v":26.733333333333334},{"$f":"IF(MONTH(KCITempAct[[#This Row],[Date]])=7,0,IF(MONTH(KCITempAct[[#This Row],[Date]])=8,0,KCITempAct[[#This Row],[KCINHDD]]))","v":26.733333333333334},"Adj HDD and NDD =0 for July and August"]
["2018-12-04",29,25,{"$f":"AVERAGE(KCITempAct[[#This Row],[KCIHigh]:[KCILow]]\n)","v":27},{"$f":"IF(KCITempAct[[#This Row],[KCIAve]]<65,(65-KCITempAct[[#This Row],[KCIAve]]),0)","v":38},{"$f":"IF(MONTH(KCITempAct[[#This Row],[Date]])=7,0,IF(MONTH(KCITempAct[[#This Row],[Date]])=8,0,KCITempAct[[#This Row],[KCIHDD]]))","v":38},{"$f":"SUMPRODUCT((KCINHDD[Month]=MONTH(KCITempAct[[#This Row],[Date]]))*(KCINHDD[Day]=DAY(KCITempAct[[#This Row],[Date]]))*KCINHDD[KCINHDD])","v":28.15},{"$f":"IF(MONTH(KCITempAct[[#This Row],[Date]])=7,0,IF(MONTH(KCITempAct[[#This Row],[Date]])=8,0,KCITempAct[[#This Row],[KCINHDD]]))","v":28.15},"Adj HDD and NDD =0 for July and August"]
["2018-12-05",45,23,{"$f":"AVERAGE(KCITempAct[[#This Row],[KCIHigh]:[KCILow]]\n)","v":34},{"$f":"IF(KCITempAct[[#This Row],[KCIAve]]<65,(65-KCITempAct[[#This Row],[KCIAve]]),0)","v":31},{"$f":"IF(MONTH(KCITempAct[[#This Row],[Date]])=7,0,IF(MONTH(KCITempAct[[#This Row],[Date]])=8,0,KCITempAct[[#This Row],[KCIHDD]]))","v":31},{"$f":"SUMPRODUCT((KCINHDD[Month]=MONTH(KCITempAct[[#This Row],[Date]]))*(KCINHDD[Day]=DAY(KCITempAct[[#This Row],[Date]]))*KCINHDD[KCINHDD])","v":30.233333333333334},{"$f":"IF(MONTH(KCITempAct[[#This Row],[Date]])=7,0,IF(MONTH(KCITempAct[[#This Row],[Date]])=8,0,KCITempAct[[#This Row],[KCINHDD]]))","v":30.233333333333334},"Adj HDD and NDD =0 for July and August"]
["2018-12-06",39,18,{"$f":"AVERAGE(KCITempAct[[#This Row],[KCIHigh]:[KCILow]]\n)","v":28.5},{"$f":"IF(KCITempAct[[#This Row],[KCIAve]]<65,(65-KCITempAct[[#This Row],[KCIAve]]),0)","v":36.5},{"$f":"IF(MONTH(KCITempAct[[#This Row],[Date]])=7,0,IF(MONTH(KCITempAct[[#This Row],[Date]])=8,0,KCITempAct[[#This Row],[KCIHDD]]))","v":36.5},{"$f":"SUMPRODUCT((KCINHDD[Month]=MONTH(KCITempAct[[#This Row],[Date]]))*(KCINHDD[Day]=DAY(KCITempAct[[#This Row],[Date]]))*KCINHDD[KCINHDD])","v":31.733333333333334},{"$f":"IF(MONTH(KCITempAct[[#This Row],[Date]])=7,0,IF(MONTH(KCITempAct[[#This Row],[Date]])=8,0,KCITempAct[[#This Row],[KCINHDD]]))","v":31.733333333333334},"Adj HDD and NDD =0 for July and August"]
["2018-12-07",31,17,{"$f":"AVERAGE(KCITempAct[[#This Row],[KCIHigh]:[KCILow]]\n)","v":24},{"$f":"IF(KCITempAct[[#This Row],[KCIAve]]<65,(65-KCITempAct[[#This Row],[KCIAve]]),0)","v":41},{"$f":"IF(MONTH(KCITempAct[[#This Row],[Date]])=7,0,IF(MONTH(KCITempAct[[#This Row],[Date]])=8,0,KCITempAct[[#This Row],[KCIHDD]]))","v":41},{"$f":"SUMPRODUCT((KCINHDD[Month]=MONTH(KCITempAct[[#This Row],[Date]]))*(KCINHDD[Day]=DAY(KCITempAct[[#This Row],[Date]]))*KCINHDD[KCINHDD])","v":32.200000000000003},{"$f":"IF(MONTH(KCITempAct[[#This Row],[Date]])=7,0,IF(MONTH(KCITempAct[[#This Row],[Date]])=8,0,KCITempAct[[#This Row],[KCINHDD]]))","v":32.200000000000003},"Adj HDD and NDD =0 for July and August"]
["2018-12-08",35,19,{"$f":"AVERAGE(KCITempAct[[#This Row],[KCIHigh]:[KCILow]]\n)","v":27},{"$f":"IF(KCITempAct[[#This Row],[KCIAve]]<65,(65-KCITempAct[[#This Row],[KCIAve]]),0)","v":38},{"$f":"IF(MONTH(KCITempAct[[#This Row],[Date]])=7,0,IF(MONTH(KCITempAct[[#This Row],[Date]])=8,0,KCITempAct[[#This Row],[KCIHDD]]))","v":38},{"$f":"SUMPRODUCT((KCINHDD[Month]=MONTH(KCITempAct[[#This Row],[Date]]))*(KCINHDD[Day]=DAY(KCITempAct[[#This Row],[Date]]))*KCINHDD[KCINHDD])","v":31.333333333333332},{"$f":"IF(MONTH(KCITempAct[[#This Row],[Date]])=7,0,IF(MONTH(KCITempAct[[#This Row],[Date]])=8,0,KCITempAct[[#This Row],[KCINHDD]]))","v":31.333333333333332},"Adj HDD and NDD =0 for July and August"]
["2018-12-09",38,14,{"$f":"AVERAGE(KCITempAct[[#This Row],[KCIHigh]:[KCILow]]\n)","v":26},{"$f":"IF(KCITempAct[[#This Row],[KCIAve]]<65,(65-KCITempAct[[#This Row],[KCIAve]]),0)","v":39},{"$f":"IF(MONTH(KCITempAct[[#This Row],[Date]])=7,0,IF(MONTH(KCITempAct[[#This Row],[Date]])=8,0,KCITempAct[[#This Row],[KCIHDD]]))","v":39},{"$f":"SUMPRODUCT((KCINHDD[Month]=MONTH(KCITempAct[[#This Row],[Date]]))*(KCINHDD[Day]=DAY(KCITempAct[[#This Row],[Date]]))*KCINHDD[KCINHDD])","v":32.866666666666667},{"$f":"IF(MONTH(KCITempAct[[#This Row],[Date]])=7,0,IF(MONTH(KCITempAct[[#This Row],[Date]])=8,0,KCITempAct[[#This Row],[KCINHDD]]))","v":32.866666666666667},"Adj HDD and NDD =0 for July and August"]
["2018-12-10",43,16,{"$f":"AVERAGE(KCITempAct[[#This Row],[KCIHigh]:[KCILow]]\n)","v":29.5},{"$f":"IF(KCITempAct[[#This Row],[KCIAve]]<65,(65-KCITempAct[[#This Row],[KCIAve]]),0)","v":35.5},{"$f":"IF(MONTH(KCITempAct[[#This Row],[Date]])=7,0,IF(MONTH(KCITempAct[[#This Row],[Date]])=8,0,KCITempAct[[#This Row],[KCIHDD]]))","v":35.5},{"$f":"SUMPRODUCT((KCINHDD[Month]=MONTH(KCITempAct[[#This Row],[Date]]))*(KCINHDD[Day]=DAY(KCITempAct[[#This Row],[Date]]))*KCINHDD[KCINHDD])","v":32.266666666666666},{"$f":"IF(MONTH(KCITempAct[[#This Row],[Date]])=7,0,IF(MONTH(KCITempAct[[#This Row],[Date]])=8,0,KCITempAct[[#This Row],[KCINHDD]]))","v":32.266666666666666},"Adj HDD and NDD =0 for July and August"]
["2018-12-11",55,24,{"$f":"AVERAGE(KCITempAct[[#This Row],[KCIHigh]:[KCILow]]\n)","v":39.5},{"$f":"IF(KCITempAct[[#This Row],[KCIAve]]<65,(65-KCITempAct[[#This Row],[KCIAve]]),0)","v":25.5},{"$f":"IF(MONTH(KCITempAct[[#This Row],[Date]])=7,0,IF(MONTH(KCITempAct[[#This Row],[Date]])=8,0,KCITempAct[[#This Row],[KCIHDD]]))","v":25.5},{"$f":"SUMPRODUCT((KCINHDD[Month]=MONTH(KCITempAct[[#This Row],[Date]]))*(KCINHDD[Day]=DAY(KCITempAct[[#This Row],[Date]]))*KCINHDD[KCINHDD])","v":31.366666666666667},{"$f":"IF(MONTH(KCITempAct[[#This Row],[Date]])=7,0,IF(MONTH(KCITempAct[[#This Row],[Date]])=8,0,KCITempAct[[#This Row],[KCINHDD]]))","v":31.366666666666667},"Adj HDD and NDD =0 for July and August"]
["2018-12-12",51,23,{"$f":"AVERAGE(KCITempAct[[#This Row],[KCIHigh]:[KCILow]]\n)","v":37},{"$f":"IF(KCITempAct[[#This Row],[KCIAve]]<65,(65-KCITempAct[[#This Row],[KCIAve]]),0)","v":28},{"$f":"IF(MONTH(KCITempAct[[#This Row],[Date]])=7,0,IF(MONTH(KCITempAct[[#This Row],[Date]])=8,0,KCITempAct[[#This Row],[KCIHDD]]))","v":28},{"$f":"SUMPRODUCT((KCINHDD[Month]=MONTH(KCITempAct[[#This Row],[Date]]))*(KCINHDD[Day]=DAY(KCITempAct[[#This Row],[Date]]))*KCINHDD[KCINHDD])","v":30.233333333333334},{"$f":"IF(MONTH(KCITempAct[[#This Row],[Date]])=7,0,IF(MONTH(KCITempAct[[#This Row],[Date]])=8,0,KCITempAct[[#This Row],[KCINHDD]]))","v":30.233333333333334},"Adj HDD and NDD =0 for July and August"]
["2018-12-13",44,34,{"$f":"AVERAGE(KCITempAct[[#This Row],[KCIHigh]:[KCILow]]\n)","v":39},{"$f":"IF(KCITempAct[[#This Row],[KCIAve]]<65,(65-KCITempAct[[#This Row],[KCIAve]]),0)","v":26},{"$f":"IF(MONTH(KCITempAct[[#This Row],[Date]])=7,0,IF(MONTH(KCITempAct[[#This Row],[Date]])=8,0,KCITempAct[[#This Row],[KCIHDD]]))","v":26},{"$f":"SUMPRODUCT((KCINHDD[Month]=MONTH(KCITempAct[[#This Row],[Date]]))*(KCINHDD[Day]=DAY(KCITempAct[[#This Row],[Date]]))*KCINHDD[KCINHDD])","v":28.566666666666666},{"$f":"IF(MONTH(KCITempAct[[#This Row],[Date]])=7,0,IF(MONTH(KCITempAct[[#This Row],[Date]])=8,0,KCITempAct[[#This Row],[KCINHDD]]))","v":28.566666666666666},"Adj HDD and NDD =0 for July and August"]
["2018-12-14",46,29,{"$f":"AVERAGE(KCITempAct[[#This Row],[KCIHigh]:[KCILow]]\n)","v":37.5},{"$f":"IF(KCITempAct[[#This Row],[KCIAve]]<65,(65-KCITempAct[[#This Row],[KCIAve]]),0)","v":27.5},{"$f":"IF(MONTH(KCITempAct[[#This Row],[Date]])=7,0,IF(MONTH(KCITempAct[[#This Row],[Date]])=8,0,KCITempAct[[#This Row],[KCIHDD]]))","v":27.5},{"$f":"SUMPRODUCT((KCINHDD[Month]=MONTH(KCITempAct[[#This Row],[Date]]))*(KCINHDD[Day]=DAY(KCITempAct[[#This Row],[Date]]))*KCINHDD[KCINHDD])","v":30.1},{"$f":"IF(MONTH(KCITempAct[[#This Row],[Date]])=7,0,IF(MONTH(KCITempAct[[#This Row],[Date]])=8,0,KCITempAct[[#This Row],[KCINHDD]]))","v":30.1},"Adj HDD and NDD =0 for July and August"]
["2018-12-15",55,24,{"$f":"AVERAGE(KCITempAct[[#This Row],[KCIHigh]:[KCILow]]\n)","v":39.5},{"$f":"IF(KCITempAct[[#This Row],[KCIAve]]<65,(65-KCITempAct[[#This Row],[KCIAve]]),0)","v":25.5},{"$f":"IF(MONTH(KCITempAct[[#This Row],[Date]])=7,0,IF(MONTH(KCITempAct[[#This Row],[Date]])=8,0,KCITempAct[[#This Row],[KCIHDD]]))","v":25.5},{"$f":"SUMPRODUCT((KCINHDD[Month]=MONTH(KCITempAct[[#This Row],[Date]]))*(KCINHDD[Day]=DAY(KCITempAct[[#This Row],[Date]]))*KCINHDD[KCINHDD])","v":31.4},{"$f":"IF(MONTH(KCITempAct[[#This Row],[Date]])=7,0,IF(MONTH(KCITempAct[[#This Row],[Date]])=8,0,KCITempAct[[#This Row],[KCINHDD]]))","v":31.4},"Adj HDD and NDD =0 for July and August"]
["2018-12-16",56,26,{"$f":"AVERAGE(KCITempAct[[#This Row],[KCIHigh]:[KCILow]]\n)","v":41},{"$f":"IF(KCITempAct[[#This Row],[KCIAve]]<65,(65-KCITempAct[[#This Row],[KCIAve]]),0)","v":24},{"$f":"IF(MONTH(KCITempAct[[#This Row],[Date]])=7,0,IF(MONTH(KCITempAct[[#This Row],[Date]])=8,0,KCITempAct[[#This Row],[KCIHDD]]))","v":24},{"$f":"SUMPRODUCT((KCINHDD[Month]=MONTH(KCITempAct[[#This Row],[Date]]))*(KCINHDD[Day]=DAY(KCITempAct[[#This Row],[Date]]))*KCINHDD[KCINHDD])","v":31.716666666666665},{"$f":"IF(MONTH(KCITempAct[[#This Row],[Date]])=7,0,IF(MONTH(KCITempAct[[#This Row],[Date]])=8,0,KCITempAct[[#This Row],[KCINHDD]]))","v":31.716666666666665},"Adj HDD and NDD =0 for July and August"]
["2018-12-17",54,27,{"$f":"AVERAGE(KCITempAct[[#This Row],[KCIHigh]:[KCILow]]\n)","v":40.5},{"$f":"IF(KCITempAct[[#This Row],[KCIAve]]<65,(65-KCITempAct[[#This Row],[KCIAve]]),0)","v":24.5},{"$f":"IF(MONTH(KCITempAct[[#This Row],[Date]])=7,0,IF(MONTH(KCITempAct[[#This Row],[Date]])=8,0,KCITempAct[[#This Row],[KCIHDD]]))","v":24.5},{"$f":"SUMPRODUCT((KCINHDD[Month]=MONTH(KCITempAct[[#This Row],[Date]]))*(KCINHDD[Day]=DAY(KCITempAct[[#This Row],[Date]]))*KCINHDD[KCINHDD])","v":32.716666666666669},{"$f":"IF(MONTH(KCITempAct[[#This Row],[Date]])=7,0,IF(MONTH(KCITempAct[[#This Row],[Date]])=8,0,KCITempAct[[#This Row],[KCINHDD]]))","v":32.716666666666669},"Adj HDD and NDD =0 for July and August"]
["2018-12-18",58,29,{"$f":"AVERAGE(KCITempAct[[#This Row],[KCIHigh]:[KCILow]]\n)","v":43.5},{"$f":"IF(KCITempAct[[#This Row],[KCIAve]]<65,(65-KCITempAct[[#This Row],[KCIAve]]),0)","v":21.5},{"$f":"IF(MONTH(KCITempAct[[#This Row],[Date]])=7,0,IF(MONTH(KCITempAct[[#This Row],[Date]])=8,0,KCITempAct[[#This Row],[KCIHDD]]))","v":21.5},{"$f":"SUMPRODUCT((KCINHDD[Month]=MONTH(KCITempAct[[#This Row],[Date]]))*(KCINHDD[Day]=DAY(KCITempAct[[#This Row],[Date]]))*KCINHDD[KCINHDD])","v":31.9},{"$f":"IF(MONTH(KCITempAct[[#This Row],[Date]])=7,0,IF(MONTH(KCITempAct[[#This Row],[Date]])=8,0,KCITempAct[[#This Row],[KCINHDD]]))","v":31.9},"Adj HDD and NDD =0 for July and August"]
["2018-12-19",49,41,{"$f":"AVERAGE(KCITempAct[[#This Row],[KCIHigh]:[KCILow]]\n)","v":45},{"$f":"IF(KCITempAct[[#This Row],[KCIAve]]<65,(65-KCITempAct[[#This Row],[KCIAve]]),0)","v":20},{"$f":"IF(MONTH(KCITempAct[[#This Row],[Date]])=7,0,IF(MONTH(KCITempAct[[#This Row],[Date]])=8,0,KCITempAct[[#This Row],[KCIHDD]]))","v":20},{"$f":"SUMPRODUCT((KCINHDD[Month]=MONTH(KCITempAct[[#This Row],[Date]]))*(KCINHDD[Day]=DAY(KCITempAct[[#This Row],[Date]]))*KCINHDD[KCINHDD])","v":32.983333333333334},{"$f":"IF(MONTH(KCITempAct[[#This Row],[Date]])=7,0,IF(MONTH(KCITempAct[[#This Row],[Date]])=8,0,KCITempAct[[#This Row],[KCINHDD]]))","v":32.983333333333334},"Adj HDD and NDD =0 for July and August"]
["2018-12-20",41,31,{"$f":"AVERAGE(KCITempAct[[#This Row],[KCIHigh]:[KCILow]]\n)","v":36},{"$f":"IF(KCITempAct[[#This Row],[KCIAve]]<65,(65-KCITempAct[[#This Row],[KCIAve]]),0)","v":29},{"$f":"IF(MONTH(KCITempAct[[#This Row],[Date]])=7,0,IF(MONTH(KCITempAct[[#This Row],[Date]])=8,0,KCITempAct[[#This Row],[KCIHDD]]))","v":29},{"$f":"SUMPRODUCT((KCINHDD[Month]=MONTH(KCITempAct[[#This Row],[Date]]))*(KCINHDD[Day]=DAY(KCITempAct[[#This Row],[Date]]))*KCINHDD[KCINHDD])","v":32.43333333333333},{"$f":"IF(MONTH(KCITempAct[[#This Row],[Date]])=7,0,IF(MONTH(KCITempAct[[#This Row],[Date]])=8,0,KCITempAct[[#This Row],[KCINHDD]]))","v":32.43333333333333},"Adj HDD and NDD =0 for July and August"]
["2018-12-21",45,26,{"$f":"AVERAGE(KCITempAct[[#This Row],[KCIHigh]:[KCILow]]\n)","v":35.5},{"$f":"IF(KCITempAct[[#This Row],[KCIAve]]<65,(65-KCITempAct[[#This Row],[KCIAve]]),0)","v":29.5},{"$f":"IF(MONTH(KCITempAct[[#This Row],[Date]])=7,0,IF(MONTH(KCITempAct[[#This Row],[Date]])=8,0,KCITempAct[[#This Row],[KCIHDD]]))","v":29.5},{"$f":"SUMPRODUCT((KCINHDD[Month]=MONTH(KCITempAct[[#This Row],[Date]]))*(KCINHDD[Day]=DAY(KCITempAct[[#This Row],[Date]]))*KCINHDD[KCINHDD])","v":31.933333333333334},{"$f":"IF(MONTH(KCITempAct[[#This Row],[Date]])=7,0,IF(MONTH(KCITempAct[[#This Row],[Date]])=8,0,KCITempAct[[#This Row],[KCINHDD]]))","v":31.933333333333334},"Adj HDD and NDD =0 for July and August"]
["2018-12-22",47,30,{"$f":"AVERAGE(KCITempAct[[#This Row],[KCIHigh]:[KCILow]]\n)","v":38.5},{"$f":"IF(KCITempAct[[#This Row],[KCIAve]]<65,(65-KCITempAct[[#This Row],[KCIAve]]),0)","v":26.5},{"$f":"IF(MONTH(KCITempAct[[#This Row],[Date]])=7,0,IF(MONTH(KCITempAct[[#This Row],[Date]])=8,0,KCITempAct[[#This Row],[KCIHDD]]))","v":26.5},{"$f":"SUMPRODUCT((KCINHDD[Month]=MONTH(KCITempAct[[#This Row],[Date]]))*(KCINHDD[Day]=DAY(KCITempAct[[#This Row],[Date]]))*KCINHDD[KCINHDD])","v":34.25},{"$f":"IF(MONTH(KCITempAct[[#This Row],[Date]])=7,0,IF(MONTH(KCITempAct[[#This Row],[Date]])=8,0,KCITempAct[[#This Row],[KCINHDD]]))","v":34.25},"Adj HDD and NDD =0 for July and August"]
["2018-12-23",48,27,{"$f":"AVERAGE(KCITempAct[[#This Row],[KCIHigh]:[KCILow]]\n)","v":37.5},{"$f":"IF(KCITempAct[[#This Row],[KCIAve]]<65,(65-KCITempAct[[#This Row],[KCIAve]]),0)","v":27.5},{"$f":"IF(MONTH(KCITempAct[[#This Row],[Date]])=7,0,IF(MONTH(KCITempAct[[#This Row],[Date]])=8,0,KCITempAct[[#This Row],[KCIHDD]]))","v":27.5},{"$f":"SUMPRODUCT((KCINHDD[Month]=MONTH(KCITempAct[[#This Row],[Date]]))*(KCINHDD[Day]=DAY(KCITempAct[[#This Row],[Date]]))*KCINHDD[KCINHDD])","v":35.56666666666667},{"$f":"IF(MONTH(KCITempAct[[#This Row],[Date]])=7,0,IF(MONTH(KCITempAct[[#This Row],[Date]])=8,0,KCITempAct[[#This Row],[KCINHDD]]))","v":35.56666666666667},"Adj HDD and NDD =0 for July and August"]
["2018-12-24",47,26,{"$f":"AVERAGE(KCITempAct[[#This Row],[KCIHigh]:[KCILow]]\n)","v":36.5},{"$f":"IF(KCITempAct[[#This Row],[KCIAve]]<65,(65-KCITempAct[[#This Row],[KCIAve]]),0)","v":28.5},{"$f":"IF(MONTH(KCITempAct[[#This Row],[Date]])=7,0,IF(MONTH(KCITempAct[[#This Row],[Date]])=8,0,KCITempAct[[#This Row],[KCIHDD]]))","v":28.5},{"$f":"SUMPRODUCT((KCINHDD[Month]=MONTH(KCITempAct[[#This Row],[Date]]))*(KCINHDD[Day]=DAY(KCITempAct[[#This Row],[Date]]))*KCINHDD[KCINHDD])","v":38.18333333333333},{"$f":"IF(MONTH(KCITempAct[[#This Row],[Date]])=7,0,IF(MONTH(KCITempAct[[#This Row],[Date]])=8,0,KCITempAct[[#This Row],[KCINHDD]]))","v":38.18333333333333},"Adj HDD and NDD =0 for July and August"]
["2018-12-25",51,35,{"$f":"AVERAGE(KCITempAct[[#This Row],[KCIHigh]:[KCILow]]\n)","v":43},{"$f":"IF(KCITempAct[[#This Row],[KCIAve]]<65,(65-KCITempAct[[#This Row],[KCIAve]]),0)","v":22},{"$f":"IF(MONTH(KCITempAct[[#This Row],[Date]])=7,0,IF(MONTH(KCITempAct[[#This Row],[Date]])=8,0,KCITempAct[[#This Row],[KCIHDD]]))","v":22},{"$f":"SUMPRODUCT((KCINHDD[Month]=MONTH(KCITempAct[[#This Row],[Date]]))*(KCINHDD[Day]=DAY(KCITempAct[[#This Row],[Date]]))*KCINHDD[KCINHDD])","v":34.833333333333336},{"$f":"IF(MONTH(KCITempAct[[#This Row],[Date]])=7,0,IF(MONTH(KCITempAct[[#This Row],[Date]])=8,0,KCITempAct[[#This Row],[KCINHDD]]))","v":34.833333333333336},"Adj HDD and NDD =0 for July and August"]
["2018-12-26",50,38,{"$f":"AVERAGE(KCITempAct[[#This Row],[KCIHigh]:[KCILow]]\n)","v":44},{"$f":"IF(KCITempAct[[#This Row],[KCIAve]]<65,(65-KCITempAct[[#This Row],[KCIAve]]),0)","v":21},{"$f":"IF(MONTH(KCITempAct[[#This Row],[Date]])=7,0,IF(MONTH(KCITempAct[[#This Row],[Date]])=8,0,KCITempAct[[#This Row],[KCIHDD]]))","v":21},{"$f":"SUMPRODUCT((KCINHDD[Month]=MONTH(KCITempAct[[#This Row],[Date]]))*(KCINHDD[Day]=DAY(KCITempAct[[#This Row],[Date]]))*KCINHDD[KCINHDD])","v":32.5},{"$f":"IF(MONTH(KCITempAct[[#This Row],[Date]])=7,0,IF(MONTH(KCITempAct[[#This Row],[Date]])=8,0,KCITempAct[[#This Row],[KCINHDD]]))","v":32.5},"Adj HDD and NDD =0 for July and August"]
["2018-12-27",56,25,{"$f":"AVERAGE(KCITempAct[[#This Row],[KCIHigh]:[KCILow]]\n)","v":40.5},{"$f":"IF(KCITempAct[[#This Row],[KCIAve]]<65,(65-KCITempAct[[#This Row],[KCIAve]]),0)","v":24.5},{"$f":"IF(MONTH(KCITempAct[[#This Row],[Date]])=7,0,IF(MONTH(KCITempAct[[#This Row],[Date]])=8,0,KCITempAct[[#This Row],[KCIHDD]]))","v":24.5},{"$f":"SUMPRODUCT((KCINHDD[Month]=MONTH(KCITempAct[[#This Row],[Date]]))*(KCINHDD[Day]=DAY(KCITempAct[[#This Row],[Date]]))*KCINHDD[KCINHDD])","v":31.9},{"$f":"IF(MONTH(KCITempAct[[#This Row],[Date]])=7,0,IF(MONTH(KCITempAct[[#This Row],[Date]])=8,0,KCITempAct[[#This Row],[KCINHDD]]))","v":31.9},"Adj HDD and NDD =0 for July and August"]
["2018-12-28",26,17,{"$f":"AVERAGE(KCITempAct[[#This Row],[KCIHigh]:[KCILow]]\n)","v":21.5},{"$f":"IF(KCITempAct[[#This Row],[KCIAve]]<65,(65-KCITempAct[[#This Row],[KCIAve]]),0)","v":43.5},{"$f":"IF(MONTH(KCITempAct[[#This Row],[Date]])=7,0,IF(MONTH(KCITempAct[[#This Row],[Date]])=8,0,KCITempAct[[#This Row],[KCIHDD]]))","v":43.5},{"$f":"SUMPRODUCT((KCINHDD[Month]=MONTH(KCITempAct[[#This Row],[Date]]))*(KCINHDD[Day]=DAY(KCITempAct[[#This Row],[Date]]))*KCINHDD[KCINHDD])","v":32.266666666666666},{"$f":"IF(MONTH(KCITempAct[[#This Row],[Date]])=7,0,IF(MONTH(KCITempAct[[#This Row],[Date]])=8,0,KCITempAct[[#This Row],[KCINHDD]]))","v":32.266666666666666},"Adj HDD and NDD =0 for July and August"]
["2018-12-29",26,15,{"$f":"AVERAGE(KCITempAct[[#This Row],[KCIHigh]:[KCILow]]\n)","v":20.5},{"$f":"IF(KCITempAct[[#This Row],[KCIAve]]<65,(65-KCITempAct[[#This Row],[KCIAve]]),0)","v":44.5},{"$f":"IF(MONTH(KCITempAct[[#This Row],[Date]])=7,0,IF(MONTH(KCITempAct[[#This Row],[Date]])=8,0,KCITempAct[[#This Row],[KCIHDD]]))","v":44.5},{"$f":"SUMPRODUCT((KCINHDD[Month]=MONTH(KCITempAct[[#This Row],[Date]]))*(KCINHDD[Day]=DAY(KCITempAct[[#This Row],[Date]]))*KCINHDD[KCINHDD])","v":33.083333333333336},{"$f":"IF(MONTH(KCITempAct[[#This Row],[Date]])=7,0,IF(MONTH(KCITempAct[[#This Row],[Date]])=8,0,KCITempAct[[#This Row],[KCINHDD]]))","v":33.083333333333336},"Adj HDD and NDD =0 for July and August"]
["2018-12-30",44,19,{"$f":"AVERAGE(KCITempAct[[#This Row],[KCIHigh]:[KCILow]]\n)","v":31.5},{"$f":"IF(KCITempAct[[#This Row],[KCIAve]]<65,(65-KCITempAct[[#This Row],[KCIAve]]),0)","v":33.5},{"$f":"IF(MONTH(KCITempAct[[#This Row],[Date]])=7,0,IF(MONTH(KCITempAct[[#This Row],[Date]])=8,0,KCITempAct[[#This Row],[KCIHDD]]))","v":33.5},{"$f":"SUMPRODUCT((KCINHDD[Month]=MONTH(KCITempAct[[#This Row],[Date]]))*(KCINHDD[Day]=DAY(KCITempAct[[#This Row],[Date]]))*KCINHDD[KCINHDD])","v":32.366666666666667},{"$f":"IF(MONTH(KCITempAct[[#This Row],[Date]])=7,0,IF(MONTH(KCITempAct[[#This Row],[Date]])=8,0,KCITempAct[[#This Row],[KCINHDD]]))","v":32.366666666666667},"Adj HDD and NDD =0 for July and August"]
["2018-12-31",38,22,{"$f":"AVERAGE(KCITempAct[[#This Row],[KCIHigh]:[KCILow]]\n)","v":30},{"$f":"IF(KCITempAct[[#This Row],[KCIAve]]<65,(65-KCITempAct[[#This Row],[KCIAve]]),0)","v":35},{"$f":"IF(MONTH(KCITempAct[[#This Row],[Date]])=7,0,IF(MONTH(KCITempAct[[#This Row],[Date]])=8,0,KCITempAct[[#This Row],[KCIHDD]]))","v":35},{"$f":"SUMPRODUCT((KCINHDD[Month]=MONTH(KCITempAct[[#This Row],[Date]]))*(KCINHDD[Day]=DAY(KCITempAct[[#This Row],[Date]]))*KCINHDD[KCINHDD])","v":36.033333333333331},{"$f":"IF(MONTH(KCITempAct[[#This Row],[Date]])=7,0,IF(MONTH(KCITempAct[[#This Row],[Date]])=8,0,KCITempAct[[#This Row],[KCINHDD]]))","v":36.033333333333331},"Adj HDD and NDD =0 for July and August"]
["2019-01-01",23,17,{"$f":"AVERAGE(KCITempAct[[#This Row],[KCIHigh]:[KCILow]]\n)","v":20},{"$f":"IF(KCITempAct[[#This Row],[KCIAve]]<65,(65-KCITempAct[[#This Row],[KCIAve]]),0)","v":45},{"$f":"IF(MONTH(KCITempAct[[#This Row],[Date]])=7,0,IF(MONTH(KCITempAct[[#This Row],[Date]])=8,0,KCITempAct[[#This Row],[KCIHDD]]))","v":45},{"$f":"SUMPRODUCT((KCINHDD[Month]=MONTH(KCITempAct[[#This Row],[Date]]))*(KCINHDD[Day]=DAY(KCITempAct[[#This Row],[Date]]))*KCINHDD[KCINHDD])","v":36.4},{"$f":"IF(MONTH(KCITempAct[[#This Row],[Date]])=7,0,IF(MONTH(KCITempAct[[#This Row],[Date]])=8,0,KCITempAct[[#This Row],[KCINHDD]]))","v":36.4},"Adj HDD and NDD =0 for July and August"]
["2019-01-02",33,18,{"$f":"AVERAGE(KCITempAct[[#This Row],[KCIHigh]:[KCILow]]\n)","v":25.5},{"$f":"IF(KCITempAct[[#This Row],[KCIAve]]<65,(65-KCITempAct[[#This Row],[KCIAve]]),0)","v":39.5},{"$f":"IF(MONTH(KCITempAct[[#This Row],[Date]])=7,0,IF(MONTH(KCITempAct[[#This Row],[Date]])=8,0,KCITempAct[[#This Row],[KCIHDD]]))","v":39.5},{"$f":"SUMPRODUCT((KCINHDD[Month]=MONTH(KCITempAct[[#This Row],[Date]]))*(KCINHDD[Day]=DAY(KCITempAct[[#This Row],[Date]]))*KCINHDD[KCINHDD])","v":35.583333333333336},{"$f":"IF(MONTH(KCITempAct[[#This Row],[Date]])=7,0,IF(MONTH(KCITempAct[[#This Row],[Date]])=8,0,KCITempAct[[#This Row],[KCINHDD]]))","v":35.583333333333336},"Adj HDD and NDD =0 for July and August"]
["2019-01-03",47,19,{"$f":"AVERAGE(KCITempAct[[#This Row],[KCIHigh]:[KCILow]]\n)","v":33},{"$f":"IF(KCITempAct[[#This Row],[KCIAve]]<65,(65-KCITempAct[[#This Row],[KCIAve]]),0)","v":32},{"$f":"IF(MONTH(KCITempAct[[#This Row],[Date]])=7,0,IF(MONTH(KCITempAct[[#This Row],[Date]])=8,0,KCITempAct[[#This Row],[KCIHDD]]))","v":32},{"$f":"SUMPRODUCT((KCINHDD[Month]=MONTH(KCITempAct[[#This Row],[Date]]))*(KCINHDD[Day]=DAY(KCITempAct[[#This Row],[Date]]))*KCINHDD[KCINHDD])","v":35.616666666666667},{"$f":"IF(MONTH(KCITempAct[[#This Row],[Date]])=7,0,IF(MONTH(KCITempAct[[#This Row],[Date]])=8,0,KCITempAct[[#This Row],[KCINHDD]]))","v":35.616666666666667},"Adj HDD and NDD =0 for July and August"]
["2019-01-04",54,23,{"$f":"AVERAGE(KCITempAct[[#This Row],[KCIHigh]:[KCILow]]\n)","v":38.5},{"$f":"IF(KCITempAct[[#This Row],[KCIAve]]<65,(65-KCITempAct[[#This Row],[KCIAve]]),0)","v":26.5},{"$f":"IF(MONTH(KCITempAct[[#This Row],[Date]])=7,0,IF(MONTH(KCITempAct[[#This Row],[Date]])=8,0,KCITempAct[[#This Row],[KCIHDD]]))","v":26.5},{"$f":"SUMPRODUCT((KCINHDD[Month]=MONTH(KCITempAct[[#This Row],[Date]]))*(KCINHDD[Day]=DAY(KCITempAct[[#This Row],[Date]]))*KCINHDD[KCINHDD])","v":37.56666666666667},{"$f":"IF(MONTH(KCITempAct[[#This Row],[Date]])=7,0,IF(MONTH(KCITempAct[[#This Row],[Date]])=8,0,KCITempAct[[#This Row],[KCINHDD]]))","v":37.56666666666667},"Adj HDD and NDD =0 for July and August"]
["2019-01-05",58,29,{"$f":"AVERAGE(KCITempAct[[#This Row],[KCIHigh]:[KCILow]]\n)","v":43.5},{"$f":"IF(KCITempAct[[#This Row],[KCIAve]]<65,(65-KCITempAct[[#This Row],[KCIAve]]),0)","v":21.5},{"$f":"IF(MONTH(KCITempAct[[#This Row],[Date]])=7,0,IF(MONTH(KCITempAct[[#This Row],[Date]])=8,0,KCITempAct[[#This Row],[KCIHDD]]))","v":21.5},{"$f":"SUMPRODUCT((KCINHDD[Month]=MONTH(KCITempAct[[#This Row],[Date]]))*(KCINHDD[Day]=DAY(KCITempAct[[#This Row],[Date]]))*KCINHDD[KCINHDD])","v":36.75},{"$f":"IF(MONTH(KCITempAct[[#This Row],[Date]])=7,0,IF(MONTH(KCITempAct[[#This Row],[Date]])=8,0,KCITempAct[[#This Row],[KCINHDD]]))","v":36.75},"Adj HDD and NDD =0 for July and August"]
["2019-01-06",59,40,{"$f":"AVERAGE(KCITempAct[[#This Row],[KCIHigh]:[KCILow]]\n)","v":49.5},{"$f":"IF(KCITempAct[[#This Row],[KCIAve]]<65,(65-KCITempAct[[#This Row],[KCIAve]]),0)","v":15.5},{"$f":"IF(MONTH(KCITempAct[[#This Row],[Date]])=7,0,IF(MONTH(KCITempAct[[#This Row],[Date]])=8,0,KCITempAct[[#This Row],[KCIHDD]]))","v":15.5},{"$f":"SUMPRODUCT((KCINHDD[Month]=MONTH(KCITempAct[[#This Row],[Date]]))*(KCINHDD[Day]=DAY(KCITempAct[[#This Row],[Date]]))*KCINHDD[KCINHDD])","v":37.416666666666664},{"$f":"IF(MONTH(KCITempAct[[#This Row],[Date]])=7,0,IF(MONTH(KCITempAct[[#This Row],[Date]])=8,0,KCITempAct[[#This Row],[KCINHDD]]))","v":37.416666666666664},"Adj HDD and NDD =0 for July and August"]
["2019-01-07",61,38,{"$f":"AVERAGE(KCITempAct[[#This Row],[KCIHigh]:[KCILow]]\n)","v":49.5},{"$f":"IF(KCITempAct[[#This Row],[KCIAve]]<65,(65-KCITempAct[[#This Row],[KCIAve]]),0)","v":15.5},{"$f":"IF(MONTH(KCITempAct[[#This Row],[Date]])=7,0,IF(MONTH(KCITempAct[[#This Row],[Date]])=8,0,KCITempAct[[#This Row],[KCIHDD]]))","v":15.5},{"$f":"SUMPRODUCT((KCINHDD[Month]=MONTH(KCITempAct[[#This Row],[Date]]))*(KCINHDD[Day]=DAY(KCITempAct[[#This Row],[Date]]))*KCINHDD[KCINHDD])","v":37.016666666666666},{"$f":"IF(MONTH(KCITempAct[[#This Row],[Date]])=7,0,IF(MONTH(KCITempAct[[#This Row],[Date]])=8,0,KCITempAct[[#This Row],[KCINHDD]]))","v":37.016666666666666},"Adj HDD and NDD =0 for July and August"]
["2019-01-08",51,32,{"$f":"AVERAGE(KCITempAct[[#This Row],[KCIHigh]:[KCILow]]\n)","v":41.5},{"$f":"IF(KCITempAct[[#This Row],[KCIAve]]<65,(65-KCITempAct[[#This Row],[KCIAve]]),0)","v":23.5},{"$f":"IF(MONTH(KCITempAct[[#This Row],[Date]])=7,0,IF(MONTH(KCITempAct[[#This Row],[Date]])=8,0,KCITempAct[[#This Row],[KCIHDD]]))","v":23.5},{"$f":"SUMPRODUCT((KCINHDD[Month]=MONTH(KCITempAct[[#This Row],[Date]]))*(KCINHDD[Day]=DAY(KCITempAct[[#This Row],[Date]]))*KCINHDD[KCINHDD])","v":34.483333333333334},{"$f":"IF(MONTH(KCITempAct[[#This Row],[Date]])=7,0,IF(MONTH(KCITempAct[[#This Row],[Date]])=8,0,KCITempAct[[#This Row],[KCINHDD]]))","v":34.483333333333334},"Adj HDD and NDD =0 for July and August"]
["2019-01-09",38,22,{"$f":"AVERAGE(KCITempAct[[#This Row],[KCIHigh]:[KCILow]]\n)","v":30},{"$f":"IF(KCITempAct[[#This Row],[KCIAve]]<65,(65-KCITempAct[[#This Row],[KCIAve]]),0)","v":35},{"$f":"IF(MONTH(KCITempAct[[#This Row],[Date]])=7,0,IF(MONTH(KCITempAct[[#This Row],[Date]])=8,0,KCITempAct[[#This Row],[KCIHDD]]))","v":35},{"$f":"SUMPRODUCT((KCINHDD[Month]=MONTH(KCITempAct[[#This Row],[Date]]))*(KCINHDD[Day]=DAY(KCITempAct[[#This Row],[Date]]))*KCINHDD[KCINHDD])","v":35.333333333333336},{"$f":"IF(MONTH(KCITempAct[[#This Row],[Date]])=7,0,IF(MONTH(KCITempAct[[#This Row],[Date]])=8,0,KCITempAct[[#This Row],[KCINHDD]]))","v":35.333333333333336},"Adj HDD and NDD =0 for July and August"]
["2019-01-10",39,19,{"$f":"AVERAGE(KCITempAct[[#This Row],[KCIHigh]:[KCILow]]\n)","v":29},{"$f":"IF(KCITempAct[[#This Row],[KCIAve]]<65,(65-KCITempAct[[#This Row],[KCIAve]]),0)","v":36},{"$f":"IF(MONTH(KCITempAct[[#This Row],[Date]])=7,0,IF(MONTH(KCITempAct[[#This Row],[Date]])=8,0,KCITempAct[[#This Row],[KCIHDD]]))","v":36},{"$f":"SUMPRODUCT((KCINHDD[Month]=MONTH(KCITempAct[[#This Row],[Date]]))*(KCINHDD[Day]=DAY(KCITempAct[[#This Row],[Date]]))*KCINHDD[KCINHDD])","v":35.466666666666669},{"$f":"IF(MONTH(KCITempAct[[#This Row],[Date]])=7,0,IF(MONTH(KCITempAct[[#This Row],[Date]])=8,0,KCITempAct[[#This Row],[KCINHDD]]))","v":35.466666666666669},"Adj HDD and NDD =0 for July and August"]
["2019-01-11",39,32,{"$f":"AVERAGE(KCITempAct[[#This Row],[KCIHigh]:[KCILow]]\n)","v":35.5},{"$f":"IF(KCITempAct[[#This Row],[KCIAve]]<65,(65-KCITempAct[[#This Row],[KCIAve]]),0)","v":29.5},{"$f":"IF(MONTH(KCITempAct[[#This Row],[Date]])=7,0,IF(MONTH(KCITempAct[[#This Row],[Date]])=8,0,KCITempAct[[#This Row],[KCIHDD]]))","v":29.5},{"$f":"SUMPRODUCT((KCINHDD[Month]=MONTH(KCITempAct[[#This Row],[Date]]))*(KCINHDD[Day]=DAY(KCITempAct[[#This Row],[Date]]))*KCINHDD[KCINHDD])","v":33.033333333333331},{"$f":"IF(MONTH(KCITempAct[[#This Row],[Date]])=7,0,IF(MONTH(KCITempAct[[#This Row],[Date]])=8,0,KCITempAct[[#This Row],[KCINHDD]]))","v":33.033333333333331},"Adj HDD and NDD =0 for July and August"]
["2019-01-12",32,29,{"$f":"AVERAGE(KCITempAct[[#This Row],[KCIHigh]:[KCILow]]\n)","v":30.5},{"$f":"IF(KCITempAct[[#This Row],[KCIAve]]<65,(65-KCITempAct[[#This Row],[KCIAve]]),0)","v":34.5},{"$f":"IF(MONTH(KCITempAct[[#This Row],[Date]])=7,0,IF(MONTH(KCITempAct[[#This Row],[Date]])=8,0,KCITempAct[[#This Row],[KCIHDD]]))","v":34.5},{"$f":"SUMPRODUCT((KCINHDD[Month]=MONTH(KCITempAct[[#This Row],[Date]]))*(KCINHDD[Day]=DAY(KCITempAct[[#This Row],[Date]]))*KCINHDD[KCINHDD])","v":35.31666666666667},{"$f":"IF(MONTH(KCITempAct[[#This Row],[Date]])=7,0,IF(MONTH(KCITempAct[[#This Row],[Date]])=8,0,KCITempAct[[#This Row],[KCINHDD]]))","v":35.31666666666667},"Adj HDD and NDD =0 for July and August"]
["2019-01-13",30,28,{"$f":"AVERAGE(KCITempAct[[#This Row],[KCIHigh]:[KCILow]]\n)","v":29},{"$f":"IF(KCITempAct[[#This Row],[KCIAve]]<65,(65-KCITempAct[[#This Row],[KCIAve]]),0)","v":36},{"$f":"IF(MONTH(KCITempAct[[#This Row],[Date]])=7,0,IF(MONTH(KCITempAct[[#This Row],[Date]])=8,0,KCITempAct[[#This Row],[KCIHDD]]))","v":36},{"$f":"SUMPRODUCT((KCINHDD[Month]=MONTH(KCITempAct[[#This Row],[Date]]))*(KCINHDD[Day]=DAY(KCITempAct[[#This Row],[Date]]))*KCINHDD[KCINHDD])","v":38.450000000000003},{"$f":"IF(MONTH(KCITempAct[[#This Row],[Date]])=7,0,IF(MONTH(KCITempAct[[#This Row],[Date]])=8,0,KCITempAct[[#This Row],[KCINHDD]]))","v":38.450000000000003},"Adj HDD and NDD =0 for July and August"]
["2019-01-14",30,26,{"$f":"AVERAGE(KCITempAct[[#This Row],[KCIHigh]:[KCILow]]\n)","v":28},{"$f":"IF(KCITempAct[[#This Row],[KCIAve]]<65,(65-KCITempAct[[#This Row],[KCIAve]]),0)","v":37},{"$f":"IF(MONTH(KCITempAct[[#This Row],[Date]])=7,0,IF(MONTH(KCITempAct[[#This Row],[Date]])=8,0,KCITempAct[[#This Row],[KCIHDD]]))","v":37},{"$f":"SUMPRODUCT((KCINHDD[Month]=MONTH(KCITempAct[[#This Row],[Date]]))*(KCINHDD[Day]=DAY(KCITempAct[[#This Row],[Date]]))*KCINHDD[KCINHDD])","v":36.016666666666666},{"$f":"IF(MONTH(KCITempAct[[#This Row],[Date]])=7,0,IF(MONTH(KCITempAct[[#This Row],[Date]])=8,0,KCITempAct[[#This Row],[KCINHDD]]))","v":36.016666666666666},"Adj HDD and NDD =0 for July and August"]
["2019-01-15",33,30,{"$f":"AVERAGE(KCITempAct[[#This Row],[KCIHigh]:[KCILow]]\n)","v":31.5},{"$f":"IF(KCITempAct[[#This Row],[KCIAve]]<65,(65-KCITempAct[[#This Row],[KCIAve]]),0)","v":33.5},{"$f":"IF(MONTH(KCITempAct[[#This Row],[Date]])=7,0,IF(MONTH(KCITempAct[[#This Row],[Date]])=8,0,KCITempAct[[#This Row],[KCIHDD]]))","v":33.5},{"$f":"SUMPRODUCT((KCINHDD[Month]=MONTH(KCITempAct[[#This Row],[Date]]))*(KCINHDD[Day]=DAY(KCITempAct[[#This Row],[Date]]))*KCINHDD[KCINHDD])","v":37.25},{"$f":"IF(MONTH(KCITempAct[[#This Row],[Date]])=7,0,IF(MONTH(KCITempAct[[#This Row],[Date]])=8,0,KCITempAct[[#This Row],[KCINHDD]]))","v":37.25},"Adj HDD and NDD =0 for July and August"]
["2019-01-16",32,30,{"$f":"AVERAGE(KCITempAct[[#This Row],[KCIHigh]:[KCILow]]\n)","v":31},{"$f":"IF(KCITempAct[[#This Row],[KCIAve]]<65,(65-KCITempAct[[#This Row],[KCIAve]]),0)","v":34},{"$f":"IF(MONTH(KCITempAct[[#This Row],[Date]])=7,0,IF(MONTH(KCITempAct[[#This Row],[Date]])=8,0,KCITempAct[[#This Row],[KCIHDD]]))","v":34},{"$f":"SUMPRODUCT((KCINHDD[Month]=MONTH(KCITempAct[[#This Row],[Date]]))*(KCINHDD[Day]=DAY(KCITempAct[[#This Row],[Date]]))*KCINHDD[KCINHDD])","v":36.733333333333334},{"$f":"IF(MONTH(KCITempAct[[#This Row],[Date]])=7,0,IF(MONTH(KCITempAct[[#This Row],[Date]])=8,0,KCITempAct[[#This Row],[KCINHDD]]))","v":36.733333333333334},"Adj HDD and NDD =0 for July and August"]
["2019-01-17",33,31,{"$f":"AVERAGE(KCITempAct[[#This Row],[KCIHigh]:[KCILow]]\n)","v":32},{"$f":"IF(KCITempAct[[#This Row],[KCIAve]]<65,(65-KCITempAct[[#This Row],[KCIAve]]),0)","v":33},{"$f":"IF(MONTH(KCITempAct[[#This Row],[Date]])=7,0,IF(MONTH(KCITempAct[[#This Row],[Date]])=8,0,KCITempAct[[#This Row],[KCIHDD]]))","v":33},{"$f":"SUMPRODUCT((KCINHDD[Month]=MONTH(KCITempAct[[#This Row],[Date]]))*(KCINHDD[Day]=DAY(KCITempAct[[#This Row],[Date]]))*KCINHDD[KCINHDD])","v":37.75},{"$f":"IF(MONTH(KCITempAct[[#This Row],[Date]])=7,0,IF(MONTH(KCITempAct[[#This Row],[Date]])=8,0,KCITempAct[[#This Row],[KCINHDD]]))","v":37.75},"Adj HDD and NDD =0 for July and August"]
["2019-01-18",35,25,{"$f":"AVERAGE(KCITempAct[[#This Row],[KCIHigh]:[KCILow]]\n)","v":30},{"$f":"IF(KCITempAct[[#This Row],[KCIAve]]<65,(65-KCITempAct[[#This Row],[KCIAve]]),0)","v":35},{"$f":"IF(MONTH(KCITempAct[[#This Row],[Date]])=7,0,IF(MONTH(KCITempAct[[#This Row],[Date]])=8,0,KCITempAct[[#This Row],[KCIHDD]]))","v":35},{"$f":"SUMPRODUCT((KCINHDD[Month]=MONTH(KCITempAct[[#This Row],[Date]]))*(KCINHDD[Day]=DAY(KCITempAct[[#This Row],[Date]]))*KCINHDD[KCINHDD])","v":37.166666666666664},{"$f":"IF(MONTH(KCITempAct[[#This Row],[Date]])=7,0,IF(MONTH(KCITempAct[[#This Row],[Date]])=8,0,KCITempAct[[#This Row],[KCINHDD]]))","v":37.166666666666664},"Adj HDD and NDD =0 for July and August"]
["2019-01-19",25,8,{"$f":"AVERAGE(KCITempAct[[#This Row],[KCIHigh]:[KCILow]]\n)","v":16.5},{"$f":"IF(KCITempAct[[#This Row],[KCIAve]]<65,(65-KCITempAct[[#This Row],[KCIAve]]),0)","v":48.5},{"$f":"IF(MONTH(KCITempAct[[#This Row],[Date]])=7,0,IF(MONTH(KCITempAct[[#This Row],[Date]])=8,0,KCITempAct[[#This Row],[KCIHDD]]))","v":48.5},{"$f":"SUMPRODUCT((KCINHDD[Month]=MONTH(KCITempAct[[#This Row],[Date]]))*(KCINHDD[Day]=DAY(KCITempAct[[#This Row],[Date]]))*KCINHDD[KCINHDD])","v":35.983333333333334},{"$f":"IF(MONTH(KCITempAct[[#This Row],[Date]])=7,0,IF(MONTH(KCITempAct[[#This Row],[Date]])=8,0,KCITempAct[[#This Row],[KCINHDD]]))","v":35.983333333333334},"Adj HDD and NDD =0 for July and August"]
["2019-01-20",19,6,{"$f":"AVERAGE(KCITempAct[[#This Row],[KCIHigh]:[KCILow]]\n)","v":12.5},{"$f":"IF(KCITempAct[[#This Row],[KCIAve]]<65,(65-KCITempAct[[#This Row],[KCIAve]]),0)","v":52.5},{"$f":"IF(MONTH(KCITempAct[[#This Row],[Date]])=7,0,IF(MONTH(KCITempAct[[#This Row],[Date]])=8,0,KCITempAct[[#This Row],[KCIHDD]]))","v":52.5},{"$f":"SUMPRODUCT((KCINHDD[Month]=MONTH(KCITempAct[[#This Row],[Date]]))*(KCINHDD[Day]=DAY(KCITempAct[[#This Row],[Date]]))*KCINHDD[KCINHDD])","v":35.93333333333333},{"$f":"IF(MONTH(KCITempAct[[#This Row],[Date]])=7,0,IF(MONTH(KCITempAct[[#This Row],[Date]])=8,0,KCITempAct[[#This Row],[KCINHDD]]))","v":35.93333333333333},"Adj HDD and NDD =0 for July and August"]
["2019-01-21",34,15,{"$f":"AVERAGE(KCITempAct[[#This Row],[KCIHigh]:[KCILow]]\n)","v":24.5},{"$f":"IF(KCITempAct[[#This Row],[KCIAve]]<65,(65-KCITempAct[[#This Row],[KCIAve]]),0)","v":40.5},{"$f":"IF(MONTH(KCITempAct[[#This Row],[Date]])=7,0,IF(MONTH(KCITempAct[[#This Row],[Date]])=8,0,KCITempAct[[#This Row],[KCIHDD]]))","v":40.5},{"$f":"SUMPRODUCT((KCINHDD[Month]=MONTH(KCITempAct[[#This Row],[Date]]))*(KCINHDD[Day]=DAY(KCITempAct[[#This Row],[Date]]))*KCINHDD[KCINHDD])","v":33.799999999999997},{"$f":"IF(MONTH(KCITempAct[[#This Row],[Date]])=7,0,IF(MONTH(KCITempAct[[#This Row],[Date]])=8,0,KCITempAct[[#This Row],[KCINHDD]]))","v":33.799999999999997},"Adj HDD and NDD =0 for July and August"]
["2019-01-22",39,22,{"$f":"AVERAGE(KCITempAct[[#This Row],[KCIHigh]:[KCILow]]\n)","v":30.5},{"$f":"IF(KCITempAct[[#This Row],[KCIAve]]<65,(65-KCITempAct[[#This Row],[KCIAve]]),0)","v":34.5},{"$f":"IF(MONTH(KCITempAct[[#This Row],[Date]])=7,0,IF(MONTH(KCITempAct[[#This Row],[Date]])=8,0,KCITempAct[[#This Row],[KCIHDD]]))","v":34.5},{"$f":"SUMPRODUCT((KCINHDD[Month]=MONTH(KCITempAct[[#This Row],[Date]]))*(KCINHDD[Day]=DAY(KCITempAct[[#This Row],[Date]]))*KCINHDD[KCINHDD])","v":33.43333333333333},{"$f":"IF(MONTH(KCITempAct[[#This Row],[Date]])=7,0,IF(MONTH(KCITempAct[[#This Row],[Date]])=8,0,KCITempAct[[#This Row],[KCINHDD]]))","v":33.43333333333333},"Adj HDD and NDD =0 for July and August"]
["2019-01-23",26,13,{"$f":"AVERAGE(KCITempAct[[#This Row],[KCIHigh]:[KCILow]]\n)","v":19.5},{"$f":"IF(KCITempAct[[#This Row],[KCIAve]]<65,(65-KCITempAct[[#This Row],[KCIAve]]),0)","v":45.5},{"$f":"IF(MONTH(KCITempAct[[#This Row],[Date]])=7,0,IF(MONTH(KCITempAct[[#This Row],[Date]])=8,0,KCITempAct[[#This Row],[KCIHDD]]))","v":45.5},{"$f":"SUMPRODUCT((KCINHDD[Month]=MONTH(KCITempAct[[#This Row],[Date]]))*(KCINHDD[Day]=DAY(KCITempAct[[#This Row],[Date]]))*KCINHDD[KCINHDD])","v":36.416666666666664},{"$f":"IF(MONTH(KCITempAct[[#This Row],[Date]])=7,0,IF(MONTH(KCITempAct[[#This Row],[Date]])=8,0,KCITempAct[[#This Row],[KCINHDD]]))","v":36.416666666666664},"Adj HDD and NDD =0 for July and August"]
["2019-01-24",28,7,{"$f":"AVERAGE(KCITempAct[[#This Row],[KCIHigh]:[KCILow]]\n)","v":17.5},{"$f":"IF(KCITempAct[[#This Row],[KCIAve]]<65,(65-KCITempAct[[#This Row],[KCIAve]]),0)","v":47.5},{"$f":"IF(MONTH(KCITempAct[[#This Row],[Date]])=7,0,IF(MONTH(KCITempAct[[#This Row],[Date]])=8,0,KCITempAct[[#This Row],[KCIHDD]]))","v":47.5},{"$f":"SUMPRODUCT((KCINHDD[Month]=MONTH(KCITempAct[[#This Row],[Date]]))*(KCINHDD[Day]=DAY(KCITempAct[[#This Row],[Date]]))*KCINHDD[KCINHDD])","v":35.799999999999997},{"$f":"IF(MONTH(KCITempAct[[#This Row],[Date]])=7,0,IF(MONTH(KCITempAct[[#This Row],[Date]])=8,0,KCITempAct[[#This Row],[KCINHDD]]))","v":35.799999999999997},"Adj HDD and NDD =0 for July and August"]
["2019-01-25",34,-1,{"$f":"AVERAGE(KCITempAct[[#This Row],[KCIHigh]:[KCILow]]\n)","v":16.5},{"$f":"IF(KCITempAct[[#This Row],[KCIAve]]<65,(65-KCITempAct[[#This Row],[KCIAve]]),0)","v":48.5},{"$f":"IF(MONTH(KCITempAct[[#This Row],[Date]])=7,0,IF(MONTH(KCITempAct[[#This Row],[Date]])=8,0,KCITempAct[[#This Row],[KCIHDD]]))","v":48.5},{"$f":"SUMPRODUCT((KCINHDD[Month]=MONTH(KCITempAct[[#This Row],[Date]]))*(KCINHDD[Day]=DAY(KCITempAct[[#This Row],[Date]]))*KCINHDD[KCINHDD])","v":34.06666666666667},{"$f":"IF(MONTH(KCITempAct[[#This Row],[Date]])=7,0,IF(MONTH(KCITempAct[[#This Row],[Date]])=8,0,KCITempAct[[#This Row],[KCINHDD]]))","v":34.06666666666667},"Adj HDD and NDD =0 for July and August"]
["2019-01-26",40,21,{"$f":"AVERAGE(KCITempAct[[#This Row],[KCIHigh]:[KCILow]]\n)","v":30.5},{"$f":"IF(KCITempAct[[#This Row],[KCIAve]]<65,(65-KCITempAct[[#This Row],[KCIAve]]),0)","v":34.5},{"$f":"IF(MONTH(KCITempAct[[#This Row],[Date]])=7,0,IF(MONTH(KCITempAct[[#This Row],[Date]])=8,0,KCITempAct[[#This Row],[KCIHDD]]))","v":34.5},{"$f":"SUMPRODUCT((KCINHDD[Month]=MONTH(KCITempAct[[#This Row],[Date]]))*(KCINHDD[Day]=DAY(KCITempAct[[#This Row],[Date]]))*KCINHDD[KCINHDD])","v":33.049999999999997},{"$f":"IF(MONTH(KCITempAct[[#This Row],[Date]])=7,0,IF(MONTH(KCITempAct[[#This Row],[Date]])=8,0,KCITempAct[[#This Row],[KCINHDD]]))","v":33.049999999999997},"Adj HDD and NDD =0 for July and August"]
["2019-01-27",44,22,{"$f":"AVERAGE(KCITempAct[[#This Row],[KCIHigh]:[KCILow]]\n)","v":33},{"$f":"IF(KCITempAct[[#This Row],[KCIAve]]<65,(65-KCITempAct[[#This Row],[KCIAve]]),0)","v":32},{"$f":"IF(MONTH(KCITempAct[[#This Row],[Date]])=7,0,IF(MONTH(KCITempAct[[#This Row],[Date]])=8,0,KCITempAct[[#This Row],[KCIHDD]]))","v":32},{"$f":"SUMPRODUCT((KCINHDD[Month]=MONTH(KCITempAct[[#This Row],[Date]]))*(KCINHDD[Day]=DAY(KCITempAct[[#This Row],[Date]]))*KCINHDD[KCINHDD])","v":33.5},{"$f":"IF(MONTH(KCITempAct[[#This Row],[Date]])=7,0,IF(MONTH(KCITempAct[[#This Row],[Date]])=8,0,KCITempAct[[#This Row],[KCINHDD]]))","v":33.5},"Adj HDD and NDD =0 for July and August"]
["2019-01-28",44,14,{"$f":"AVERAGE(KCITempAct[[#This Row],[KCIHigh]:[KCILow]]\n)","v":29},{"$f":"IF(KCITempAct[[#This Row],[KCIAve]]<65,(65-KCITempAct[[#This Row],[KCIAve]]),0)","v":36},{"$f":"IF(MONTH(KCITempAct[[#This Row],[Date]])=7,0,IF(MONTH(KCITempAct[[#This Row],[Date]])=8,0,KCITempAct[[#This Row],[KCIHDD]]))","v":36},{"$f":"SUMPRODUCT((KCINHDD[Month]=MONTH(KCITempAct[[#This Row],[Date]]))*(KCINHDD[Day]=DAY(KCITempAct[[#This Row],[Date]]))*KCINHDD[KCINHDD])","v":33.06666666666667},{"$f":"IF(MONTH(KCITempAct[[#This Row],[Date]])=7,0,IF(MONTH(KCITempAct[[#This Row],[Date]])=8,0,KCITempAct[[#This Row],[KCINHDD]]))","v":33.06666666666667},"Adj HDD and NDD =0 for July and August"]
["2019-01-29",27,5,{"$f":"AVERAGE(KCITempAct[[#This Row],[KCIHigh]:[KCILow]]\n)","v":16},{"$f":"IF(KCITempAct[[#This Row],[KCIAve]]<65,(65-KCITempAct[[#This Row],[KCIAve]]),0)","v":49},{"$f":"IF(MONTH(KCITempAct[[#This Row],[Date]])=7,0,IF(MONTH(KCITempAct[[#This Row],[Date]])=8,0,KCITempAct[[#This Row],[KCIHDD]]))","v":49},{"$f":"SUMPRODUCT((KCINHDD[Month]=MONTH(KCITempAct[[#This Row],[Date]]))*(KCINHDD[Day]=DAY(KCITempAct[[#This Row],[Date]]))*KCINHDD[KCINHDD])","v":34.866666666666667},{"$f":"IF(MONTH(KCITempAct[[#This Row],[Date]])=7,0,IF(MONTH(KCITempAct[[#This Row],[Date]])=8,0,KCITempAct[[#This Row],[KCINHDD]]))","v":34.866666666666667},"Adj HDD and NDD =0 for July and August"]
["2019-01-30",5,-6,{"$f":"AVERAGE(KCITempAct[[#This Row],[KCIHigh]:[KCILow]]\n)","v":-0.5},{"$f":"IF(KCITempAct[[#This Row],[KCIAve]]<65,(65-KCITempAct[[#This Row],[KCIAve]]),0)","v":65.5},{"$f":"IF(MONTH(KCITempAct[[#This Row],[Date]])=7,0,IF(MONTH(KCITempAct[[#This Row],[Date]])=8,0,KCITempAct[[#This Row],[KCIHDD]]))","v":65.5},{"$f":"SUMPRODUCT((KCINHDD[Month]=MONTH(KCITempAct[[#This Row],[Date]]))*(KCINHDD[Day]=DAY(KCITempAct[[#This Row],[Date]]))*KCINHDD[KCINHDD])","v":36.31666666666667},{"$f":"IF(MONTH(KCITempAct[[#This Row],[Date]])=7,0,IF(MONTH(KCITempAct[[#This Row],[Date]])=8,0,KCITempAct[[#This Row],[KCINHDD]]))","v":36.31666666666667},"Adj HDD and NDD =0 for July and August"]
["2019-01-31",34,2,{"$f":"AVERAGE(KCITempAct[[#This Row],[KCIHigh]:[KCILow]]\n)","v":18},{"$f":"IF(KCITempAct[[#This Row],[KCIAve]]<65,(65-KCITempAct[[#This Row],[KCIAve]]),0)","v":47},{"$f":"IF(MONTH(KCITempAct[[#This Row],[Date]])=7,0,IF(MONTH(KCITempAct[[#This Row],[Date]])=8,0,KCITempAct[[#This Row],[KCIHDD]]))","v":47},{"$f":"SUMPRODUCT((KCINHDD[Month]=MONTH(KCITempAct[[#This Row],[Date]]))*(KCINHDD[Day]=DAY(KCITempAct[[#This Row],[Date]]))*KCINHDD[KCINHDD])","v":32.700000000000003},{"$f":"IF(MONTH(KCITempAct[[#This Row],[Date]])=7,0,IF(MONTH(KCITempAct[[#This Row],[Date]])=8,0,KCITempAct[[#This Row],[KCINHDD]]))","v":32.700000000000003},"Adj HDD and NDD =0 for July and August"]
["2019-02-01",51,17,{"$f":"AVERAGE(KCITempAct[[#This Row],[KCIHigh]:[KCILow]]\n)","v":34},{"$f":"IF(KCITempAct[[#This Row],[KCIAve]]<65,(65-KCITempAct[[#This Row],[KCIAve]]),0)","v":31},{"$f":"IF(MONTH(KCITempAct[[#This Row],[Date]])=7,0,IF(MONTH(KCITempAct[[#This Row],[Date]])=8,0,KCITempAct[[#This Row],[KCIHDD]]))","v":31},{"$f":"SUMPRODUCT((KCINHDD[Month]=MONTH(KCITempAct[[#This Row],[Date]]))*(KCINHDD[Day]=DAY(KCITempAct[[#This Row],[Date]]))*KCINHDD[KCINHDD])","v":33.266666666666666},{"$f":"IF(MONTH(KCITempAct[[#This Row],[Date]])=7,0,IF(MONTH(KCITempAct[[#This Row],[Date]])=8,0,KCITempAct[[#This Row],[KCINHDD]]))","v":33.266666666666666},"Adj HDD and NDD =0 for July and August"]
["2019-02-02",55,34,{"$f":"AVERAGE(KCITempAct[[#This Row],[KCIHigh]:[KCILow]]\n)","v":44.5},{"$f":"IF(KCITempAct[[#This Row],[KCIAve]]<65,(65-KCITempAct[[#This Row],[KCIAve]]),0)","v":20.5},{"$f":"IF(MONTH(KCITempAct[[#This Row],[Date]])=7,0,IF(MONTH(KCITempAct[[#This Row],[Date]])=8,0,KCITempAct[[#This Row],[KCIHDD]]))","v":20.5},{"$f":"SUMPRODUCT((KCINHDD[Month]=MONTH(KCITempAct[[#This Row],[Date]]))*(KCINHDD[Day]=DAY(KCITempAct[[#This Row],[Date]]))*KCINHDD[KCINHDD])","v":33.700000000000003},{"$f":"IF(MONTH(KCITempAct[[#This Row],[Date]])=7,0,IF(MONTH(KCITempAct[[#This Row],[Date]])=8,0,KCITempAct[[#This Row],[KCINHDD]]))","v":33.700000000000003},"Adj HDD and NDD =0 for July and August"]
["2019-02-03",64,53,{"$f":"AVERAGE(KCITempAct[[#This Row],[KCIHigh]:[KCILow]]\n)","v":58.5},{"$f":"IF(KCITempAct[[#This Row],[KCIAve]]<65,(65-KCITempAct[[#This Row],[KCIAve]]),0)","v":6.5},{"$f":"IF(MONTH(KCITempAct[[#This Row],[Date]])=7,0,IF(MONTH(KCITempAct[[#This Row],[Date]])=8,0,KCITempAct[[#This Row],[KCIHDD]]))","v":6.5},{"$f":"SUMPRODUCT((KCINHDD[Month]=MONTH(KCITempAct[[#This Row],[Date]]))*(KCINHDD[Day]=DAY(KCITempAct[[#This Row],[Date]]))*KCINHDD[KCINHDD])","v":32.666666666666664},{"$f":"IF(MONTH(KCITempAct[[#This Row],[Date]])=7,0,IF(MONTH(KCITempAct[[#This Row],[Date]])=8,0,KCITempAct[[#This Row],[KCINHDD]]))","v":32.666666666666664},"Adj HDD and NDD =0 for July and August"]
["2019-02-04",59,20,{"$f":"AVERAGE(KCITempAct[[#This Row],[KCIHigh]:[KCILow]]\n)","v":39.5},{"$f":"IF(KCITempAct[[#This Row],[KCIAve]]<65,(65-KCITempAct[[#This Row],[KCIAve]]),0)","v":25.5},{"$f":"IF(MONTH(KCITempAct[[#This Row],[Date]])=7,0,IF(MONTH(KCITempAct[[#This Row],[Date]])=8,0,KCITempAct[[#This Row],[KCIHDD]]))","v":25.5},{"$f":"SUMPRODUCT((KCINHDD[Month]=MONTH(KCITempAct[[#This Row],[Date]]))*(KCINHDD[Day]=DAY(KCITempAct[[#This Row],[Date]]))*KCINHDD[KCINHDD])","v":35.5},{"$f":"IF(MONTH(KCITempAct[[#This Row],[Date]])=7,0,IF(MONTH(KCITempAct[[#This Row],[Date]])=8,0,KCITempAct[[#This Row],[KCINHDD]]))","v":35.5},"Adj HDD and NDD =0 for July and August"]
["2019-02-05",24,19,{"$f":"AVERAGE(KCITempAct[[#This Row],[KCIHigh]:[KCILow]]\n)","v":21.5},{"$f":"IF(KCITempAct[[#This Row],[KCIAve]]<65,(65-KCITempAct[[#This Row],[KCIAve]]),0)","v":43.5},{"$f":"IF(MONTH(KCITempAct[[#This Row],[Date]])=7,0,IF(MONTH(KCITempAct[[#This Row],[Date]])=8,0,KCITempAct[[#This Row],[KCIHDD]]))","v":43.5},{"$f":"SUMPRODUCT((KCINHDD[Month]=MONTH(KCITempAct[[#This Row],[Date]]))*(KCINHDD[Day]=DAY(KCITempAct[[#This Row],[Date]]))*KCINHDD[KCINHDD])","v":35.616666666666667},{"$f":"IF(MONTH(KCITempAct[[#This Row],[Date]])=7,0,IF(MONTH(KCITempAct[[#This Row],[Date]])=8,0,KCITempAct[[#This Row],[KCINHDD]]))","v":35.616666666666667},"Adj HDD and NDD =0 for July and August"]
["2019-02-06",24,20,{"$f":"AVERAGE(KCITempAct[[#This Row],[KCIHigh]:[KCILow]]\n)","v":22},{"$f":"IF(KCITempAct[[#This Row],[KCIAve]]<65,(65-KCITempAct[[#This Row],[KCIAve]]),0)","v":43},{"$f":"IF(MONTH(KCITempAct[[#This Row],[Date]])=7,0,IF(MONTH(KCITempAct[[#This Row],[Date]])=8,0,KCITempAct[[#This Row],[KCIHDD]]))","v":43},{"$f":"SUMPRODUCT((KCINHDD[Month]=MONTH(KCITempAct[[#This Row],[Date]]))*(KCINHDD[Day]=DAY(KCITempAct[[#This Row],[Date]]))*KCINHDD[KCINHDD])","v":32.716666666666669},{"$f":"IF(MONTH(KCITempAct[[#This Row],[Date]])=7,0,IF(MONTH(KCITempAct[[#This Row],[Date]])=8,0,KCITempAct[[#This Row],[KCINHDD]]))","v":32.716666666666669},"Adj HDD and NDD =0 for July and August"]
["2019-02-07",24,9,{"$f":"AVERAGE(KCITempAct[[#This Row],[KCIHigh]:[KCILow]]\n)","v":16.5},{"$f":"IF(KCITempAct[[#This Row],[KCIAve]]<65,(65-KCITempAct[[#This Row],[KCIAve]]),0)","v":48.5},{"$f":"IF(MONTH(KCITempAct[[#This Row],[Date]])=7,0,IF(MONTH(KCITempAct[[#This Row],[Date]])=8,0,KCITempAct[[#This Row],[KCIHDD]]))","v":48.5},{"$f":"SUMPRODUCT((KCINHDD[Month]=MONTH(KCITempAct[[#This Row],[Date]]))*(KCINHDD[Day]=DAY(KCITempAct[[#This Row],[Date]]))*KCINHDD[KCINHDD])","v":34.333333333333336},{"$f":"IF(MONTH(KCITempAct[[#This Row],[Date]])=7,0,IF(MONTH(KCITempAct[[#This Row],[Date]])=8,0,KCITempAct[[#This Row],[KCINHDD]]))","v":34.333333333333336},"Adj HDD and NDD =0 for July and August"]
["2019-02-08",21,4,{"$f":"AVERAGE(KCITempAct[[#This Row],[KCIHigh]:[KCILow]]\n)","v":12.5},{"$f":"IF(KCITempAct[[#This Row],[KCIAve]]<65,(65-KCITempAct[[#This Row],[KCIAve]]),0)","v":52.5},{"$f":"IF(MONTH(KCITempAct[[#This Row],[Date]])=7,0,IF(MONTH(KCITempAct[[#This Row],[Date]])=8,0,KCITempAct[[#This Row],[KCIHDD]]))","v":52.5},{"$f":"SUMPRODUCT((KCINHDD[Month]=MONTH(KCITempAct[[#This Row],[Date]]))*(KCINHDD[Day]=DAY(KCITempAct[[#This Row],[Date]]))*KCINHDD[KCINHDD])","v":36.266666666666666},{"$f":"IF(MONTH(KCITempAct[[#This Row],[Date]])=7,0,IF(MONTH(KCITempAct[[#This Row],[Date]])=8,0,KCITempAct[[#This Row],[KCINHDD]]))","v":36.266666666666666},"Adj HDD and NDD =0 for July and August"]
["2019-02-09",29,11,{"$f":"AVERAGE(KCITempAct[[#This Row],[KCIHigh]:[KCILow]]\n)","v":20},{"$f":"IF(KCITempAct[[#This Row],[KCIAve]]<65,(65-KCITempAct[[#This Row],[KCIAve]]),0)","v":45},{"$f":"IF(MONTH(KCITempAct[[#This Row],[Date]])=7,0,IF(MONTH(KCITempAct[[#This Row],[Date]])=8,0,KCITempAct[[#This Row],[KCIHDD]]))","v":45},{"$f":"SUMPRODUCT((KCINHDD[Month]=MONTH(KCITempAct[[#This Row],[Date]]))*(KCINHDD[Day]=DAY(KCITempAct[[#This Row],[Date]]))*KCINHDD[KCINHDD])","v":34.516666666666666},{"$f":"IF(MONTH(KCITempAct[[#This Row],[Date]])=7,0,IF(MONTH(KCITempAct[[#This Row],[Date]])=8,0,KCITempAct[[#This Row],[KCINHDD]]))","v":34.516666666666666},"Adj HDD and NDD =0 for July and August"]
["2019-02-10",35,28,{"$f":"AVERAGE(KCITempAct[[#This Row],[KCIHigh]:[KCILow]]\n)","v":31.5},{"$f":"IF(KCITempAct[[#This Row],[KCIAve]]<65,(65-KCITempAct[[#This Row],[KCIAve]]),0)","v":33.5},{"$f":"IF(MONTH(KCITempAct[[#This Row],[Date]])=7,0,IF(MONTH(KCITempAct[[#This Row],[Date]])=8,0,KCITempAct[[#This Row],[KCIHDD]]))","v":33.5},{"$f":"SUMPRODUCT((KCINHDD[Month]=MONTH(KCITempAct[[#This Row],[Date]]))*(KCINHDD[Day]=DAY(KCITempAct[[#This Row],[Date]]))*KCINHDD[KCINHDD])","v":33.883333333333333},{"$f":"IF(MONTH(KCITempAct[[#This Row],[Date]])=7,0,IF(MONTH(KCITempAct[[#This Row],[Date]])=8,0,KCITempAct[[#This Row],[KCINHDD]]))","v":33.883333333333333},"Adj HDD and NDD =0 for July and August"]
["2019-02-11",33,31,{"$f":"AVERAGE(KCITempAct[[#This Row],[KCIHigh]:[KCILow]]\n)","v":32},{"$f":"IF(KCITempAct[[#This Row],[KCIAve]]<65,(65-KCITempAct[[#This Row],[KCIAve]]),0)","v":33},{"$f":"IF(MONTH(KCITempAct[[#This Row],[Date]])=7,0,IF(MONTH(KCITempAct[[#This Row],[Date]])=8,0,KCITempAct[[#This Row],[KCIHDD]]))","v":33},{"$f":"SUMPRODUCT((KCINHDD[Month]=MONTH(KCITempAct[[#This Row],[Date]]))*(KCINHDD[Day]=DAY(KCITempAct[[#This Row],[Date]]))*KCINHDD[KCINHDD])","v":35.083333333333336},{"$f":"IF(MONTH(KCITempAct[[#This Row],[Date]])=7,0,IF(MONTH(KCITempAct[[#This Row],[Date]])=8,0,KCITempAct[[#This Row],[KCINHDD]]))","v":35.083333333333336},"Adj HDD and NDD =0 for July and August"]
["2019-02-12",35,27,{"$f":"AVERAGE(KCITempAct[[#This Row],[KCIHigh]:[KCILow]]\n)","v":31},{"$f":"IF(KCITempAct[[#This Row],[KCIAve]]<65,(65-KCITempAct[[#This Row],[KCIAve]]),0)","v":34},{"$f":"IF(MONTH(KCITempAct[[#This Row],[Date]])=7,0,IF(MONTH(KCITempAct[[#This Row],[Date]])=8,0,KCITempAct[[#This Row],[KCIHDD]]))","v":34},{"$f":"SUMPRODUCT((KCINHDD[Month]=MONTH(KCITempAct[[#This Row],[Date]]))*(KCINHDD[Day]=DAY(KCITempAct[[#This Row],[Date]]))*KCINHDD[KCINHDD])","v":36.6},{"$f":"IF(MONTH(KCITempAct[[#This Row],[Date]])=7,0,IF(MONTH(KCITempAct[[#This Row],[Date]])=8,0,KCITempAct[[#This Row],[KCINHDD]]))","v":36.6},"Adj HDD and NDD =0 for July and August"]
["2019-02-13",52,23,{"$f":"AVERAGE(KCITempAct[[#This Row],[KCIHigh]:[KCILow]]\n)","v":37.5},{"$f":"IF(KCITempAct[[#This Row],[KCIAve]]<65,(65-KCITempAct[[#This Row],[KCIAve]]),0)","v":27.5},{"$f":"IF(MONTH(KCITempAct[[#This Row],[Date]])=7,0,IF(MONTH(KCITempAct[[#This Row],[Date]])=8,0,KCITempAct[[#This Row],[KCIHDD]]))","v":27.5},{"$f":"SUMPRODUCT((KCINHDD[Month]=MONTH(KCITempAct[[#This Row],[Date]]))*(KCINHDD[Day]=DAY(KCITempAct[[#This Row],[Date]]))*KCINHDD[KCINHDD])","v":33.266666666666666},{"$f":"IF(MONTH(KCITempAct[[#This Row],[Date]])=7,0,IF(MONTH(KCITempAct[[#This Row],[Date]])=8,0,KCITempAct[[#This Row],[KCINHDD]]))","v":33.266666666666666},"Adj HDD and NDD =0 for July and August"]
["2019-02-14",53,17,{"$f":"AVERAGE(KCITempAct[[#This Row],[KCIHigh]:[KCILow]]\n)","v":35},{"$f":"IF(KCITempAct[[#This Row],[KCIAve]]<65,(65-KCITempAct[[#This Row],[KCIAve]]),0)","v":30},{"$f":"IF(MONTH(KCITempAct[[#This Row],[Date]])=7,0,IF(MONTH(KCITempAct[[#This Row],[Date]])=8,0,KCITempAct[[#This Row],[KCIHDD]]))","v":30},{"$f":"SUMPRODUCT((KCINHDD[Month]=MONTH(KCITempAct[[#This Row],[Date]]))*(KCINHDD[Day]=DAY(KCITempAct[[#This Row],[Date]]))*KCINHDD[KCINHDD])","v":30.716666666666665},{"$f":"IF(MONTH(KCITempAct[[#This Row],[Date]])=7,0,IF(MONTH(KCITempAct[[#This Row],[Date]])=8,0,KCITempAct[[#This Row],[KCINHDD]]))","v":30.716666666666665},"Adj HDD and NDD =0 for July and August"]
["2019-02-15",17,12,{"$f":"AVERAGE(KCITempAct[[#This Row],[KCIHigh]:[KCILow]]\n)","v":14.5},{"$f":"IF(KCITempAct[[#This Row],[KCIAve]]<65,(65-KCITempAct[[#This Row],[KCIAve]]),0)","v":50.5},{"$f":"IF(MONTH(KCITempAct[[#This Row],[Date]])=7,0,IF(MONTH(KCITempAct[[#This Row],[Date]])=8,0,KCITempAct[[#This Row],[KCIHDD]]))","v":50.5},{"$f":"SUMPRODUCT((KCINHDD[Month]=MONTH(KCITempAct[[#This Row],[Date]]))*(KCINHDD[Day]=DAY(KCITempAct[[#This Row],[Date]]))*KCINHDD[KCINHDD])","v":33.766666666666666},{"$f":"IF(MONTH(KCITempAct[[#This Row],[Date]])=7,0,IF(MONTH(KCITempAct[[#This Row],[Date]])=8,0,KCITempAct[[#This Row],[KCINHDD]]))","v":33.766666666666666},"Adj HDD and NDD =0 for July and August"]
["2019-02-16",25,14,{"$f":"AVERAGE(KCITempAct[[#This Row],[KCIHigh]:[KCILow]]\n)","v":19.5},{"$f":"IF(KCITempAct[[#This Row],[KCIAve]]<65,(65-KCITempAct[[#This Row],[KCIAve]]),0)","v":45.5},{"$f":"IF(MONTH(KCITempAct[[#This Row],[Date]])=7,0,IF(MONTH(KCITempAct[[#This Row],[Date]])=8,0,KCITempAct[[#This Row],[KCIHDD]]))","v":45.5},{"$f":"SUMPRODUCT((KCINHDD[Month]=MONTH(KCITempAct[[#This Row],[Date]]))*(KCINHDD[Day]=DAY(KCITempAct[[#This Row],[Date]]))*KCINHDD[KCINHDD])","v":34.56666666666667},{"$f":"IF(MONTH(KCITempAct[[#This Row],[Date]])=7,0,IF(MONTH(KCITempAct[[#This Row],[Date]])=8,0,KCITempAct[[#This Row],[KCINHDD]]))","v":34.56666666666667},"Adj HDD and NDD =0 for July and August"]
["2019-02-17",26,17,{"$f":"AVERAGE(KCITempAct[[#This Row],[KCIHigh]:[KCILow]]\n)","v":21.5},{"$f":"IF(KCITempAct[[#This Row],[KCIAve]]<65,(65-KCITempAct[[#This Row],[KCIAve]]),0)","v":43.5},{"$f":"IF(MONTH(KCITempAct[[#This Row],[Date]])=7,0,IF(MONTH(KCITempAct[[#This Row],[Date]])=8,0,KCITempAct[[#This Row],[KCIHDD]]))","v":43.5},{"$f":"SUMPRODUCT((KCINHDD[Month]=MONTH(KCITempAct[[#This Row],[Date]]))*(KCINHDD[Day]=DAY(KCITempAct[[#This Row],[Date]]))*KCINHDD[KCINHDD])","v":29.55},{"$f":"IF(MONTH(KCITempAct[[#This Row],[Date]])=7,0,IF(MONTH(KCITempAct[[#This Row],[Date]])=8,0,KCITempAct[[#This Row],[KCINHDD]]))","v":29.55},"Adj HDD and NDD =0 for July and August"]
["2019-02-18",27,9,{"$f":"AVERAGE(KCITempAct[[#This Row],[KCIHigh]:[KCILow]]\n)","v":18},{"$f":"IF(KCITempAct[[#This Row],[KCIAve]]<65,(65-KCITempAct[[#This Row],[KCIAve]]),0)","v":47},{"$f":"IF(MONTH(KCITempAct[[#This Row],[Date]])=7,0,IF(MONTH(KCITempAct[[#This Row],[Date]])=8,0,KCITempAct[[#This Row],[KCIHDD]]))","v":47},{"$f":"SUMPRODUCT((KCINHDD[Month]=MONTH(KCITempAct[[#This Row],[Date]]))*(KCINHDD[Day]=DAY(KCITempAct[[#This Row],[Date]]))*KCINHDD[KCINHDD])","v":28.05},{"$f":"IF(MONTH(KCITempAct[[#This Row],[Date]])=7,0,IF(MONTH(KCITempAct[[#This Row],[Date]])=8,0,KCITempAct[[#This Row],[KCINHDD]]))","v":28.05},"Adj HDD and NDD =0 for July and August"]
["2019-02-19",29,16,{"$f":"AVERAGE(KCITempAct[[#This Row],[KCIHigh]:[KCILow]]\n)","v":22.5},{"$f":"IF(KCITempAct[[#This Row],[KCIAve]]<65,(65-KCITempAct[[#This Row],[KCIAve]]),0)","v":42.5},{"$f":"IF(MONTH(KCITempAct[[#This Row],[Date]])=7,0,IF(MONTH(KCITempAct[[#This Row],[Date]])=8,0,KCITempAct[[#This Row],[KCIHDD]]))","v":42.5},{"$f":"SUMPRODUCT((KCINHDD[Month]=MONTH(KCITempAct[[#This Row],[Date]]))*(KCINHDD[Day]=DAY(KCITempAct[[#This Row],[Date]]))*KCINHDD[KCINHDD])","v":27.25},{"$f":"IF(MONTH(KCITempAct[[#This Row],[Date]])=7,0,IF(MONTH(KCITempAct[[#This Row],[Date]])=8,0,KCITempAct[[#This Row],[KCINHDD]]))","v":27.25},"Adj HDD and NDD =0 for July and August"]
["2019-02-20",36,25,{"$f":"AVERAGE(KCITempAct[[#This Row],[KCIHigh]:[KCILow]]\n)","v":30.5},{"$f":"IF(KCITempAct[[#This Row],[KCIAve]]<65,(65-KCITempAct[[#This Row],[KCIAve]]),0)","v":34.5},{"$f":"IF(MONTH(KCITempAct[[#This Row],[Date]])=7,0,IF(MONTH(KCITempAct[[#This Row],[Date]])=8,0,KCITempAct[[#This Row],[KCIHDD]]))","v":34.5},{"$f":"SUMPRODUCT((KCINHDD[Month]=MONTH(KCITempAct[[#This Row],[Date]]))*(KCINHDD[Day]=DAY(KCITempAct[[#This Row],[Date]]))*KCINHDD[KCINHDD])","v":26.1},{"$f":"IF(MONTH(KCITempAct[[#This Row],[Date]])=7,0,IF(MONTH(KCITempAct[[#This Row],[Date]])=8,0,KCITempAct[[#This Row],[KCINHDD]]))","v":26.1},"Adj HDD and NDD =0 for July and August"]
["2019-02-21",39,19,{"$f":"AVERAGE(KCITempAct[[#This Row],[KCIHigh]:[KCILow]]\n)","v":29},{"$f":"IF(KCITempAct[[#This Row],[KCIAve]]<65,(65-KCITempAct[[#This Row],[KCIAve]]),0)","v":36},{"$f":"IF(MONTH(KCITempAct[[#This Row],[Date]])=7,0,IF(MONTH(KCITempAct[[#This Row],[Date]])=8,0,KCITempAct[[#This Row],[KCIHDD]]))","v":36},{"$f":"SUMPRODUCT((KCINHDD[Month]=MONTH(KCITempAct[[#This Row],[Date]]))*(KCINHDD[Day]=DAY(KCITempAct[[#This Row],[Date]]))*KCINHDD[KCINHDD])","v":29.15},{"$f":"IF(MONTH(KCITempAct[[#This Row],[Date]])=7,0,IF(MONTH(KCITempAct[[#This Row],[Date]])=8,0,KCITempAct[[#This Row],[KCINHDD]]))","v":29.15},"Adj HDD and NDD =0 for July and August"]
["2019-02-22",36,28,{"$f":"AVERAGE(KCITempAct[[#This Row],[KCIHigh]:[KCILow]]\n)","v":32},{"$f":"IF(KCITempAct[[#This Row],[KCIAve]]<65,(65-KCITempAct[[#This Row],[KCIAve]]),0)","v":33},{"$f":"IF(MONTH(KCITempAct[[#This Row],[Date]])=7,0,IF(MONTH(KCITempAct[[#This Row],[Date]])=8,0,KCITempAct[[#This Row],[KCIHDD]]))","v":33},{"$f":"SUMPRODUCT((KCINHDD[Month]=MONTH(KCITempAct[[#This Row],[Date]]))*(KCINHDD[Day]=DAY(KCITempAct[[#This Row],[Date]]))*KCINHDD[KCINHDD])","v":27.783333333333335},{"$f":"IF(MONTH(KCITempAct[[#This Row],[Date]])=7,0,IF(MONTH(KCITempAct[[#This Row],[Date]])=8,0,KCITempAct[[#This Row],[KCINHDD]]))","v":27.783333333333335},"Adj HDD and NDD =0 for July and August"]
["2019-02-23",43,29,{"$f":"AVERAGE(KCITempAct[[#This Row],[KCIHigh]:[KCILow]]\n)","v":36},{"$f":"IF(KCITempAct[[#This Row],[KCIAve]]<65,(65-KCITempAct[[#This Row],[KCIAve]]),0)","v":29},{"$f":"IF(MONTH(KCITempAct[[#This Row],[Date]])=7,0,IF(MONTH(KCITempAct[[#This Row],[Date]])=8,0,KCITempAct[[#This Row],[KCIHDD]]))","v":29},{"$f":"SUMPRODUCT((KCINHDD[Month]=MONTH(KCITempAct[[#This Row],[Date]]))*(KCINHDD[Day]=DAY(KCITempAct[[#This Row],[Date]]))*KCINHDD[KCINHDD])","v":27.9},{"$f":"IF(MONTH(KCITempAct[[#This Row],[Date]])=7,0,IF(MONTH(KCITempAct[[#This Row],[Date]])=8,0,KCITempAct[[#This Row],[KCINHDD]]))","v":27.9},"Adj HDD and NDD =0 for July and August"]
["2019-02-24",29,15,{"$f":"AVERAGE(KCITempAct[[#This Row],[KCIHigh]:[KCILow]]\n)","v":22},{"$f":"IF(KCITempAct[[#This Row],[KCIAve]]<65,(65-KCITempAct[[#This Row],[KCIAve]]),0)","v":43},{"$f":"IF(MONTH(KCITempAct[[#This Row],[Date]])=7,0,IF(MONTH(KCITempAct[[#This Row],[Date]])=8,0,KCITempAct[[#This Row],[KCIHDD]]))","v":43},{"$f":"SUMPRODUCT((KCINHDD[Month]=MONTH(KCITempAct[[#This Row],[Date]]))*(KCINHDD[Day]=DAY(KCITempAct[[#This Row],[Date]]))*KCINHDD[KCINHDD])","v":29.4},{"$f":"IF(MONTH(KCITempAct[[#This Row],[Date]])=7,0,IF(MONTH(KCITempAct[[#This Row],[Date]])=8,0,KCITempAct[[#This Row],[KCINHDD]]))","v":29.4},"Adj HDD and NDD =0 for July and August"]
["2019-02-25",35,13,{"$f":"AVERAGE(KCITempAct[[#This Row],[KCIHigh]:[KCILow]]\n)","v":24},{"$f":"IF(KCITempAct[[#This Row],[KCIAve]]<65,(65-KCITempAct[[#This Row],[KCIAve]]),0)","v":41},{"$f":"IF(MONTH(KCITempAct[[#This Row],[Date]])=7,0,IF(MONTH(KCITempAct[[#This Row],[Date]])=8,0,KCITempAct[[#This Row],[KCIHDD]]))","v":41},{"$f":"SUMPRODUCT((KCINHDD[Month]=MONTH(KCITempAct[[#This Row],[Date]]))*(KCINHDD[Day]=DAY(KCITempAct[[#This Row],[Date]]))*KCINHDD[KCINHDD])","v":29.683333333333334},{"$f":"IF(MONTH(KCITempAct[[#This Row],[Date]])=7,0,IF(MONTH(KCITempAct[[#This Row],[Date]])=8,0,KCITempAct[[#This Row],[KCINHDD]]))","v":29.683333333333334},"Adj HDD and NDD =0 for July and August"]
["2019-02-26",34,19,{"$f":"AVERAGE(KCITempAct[[#This Row],[KCIHigh]:[KCILow]]\n)","v":26.5},{"$f":"IF(KCITempAct[[#This Row],[KCIAve]]<65,(65-KCITempAct[[#This Row],[KCIAve]]),0)","v":38.5},{"$f":"IF(MONTH(KCITempAct[[#This Row],[Date]])=7,0,IF(MONTH(KCITempAct[[#This Row],[Date]])=8,0,KCITempAct[[#This Row],[KCIHDD]]))","v":38.5},{"$f":"SUMPRODUCT((KCINHDD[Month]=MONTH(KCITempAct[[#This Row],[Date]]))*(KCINHDD[Day]=DAY(KCITempAct[[#This Row],[Date]]))*KCINHDD[KCINHDD])","v":30.3},{"$f":"IF(MONTH(KCITempAct[[#This Row],[Date]])=7,0,IF(MONTH(KCITempAct[[#This Row],[Date]])=8,0,KCITempAct[[#This Row],[KCINHDD]]))","v":30.3},"Adj HDD and NDD =0 for July and August"]
["2019-02-27",27,13,{"$f":"AVERAGE(KCITempAct[[#This Row],[KCIHigh]:[KCILow]]\n)","v":20},{"$f":"IF(KCITempAct[[#This Row],[KCIAve]]<65,(65-KCITempAct[[#This Row],[KCIAve]]),0)","v":45},{"$f":"IF(MONTH(KCITempAct[[#This Row],[Date]])=7,0,IF(MONTH(KCITempAct[[#This Row],[Date]])=8,0,KCITempAct[[#This Row],[KCIHDD]]))","v":45},{"$f":"SUMPRODUCT((KCINHDD[Month]=MONTH(KCITempAct[[#This Row],[Date]]))*(KCINHDD[Day]=DAY(KCITempAct[[#This Row],[Date]]))*KCINHDD[KCINHDD])","v":30.65},{"$f":"IF(MONTH(KCITempAct[[#This Row],[Date]])=7,0,IF(MONTH(KCITempAct[[#This Row],[Date]])=8,0,KCITempAct[[#This Row],[KCINHDD]]))","v":30.65},"Adj HDD and NDD =0 for July and August"]
["2019-02-28",29,13,{"$f":"AVERAGE(KCITempAct[[#This Row],[KCIHigh]:[KCILow]]\n)","v":21},{"$f":"IF(KCITempAct[[#This Row],[KCIAve]]<65,(65-KCITempAct[[#This Row],[KCIAve]]),0)","v":44},{"$f":"IF(MONTH(KCITempAct[[#This Row],[Date]])=7,0,IF(MONTH(KCITempAct[[#This Row],[Date]])=8,0,KCITempAct[[#This Row],[KCIHDD]]))","v":44},{"$f":"SUMPRODUCT((KCINHDD[Month]=MONTH(KCITempAct[[#This Row],[Date]]))*(KCINHDD[Day]=DAY(KCITempAct[[#This Row],[Date]]))*KCINHDD[KCINHDD])","v":27.9},{"$f":"IF(MONTH(KCITempAct[[#This Row],[Date]])=7,0,IF(MONTH(KCITempAct[[#This Row],[Date]])=8,0,KCITempAct[[#This Row],[KCINHDD]]))","v":27.9},"Adj HDD and NDD =0 for July and August"]
["2019-03-01",37,18,{"$f":"AVERAGE(KCITempAct[[#This Row],[KCIHigh]:[KCILow]]\n)","v":27.5},{"$f":"IF(KCITempAct[[#This Row],[KCIAve]]<65,(65-KCITempAct[[#This Row],[KCIAve]]),0)","v":37.5},{"$f":"IF(MONTH(KCITempAct[[#This Row],[Date]])=7,0,IF(MONTH(KCITempAct[[#This Row],[Date]])=8,0,KCITempAct[[#This Row],[KCIHDD]]))","v":37.5},{"$f":"SUMPRODUCT((KCINHDD[Month]=MONTH(KCITempAct[[#This Row],[Date]]))*(KCINHDD[Day]=DAY(KCITempAct[[#This Row],[Date]]))*KCINHDD[KCINHDD])","v":27.533333333333335},{"$f":"IF(MONTH(KCITempAct[[#This Row],[Date]])=7,0,IF(MONTH(KCITempAct[[#This Row],[Date]])=8,0,KCITempAct[[#This Row],[KCINHDD]]))","v":27.533333333333335},"Adj HDD and NDD =0 for July and August"]
["2019-03-02",29,19,{"$f":"AVERAGE(KCITempAct[[#This Row],[KCIHigh]:[KCILow]]\n)","v":24},{"$f":"IF(KCITempAct[[#This Row],[KCIAve]]<65,(65-KCITempAct[[#This Row],[KCIAve]]),0)","v":41},{"$f":"IF(MONTH(KCITempAct[[#This Row],[Date]])=7,0,IF(MONTH(KCITempAct[[#This Row],[Date]])=8,0,KCITempAct[[#This Row],[KCIHDD]]))","v":41},{"$f":"SUMPRODUCT((KCINHDD[Month]=MONTH(KCITempAct[[#This Row],[Date]]))*(KCINHDD[Day]=DAY(KCITempAct[[#This Row],[Date]]))*KCINHDD[KCINHDD])","v":30.35},{"$f":"IF(MONTH(KCITempAct[[#This Row],[Date]])=7,0,IF(MONTH(KCITempAct[[#This Row],[Date]])=8,0,KCITempAct[[#This Row],[KCINHDD]]))","v":30.35},"Adj HDD and NDD =0 for July and August"]
["2019-03-03",19,2,{"$f":"AVERAGE(KCITempAct[[#This Row],[KCIHigh]:[KCILow]]\n)","v":10.5},{"$f":"IF(KCITempAct[[#This Row],[KCIAve]]<65,(65-KCITempAct[[#This Row],[KCIAve]]),0)","v":54.5},{"$f":"IF(MONTH(KCITempAct[[#This Row],[Date]])=7,0,IF(MONTH(KCITempAct[[#This Row],[Date]])=8,0,KCITempAct[[#This Row],[KCIHDD]]))","v":54.5},{"$f":"SUMPRODUCT((KCINHDD[Month]=MONTH(KCITempAct[[#This Row],[Date]]))*(KCINHDD[Day]=DAY(KCITempAct[[#This Row],[Date]]))*KCINHDD[KCINHDD])","v":28.8},{"$f":"IF(MONTH(KCITempAct[[#This Row],[Date]])=7,0,IF(MONTH(KCITempAct[[#This Row],[Date]])=8,0,KCITempAct[[#This Row],[KCINHDD]]))","v":28.8},"Adj HDD and NDD =0 for July and August"]
["2019-03-04",17,-2,{"$f":"AVERAGE(KCITempAct[[#This Row],[KCIHigh]:[KCILow]]\n)","v":7.5},{"$f":"IF(KCITempAct[[#This Row],[KCIAve]]<65,(65-KCITempAct[[#This Row],[KCIAve]]),0)","v":57.5},{"$f":"IF(MONTH(KCITempAct[[#This Row],[Date]])=7,0,IF(MONTH(KCITempAct[[#This Row],[Date]])=8,0,KCITempAct[[#This Row],[KCIHDD]]))","v":57.5},{"$f":"SUMPRODUCT((KCINHDD[Month]=MONTH(KCITempAct[[#This Row],[Date]]))*(KCINHDD[Day]=DAY(KCITempAct[[#This Row],[Date]]))*KCINHDD[KCINHDD])","v":25.116666666666667},{"$f":"IF(MONTH(KCITempAct[[#This Row],[Date]])=7,0,IF(MONTH(KCITempAct[[#This Row],[Date]])=8,0,KCITempAct[[#This Row],[KCINHDD]]))","v":25.116666666666667},"Adj HDD and NDD =0 for July and August"]
["2019-03-05",24,10,{"$f":"AVERAGE(KCITempAct[[#This Row],[KCIHigh]:[KCILow]]\n)","v":17},{"$f":"IF(KCITempAct[[#This Row],[KCIAve]]<65,(65-KCITempAct[[#This Row],[KCIAve]]),0)","v":48},{"$f":"IF(MONTH(KCITempAct[[#This Row],[Date]])=7,0,IF(MONTH(KCITempAct[[#This Row],[Date]])=8,0,KCITempAct[[#This Row],[KCIHDD]]))","v":48},{"$f":"SUMPRODUCT((KCINHDD[Month]=MONTH(KCITempAct[[#This Row],[Date]]))*(KCINHDD[Day]=DAY(KCITempAct[[#This Row],[Date]]))*KCINHDD[KCINHDD])","v":23.933333333333334},{"$f":"IF(MONTH(KCITempAct[[#This Row],[Date]])=7,0,IF(MONTH(KCITempAct[[#This Row],[Date]])=8,0,KCITempAct[[#This Row],[KCINHDD]]))","v":23.933333333333334},"Adj HDD and NDD =0 for July and August"]
["2019-03-06",36,7,{"$f":"AVERAGE(KCITempAct[[#This Row],[KCIHigh]:[KCILow]]\n)","v":21.5},{"$f":"IF(KCITempAct[[#This Row],[KCIAve]]<65,(65-KCITempAct[[#This Row],[KCIAve]]),0)","v":43.5},{"$f":"IF(MONTH(KCITempAct[[#This Row],[Date]])=7,0,IF(MONTH(KCITempAct[[#This Row],[Date]])=8,0,KCITempAct[[#This Row],[KCIHDD]]))","v":43.5},{"$f":"SUMPRODUCT((KCINHDD[Month]=MONTH(KCITempAct[[#This Row],[Date]]))*(KCINHDD[Day]=DAY(KCITempAct[[#This Row],[Date]]))*KCINHDD[KCINHDD])","v":22.666666666666668},{"$f":"IF(MONTH(KCITempAct[[#This Row],[Date]])=7,0,IF(MONTH(KCITempAct[[#This Row],[Date]])=8,0,KCITempAct[[#This Row],[KCINHDD]]))","v":22.666666666666668},"Adj HDD and NDD =0 for July and August"]
["2019-03-07",38,31,{"$f":"AVERAGE(KCITempAct[[#This Row],[KCIHigh]:[KCILow]]\n)","v":34.5},{"$f":"IF(KCITempAct[[#This Row],[KCIAve]]<65,(65-KCITempAct[[#This Row],[KCIAve]]),0)","v":30.5},{"$f":"IF(MONTH(KCITempAct[[#This Row],[Date]])=7,0,IF(MONTH(KCITempAct[[#This Row],[Date]])=8,0,KCITempAct[[#This Row],[KCIHDD]]))","v":30.5},{"$f":"SUMPRODUCT((KCINHDD[Month]=MONTH(KCITempAct[[#This Row],[Date]]))*(KCINHDD[Day]=DAY(KCITempAct[[#This Row],[Date]]))*KCINHDD[KCINHDD])","v":22.05},{"$f":"IF(MONTH(KCITempAct[[#This Row],[Date]])=7,0,IF(MONTH(KCITempAct[[#This Row],[Date]])=8,0,KCITempAct[[#This Row],[KCINHDD]]))","v":22.05},"Adj HDD and NDD =0 for July and August"]
["2019-03-08",43,32,{"$f":"AVERAGE(KCITempAct[[#This Row],[KCIHigh]:[KCILow]]\n)","v":37.5},{"$f":"IF(KCITempAct[[#This Row],[KCIAve]]<65,(65-KCITempAct[[#This Row],[KCIAve]]),0)","v":27.5},{"$f":"IF(MONTH(KCITempAct[[#This Row],[Date]])=7,0,IF(MONTH(KCITempAct[[#This Row],[Date]])=8,0,KCITempAct[[#This Row],[KCIHDD]]))","v":27.5},{"$f":"SUMPRODUCT((KCINHDD[Month]=MONTH(KCITempAct[[#This Row],[Date]]))*(KCINHDD[Day]=DAY(KCITempAct[[#This Row],[Date]]))*KCINHDD[KCINHDD])","v":22.65},{"$f":"IF(MONTH(KCITempAct[[#This Row],[Date]])=7,0,IF(MONTH(KCITempAct[[#This Row],[Date]])=8,0,KCITempAct[[#This Row],[KCINHDD]]))","v":22.65},"Adj HDD and NDD =0 for July and August"]
["2019-03-09",59,32,{"$f":"AVERAGE(KCITempAct[[#This Row],[KCIHigh]:[KCILow]]\n)","v":45.5},{"$f":"IF(KCITempAct[[#This Row],[KCIAve]]<65,(65-KCITempAct[[#This Row],[KCIAve]]),0)","v":19.5},{"$f":"IF(MONTH(KCITempAct[[#This Row],[Date]])=7,0,IF(MONTH(KCITempAct[[#This Row],[Date]])=8,0,KCITempAct[[#This Row],[KCIHDD]]))","v":19.5},{"$f":"SUMPRODUCT((KCINHDD[Month]=MONTH(KCITempAct[[#This Row],[Date]]))*(KCINHDD[Day]=DAY(KCITempAct[[#This Row],[Date]]))*KCINHDD[KCINHDD])","v":24.183333333333334},{"$f":"IF(MONTH(KCITempAct[[#This Row],[Date]])=7,0,IF(MONTH(KCITempAct[[#This Row],[Date]])=8,0,KCITempAct[[#This Row],[KCINHDD]]))","v":24.183333333333334},"Adj HDD and NDD =0 for July and August"]
["2019-03-10",44,29,{"$f":"AVERAGE(KCITempAct[[#This Row],[KCIHigh]:[KCILow]]\n)","v":36.5},{"$f":"IF(KCITempAct[[#This Row],[KCIAve]]<65,(65-KCITempAct[[#This Row],[KCIAve]]),0)","v":28.5},{"$f":"IF(MONTH(KCITempAct[[#This Row],[Date]])=7,0,IF(MONTH(KCITempAct[[#This Row],[Date]])=8,0,KCITempAct[[#This Row],[KCIHDD]]))","v":28.5},{"$f":"SUMPRODUCT((KCINHDD[Month]=MONTH(KCITempAct[[#This Row],[Date]]))*(KCINHDD[Day]=DAY(KCITempAct[[#This Row],[Date]]))*KCINHDD[KCINHDD])","v":23.583333333333332},{"$f":"IF(MONTH(KCITempAct[[#This Row],[Date]])=7,0,IF(MONTH(KCITempAct[[#This Row],[Date]])=8,0,KCITempAct[[#This Row],[KCINHDD]]))","v":23.583333333333332},"Adj HDD and NDD =0 for July and August"]
["2019-03-11",53,26,{"$f":"AVERAGE(KCITempAct[[#This Row],[KCIHigh]:[KCILow]]\n)","v":39.5},{"$f":"IF(KCITempAct[[#This Row],[KCIAve]]<65,(65-KCITempAct[[#This Row],[KCIAve]]),0)","v":25.5},{"$f":"IF(MONTH(KCITempAct[[#This Row],[Date]])=7,0,IF(MONTH(KCITempAct[[#This Row],[Date]])=8,0,KCITempAct[[#This Row],[KCIHDD]]))","v":25.5},{"$f":"SUMPRODUCT((KCINHDD[Month]=MONTH(KCITempAct[[#This Row],[Date]]))*(KCINHDD[Day]=DAY(KCITempAct[[#This Row],[Date]]))*KCINHDD[KCINHDD])","v":22.616666666666667},{"$f":"IF(MONTH(KCITempAct[[#This Row],[Date]])=7,0,IF(MONTH(KCITempAct[[#This Row],[Date]])=8,0,KCITempAct[[#This Row],[KCINHDD]]))","v":22.616666666666667},"Adj HDD and NDD =0 for July and August"]
["2019-03-12",53,40,{"$f":"AVERAGE(KCITempAct[[#This Row],[KCIHigh]:[KCILow]]\n)","v":46.5},{"$f":"IF(KCITempAct[[#This Row],[KCIAve]]<65,(65-KCITempAct[[#This Row],[KCIAve]]),0)","v":18.5},{"$f":"IF(MONTH(KCITempAct[[#This Row],[Date]])=7,0,IF(MONTH(KCITempAct[[#This Row],[Date]])=8,0,KCITempAct[[#This Row],[KCIHDD]]))","v":18.5},{"$f":"SUMPRODUCT((KCINHDD[Month]=MONTH(KCITempAct[[#This Row],[Date]]))*(KCINHDD[Day]=DAY(KCITempAct[[#This Row],[Date]]))*KCINHDD[KCINHDD])","v":20.350000000000001},{"$f":"IF(MONTH(KCITempAct[[#This Row],[Date]])=7,0,IF(MONTH(KCITempAct[[#This Row],[Date]])=8,0,KCITempAct[[#This Row],[KCINHDD]]))","v":20.350000000000001},"Adj HDD and NDD =0 for July and August"]
["2019-03-13",62,51,{"$f":"AVERAGE(KCITempAct[[#This Row],[KCIHigh]:[KCILow]]\n)","v":56.5},{"$f":"IF(KCITempAct[[#This Row],[KCIAve]]<65,(65-KCITempAct[[#This Row],[KCIAve]]),0)","v":8.5},{"$f":"IF(MONTH(KCITempAct[[#This Row],[Date]])=7,0,IF(MONTH(KCITempAct[[#This Row],[Date]])=8,0,KCITempAct[[#This Row],[KCIHDD]]))","v":8.5},{"$f":"SUMPRODUCT((KCINHDD[Month]=MONTH(KCITempAct[[#This Row],[Date]]))*(KCINHDD[Day]=DAY(KCITempAct[[#This Row],[Date]]))*KCINHDD[KCINHDD])","v":19.5},{"$f":"IF(MONTH(KCITempAct[[#This Row],[Date]])=7,0,IF(MONTH(KCITempAct[[#This Row],[Date]])=8,0,KCITempAct[[#This Row],[KCINHDD]]))","v":19.5},"Adj HDD and NDD =0 for July and August"]
["2019-03-14",58,36,{"$f":"AVERAGE(KCITempAct[[#This Row],[KCIHigh]:[KCILow]]\n)","v":47},{"$f":"IF(KCITempAct[[#This Row],[KCIAve]]<65,(65-KCITempAct[[#This Row],[KCIAve]]),0)","v":18},{"$f":"IF(MONTH(KCITempAct[[#This Row],[Date]])=7,0,IF(MONTH(KCITempAct[[#This Row],[Date]])=8,0,KCITempAct[[#This Row],[KCIHDD]]))","v":18},{"$f":"SUMPRODUCT((KCINHDD[Month]=MONTH(KCITempAct[[#This Row],[Date]]))*(KCINHDD[Day]=DAY(KCITempAct[[#This Row],[Date]]))*KCINHDD[KCINHDD])","v":18.45},{"$f":"IF(MONTH(KCITempAct[[#This Row],[Date]])=7,0,IF(MONTH(KCITempAct[[#This Row],[Date]])=8,0,KCITempAct[[#This Row],[KCINHDD]]))","v":18.45},"Adj HDD and NDD =0 for July and August"]
["2019-03-15",50,32,{"$f":"AVERAGE(KCITempAct[[#This Row],[KCIHigh]:[KCILow]]\n)","v":41},{"$f":"IF(KCITempAct[[#This Row],[KCIAve]]<65,(65-KCITempAct[[#This Row],[KCIAve]]),0)","v":24},{"$f":"IF(MONTH(KCITempAct[[#This Row],[Date]])=7,0,IF(MONTH(KCITempAct[[#This Row],[Date]])=8,0,KCITempAct[[#This Row],[KCIHDD]]))","v":24},{"$f":"SUMPRODUCT((KCINHDD[Month]=MONTH(KCITempAct[[#This Row],[Date]]))*(KCINHDD[Day]=DAY(KCITempAct[[#This Row],[Date]]))*KCINHDD[KCINHDD])","v":19.149999999999999},{"$f":"IF(MONTH(KCITempAct[[#This Row],[Date]])=7,0,IF(MONTH(KCITempAct[[#This Row],[Date]])=8,0,KCITempAct[[#This Row],[KCINHDD]]))","v":19.149999999999999},"Adj HDD and NDD =0 for July and August"]
["2019-03-16",60,25,{"$f":"AVERAGE(KCITempAct[[#This Row],[KCIHigh]:[KCILow]]\n)","v":42.5},{"$f":"IF(KCITempAct[[#This Row],[KCIAve]]<65,(65-KCITempAct[[#This Row],[KCIAve]]),0)","v":22.5},{"$f":"IF(MONTH(KCITempAct[[#This Row],[Date]])=7,0,IF(MONTH(KCITempAct[[#This Row],[Date]])=8,0,KCITempAct[[#This Row],[KCIHDD]]))","v":22.5},{"$f":"SUMPRODUCT((KCINHDD[Month]=MONTH(KCITempAct[[#This Row],[Date]]))*(KCINHDD[Day]=DAY(KCITempAct[[#This Row],[Date]]))*KCINHDD[KCINHDD])","v":19.316666666666666},{"$f":"IF(MONTH(KCITempAct[[#This Row],[Date]])=7,0,IF(MONTH(KCITempAct[[#This Row],[Date]])=8,0,KCITempAct[[#This Row],[KCINHDD]]))","v":19.316666666666666},"Adj HDD and NDD =0 for July and August"]
["2019-03-17",54,28,{"$f":"AVERAGE(KCITempAct[[#This Row],[KCIHigh]:[KCILow]]\n)","v":41},{"$f":"IF(KCITempAct[[#This Row],[KCIAve]]<65,(65-KCITempAct[[#This Row],[KCIAve]]),0)","v":24},{"$f":"IF(MONTH(KCITempAct[[#This Row],[Date]])=7,0,IF(MONTH(KCITempAct[[#This Row],[Date]])=8,0,KCITempAct[[#This Row],[KCIHDD]]))","v":24},{"$f":"SUMPRODUCT((KCINHDD[Month]=MONTH(KCITempAct[[#This Row],[Date]]))*(KCINHDD[Day]=DAY(KCITempAct[[#This Row],[Date]]))*KCINHDD[KCINHDD])","v":17.983333333333334},{"$f":"IF(MONTH(KCITempAct[[#This Row],[Date]])=7,0,IF(MONTH(KCITempAct[[#This Row],[Date]])=8,0,KCITempAct[[#This Row],[KCINHDD]]))","v":17.983333333333334},"Adj HDD and NDD =0 for July and August"]
["2019-03-18",54,34,{"$f":"AVERAGE(KCITempAct[[#This Row],[KCIHigh]:[KCILow]]\n)","v":44},{"$f":"IF(KCITempAct[[#This Row],[KCIAve]]<65,(65-KCITempAct[[#This Row],[KCIAve]]),0)","v":21},{"$f":"IF(MONTH(KCITempAct[[#This Row],[Date]])=7,0,IF(MONTH(KCITempAct[[#This Row],[Date]])=8,0,KCITempAct[[#This Row],[KCIHDD]]))","v":21},{"$f":"SUMPRODUCT((KCINHDD[Month]=MONTH(KCITempAct[[#This Row],[Date]]))*(KCINHDD[Day]=DAY(KCITempAct[[#This Row],[Date]]))*KCINHDD[KCINHDD])","v":18.883333333333333},{"$f":"IF(MONTH(KCITempAct[[#This Row],[Date]])=7,0,IF(MONTH(KCITempAct[[#This Row],[Date]])=8,0,KCITempAct[[#This Row],[KCINHDD]]))","v":18.883333333333333},"Adj HDD and NDD =0 for July and August"]
["2019-03-19",61,39,{"$f":"AVERAGE(KCITempAct[[#This Row],[KCIHigh]:[KCILow]]\n)","v":50},{"$f":"IF(KCITempAct[[#This Row],[KCIAve]]<65,(65-KCITempAct[[#This Row],[KCIAve]]),0)","v":15},{"$f":"IF(MONTH(KCITempAct[[#This Row],[Date]])=7,0,IF(MONTH(KCITempAct[[#This Row],[Date]])=8,0,KCITempAct[[#This Row],[KCIHDD]]))","v":15},{"$f":"SUMPRODUCT((KCINHDD[Month]=MONTH(KCITempAct[[#This Row],[Date]]))*(KCINHDD[Day]=DAY(KCITempAct[[#This Row],[Date]]))*KCINHDD[KCINHDD])","v":19.166666666666668},{"$f":"IF(MONTH(KCITempAct[[#This Row],[Date]])=7,0,IF(MONTH(KCITempAct[[#This Row],[Date]])=8,0,KCITempAct[[#This Row],[KCINHDD]]))","v":19.166666666666668},"Adj HDD and NDD =0 for July and August"]
["2019-03-20",58,41,{"$f":"AVERAGE(KCITempAct[[#This Row],[KCIHigh]:[KCILow]]\n)","v":49.5},{"$f":"IF(KCITempAct[[#This Row],[KCIAve]]<65,(65-KCITempAct[[#This Row],[KCIAve]]),0)","v":15.5},{"$f":"IF(MONTH(KCITempAct[[#This Row],[Date]])=7,0,IF(MONTH(KCITempAct[[#This Row],[Date]])=8,0,KCITempAct[[#This Row],[KCIHDD]]))","v":15.5},{"$f":"SUMPRODUCT((KCINHDD[Month]=MONTH(KCITempAct[[#This Row],[Date]]))*(KCINHDD[Day]=DAY(KCITempAct[[#This Row],[Date]]))*KCINHDD[KCINHDD])","v":18.8},{"$f":"IF(MONTH(KCITempAct[[#This Row],[Date]])=7,0,IF(MONTH(KCITempAct[[#This Row],[Date]])=8,0,KCITempAct[[#This Row],[KCINHDD]]))","v":18.8},"Adj HDD and NDD =0 for July and August"]
["2019-03-21",57,32,{"$f":"AVERAGE(KCITempAct[[#This Row],[KCIHigh]:[KCILow]]\n)","v":44.5},{"$f":"IF(KCITempAct[[#This Row],[KCIAve]]<65,(65-KCITempAct[[#This Row],[KCIAve]]),0)","v":20.5},{"$f":"IF(MONTH(KCITempAct[[#This Row],[Date]])=7,0,IF(MONTH(KCITempAct[[#This Row],[Date]])=8,0,KCITempAct[[#This Row],[KCIHDD]]))","v":20.5},{"$f":"SUMPRODUCT((KCINHDD[Month]=MONTH(KCITempAct[[#This Row],[Date]]))*(KCINHDD[Day]=DAY(KCITempAct[[#This Row],[Date]]))*KCINHDD[KCINHDD])","v":18.649999999999999},{"$f":"IF(MONTH(KCITempAct[[#This Row],[Date]])=7,0,IF(MONTH(KCITempAct[[#This Row],[Date]])=8,0,KCITempAct[[#This Row],[KCINHDD]]))","v":18.649999999999999},"Adj HDD and NDD =0 for July and August"]
["2019-03-22",66,37,{"$f":"AVERAGE(KCITempAct[[#This Row],[KCIHigh]:[KCILow]]\n)","v":51.5},{"$f":"IF(KCITempAct[[#This Row],[KCIAve]]<65,(65-KCITempAct[[#This Row],[KCIAve]]),0)","v":13.5},{"$f":"IF(MONTH(KCITempAct[[#This Row],[Date]])=7,0,IF(MONTH(KCITempAct[[#This Row],[Date]])=8,0,KCITempAct[[#This Row],[KCIHDD]]))","v":13.5},{"$f":"SUMPRODUCT((KCINHDD[Month]=MONTH(KCITempAct[[#This Row],[Date]]))*(KCINHDD[Day]=DAY(KCITempAct[[#This Row],[Date]]))*KCINHDD[KCINHDD])","v":17.616666666666667},{"$f":"IF(MONTH(KCITempAct[[#This Row],[Date]])=7,0,IF(MONTH(KCITempAct[[#This Row],[Date]])=8,0,KCITempAct[[#This Row],[KCINHDD]]))","v":17.616666666666667},"Adj HDD and NDD =0 for July and August"]
["2019-03-23",59,47,{"$f":"AVERAGE(KCITempAct[[#This Row],[KCIHigh]:[KCILow]]\n)","v":53},{"$f":"IF(KCITempAct[[#This Row],[KCIAve]]<65,(65-KCITempAct[[#This Row],[KCIAve]]),0)","v":12},{"$f":"IF(MONTH(KCITempAct[[#This Row],[Date]])=7,0,IF(MONTH(KCITempAct[[#This Row],[Date]])=8,0,KCITempAct[[#This Row],[KCIHDD]]))","v":12},{"$f":"SUMPRODUCT((KCINHDD[Month]=MONTH(KCITempAct[[#This Row],[Date]]))*(KCINHDD[Day]=DAY(KCITempAct[[#This Row],[Date]]))*KCINHDD[KCINHDD])","v":15.4},{"$f":"IF(MONTH(KCITempAct[[#This Row],[Date]])=7,0,IF(MONTH(KCITempAct[[#This Row],[Date]])=8,0,KCITempAct[[#This Row],[KCINHDD]]))","v":15.4},"Adj HDD and NDD =0 for July and August"]
["2019-03-24",57,47,{"$f":"AVERAGE(KCITempAct[[#This Row],[KCIHigh]:[KCILow]]\n)","v":52},{"$f":"IF(KCITempAct[[#This Row],[KCIAve]]<65,(65-KCITempAct[[#This Row],[KCIAve]]),0)","v":13},{"$f":"IF(MONTH(KCITempAct[[#This Row],[Date]])=7,0,IF(MONTH(KCITempAct[[#This Row],[Date]])=8,0,KCITempAct[[#This Row],[KCIHDD]]))","v":13},{"$f":"SUMPRODUCT((KCINHDD[Month]=MONTH(KCITempAct[[#This Row],[Date]]))*(KCINHDD[Day]=DAY(KCITempAct[[#This Row],[Date]]))*KCINHDD[KCINHDD])","v":18.216666666666665},{"$f":"IF(MONTH(KCITempAct[[#This Row],[Date]])=7,0,IF(MONTH(KCITempAct[[#This Row],[Date]])=8,0,KCITempAct[[#This Row],[KCINHDD]]))","v":18.216666666666665},"Adj HDD and NDD =0 for July and August"]
["2019-03-25",55,39,{"$f":"AVERAGE(KCITempAct[[#This Row],[KCIHigh]:[KCILow]]\n)","v":47},{"$f":"IF(KCITempAct[[#This Row],[KCIAve]]<65,(65-KCITempAct[[#This Row],[KCIAve]]),0)","v":18},{"$f":"IF(MONTH(KCITempAct[[#This Row],[Date]])=7,0,IF(MONTH(KCITempAct[[#This Row],[Date]])=8,0,KCITempAct[[#This Row],[KCIHDD]]))","v":18},{"$f":"SUMPRODUCT((KCINHDD[Month]=MONTH(KCITempAct[[#This Row],[Date]]))*(KCINHDD[Day]=DAY(KCITempAct[[#This Row],[Date]]))*KCINHDD[KCINHDD])","v":19.916666666666668},{"$f":"IF(MONTH(KCITempAct[[#This Row],[Date]])=7,0,IF(MONTH(KCITempAct[[#This Row],[Date]])=8,0,KCITempAct[[#This Row],[KCINHDD]]))","v":19.916666666666668},"Adj HDD and NDD =0 for July and August"]
["2019-03-26",62,36,{"$f":"AVERAGE(KCITempAct[[#This Row],[KCIHigh]:[KCILow]]\n)","v":49},{"$f":"IF(KCITempAct[[#This Row],[KCIAve]]<65,(65-KCITempAct[[#This Row],[KCIAve]]),0)","v":16},{"$f":"IF(MONTH(KCITempAct[[#This Row],[Date]])=7,0,IF(MONTH(KCITempAct[[#This Row],[Date]])=8,0,KCITempAct[[#This Row],[KCIHDD]]))","v":16},{"$f":"SUMPRODUCT((KCINHDD[Month]=MONTH(KCITempAct[[#This Row],[Date]]))*(KCINHDD[Day]=DAY(KCITempAct[[#This Row],[Date]]))*KCINHDD[KCINHDD])","v":17.866666666666667},{"$f":"IF(MONTH(KCITempAct[[#This Row],[Date]])=7,0,IF(MONTH(KCITempAct[[#This Row],[Date]])=8,0,KCITempAct[[#This Row],[KCINHDD]]))","v":17.866666666666667},"Adj HDD and NDD =0 for July and August"]
["2019-03-27",73,45,{"$f":"AVERAGE(KCITempAct[[#This Row],[KCIHigh]:[KCILow]]\n)","v":59},{"$f":"IF(KCITempAct[[#This Row],[KCIAve]]<65,(65-KCITempAct[[#This Row],[KCIAve]]),0)","v":6},{"$f":"IF(MONTH(KCITempAct[[#This Row],[Date]])=7,0,IF(MONTH(KCITempAct[[#This Row],[Date]])=8,0,KCITempAct[[#This Row],[KCIHDD]]))","v":6},{"$f":"SUMPRODUCT((KCINHDD[Month]=MONTH(KCITempAct[[#This Row],[Date]]))*(KCINHDD[Day]=DAY(KCITempAct[[#This Row],[Date]]))*KCINHDD[KCINHDD])","v":17.266666666666666},{"$f":"IF(MONTH(KCITempAct[[#This Row],[Date]])=7,0,IF(MONTH(KCITempAct[[#This Row],[Date]])=8,0,KCITempAct[[#This Row],[KCINHDD]]))","v":17.266666666666666},"Adj HDD and NDD =0 for July and August"]
["2019-03-28",61,49,{"$f":"AVERAGE(KCITempAct[[#This Row],[KCIHigh]:[KCILow]]\n)","v":55},{"$f":"IF(KCITempAct[[#This Row],[KCIAve]]<65,(65-KCITempAct[[#This Row],[KCIAve]]),0)","v":10},{"$f":"IF(MONTH(KCITempAct[[#This Row],[Date]])=7,0,IF(MONTH(KCITempAct[[#This Row],[Date]])=8,0,KCITempAct[[#This Row],[KCIHDD]]))","v":10},{"$f":"SUMPRODUCT((KCINHDD[Month]=MONTH(KCITempAct[[#This Row],[Date]]))*(KCINHDD[Day]=DAY(KCITempAct[[#This Row],[Date]]))*KCINHDD[KCINHDD])","v":16.716666666666665},{"$f":"IF(MONTH(KCITempAct[[#This Row],[Date]])=7,0,IF(MONTH(KCITempAct[[#This Row],[Date]])=8,0,KCITempAct[[#This Row],[KCINHDD]]))","v":16.716666666666665},"Adj HDD and NDD =0 for July and August"]
["2019-03-29",49,41,{"$f":"AVERAGE(KCITempAct[[#This Row],[KCIHigh]:[KCILow]]\n)","v":45},{"$f":"IF(KCITempAct[[#This Row],[KCIAve]]<65,(65-KCITempAct[[#This Row],[KCIAve]]),0)","v":20},{"$f":"IF(MONTH(KCITempAct[[#This Row],[Date]])=7,0,IF(MONTH(KCITempAct[[#This Row],[Date]])=8,0,KCITempAct[[#This Row],[KCIHDD]]))","v":20},{"$f":"SUMPRODUCT((KCINHDD[Month]=MONTH(KCITempAct[[#This Row],[Date]]))*(KCINHDD[Day]=DAY(KCITempAct[[#This Row],[Date]]))*KCINHDD[KCINHDD])","v":14.566666666666666},{"$f":"IF(MONTH(KCITempAct[[#This Row],[Date]])=7,0,IF(MONTH(KCITempAct[[#This Row],[Date]])=8,0,KCITempAct[[#This Row],[KCINHDD]]))","v":14.566666666666666},"Adj HDD and NDD =0 for July and August"]
["2019-03-30",42,30,{"$f":"AVERAGE(KCITempAct[[#This Row],[KCIHigh]:[KCILow]]\n)","v":36},{"$f":"IF(KCITempAct[[#This Row],[KCIAve]]<65,(65-KCITempAct[[#This Row],[KCIAve]]),0)","v":29},{"$f":"IF(MONTH(KCITempAct[[#This Row],[Date]])=7,0,IF(MONTH(KCITempAct[[#This Row],[Date]])=8,0,KCITempAct[[#This Row],[KCIHDD]]))","v":29},{"$f":"SUMPRODUCT((KCINHDD[Month]=MONTH(KCITempAct[[#This Row],[Date]]))*(KCINHDD[Day]=DAY(KCITempAct[[#This Row],[Date]]))*KCINHDD[KCINHDD])","v":13.9},{"$f":"IF(MONTH(KCITempAct[[#This Row],[Date]])=7,0,IF(MONTH(KCITempAct[[#This Row],[Date]])=8,0,KCITempAct[[#This Row],[KCINHDD]]))","v":13.9},"Adj HDD and NDD =0 for July and August"]
["2019-03-31",46,24,{"$f":"AVERAGE(KCITempAct[[#This Row],[KCIHigh]:[KCILow]]\n)","v":35},{"$f":"IF(KCITempAct[[#This Row],[KCIAve]]<65,(65-KCITempAct[[#This Row],[KCIAve]]),0)","v":30},{"$f":"IF(MONTH(KCITempAct[[#This Row],[Date]])=7,0,IF(MONTH(KCITempAct[[#This Row],[Date]])=8,0,KCITempAct[[#This Row],[KCIHDD]]))","v":30},{"$f":"SUMPRODUCT((KCINHDD[Month]=MONTH(KCITempAct[[#This Row],[Date]]))*(KCINHDD[Day]=DAY(KCITempAct[[#This Row],[Date]]))*KCINHDD[KCINHDD])","v":15.366666666666667},{"$f":"IF(MONTH(KCITempAct[[#This Row],[Date]])=7,0,IF(MONTH(KCITempAct[[#This Row],[Date]])=8,0,KCITempAct[[#This Row],[KCINHDD]]))","v":15.366666666666667},"Adj HDD and NDD =0 for July and August"]
["2019-04-01",56,28,{"$f":"AVERAGE(KCITempAct[[#This Row],[KCIHigh]:[KCILow]]\n)","v":42},{"$f":"IF(KCITempAct[[#This Row],[KCIAve]]<65,(65-KCITempAct[[#This Row],[KCIAve]]),0)","v":23},{"$f":"IF(MONTH(KCITempAct[[#This Row],[Date]])=7,0,IF(MONTH(KCITempAct[[#This Row],[Date]])=8,0,KCITempAct[[#This Row],[KCIHDD]]))","v":23},{"$f":"SUMPRODUCT((KCINHDD[Month]=MONTH(KCITempAct[[#This Row],[Date]]))*(KCINHDD[Day]=DAY(KCITempAct[[#This Row],[Date]]))*KCINHDD[KCINHDD])","v":16.066666666666666},{"$f":"IF(MONTH(KCITempAct[[#This Row],[Date]])=7,0,IF(MONTH(KCITempAct[[#This Row],[Date]])=8,0,KCITempAct[[#This Row],[KCINHDD]]))","v":16.066666666666666},"Adj HDD and NDD =0 for July and August"]
["2019-04-02",56,34,{"$f":"AVERAGE(KCITempAct[[#This Row],[KCIHigh]:[KCILow]]\n)","v":45},{"$f":"IF(KCITempAct[[#This Row],[KCIAve]]<65,(65-KCITempAct[[#This Row],[KCIAve]]),0)","v":20},{"$f":"IF(MONTH(KCITempAct[[#This Row],[Date]])=7,0,IF(MONTH(KCITempAct[[#This Row],[Date]])=8,0,KCITempAct[[#This Row],[KCIHDD]]))","v":20},{"$f":"SUMPRODUCT((KCINHDD[Month]=MONTH(KCITempAct[[#This Row],[Date]]))*(KCINHDD[Day]=DAY(KCITempAct[[#This Row],[Date]]))*KCINHDD[KCINHDD])","v":13.633333333333333},{"$f":"IF(MONTH(KCITempAct[[#This Row],[Date]])=7,0,IF(MONTH(KCITempAct[[#This Row],[Date]])=8,0,KCITempAct[[#This Row],[KCINHDD]]))","v":13.633333333333333},"Adj HDD and NDD =0 for July and August"]
["2019-04-03",67,47,{"$f":"AVERAGE(KCITempAct[[#This Row],[KCIHigh]:[KCILow]]\n)","v":57},{"$f":"IF(KCITempAct[[#This Row],[KCIAve]]<65,(65-KCITempAct[[#This Row],[KCIAve]]),0)","v":8},{"$f":"IF(MONTH(KCITempAct[[#This Row],[Date]])=7,0,IF(MONTH(KCITempAct[[#This Row],[Date]])=8,0,KCITempAct[[#This Row],[KCIHDD]]))","v":8},{"$f":"SUMPRODUCT((KCINHDD[Month]=MONTH(KCITempAct[[#This Row],[Date]]))*(KCINHDD[Day]=DAY(KCITempAct[[#This Row],[Date]]))*KCINHDD[KCINHDD])","v":14},{"$f":"IF(MONTH(KCITempAct[[#This Row],[Date]])=7,0,IF(MONTH(KCITempAct[[#This Row],[Date]])=8,0,KCITempAct[[#This Row],[KCINHDD]]))","v":14},"Adj HDD and NDD =0 for July and August"]
["2019-04-04",55,46,{"$f":"AVERAGE(KCITempAct[[#This Row],[KCIHigh]:[KCILow]]\n)","v":50.5},{"$f":"IF(KCITempAct[[#This Row],[KCIAve]]<65,(65-KCITempAct[[#This Row],[KCIAve]]),0)","v":14.5},{"$f":"IF(MONTH(KCITempAct[[#This Row],[Date]])=7,0,IF(MONTH(KCITempAct[[#This Row],[Date]])=8,0,KCITempAct[[#This Row],[KCIHDD]]))","v":14.5},{"$f":"SUMPRODUCT((KCINHDD[Month]=MONTH(KCITempAct[[#This Row],[Date]]))*(KCINHDD[Day]=DAY(KCITempAct[[#This Row],[Date]]))*KCINHDD[KCINHDD])","v":15.95},{"$f":"IF(MONTH(KCITempAct[[#This Row],[Date]])=7,0,IF(MONTH(KCITempAct[[#This Row],[Date]])=8,0,KCITempAct[[#This Row],[KCINHDD]]))","v":15.95},"Adj HDD and NDD =0 for July and August"]
["2019-04-05",64,43,{"$f":"AVERAGE(KCITempAct[[#This Row],[KCIHigh]:[KCILow]]\n)","v":53.5},{"$f":"IF(KCITempAct[[#This Row],[KCIAve]]<65,(65-KCITempAct[[#This Row],[KCIAve]]),0)","v":11.5},{"$f":"IF(MONTH(KCITempAct[[#This Row],[Date]])=7,0,IF(MONTH(KCITempAct[[#This Row],[Date]])=8,0,KCITempAct[[#This Row],[KCIHDD]]))","v":11.5},{"$f":"SUMPRODUCT((KCINHDD[Month]=MONTH(KCITempAct[[#This Row],[Date]]))*(KCINHDD[Day]=DAY(KCITempAct[[#This Row],[Date]]))*KCINHDD[KCINHDD])","v":13.583333333333334},{"$f":"IF(MONTH(KCITempAct[[#This Row],[Date]])=7,0,IF(MONTH(KCITempAct[[#This Row],[Date]])=8,0,KCITempAct[[#This Row],[KCINHDD]]))","v":13.583333333333334},"Adj HDD and NDD =0 for July and August"]
["2019-04-06",77,48,{"$f":"AVERAGE(KCITempAct[[#This Row],[KCIHigh]:[KCILow]]\n)","v":62.5},{"$f":"IF(KCITempAct[[#This Row],[KCIAve]]<65,(65-KCITempAct[[#This Row],[KCIAve]]),0)","v":2.5},{"$f":"IF(MONTH(KCITempAct[[#This Row],[Date]])=7,0,IF(MONTH(KCITempAct[[#This Row],[Date]])=8,0,KCITempAct[[#This Row],[KCIHDD]]))","v":2.5},{"$f":"SUMPRODUCT((KCINHDD[Month]=MONTH(KCITempAct[[#This Row],[Date]]))*(KCINHDD[Day]=DAY(KCITempAct[[#This Row],[Date]]))*KCINHDD[KCINHDD])","v":11.633333333333333},{"$f":"IF(MONTH(KCITempAct[[#This Row],[Date]])=7,0,IF(MONTH(KCITempAct[[#This Row],[Date]])=8,0,KCITempAct[[#This Row],[KCINHDD]]))","v":11.633333333333333},"Adj HDD and NDD =0 for July and August"]
["2019-04-07",73,56,{"$f":"AVERAGE(KCITempAct[[#This Row],[KCIHigh]:[KCILow]]\n)","v":64.5},{"$f":"IF(KCITempAct[[#This Row],[KCIAve]]<65,(65-KCITempAct[[#This Row],[KCIAve]]),0)","v":0.5},{"$f":"IF(MONTH(KCITempAct[[#This Row],[Date]])=7,0,IF(MONTH(KCITempAct[[#This Row],[Date]])=8,0,KCITempAct[[#This Row],[KCIHDD]]))","v":0.5},{"$f":"SUMPRODUCT((KCINHDD[Month]=MONTH(KCITempAct[[#This Row],[Date]]))*(KCINHDD[Day]=DAY(KCITempAct[[#This Row],[Date]]))*KCINHDD[KCINHDD])","v":13.083333333333334},{"$f":"IF(MONTH(KCITempAct[[#This Row],[Date]])=7,0,IF(MONTH(KCITempAct[[#This Row],[Date]])=8,0,KCITempAct[[#This Row],[KCINHDD]]))","v":13.083333333333334},"Adj HDD and NDD =0 for July and August"]
["2019-04-08",78,47,{"$f":"AVERAGE(KCITempAct[[#This Row],[KCIHigh]:[KCILow]]\n)","v":62.5},{"$f":"IF(KCITempAct[[#This Row],[KCIAve]]<65,(65-KCITempAct[[#This Row],[KCIAve]]),0)","v":2.5},{"$f":"IF(MONTH(KCITempAct[[#This Row],[Date]])=7,0,IF(MONTH(KCITempAct[[#This Row],[Date]])=8,0,KCITempAct[[#This Row],[KCIHDD]]))","v":2.5},{"$f":"SUMPRODUCT((KCINHDD[Month]=MONTH(KCITempAct[[#This Row],[Date]]))*(KCINHDD[Day]=DAY(KCITempAct[[#This Row],[Date]]))*KCINHDD[KCINHDD])","v":13.666666666666666},{"$f":"IF(MONTH(KCITempAct[[#This Row],[Date]])=7,0,IF(MONTH(KCITempAct[[#This Row],[Date]])=8,0,KCITempAct[[#This Row],[KCINHDD]]))","v":13.666666666666666},"Adj HDD and NDD =0 for July and August"]
["2019-04-09",76,52,{"$f":"AVERAGE(KCITempAct[[#This Row],[KCIHigh]:[KCILow]]\n)","v":64},{"$f":"IF(KCITempAct[[#This Row],[KCIAve]]<65,(65-KCITempAct[[#This Row],[KCIAve]]),0)","v":1},{"$f":"IF(MONTH(KCITempAct[[#This Row],[Date]])=7,0,IF(MONTH(KCITempAct[[#This Row],[Date]])=8,0,KCITempAct[[#This Row],[KCIHDD]]))","v":1},{"$f":"SUMPRODUCT((KCINHDD[Month]=MONTH(KCITempAct[[#This Row],[Date]]))*(KCINHDD[Day]=DAY(KCITempAct[[#This Row],[Date]]))*KCINHDD[KCINHDD])","v":13.05},{"$f":"IF(MONTH(KCITempAct[[#This Row],[Date]])=7,0,IF(MONTH(KCITempAct[[#This Row],[Date]])=8,0,KCITempAct[[#This Row],[KCINHDD]]))","v":13.05},"Adj HDD and NDD =0 for July and August"]
["2019-04-10",84,56,{"$f":"AVERAGE(KCITempAct[[#This Row],[KCIHigh]:[KCILow]]\n)","v":70},{"$f":"IF(KCITempAct[[#This Row],[KCIAve]]<65,(65-KCITempAct[[#This Row],[KCIAve]]),0)","v":0},{"$f":"IF(MONTH(KCITempAct[[#This Row],[Date]])=7,0,IF(MONTH(KCITempAct[[#This Row],[Date]])=8,0,KCITempAct[[#This Row],[KCIHDD]]))","v":0},{"$f":"SUMPRODUCT((KCINHDD[Month]=MONTH(KCITempAct[[#This Row],[Date]]))*(KCINHDD[Day]=DAY(KCITempAct[[#This Row],[Date]]))*KCINHDD[KCINHDD])","v":11.066666666666666},{"$f":"IF(MONTH(KCITempAct[[#This Row],[Date]])=7,0,IF(MONTH(KCITempAct[[#This Row],[Date]])=8,0,KCITempAct[[#This Row],[KCINHDD]]))","v":11.066666666666666},"Adj HDD and NDD =0 for July and August"]
["2019-04-11",74,36,{"$f":"AVERAGE(KCITempAct[[#This Row],[KCIHigh]:[KCILow]]\n)","v":55},{"$f":"IF(KCITempAct[[#This Row],[KCIAve]]<65,(65-KCITempAct[[#This Row],[KCIAve]]),0)","v":10},{"$f":"IF(MONTH(KCITempAct[[#This Row],[Date]])=7,0,IF(MONTH(KCITempAct[[#This Row],[Date]])=8,0,KCITempAct[[#This Row],[KCIHDD]]))","v":10},{"$f":"SUMPRODUCT((KCINHDD[Month]=MONTH(KCITempAct[[#This Row],[Date]]))*(KCINHDD[Day]=DAY(KCITempAct[[#This Row],[Date]]))*KCINHDD[KCINHDD])","v":12.016666666666667},{"$f":"IF(MONTH(KCITempAct[[#This Row],[Date]])=7,0,IF(MONTH(KCITempAct[[#This Row],[Date]])=8,0,KCITempAct[[#This Row],[KCINHDD]]))","v":12.016666666666667},"Adj HDD and NDD =0 for July and August"]
["2019-04-12",55,31,{"$f":"AVERAGE(KCITempAct[[#This Row],[KCIHigh]:[KCILow]]\n)","v":43},{"$f":"IF(KCITempAct[[#This Row],[KCIAve]]<65,(65-KCITempAct[[#This Row],[KCIAve]]),0)","v":22},{"$f":"IF(MONTH(KCITempAct[[#This Row],[Date]])=7,0,IF(MONTH(KCITempAct[[#This Row],[Date]])=8,0,KCITempAct[[#This Row],[KCIHDD]]))","v":22},{"$f":"SUMPRODUCT((KCINHDD[Month]=MONTH(KCITempAct[[#This Row],[Date]]))*(KCINHDD[Day]=DAY(KCITempAct[[#This Row],[Date]]))*KCINHDD[KCINHDD])","v":13.85},{"$f":"IF(MONTH(KCITempAct[[#This Row],[Date]])=7,0,IF(MONTH(KCITempAct[[#This Row],[Date]])=8,0,KCITempAct[[#This Row],[KCINHDD]]))","v":13.85},"Adj HDD and NDD =0 for July and August"]
["2019-04-13",56,28,{"$f":"AVERAGE(KCITempAct[[#This Row],[KCIHigh]:[KCILow]]\n)","v":42},{"$f":"IF(KCITempAct[[#This Row],[KCIAve]]<65,(65-KCITempAct[[#This Row],[KCIAve]]),0)","v":23},{"$f":"IF(MONTH(KCITempAct[[#This Row],[Date]])=7,0,IF(MONTH(KCITempAct[[#This Row],[Date]])=8,0,KCITempAct[[#This Row],[KCIHDD]]))","v":23},{"$f":"SUMPRODUCT((KCINHDD[Month]=MONTH(KCITempAct[[#This Row],[Date]]))*(KCINHDD[Day]=DAY(KCITempAct[[#This Row],[Date]]))*KCINHDD[KCINHDD])","v":12.1},{"$f":"IF(MONTH(KCITempAct[[#This Row],[Date]])=7,0,IF(MONTH(KCITempAct[[#This Row],[Date]])=8,0,KCITempAct[[#This Row],[KCINHDD]]))","v":12.1},"Adj HDD and NDD =0 for July and August"]
["2019-04-14",57,37,{"$f":"AVERAGE(KCITempAct[[#This Row],[KCIHigh]:[KCILow]]\n)","v":47},{"$f":"IF(KCITempAct[[#This Row],[KCIAve]]<65,(65-KCITempAct[[#This Row],[KCIAve]]),0)","v":18},{"$f":"IF(MONTH(KCITempAct[[#This Row],[Date]])=7,0,IF(MONTH(KCITempAct[[#This Row],[Date]])=8,0,KCITempAct[[#This Row],[KCIHDD]]))","v":18},{"$f":"SUMPRODUCT((KCINHDD[Month]=MONTH(KCITempAct[[#This Row],[Date]]))*(KCINHDD[Day]=DAY(KCITempAct[[#This Row],[Date]]))*KCINHDD[KCINHDD])","v":10.199999999999999},{"$f":"IF(MONTH(KCITempAct[[#This Row],[Date]])=7,0,IF(MONTH(KCITempAct[[#This Row],[Date]])=8,0,KCITempAct[[#This Row],[KCINHDD]]))","v":10.199999999999999},"Adj HDD and NDD =0 for July and August"]
["2019-04-15",78,42,{"$f":"AVERAGE(KCITempAct[[#This Row],[KCIHigh]:[KCILow]]\n)","v":60},{"$f":"IF(KCITempAct[[#This Row],[KCIAve]]<65,(65-KCITempAct[[#This Row],[KCIAve]]),0)","v":5},{"$f":"IF(MONTH(KCITempAct[[#This Row],[Date]])=7,0,IF(MONTH(KCITempAct[[#This Row],[Date]])=8,0,KCITempAct[[#This Row],[KCIHDD]]))","v":5},{"$f":"SUMPRODUCT((KCINHDD[Month]=MONTH(KCITempAct[[#This Row],[Date]]))*(KCINHDD[Day]=DAY(KCITempAct[[#This Row],[Date]]))*KCINHDD[KCINHDD])","v":10.533333333333333},{"$f":"IF(MONTH(KCITempAct[[#This Row],[Date]])=7,0,IF(MONTH(KCITempAct[[#This Row],[Date]])=8,0,KCITempAct[[#This Row],[KCINHDD]]))","v":10.533333333333333},"Adj HDD and NDD =0 for July and August"]
["2019-04-16",82,57,{"$f":"AVERAGE(KCITempAct[[#This Row],[KCIHigh]:[KCILow]]\n)","v":69.5},{"$f":"IF(KCITempAct[[#This Row],[KCIAve]]<65,(65-KCITempAct[[#This Row],[KCIAve]]),0)","v":0},{"$f":"IF(MONTH(KCITempAct[[#This Row],[Date]])=7,0,IF(MONTH(KCITempAct[[#This Row],[Date]])=8,0,KCITempAct[[#This Row],[KCIHDD]]))","v":0},{"$f":"SUMPRODUCT((KCINHDD[Month]=MONTH(KCITempAct[[#This Row],[Date]]))*(KCINHDD[Day]=DAY(KCITempAct[[#This Row],[Date]]))*KCINHDD[KCINHDD])","v":10.483333333333333},{"$f":"IF(MONTH(KCITempAct[[#This Row],[Date]])=7,0,IF(MONTH(KCITempAct[[#This Row],[Date]])=8,0,KCITempAct[[#This Row],[KCINHDD]]))","v":10.483333333333333},"Adj HDD and NDD =0 for July and August"]
["2019-04-17",74,52,{"$f":"AVERAGE(KCITempAct[[#This Row],[KCIHigh]:[KCILow]]\n)","v":63},{"$f":"IF(KCITempAct[[#This Row],[KCIAve]]<65,(65-KCITempAct[[#This Row],[KCIAve]]),0)","v":2},{"$f":"IF(MONTH(KCITempAct[[#This Row],[Date]])=7,0,IF(MONTH(KCITempAct[[#This Row],[Date]])=8,0,KCITempAct[[#This Row],[KCIHDD]]))","v":2},{"$f":"SUMPRODUCT((KCINHDD[Month]=MONTH(KCITempAct[[#This Row],[Date]]))*(KCINHDD[Day]=DAY(KCITempAct[[#This Row],[Date]]))*KCINHDD[KCINHDD])","v":10.5},{"$f":"IF(MONTH(KCITempAct[[#This Row],[Date]])=7,0,IF(MONTH(KCITempAct[[#This Row],[Date]])=8,0,KCITempAct[[#This Row],[KCINHDD]]))","v":10.5},"Adj HDD and NDD =0 for July and August"]
["2019-04-18",62,47,{"$f":"AVERAGE(KCITempAct[[#This Row],[KCIHigh]:[KCILow]]\n)","v":54.5},{"$f":"IF(KCITempAct[[#This Row],[KCIAve]]<65,(65-KCITempAct[[#This Row],[KCIAve]]),0)","v":10.5},{"$f":"IF(MONTH(KCITempAct[[#This Row],[Date]])=7,0,IF(MONTH(KCITempAct[[#This Row],[Date]])=8,0,KCITempAct[[#This Row],[KCIHDD]]))","v":10.5},{"$f":"SUMPRODUCT((KCINHDD[Month]=MONTH(KCITempAct[[#This Row],[Date]]))*(KCINHDD[Day]=DAY(KCITempAct[[#This Row],[Date]]))*KCINHDD[KCINHDD])","v":7.9833333333333334},{"$f":"IF(MONTH(KCITempAct[[#This Row],[Date]])=7,0,IF(MONTH(KCITempAct[[#This Row],[Date]])=8,0,KCITempAct[[#This Row],[KCINHDD]]))","v":7.9833333333333334},"Adj HDD and NDD =0 for July and August"]
["2019-04-19",64,42,{"$f":"AVERAGE(KCITempAct[[#This Row],[KCIHigh]:[KCILow]]\n)","v":53},{"$f":"IF(KCITempAct[[#This Row],[KCIAve]]<65,(65-KCITempAct[[#This Row],[KCIAve]]),0)","v":12},{"$f":"IF(MONTH(KCITempAct[[#This Row],[Date]])=7,0,IF(MONTH(KCITempAct[[#This Row],[Date]])=8,0,KCITempAct[[#This Row],[KCIHDD]]))","v":12},{"$f":"SUMPRODUCT((KCINHDD[Month]=MONTH(KCITempAct[[#This Row],[Date]]))*(KCINHDD[Day]=DAY(KCITempAct[[#This Row],[Date]]))*KCINHDD[KCINHDD])","v":8.1166666666666671},{"$f":"IF(MONTH(KCITempAct[[#This Row],[Date]])=7,0,IF(MONTH(KCITempAct[[#This Row],[Date]])=8,0,KCITempAct[[#This Row],[KCINHDD]]))","v":8.1166666666666671},"Adj HDD and NDD =0 for July and August"]
["2019-04-20",74,37,{"$f":"AVERAGE(KCITempAct[[#This Row],[KCIHigh]:[KCILow]]\n)","v":55.5},{"$f":"IF(KCITempAct[[#This Row],[KCIAve]]<65,(65-KCITempAct[[#This Row],[KCIAve]]),0)","v":9.5},{"$f":"IF(MONTH(KCITempAct[[#This Row],[Date]])=7,0,IF(MONTH(KCITempAct[[#This Row],[Date]])=8,0,KCITempAct[[#This Row],[KCIHDD]]))","v":9.5},{"$f":"SUMPRODUCT((KCINHDD[Month]=MONTH(KCITempAct[[#This Row],[Date]]))*(KCINHDD[Day]=DAY(KCITempAct[[#This Row],[Date]]))*KCINHDD[KCINHDD])","v":9.6999999999999993},{"$f":"IF(MONTH(KCITempAct[[#This Row],[Date]])=7,0,IF(MONTH(KCITempAct[[#This Row],[Date]])=8,0,KCITempAct[[#This Row],[KCINHDD]]))","v":9.6999999999999993},"Adj HDD and NDD =0 for July and August"]
["2019-04-21",85,58,{"$f":"AVERAGE(KCITempAct[[#This Row],[KCIHigh]:[KCILow]]\n)","v":71.5},{"$f":"IF(KCITempAct[[#This Row],[KCIAve]]<65,(65-KCITempAct[[#This Row],[KCIAve]]),0)","v":0},{"$f":"IF(MONTH(KCITempAct[[#This Row],[Date]])=7,0,IF(MONTH(KCITempAct[[#This Row],[Date]])=8,0,KCITempAct[[#This Row],[KCIHDD]]))","v":0},{"$f":"SUMPRODUCT((KCINHDD[Month]=MONTH(KCITempAct[[#This Row],[Date]]))*(KCINHDD[Day]=DAY(KCITempAct[[#This Row],[Date]]))*KCINHDD[KCINHDD])","v":9.3666666666666671},{"$f":"IF(MONTH(KCITempAct[[#This Row],[Date]])=7,0,IF(MONTH(KCITempAct[[#This Row],[Date]])=8,0,KCITempAct[[#This Row],[KCINHDD]]))","v":9.3666666666666671},"Adj HDD and NDD =0 for July and August"]
["2019-04-22",77,51,{"$f":"AVERAGE(KCITempAct[[#This Row],[KCIHigh]:[KCILow]]\n)","v":64},{"$f":"IF(KCITempAct[[#This Row],[KCIAve]]<65,(65-KCITempAct[[#This Row],[KCIAve]]),0)","v":1},{"$f":"IF(MONTH(KCITempAct[[#This Row],[Date]])=7,0,IF(MONTH(KCITempAct[[#This Row],[Date]])=8,0,KCITempAct[[#This Row],[KCIHDD]]))","v":1},{"$f":"SUMPRODUCT((KCINHDD[Month]=MONTH(KCITempAct[[#This Row],[Date]]))*(KCINHDD[Day]=DAY(KCITempAct[[#This Row],[Date]]))*KCINHDD[KCINHDD])","v":9.4},{"$f":"IF(MONTH(KCITempAct[[#This Row],[Date]])=7,0,IF(MONTH(KCITempAct[[#This Row],[Date]])=8,0,KCITempAct[[#This Row],[KCINHDD]]))","v":9.4},"Adj HDD and NDD =0 for July and August"]
["2019-04-23",56,50,{"$f":"AVERAGE(KCITempAct[[#This Row],[KCIHigh]:[KCILow]]\n)","v":53},{"$f":"IF(KCITempAct[[#This Row],[KCIAve]]<65,(65-KCITempAct[[#This Row],[KCIAve]]),0)","v":12},{"$f":"IF(MONTH(KCITempAct[[#This Row],[Date]])=7,0,IF(MONTH(KCITempAct[[#This Row],[Date]])=8,0,KCITempAct[[#This Row],[KCIHDD]]))","v":12},{"$f":"SUMPRODUCT((KCINHDD[Month]=MONTH(KCITempAct[[#This Row],[Date]]))*(KCINHDD[Day]=DAY(KCITempAct[[#This Row],[Date]]))*KCINHDD[KCINHDD])","v":8.15},{"$f":"IF(MONTH(KCITempAct[[#This Row],[Date]])=7,0,IF(MONTH(KCITempAct[[#This Row],[Date]])=8,0,KCITempAct[[#This Row],[KCINHDD]]))","v":8.15},"Adj HDD and NDD =0 for July and August"]
["2019-04-24",67,50,{"$f":"AVERAGE(KCITempAct[[#This Row],[KCIHigh]:[KCILow]]\n)","v":58.5},{"$f":"IF(KCITempAct[[#This Row],[KCIAve]]<65,(65-KCITempAct[[#This Row],[KCIAve]]),0)","v":6.5},{"$f":"IF(MONTH(KCITempAct[[#This Row],[Date]])=7,0,IF(MONTH(KCITempAct[[#This Row],[Date]])=8,0,KCITempAct[[#This Row],[KCIHDD]]))","v":6.5},{"$f":"SUMPRODUCT((KCINHDD[Month]=MONTH(KCITempAct[[#This Row],[Date]]))*(KCINHDD[Day]=DAY(KCITempAct[[#This Row],[Date]]))*KCINHDD[KCINHDD])","v":7.4},{"$f":"IF(MONTH(KCITempAct[[#This Row],[Date]])=7,0,IF(MONTH(KCITempAct[[#This Row],[Date]])=8,0,KCITempAct[[#This Row],[KCINHDD]]))","v":7.4},"Adj HDD and NDD =0 for July and August"]
["2019-04-25",73,45,{"$f":"AVERAGE(KCITempAct[[#This Row],[KCIHigh]:[KCILow]]\n)","v":59},{"$f":"IF(KCITempAct[[#This Row],[KCIAve]]<65,(65-KCITempAct[[#This Row],[KCIAve]]),0)","v":6},{"$f":"IF(MONTH(KCITempAct[[#This Row],[Date]])=7,0,IF(MONTH(KCITempAct[[#This Row],[Date]])=8,0,KCITempAct[[#This Row],[KCIHDD]]))","v":6},{"$f":"SUMPRODUCT((KCINHDD[Month]=MONTH(KCITempAct[[#This Row],[Date]]))*(KCINHDD[Day]=DAY(KCITempAct[[#This Row],[Date]]))*KCINHDD[KCINHDD])","v":8.2833333333333332},{"$f":"IF(MONTH(KCITempAct[[#This Row],[Date]])=7,0,IF(MONTH(KCITempAct[[#This Row],[Date]])=8,0,KCITempAct[[#This Row],[KCINHDD]]))","v":8.2833333333333332},"Adj HDD and NDD =0 for July and August"]
["2019-04-26",71,46,{"$f":"AVERAGE(KCITempAct[[#This Row],[KCIHigh]:[KCILow]]\n)","v":58.5},{"$f":"IF(KCITempAct[[#This Row],[KCIAve]]<65,(65-KCITempAct[[#This Row],[KCIAve]]),0)","v":6.5},{"$f":"IF(MONTH(KCITempAct[[#This Row],[Date]])=7,0,IF(MONTH(KCITempAct[[#This Row],[Date]])=8,0,KCITempAct[[#This Row],[KCIHDD]]))","v":6.5},{"$f":"SUMPRODUCT((KCINHDD[Month]=MONTH(KCITempAct[[#This Row],[Date]]))*(KCINHDD[Day]=DAY(KCITempAct[[#This Row],[Date]]))*KCINHDD[KCINHDD])","v":9.4833333333333325},{"$f":"IF(MONTH(KCITempAct[[#This Row],[Date]])=7,0,IF(MONTH(KCITempAct[[#This Row],[Date]])=8,0,KCITempAct[[#This Row],[KCINHDD]]))","v":9.4833333333333325},"Adj HDD and NDD =0 for July and August"]
["2019-04-27",76,42,{"$f":"AVERAGE(KCITempAct[[#This Row],[KCIHigh]:[KCILow]]\n)","v":59},{"$f":"IF(KCITempAct[[#This Row],[KCIAve]]<65,(65-KCITempAct[[#This Row],[KCIAve]]),0)","v":6},{"$f":"IF(MONTH(KCITempAct[[#This Row],[Date]])=7,0,IF(MONTH(KCITempAct[[#This Row],[Date]])=8,0,KCITempAct[[#This Row],[KCIHDD]]))","v":6},{"$f":"SUMPRODUCT((KCINHDD[Month]=MONTH(KCITempAct[[#This Row],[Date]]))*(KCINHDD[Day]=DAY(KCITempAct[[#This Row],[Date]]))*KCINHDD[KCINHDD])","v":9.5666666666666664},{"$f":"IF(MONTH(KCITempAct[[#This Row],[Date]])=7,0,IF(MONTH(KCITempAct[[#This Row],[Date]])=8,0,KCITempAct[[#This Row],[KCINHDD]]))","v":9.5666666666666664},"Adj HDD and NDD =0 for July and August"]
["2019-04-28",55,38,{"$f":"AVERAGE(KCITempAct[[#This Row],[KCIHigh]:[KCILow]]\n)","v":46.5},{"$f":"IF(KCITempAct[[#This Row],[KCIAve]]<65,(65-KCITempAct[[#This Row],[KCIAve]]),0)","v":18.5},{"$f":"IF(MONTH(KCITempAct[[#This Row],[Date]])=7,0,IF(MONTH(KCITempAct[[#This Row],[Date]])=8,0,KCITempAct[[#This Row],[KCIHDD]]))","v":18.5},{"$f":"SUMPRODUCT((KCINHDD[Month]=MONTH(KCITempAct[[#This Row],[Date]]))*(KCINHDD[Day]=DAY(KCITempAct[[#This Row],[Date]]))*KCINHDD[KCINHDD])","v":9.25},{"$f":"IF(MONTH(KCITempAct[[#This Row],[Date]])=7,0,IF(MONTH(KCITempAct[[#This Row],[Date]])=8,0,KCITempAct[[#This Row],[KCINHDD]]))","v":9.25},"Adj HDD and NDD =0 for July and August"]
["2019-04-29",63,50,{"$f":"AVERAGE(KCITempAct[[#This Row],[KCIHigh]:[KCILow]]\n)","v":56.5},{"$f":"IF(KCITempAct[[#This Row],[KCIAve]]<65,(65-KCITempAct[[#This Row],[KCIAve]]),0)","v":8.5},{"$f":"IF(MONTH(KCITempAct[[#This Row],[Date]])=7,0,IF(MONTH(KCITempAct[[#This Row],[Date]])=8,0,KCITempAct[[#This Row],[KCIHDD]]))","v":8.5},{"$f":"SUMPRODUCT((KCINHDD[Month]=MONTH(KCITempAct[[#This Row],[Date]]))*(KCINHDD[Day]=DAY(KCITempAct[[#This Row],[Date]]))*KCINHDD[KCINHDD])","v":7.916666666666667},{"$f":"IF(MONTH(KCITempAct[[#This Row],[Date]])=7,0,IF(MONTH(KCITempAct[[#This Row],[Date]])=8,0,KCITempAct[[#This Row],[KCINHDD]]))","v":7.916666666666667},"Adj HDD and NDD =0 for July and August"]
["2019-04-30",59,51,{"$f":"AVERAGE(KCITempAct[[#This Row],[KCIHigh]:[KCILow]]\n)","v":55},{"$f":"IF(KCITempAct[[#This Row],[KCIAve]]<65,(65-KCITempAct[[#This Row],[KCIAve]]),0)","v":10},{"$f":"IF(MONTH(KCITempAct[[#This Row],[Date]])=7,0,IF(MONTH(KCITempAct[[#This Row],[Date]])=8,0,KCITempAct[[#This Row],[KCIHDD]]))","v":10},{"$f":"SUMPRODUCT((KCINHDD[Month]=MONTH(KCITempAct[[#This Row],[Date]]))*(KCINHDD[Day]=DAY(KCITempAct[[#This Row],[Date]]))*KCINHDD[KCINHDD])","v":6.4833333333333334},{"$f":"IF(MONTH(KCITempAct[[#This Row],[Date]])=7,0,IF(MONTH(KCITempAct[[#This Row],[Date]])=8,0,KCITempAct[[#This Row],[KCINHDD]]))","v":6.4833333333333334},"Adj HDD and NDD =0 for July and August"]
["2019-05-01",63,53,{"$f":"AVERAGE(KCITempAct[[#This Row],[KCIHigh]:[KCILow]]\n)","v":58},{"$f":"IF(KCITempAct[[#This Row],[KCIAve]]<65,(65-KCITempAct[[#This Row],[KCIAve]]),0)","v":7},{"$f":"IF(MONTH(KCITempAct[[#This Row],[Date]])=7,0,IF(MONTH(KCITempAct[[#This Row],[Date]])=8,0,KCITempAct[[#This Row],[KCIHDD]]))","v":7},{"$f":"SUMPRODUCT((KCINHDD[Month]=MONTH(KCITempAct[[#This Row],[Date]]))*(KCINHDD[Day]=DAY(KCITempAct[[#This Row],[Date]]))*KCINHDD[KCINHDD])","v":7.5666666666666664},{"$f":"IF(MONTH(KCITempAct[[#This Row],[Date]])=7,0,IF(MONTH(KCITempAct[[#This Row],[Date]])=8,0,KCITempAct[[#This Row],[KCINHDD]]))","v":7.5666666666666664},"Adj HDD and NDD =0 for July and August"]
["2019-05-02",61,49,{"$f":"AVERAGE(KCITempAct[[#This Row],[KCIHigh]:[KCILow]]\n)","v":55},{"$f":"IF(KCITempAct[[#This Row],[KCIAve]]<65,(65-KCITempAct[[#This Row],[KCIAve]]),0)","v":10},{"$f":"IF(MONTH(KCITempAct[[#This Row],[Date]])=7,0,IF(MONTH(KCITempAct[[#This Row],[Date]])=8,0,KCITempAct[[#This Row],[KCIHDD]]))","v":10},{"$f":"SUMPRODUCT((KCINHDD[Month]=MONTH(KCITempAct[[#This Row],[Date]]))*(KCINHDD[Day]=DAY(KCITempAct[[#This Row],[Date]]))*KCINHDD[KCINHDD])","v":8.0500000000000007},{"$f":"IF(MONTH(KCITempAct[[#This Row],[Date]])=7,0,IF(MONTH(KCITempAct[[#This Row],[Date]])=8,0,KCITempAct[[#This Row],[KCINHDD]]))","v":8.0500000000000007},"Adj HDD and NDD =0 for July and August"]
["2019-05-03",61,48,{"$f":"AVERAGE(KCITempAct[[#This Row],[KCIHigh]:[KCILow]]\n)","v":54.5},{"$f":"IF(KCITempAct[[#This Row],[KCIAve]]<65,(65-KCITempAct[[#This Row],[KCIAve]]),0)","v":10.5},{"$f":"IF(MONTH(KCITempAct[[#This Row],[Date]])=7,0,IF(MONTH(KCITempAct[[#This Row],[Date]])=8,0,KCITempAct[[#This Row],[KCIHDD]]))","v":10.5},{"$f":"SUMPRODUCT((KCINHDD[Month]=MONTH(KCITempAct[[#This Row],[Date]]))*(KCINHDD[Day]=DAY(KCITempAct[[#This Row],[Date]]))*KCINHDD[KCINHDD])","v":7.0166666666666666},{"$f":"IF(MONTH(KCITempAct[[#This Row],[Date]])=7,0,IF(MONTH(KCITempAct[[#This Row],[Date]])=8,0,KCITempAct[[#This Row],[KCINHDD]]))","v":7.0166666666666666},"Adj HDD and NDD =0 for July and August"]
["2019-05-04",71,44,{"$f":"AVERAGE(KCITempAct[[#This Row],[KCIHigh]:[KCILow]]\n)","v":57.5},{"$f":"IF(KCITempAct[[#This Row],[KCIAve]]<65,(65-KCITempAct[[#This Row],[KCIAve]]),0)","v":7.5},{"$f":"IF(MONTH(KCITempAct[[#This Row],[Date]])=7,0,IF(MONTH(KCITempAct[[#This Row],[Date]])=8,0,KCITempAct[[#This Row],[KCIHDD]]))","v":7.5},{"$f":"SUMPRODUCT((KCINHDD[Month]=MONTH(KCITempAct[[#This Row],[Date]]))*(KCINHDD[Day]=DAY(KCITempAct[[#This Row],[Date]]))*KCINHDD[KCINHDD])","v":5.0333333333333332},{"$f":"IF(MONTH(KCITempAct[[#This Row],[Date]])=7,0,IF(MONTH(KCITempAct[[#This Row],[Date]])=8,0,KCITempAct[[#This Row],[KCINHDD]]))","v":5.0333333333333332},"Adj HDD and NDD =0 for July and August"]
["2019-05-05",76,48,{"$f":"AVERAGE(KCITempAct[[#This Row],[KCIHigh]:[KCILow]]\n)","v":62},{"$f":"IF(KCITempAct[[#This Row],[KCIAve]]<65,(65-KCITempAct[[#This Row],[KCIAve]]),0)","v":3},{"$f":"IF(MONTH(KCITempAct[[#This Row],[Date]])=7,0,IF(MONTH(KCITempAct[[#This Row],[Date]])=8,0,KCITempAct[[#This Row],[KCIHDD]]))","v":3},{"$f":"SUMPRODUCT((KCINHDD[Month]=MONTH(KCITempAct[[#This Row],[Date]]))*(KCINHDD[Day]=DAY(KCITempAct[[#This Row],[Date]]))*KCINHDD[KCINHDD])","v":4.25},{"$f":"IF(MONTH(KCITempAct[[#This Row],[Date]])=7,0,IF(MONTH(KCITempAct[[#This Row],[Date]])=8,0,KCITempAct[[#This Row],[KCINHDD]]))","v":4.25},"Adj HDD and NDD =0 for July and August"]
["2019-05-06",78,52,{"$f":"AVERAGE(KCITempAct[[#This Row],[KCIHigh]:[KCILow]]\n)","v":65},{"$f":"IF(KCITempAct[[#This Row],[KCIAve]]<65,(65-KCITempAct[[#This Row],[KCIAve]]),0)","v":0},{"$f":"IF(MONTH(KCITempAct[[#This Row],[Date]])=7,0,IF(MONTH(KCITempAct[[#This Row],[Date]])=8,0,KCITempAct[[#This Row],[KCIHDD]]))","v":0},{"$f":"SUMPRODUCT((KCINHDD[Month]=MONTH(KCITempAct[[#This Row],[Date]]))*(KCINHDD[Day]=DAY(KCITempAct[[#This Row],[Date]]))*KCINHDD[KCINHDD])","v":3.3833333333333333},{"$f":"IF(MONTH(KCITempAct[[#This Row],[Date]])=7,0,IF(MONTH(KCITempAct[[#This Row],[Date]])=8,0,KCITempAct[[#This Row],[KCINHDD]]))","v":3.3833333333333333},"Adj HDD and NDD =0 for July and August"]
["2019-05-07",65,58,{"$f":"AVERAGE(KCITempAct[[#This Row],[KCIHigh]:[KCILow]]\n)","v":61.5},{"$f":"IF(KCITempAct[[#This Row],[KCIAve]]<65,(65-KCITempAct[[#This Row],[KCIAve]]),0)","v":3.5},{"$f":"IF(MONTH(KCITempAct[[#This Row],[Date]])=7,0,IF(MONTH(KCITempAct[[#This Row],[Date]])=8,0,KCITempAct[[#This Row],[KCIHDD]]))","v":3.5},{"$f":"SUMPRODUCT((KCINHDD[Month]=MONTH(KCITempAct[[#This Row],[Date]]))*(KCINHDD[Day]=DAY(KCITempAct[[#This Row],[Date]]))*KCINHDD[KCINHDD])","v":3.4833333333333334},{"$f":"IF(MONTH(KCITempAct[[#This Row],[Date]])=7,0,IF(MONTH(KCITempAct[[#This Row],[Date]])=8,0,KCITempAct[[#This Row],[KCINHDD]]))","v":3.4833333333333334},"Adj HDD and NDD =0 for July and August"]
["2019-05-08",74,51,{"$f":"AVERAGE(KCITempAct[[#This Row],[KCIHigh]:[KCILow]]\n)","v":62.5},{"$f":"IF(KCITempAct[[#This Row],[KCIAve]]<65,(65-KCITempAct[[#This Row],[KCIAve]]),0)","v":2.5},{"$f":"IF(MONTH(KCITempAct[[#This Row],[Date]])=7,0,IF(MONTH(KCITempAct[[#This Row],[Date]])=8,0,KCITempAct[[#This Row],[KCIHDD]]))","v":2.5},{"$f":"SUMPRODUCT((KCINHDD[Month]=MONTH(KCITempAct[[#This Row],[Date]]))*(KCINHDD[Day]=DAY(KCITempAct[[#This Row],[Date]]))*KCINHDD[KCINHDD])","v":2.4333333333333331},{"$f":"IF(MONTH(KCITempAct[[#This Row],[Date]])=7,0,IF(MONTH(KCITempAct[[#This Row],[Date]])=8,0,KCITempAct[[#This Row],[KCINHDD]]))","v":2.4333333333333331},"Adj HDD and NDD =0 for July and August"]
["2019-05-09",51,42,{"$f":"AVERAGE(KCITempAct[[#This Row],[KCIHigh]:[KCILow]]\n)","v":46.5},{"$f":"IF(KCITempAct[[#This Row],[KCIAve]]<65,(65-KCITempAct[[#This Row],[KCIAve]]),0)","v":18.5},{"$f":"IF(MONTH(KCITempAct[[#This Row],[Date]])=7,0,IF(MONTH(KCITempAct[[#This Row],[Date]])=8,0,KCITempAct[[#This Row],[KCIHDD]]))","v":18.5},{"$f":"SUMPRODUCT((KCINHDD[Month]=MONTH(KCITempAct[[#This Row],[Date]]))*(KCINHDD[Day]=DAY(KCITempAct[[#This Row],[Date]]))*KCINHDD[KCINHDD])","v":4.2166666666666668},{"$f":"IF(MONTH(KCITempAct[[#This Row],[Date]])=7,0,IF(MONTH(KCITempAct[[#This Row],[Date]])=8,0,KCITempAct[[#This Row],[KCINHDD]]))","v":4.2166666666666668},"Adj HDD and NDD =0 for July and August"]
["2019-05-10",62,36,{"$f":"AVERAGE(KCITempAct[[#This Row],[KCIHigh]:[KCILow]]\n)","v":49},{"$f":"IF(KCITempAct[[#This Row],[KCIAve]]<65,(65-KCITempAct[[#This Row],[KCIAve]]),0)","v":16},{"$f":"IF(MONTH(KCITempAct[[#This Row],[Date]])=7,0,IF(MONTH(KCITempAct[[#This Row],[Date]])=8,0,KCITempAct[[#This Row],[KCIHDD]]))","v":16},{"$f":"SUMPRODUCT((KCINHDD[Month]=MONTH(KCITempAct[[#This Row],[Date]]))*(KCINHDD[Day]=DAY(KCITempAct[[#This Row],[Date]]))*KCINHDD[KCINHDD])","v":4.2833333333333332},{"$f":"IF(MONTH(KCITempAct[[#This Row],[Date]])=7,0,IF(MONTH(KCITempAct[[#This Row],[Date]])=8,0,KCITempAct[[#This Row],[KCINHDD]]))","v":4.2833333333333332},"Adj HDD and NDD =0 for July and August"]
["2019-05-11",56,45,{"$f":"AVERAGE(KCITempAct[[#This Row],[KCIHigh]:[KCILow]]\n)","v":50.5},{"$f":"IF(KCITempAct[[#This Row],[KCIAve]]<65,(65-KCITempAct[[#This Row],[KCIAve]]),0)","v":14.5},{"$f":"IF(MONTH(KCITempAct[[#This Row],[Date]])=7,0,IF(MONTH(KCITempAct[[#This Row],[Date]])=8,0,KCITempAct[[#This Row],[KCIHDD]]))","v":14.5},{"$f":"SUMPRODUCT((KCINHDD[Month]=MONTH(KCITempAct[[#This Row],[Date]]))*(KCINHDD[Day]=DAY(KCITempAct[[#This Row],[Date]]))*KCINHDD[KCINHDD])","v":4.7333333333333334},{"$f":"IF(MONTH(KCITempAct[[#This Row],[Date]])=7,0,IF(MONTH(KCITempAct[[#This Row],[Date]])=8,0,KCITempAct[[#This Row],[KCINHDD]]))","v":4.7333333333333334},"Adj HDD and NDD =0 for July and August"]
["2019-05-12",61,45,{"$f":"AVERAGE(KCITempAct[[#This Row],[KCIHigh]:[KCILow]]\n)","v":53},{"$f":"IF(KCITempAct[[#This Row],[KCIAve]]<65,(65-KCITempAct[[#This Row],[KCIAve]]),0)","v":12},{"$f":"IF(MONTH(KCITempAct[[#This Row],[Date]])=7,0,IF(MONTH(KCITempAct[[#This Row],[Date]])=8,0,KCITempAct[[#This Row],[KCIHDD]]))","v":12},{"$f":"SUMPRODUCT((KCINHDD[Month]=MONTH(KCITempAct[[#This Row],[Date]]))*(KCINHDD[Day]=DAY(KCITempAct[[#This Row],[Date]]))*KCINHDD[KCINHDD])","v":5.5333333333333332},{"$f":"IF(MONTH(KCITempAct[[#This Row],[Date]])=7,0,IF(MONTH(KCITempAct[[#This Row],[Date]])=8,0,KCITempAct[[#This Row],[KCINHDD]]))","v":5.5333333333333332},"Adj HDD and NDD =0 for July and August"]
["2019-05-13",69,43,{"$f":"AVERAGE(KCITempAct[[#This Row],[KCIHigh]:[KCILow]]\n)","v":56},{"$f":"IF(KCITempAct[[#This Row],[KCIAve]]<65,(65-KCITempAct[[#This Row],[KCIAve]]),0)","v":9},{"$f":"IF(MONTH(KCITempAct[[#This Row],[Date]])=7,0,IF(MONTH(KCITempAct[[#This Row],[Date]])=8,0,KCITempAct[[#This Row],[KCIHDD]]))","v":9},{"$f":"SUMPRODUCT((KCINHDD[Month]=MONTH(KCITempAct[[#This Row],[Date]]))*(KCINHDD[Day]=DAY(KCITempAct[[#This Row],[Date]]))*KCINHDD[KCINHDD])","v":4.8166666666666664},{"$f":"IF(MONTH(KCITempAct[[#This Row],[Date]])=7,0,IF(MONTH(KCITempAct[[#This Row],[Date]])=8,0,KCITempAct[[#This Row],[KCINHDD]]))","v":4.8166666666666664},"Adj HDD and NDD =0 for July and August"]
["2019-05-14",82,52,{"$f":"AVERAGE(KCITempAct[[#This Row],[KCIHigh]:[KCILow]]\n)","v":67},{"$f":"IF(KCITempAct[[#This Row],[KCIAve]]<65,(65-KCITempAct[[#This Row],[KCIAve]]),0)","v":0},{"$f":"IF(MONTH(KCITempAct[[#This Row],[Date]])=7,0,IF(MONTH(KCITempAct[[#This Row],[Date]])=8,0,KCITempAct[[#This Row],[KCIHDD]]))","v":0},{"$f":"SUMPRODUCT((KCINHDD[Month]=MONTH(KCITempAct[[#This Row],[Date]]))*(KCINHDD[Day]=DAY(KCITempAct[[#This Row],[Date]]))*KCINHDD[KCINHDD])","v":5.05},{"$f":"IF(MONTH(KCITempAct[[#This Row],[Date]])=7,0,IF(MONTH(KCITempAct[[#This Row],[Date]])=8,0,KCITempAct[[#This Row],[KCINHDD]]))","v":5.05},"Adj HDD and NDD =0 for July and August"]
["2019-05-15",82,62,{"$f":"AVERAGE(KCITempAct[[#This Row],[KCIHigh]:[KCILow]]\n)","v":72},{"$f":"IF(KCITempAct[[#This Row],[KCIAve]]<65,(65-KCITempAct[[#This Row],[KCIAve]]),0)","v":0},{"$f":"IF(MONTH(KCITempAct[[#This Row],[Date]])=7,0,IF(MONTH(KCITempAct[[#This Row],[Date]])=8,0,KCITempAct[[#This Row],[KCIHDD]]))","v":0},{"$f":"SUMPRODUCT((KCINHDD[Month]=MONTH(KCITempAct[[#This Row],[Date]]))*(KCINHDD[Day]=DAY(KCITempAct[[#This Row],[Date]]))*KCINHDD[KCINHDD])","v":3.6},{"$f":"IF(MONTH(KCITempAct[[#This Row],[Date]])=7,0,IF(MONTH(KCITempAct[[#This Row],[Date]])=8,0,KCITempAct[[#This Row],[KCINHDD]]))","v":3.6},"Adj HDD and NDD =0 for July and August"]
["2019-05-16",89,66,{"$f":"AVERAGE(KCITempAct[[#This Row],[KCIHigh]:[KCILow]]\n)","v":77.5},{"$f":"IF(KCITempAct[[#This Row],[KCIAve]]<65,(65-KCITempAct[[#This Row],[KCIAve]]),0)","v":0},{"$f":"IF(MONTH(KCITempAct[[#This Row],[Date]])=7,0,IF(MONTH(KCITempAct[[#This Row],[Date]])=8,0,KCITempAct[[#This Row],[KCIHDD]]))","v":0},{"$f":"SUMPRODUCT((KCINHDD[Month]=MONTH(KCITempAct[[#This Row],[Date]]))*(KCINHDD[Day]=DAY(KCITempAct[[#This Row],[Date]]))*KCINHDD[KCINHDD])","v":3.35},{"$f":"IF(MONTH(KCITempAct[[#This Row],[Date]])=7,0,IF(MONTH(KCITempAct[[#This Row],[Date]])=8,0,KCITempAct[[#This Row],[KCINHDD]]))","v":3.35},"Adj HDD and NDD =0 for July and August"]
["2019-05-17",84,69,{"$f":"AVERAGE(KCITempAct[[#This Row],[KCIHigh]:[KCILow]]\n)","v":76.5},{"$f":"IF(KCITempAct[[#This Row],[KCIAve]]<65,(65-KCITempAct[[#This Row],[KCIAve]]),0)","v":0},{"$f":"IF(MONTH(KCITempAct[[#This Row],[Date]])=7,0,IF(MONTH(KCITempAct[[#This Row],[Date]])=8,0,KCITempAct[[#This Row],[KCIHDD]]))","v":0},{"$f":"SUMPRODUCT((KCINHDD[Month]=MONTH(KCITempAct[[#This Row],[Date]]))*(KCINHDD[Day]=DAY(KCITempAct[[#This Row],[Date]]))*KCINHDD[KCINHDD])","v":2.8},{"$f":"IF(MONTH(KCITempAct[[#This Row],[Date]])=7,0,IF(MONTH(KCITempAct[[#This Row],[Date]])=8,0,KCITempAct[[#This Row],[KCINHDD]]))","v":2.8},"Adj HDD and NDD =0 for July and August"]
["2019-05-18",73,63,{"$f":"AVERAGE(KCITempAct[[#This Row],[KCIHigh]:[KCILow]]\n)","v":68},{"$f":"IF(KCITempAct[[#This Row],[KCIAve]]<65,(65-KCITempAct[[#This Row],[KCIAve]]),0)","v":0},{"$f":"IF(MONTH(KCITempAct[[#This Row],[Date]])=7,0,IF(MONTH(KCITempAct[[#This Row],[Date]])=8,0,KCITempAct[[#This Row],[KCIHDD]]))","v":0},{"$f":"SUMPRODUCT((KCINHDD[Month]=MONTH(KCITempAct[[#This Row],[Date]]))*(KCINHDD[Day]=DAY(KCITempAct[[#This Row],[Date]]))*KCINHDD[KCINHDD])","v":2.7},{"$f":"IF(MONTH(KCITempAct[[#This Row],[Date]])=7,0,IF(MONTH(KCITempAct[[#This Row],[Date]])=8,0,KCITempAct[[#This Row],[KCINHDD]]))","v":2.7},"Adj HDD and NDD =0 for July and August"]
["2019-05-19",66,50,{"$f":"AVERAGE(KCITempAct[[#This Row],[KCIHigh]:[KCILow]]\n)","v":58},{"$f":"IF(KCITempAct[[#This Row],[KCIAve]]<65,(65-KCITempAct[[#This Row],[KCIAve]]),0)","v":7},{"$f":"IF(MONTH(KCITempAct[[#This Row],[Date]])=7,0,IF(MONTH(KCITempAct[[#This Row],[Date]])=8,0,KCITempAct[[#This Row],[KCIHDD]]))","v":7},{"$f":"SUMPRODUCT((KCINHDD[Month]=MONTH(KCITempAct[[#This Row],[Date]]))*(KCINHDD[Day]=DAY(KCITempAct[[#This Row],[Date]]))*KCINHDD[KCINHDD])","v":3.35},{"$f":"IF(MONTH(KCITempAct[[#This Row],[Date]])=7,0,IF(MONTH(KCITempAct[[#This Row],[Date]])=8,0,KCITempAct[[#This Row],[KCINHDD]]))","v":3.35},"Adj HDD and NDD =0 for July and August"]
["2019-05-20",64,46,{"$f":"AVERAGE(KCITempAct[[#This Row],[KCIHigh]:[KCILow]]\n)","v":55},{"$f":"IF(KCITempAct[[#This Row],[KCIAve]]<65,(65-KCITempAct[[#This Row],[KCIAve]]),0)","v":10},{"$f":"IF(MONTH(KCITempAct[[#This Row],[Date]])=7,0,IF(MONTH(KCITempAct[[#This Row],[Date]])=8,0,KCITempAct[[#This Row],[KCIHDD]]))","v":10},{"$f":"SUMPRODUCT((KCINHDD[Month]=MONTH(KCITempAct[[#This Row],[Date]]))*(KCINHDD[Day]=DAY(KCITempAct[[#This Row],[Date]]))*KCINHDD[KCINHDD])","v":3.1333333333333333},{"$f":"IF(MONTH(KCITempAct[[#This Row],[Date]])=7,0,IF(MONTH(KCITempAct[[#This Row],[Date]])=8,0,KCITempAct[[#This Row],[KCINHDD]]))","v":3.1333333333333333},"Adj HDD and NDD =0 for July and August"]
["2019-05-21",67,48,{"$f":"AVERAGE(KCITempAct[[#This Row],[KCIHigh]:[KCILow]]\n)","v":57.5},{"$f":"IF(KCITempAct[[#This Row],[KCIAve]]<65,(65-KCITempAct[[#This Row],[KCIAve]]),0)","v":7.5},{"$f":"IF(MONTH(KCITempAct[[#This Row],[Date]])=7,0,IF(MONTH(KCITempAct[[#This Row],[Date]])=8,0,KCITempAct[[#This Row],[KCIHDD]]))","v":7.5},{"$f":"SUMPRODUCT((KCINHDD[Month]=MONTH(KCITempAct[[#This Row],[Date]]))*(KCINHDD[Day]=DAY(KCITempAct[[#This Row],[Date]]))*KCINHDD[KCINHDD])","v":2.6166666666666667},{"$f":"IF(MONTH(KCITempAct[[#This Row],[Date]])=7,0,IF(MONTH(KCITempAct[[#This Row],[Date]])=8,0,KCITempAct[[#This Row],[KCINHDD]]))","v":2.6166666666666667},"Adj HDD and NDD =0 for July and August"]
["2019-05-22",73,54,{"$f":"AVERAGE(KCITempAct[[#This Row],[KCIHigh]:[KCILow]]\n)","v":63.5},{"$f":"IF(KCITempAct[[#This Row],[KCIAve]]<65,(65-KCITempAct[[#This Row],[KCIAve]]),0)","v":1.5},{"$f":"IF(MONTH(KCITempAct[[#This Row],[Date]])=7,0,IF(MONTH(KCITempAct[[#This Row],[Date]])=8,0,KCITempAct[[#This Row],[KCIHDD]]))","v":1.5},{"$f":"SUMPRODUCT((KCINHDD[Month]=MONTH(KCITempAct[[#This Row],[Date]]))*(KCINHDD[Day]=DAY(KCITempAct[[#This Row],[Date]]))*KCINHDD[KCINHDD])","v":1.4333333333333333},{"$f":"IF(MONTH(KCITempAct[[#This Row],[Date]])=7,0,IF(MONTH(KCITempAct[[#This Row],[Date]])=8,0,KCITempAct[[#This Row],[KCINHDD]]))","v":1.4333333333333333},"Adj HDD and NDD =0 for July and August"]
["2019-05-23",75,50,{"$f":"AVERAGE(KCITempAct[[#This Row],[KCIHigh]:[KCILow]]\n)","v":62.5},{"$f":"IF(KCITempAct[[#This Row],[KCIAve]]<65,(65-KCITempAct[[#This Row],[KCIAve]]),0)","v":2.5},{"$f":"IF(MONTH(KCITempAct[[#This Row],[Date]])=7,0,IF(MONTH(KCITempAct[[#This Row],[Date]])=8,0,KCITempAct[[#This Row],[KCIHDD]]))","v":2.5},{"$f":"SUMPRODUCT((KCINHDD[Month]=MONTH(KCITempAct[[#This Row],[Date]]))*(KCINHDD[Day]=DAY(KCITempAct[[#This Row],[Date]]))*KCINHDD[KCINHDD])","v":1.5666666666666667},{"$f":"IF(MONTH(KCITempAct[[#This Row],[Date]])=7,0,IF(MONTH(KCITempAct[[#This Row],[Date]])=8,0,KCITempAct[[#This Row],[KCINHDD]]))","v":1.5666666666666667},"Adj HDD and NDD =0 for July and August"]
["2019-05-24",82,65,{"$f":"AVERAGE(KCITempAct[[#This Row],[KCIHigh]:[KCILow]]\n)","v":73.5},{"$f":"IF(KCITempAct[[#This Row],[KCIAve]]<65,(65-KCITempAct[[#This Row],[KCIAve]]),0)","v":0},{"$f":"IF(MONTH(KCITempAct[[#This Row],[Date]])=7,0,IF(MONTH(KCITempAct[[#This Row],[Date]])=8,0,KCITempAct[[#This Row],[KCIHDD]]))","v":0},{"$f":"SUMPRODUCT((KCINHDD[Month]=MONTH(KCITempAct[[#This Row],[Date]]))*(KCINHDD[Day]=DAY(KCITempAct[[#This Row],[Date]]))*KCINHDD[KCINHDD])","v":2.2999999999999998},{"$f":"IF(MONTH(KCITempAct[[#This Row],[Date]])=7,0,IF(MONTH(KCITempAct[[#This Row],[Date]])=8,0,KCITempAct[[#This Row],[KCINHDD]]))","v":2.2999999999999998},"Adj HDD and NDD =0 for July and August"]
["2019-05-25",80,64,{"$f":"AVERAGE(KCITempAct[[#This Row],[KCIHigh]:[KCILow]]\n)","v":72},{"$f":"IF(KCITempAct[[#This Row],[KCIAve]]<65,(65-KCITempAct[[#This Row],[KCIAve]]),0)","v":0},{"$f":"IF(MONTH(KCITempAct[[#This Row],[Date]])=7,0,IF(MONTH(KCITempAct[[#This Row],[Date]])=8,0,KCITempAct[[#This Row],[KCIHDD]]))","v":0},{"$f":"SUMPRODUCT((KCINHDD[Month]=MONTH(KCITempAct[[#This Row],[Date]]))*(KCINHDD[Day]=DAY(KCITempAct[[#This Row],[Date]]))*KCINHDD[KCINHDD])","v":1.8833333333333333},{"$f":"IF(MONTH(KCITempAct[[#This Row],[Date]])=7,0,IF(MONTH(KCITempAct[[#This Row],[Date]])=8,0,KCITempAct[[#This Row],[KCINHDD]]))","v":1.8833333333333333},"Adj HDD and NDD =0 for July and August"]
["2019-05-26",81,64,{"$f":"AVERAGE(KCITempAct[[#This Row],[KCIHigh]:[KCILow]]\n)","v":72.5},{"$f":"IF(KCITempAct[[#This Row],[KCIAve]]<65,(65-KCITempAct[[#This Row],[KCIAve]]),0)","v":0},{"$f":"IF(MONTH(KCITempAct[[#This Row],[Date]])=7,0,IF(MONTH(KCITempAct[[#This Row],[Date]])=8,0,KCITempAct[[#This Row],[KCIHDD]]))","v":0},{"$f":"SUMPRODUCT((KCINHDD[Month]=MONTH(KCITempAct[[#This Row],[Date]]))*(KCINHDD[Day]=DAY(KCITempAct[[#This Row],[Date]]))*KCINHDD[KCINHDD])","v":2.0333333333333332},{"$f":"IF(MONTH(KCITempAct[[#This Row],[Date]])=7,0,IF(MONTH(KCITempAct[[#This Row],[Date]])=8,0,KCITempAct[[#This Row],[KCINHDD]]))","v":2.0333333333333332},"Adj HDD and NDD =0 for July and August"]
["2019-05-27",83,65,{"$f":"AVERAGE(KCITempAct[[#This Row],[KCIHigh]:[KCILow]]\n)","v":74},{"$f":"IF(KCITempAct[[#This Row],[KCIAve]]<65,(65-KCITempAct[[#This Row],[KCIAve]]),0)","v":0},{"$f":"IF(MONTH(KCITempAct[[#This Row],[Date]])=7,0,IF(MONTH(KCITempAct[[#This Row],[Date]])=8,0,KCITempAct[[#This Row],[KCIHDD]]))","v":0},{"$f":"SUMPRODUCT((KCINHDD[Month]=MONTH(KCITempAct[[#This Row],[Date]]))*(KCINHDD[Day]=DAY(KCITempAct[[#This Row],[Date]]))*KCINHDD[KCINHDD])","v":1.7333333333333334},{"$f":"IF(MONTH(KCITempAct[[#This Row],[Date]])=7,0,IF(MONTH(KCITempAct[[#This Row],[Date]])=8,0,KCITempAct[[#This Row],[KCINHDD]]))","v":1.7333333333333334},"Adj HDD and NDD =0 for July and August"]
["2019-05-28",78,65,{"$f":"AVERAGE(KCITempAct[[#This Row],[KCIHigh]:[KCILow]]\n)","v":71.5},{"$f":"IF(KCITempAct[[#This Row],[KCIAve]]<65,(65-KCITempAct[[#This Row],[KCIAve]]),0)","v":0},{"$f":"IF(MONTH(KCITempAct[[#This Row],[Date]])=7,0,IF(MONTH(KCITempAct[[#This Row],[Date]])=8,0,KCITempAct[[#This Row],[KCIHDD]]))","v":0},{"$f":"SUMPRODUCT((KCINHDD[Month]=MONTH(KCITempAct[[#This Row],[Date]]))*(KCINHDD[Day]=DAY(KCITempAct[[#This Row],[Date]]))*KCINHDD[KCINHDD])","v":1.85},{"$f":"IF(MONTH(KCITempAct[[#This Row],[Date]])=7,0,IF(MONTH(KCITempAct[[#This Row],[Date]])=8,0,KCITempAct[[#This Row],[KCINHDD]]))","v":1.85},"Adj HDD and NDD =0 for July and August"]
["2019-05-29",71,57,{"$f":"AVERAGE(KCITempAct[[#This Row],[KCIHigh]:[KCILow]]\n)","v":64},{"$f":"IF(KCITempAct[[#This Row],[KCIAve]]<65,(65-KCITempAct[[#This Row],[KCIAve]]),0)","v":1},{"$f":"IF(MONTH(KCITempAct[[#This Row],[Date]])=7,0,IF(MONTH(KCITempAct[[#This Row],[Date]])=8,0,KCITempAct[[#This Row],[KCIHDD]]))","v":1},{"$f":"SUMPRODUCT((KCINHDD[Month]=MONTH(KCITempAct[[#This Row],[Date]]))*(KCINHDD[Day]=DAY(KCITempAct[[#This Row],[Date]]))*KCINHDD[KCINHDD])","v":1.1666666666666667},{"$f":"IF(MONTH(KCITempAct[[#This Row],[Date]])=7,0,IF(MONTH(KCITempAct[[#This Row],[Date]])=8,0,KCITempAct[[#This Row],[KCINHDD]]))","v":1.1666666666666667},"Adj HDD and NDD =0 for July and August"]
["2019-05-30",77,54,{"$f":"AVERAGE(KCITempAct[[#This Row],[KCIHigh]:[KCILow]]\n)","v":65.5},{"$f":"IF(KCITempAct[[#This Row],[KCIAve]]<65,(65-KCITempAct[[#This Row],[KCIAve]]),0)","v":0},{"$f":"IF(MONTH(KCITempAct[[#This Row],[Date]])=7,0,IF(MONTH(KCITempAct[[#This Row],[Date]])=8,0,KCITempAct[[#This Row],[KCIHDD]]))","v":0},{"$f":"SUMPRODUCT((KCINHDD[Month]=MONTH(KCITempAct[[#This Row],[Date]]))*(KCINHDD[Day]=DAY(KCITempAct[[#This Row],[Date]]))*KCINHDD[KCINHDD])","v":0.8},{"$f":"IF(MONTH(KCITempAct[[#This Row],[Date]])=7,0,IF(MONTH(KCITempAct[[#This Row],[Date]])=8,0,KCITempAct[[#This Row],[KCINHDD]]))","v":0.8},"Adj HDD and NDD =0 for July and August"]
["2019-05-31",80,56,{"$f":"AVERAGE(KCITempAct[[#This Row],[KCIHigh]:[KCILow]]\n)","v":68},{"$f":"IF(KCITempAct[[#This Row],[KCIAve]]<65,(65-KCITempAct[[#This Row],[KCIAve]]),0)","v":0},{"$f":"IF(MONTH(KCITempAct[[#This Row],[Date]])=7,0,IF(MONTH(KCITempAct[[#This Row],[Date]])=8,0,KCITempAct[[#This Row],[KCIHDD]]))","v":0},{"$f":"SUMPRODUCT((KCINHDD[Month]=MONTH(KCITempAct[[#This Row],[Date]]))*(KCINHDD[Day]=DAY(KCITempAct[[#This Row],[Date]]))*KCINHDD[KCINHDD])","v":1.2},{"$f":"IF(MONTH(KCITempAct[[#This Row],[Date]])=7,0,IF(MONTH(KCITempAct[[#This Row],[Date]])=8,0,KCITempAct[[#This Row],[KCINHDD]]))","v":1.2},"Adj HDD and NDD =0 for July and August"]
["2019-06-01",88,59,{"$f":"AVERAGE(KCITempAct[[#This Row],[KCIHigh]:[KCILow]]\n)","v":73.5},{"$f":"IF(KCITempAct[[#This Row],[KCIAve]]<65,(65-KCITempAct[[#This Row],[KCIAve]]),0)","v":0},{"$f":"IF(MONTH(KCITempAct[[#This Row],[Date]])=7,0,IF(MONTH(KCITempAct[[#This Row],[Date]])=8,0,KCITempAct[[#This Row],[KCIHDD]]))","v":0},{"$f":"SUMPRODUCT((KCINHDD[Month]=MONTH(KCITempAct[[#This Row],[Date]]))*(KCINHDD[Day]=DAY(KCITempAct[[#This Row],[Date]]))*KCINHDD[KCINHDD])","v":0.8833333333333333},{"$f":"IF(MONTH(KCITempAct[[#This Row],[Date]])=7,0,IF(MONTH(KCITempAct[[#This Row],[Date]])=8,0,KCITempAct[[#This Row],[KCINHDD]]))","v":0.8833333333333333},"Adj HDD and NDD =0 for July and August"]
["2019-06-02",79,58,{"$f":"AVERAGE(KCITempAct[[#This Row],[KCIHigh]:[KCILow]]\n)","v":68.5},{"$f":"IF(KCITempAct[[#This Row],[KCIAve]]<65,(65-KCITempAct[[#This Row],[KCIAve]]),0)","v":0},{"$f":"IF(MONTH(KCITempAct[[#This Row],[Date]])=7,0,IF(MONTH(KCITempAct[[#This Row],[Date]])=8,0,KCITempAct[[#This Row],[KCIHDD]]))","v":0},{"$f":"SUMPRODUCT((KCINHDD[Month]=MONTH(KCITempAct[[#This Row],[Date]]))*(KCINHDD[Day]=DAY(KCITempAct[[#This Row],[Date]]))*KCINHDD[KCINHDD])","v":0.65},{"$f":"IF(MONTH(KCITempAct[[#This Row],[Date]])=7,0,IF(MONTH(KCITempAct[[#This Row],[Date]])=8,0,KCITempAct[[#This Row],[KCINHDD]]))","v":0.65},"Adj HDD and NDD =0 for July and August"]
["2019-06-03",83,60,{"$f":"AVERAGE(KCITempAct[[#This Row],[KCIHigh]:[KCILow]]\n)","v":71.5},{"$f":"IF(KCITempAct[[#This Row],[KCIAve]]<65,(65-KCITempAct[[#This Row],[KCIAve]]),0)","v":0},{"$f":"IF(MONTH(KCITempAct[[#This Row],[Date]])=7,0,IF(MONTH(KCITempAct[[#This Row],[Date]])=8,0,KCITempAct[[#This Row],[KCIHDD]]))","v":0},{"$f":"SUMPRODUCT((KCINHDD[Month]=MONTH(KCITempAct[[#This Row],[Date]]))*(KCINHDD[Day]=DAY(KCITempAct[[#This Row],[Date]]))*KCINHDD[KCINHDD])","v":0.91666666666666663},{"$f":"IF(MONTH(KCITempAct[[#This Row],[Date]])=7,0,IF(MONTH(KCITempAct[[#This Row],[Date]])=8,0,KCITempAct[[#This Row],[KCINHDD]]))","v":0.91666666666666663},"Adj HDD and NDD =0 for July and August"]
["2019-06-04",84,67,{"$f":"AVERAGE(KCITempAct[[#This Row],[KCIHigh]:[KCILow]]\n)","v":75.5},{"$f":"IF(KCITempAct[[#This Row],[KCIAve]]<65,(65-KCITempAct[[#This Row],[KCIAve]]),0)","v":0},{"$f":"IF(MONTH(KCITempAct[[#This Row],[Date]])=7,0,IF(MONTH(KCITempAct[[#This Row],[Date]])=8,0,KCITempAct[[#This Row],[KCIHDD]]))","v":0},{"$f":"SUMPRODUCT((KCINHDD[Month]=MONTH(KCITempAct[[#This Row],[Date]]))*(KCINHDD[Day]=DAY(KCITempAct[[#This Row],[Date]]))*KCINHDD[KCINHDD])","v":1.2},{"$f":"IF(MONTH(KCITempAct[[#This Row],[Date]])=7,0,IF(MONTH(KCITempAct[[#This Row],[Date]])=8,0,KCITempAct[[#This Row],[KCINHDD]]))","v":1.2},"Adj HDD and NDD =0 for July and August"]
["2019-06-05",89,70,{"$f":"AVERAGE(KCITempAct[[#This Row],[KCIHigh]:[KCILow]]\n)","v":79.5},{"$f":"IF(KCITempAct[[#This Row],[KCIAve]]<65,(65-KCITempAct[[#This Row],[KCIAve]]),0)","v":0},{"$f":"IF(MONTH(KCITempAct[[#This Row],[Date]])=7,0,IF(MONTH(KCITempAct[[#This Row],[Date]])=8,0,KCITempAct[[#This Row],[KCIHDD]]))","v":0},{"$f":"SUMPRODUCT((KCINHDD[Month]=MONTH(KCITempAct[[#This Row],[Date]]))*(KCINHDD[Day]=DAY(KCITempAct[[#This Row],[Date]]))*KCINHDD[KCINHDD])","v":0.68333333333333335},{"$f":"IF(MONTH(KCITempAct[[#This Row],[Date]])=7,0,IF(MONTH(KCITempAct[[#This Row],[Date]])=8,0,KCITempAct[[#This Row],[KCINHDD]]))","v":0.68333333333333335},"Adj HDD and NDD =0 for July and August"]
["2019-06-06",82,67,{"$f":"AVERAGE(KCITempAct[[#This Row],[KCIHigh]:[KCILow]]\n)","v":74.5},{"$f":"IF(KCITempAct[[#This Row],[KCIAve]]<65,(65-KCITempAct[[#This Row],[KCIAve]]),0)","v":0},{"$f":"IF(MONTH(KCITempAct[[#This Row],[Date]])=7,0,IF(MONTH(KCITempAct[[#This Row],[Date]])=8,0,KCITempAct[[#This Row],[KCIHDD]]))","v":0},{"$f":"SUMPRODUCT((KCINHDD[Month]=MONTH(KCITempAct[[#This Row],[Date]]))*(KCINHDD[Day]=DAY(KCITempAct[[#This Row],[Date]]))*KCINHDD[KCINHDD])","v":0.31666666666666665},{"$f":"IF(MONTH(KCITempAct[[#This Row],[Date]])=7,0,IF(MONTH(KCITempAct[[#This Row],[Date]])=8,0,KCITempAct[[#This Row],[KCINHDD]]))","v":0.31666666666666665},"Adj HDD and NDD =0 for July and August"]
["2019-06-07",88,66,{"$f":"AVERAGE(KCITempAct[[#This Row],[KCIHigh]:[KCILow]]\n)","v":77},{"$f":"IF(KCITempAct[[#This Row],[KCIAve]]<65,(65-KCITempAct[[#This Row],[KCIAve]]),0)","v":0},{"$f":"IF(MONTH(KCITempAct[[#This Row],[Date]])=7,0,IF(MONTH(KCITempAct[[#This Row],[Date]])=8,0,KCITempAct[[#This Row],[KCIHDD]]))","v":0},{"$f":"SUMPRODUCT((KCINHDD[Month]=MONTH(KCITempAct[[#This Row],[Date]]))*(KCINHDD[Day]=DAY(KCITempAct[[#This Row],[Date]]))*KCINHDD[KCINHDD])","v":0.3},{"$f":"IF(MONTH(KCITempAct[[#This Row],[Date]])=7,0,IF(MONTH(KCITempAct[[#This Row],[Date]])=8,0,KCITempAct[[#This Row],[KCINHDD]]))","v":0.3},"Adj HDD and NDD =0 for July and August"]
["2019-06-08",87,66,{"$f":"AVERAGE(KCITempAct[[#This Row],[KCIHigh]:[KCILow]]\n)","v":76.5},{"$f":"IF(KCITempAct[[#This Row],[KCIAve]]<65,(65-KCITempAct[[#This Row],[KCIAve]]),0)","v":0},{"$f":"IF(MONTH(KCITempAct[[#This Row],[Date]])=7,0,IF(MONTH(KCITempAct[[#This Row],[Date]])=8,0,KCITempAct[[#This Row],[KCIHDD]]))","v":0},{"$f":"SUMPRODUCT((KCINHDD[Month]=MONTH(KCITempAct[[#This Row],[Date]]))*(KCINHDD[Day]=DAY(KCITempAct[[#This Row],[Date]]))*KCINHDD[KCINHDD])","v":0.21666666666666667},{"$f":"IF(MONTH(KCITempAct[[#This Row],[Date]])=7,0,IF(MONTH(KCITempAct[[#This Row],[Date]])=8,0,KCITempAct[[#This Row],[KCINHDD]]))","v":0.21666666666666667},"Adj HDD and NDD =0 for July and August"]
["2019-06-09",78,62,{"$f":"AVERAGE(KCITempAct[[#This Row],[KCIHigh]:[KCILow]]\n)","v":70},{"$f":"IF(KCITempAct[[#This Row],[KCIAve]]<65,(65-KCITempAct[[#This Row],[KCIAve]]),0)","v":0},{"$f":"IF(MONTH(KCITempAct[[#This Row],[Date]])=7,0,IF(MONTH(KCITempAct[[#This Row],[Date]])=8,0,KCITempAct[[#This Row],[KCIHDD]]))","v":0},{"$f":"SUMPRODUCT((KCINHDD[Month]=MONTH(KCITempAct[[#This Row],[Date]]))*(KCINHDD[Day]=DAY(KCITempAct[[#This Row],[Date]]))*KCINHDD[KCINHDD])","v":0.16666666666666666},{"$f":"IF(MONTH(KCITempAct[[#This Row],[Date]])=7,0,IF(MONTH(KCITempAct[[#This Row],[Date]])=8,0,KCITempAct[[#This Row],[KCINHDD]]))","v":0.16666666666666666},"Adj HDD and NDD =0 for July and August"]
["2019-06-10",78,54,{"$f":"AVERAGE(KCITempAct[[#This Row],[KCIHigh]:[KCILow]]\n)","v":66},{"$f":"IF(KCITempAct[[#This Row],[KCIAve]]<65,(65-KCITempAct[[#This Row],[KCIAve]]),0)","v":0},{"$f":"IF(MONTH(KCITempAct[[#This Row],[Date]])=7,0,IF(MONTH(KCITempAct[[#This Row],[Date]])=8,0,KCITempAct[[#This Row],[KCIHDD]]))","v":0},{"$f":"SUMPRODUCT((KCINHDD[Month]=MONTH(KCITempAct[[#This Row],[Date]]))*(KCINHDD[Day]=DAY(KCITempAct[[#This Row],[Date]]))*KCINHDD[KCINHDD])","v":3.3333333333333333E-2},{"$f":"IF(MONTH(KCITempAct[[#This Row],[Date]])=7,0,IF(MONTH(KCITempAct[[#This Row],[Date]])=8,0,KCITempAct[[#This Row],[KCINHDD]]))","v":3.3333333333333333E-2},"Adj HDD and NDD =0 for July and August"]
["2019-06-11",79,51,{"$f":"AVERAGE(KCITempAct[[#This Row],[KCIHigh]:[KCILow]]\n)","v":65},{"$f":"IF(KCITempAct[[#This Row],[KCIAve]]<65,(65-KCITempAct[[#This Row],[KCIAve]]),0)","v":0},{"$f":"IF(MONTH(KCITempAct[[#This Row],[Date]])=7,0,IF(MONTH(KCITempAct[[#This Row],[Date]])=8,0,KCITempAct[[#This Row],[KCIHDD]]))","v":0},{"$f":"SUMPRODUCT((KCINHDD[Month]=MONTH(KCITempAct[[#This Row],[Date]]))*(KCINHDD[Day]=DAY(KCITempAct[[#This Row],[Date]]))*KCINHDD[KCINHDD])","v":0.05},{"$f":"IF(MONTH(KCITempAct[[#This Row],[Date]])=7,0,IF(MONTH(KCITempAct[[#This Row],[Date]])=8,0,KCITempAct[[#This Row],[KCINHDD]]))","v":0.05},"Adj HDD and NDD =0 for July and August"]
["2019-06-12",74,55,{"$f":"AVERAGE(KCITempAct[[#This Row],[KCIHigh]:[KCILow]]\n)","v":64.5},{"$f":"IF(KCITempAct[[#This Row],[KCIAve]]<65,(65-KCITempAct[[#This Row],[KCIAve]]),0)","v":0.5},{"$f":"IF(MONTH(KCITempAct[[#This Row],[Date]])=7,0,IF(MONTH(KCITempAct[[#This Row],[Date]])=8,0,KCITempAct[[#This Row],[KCIHDD]]))","v":0.5},{"$f":"SUMPRODUCT((KCINHDD[Month]=MONTH(KCITempAct[[#This Row],[Date]]))*(KCINHDD[Day]=DAY(KCITempAct[[#This Row],[Date]]))*KCINHDD[KCINHDD])","v":3.3333333333333333E-2},{"$f":"IF(MONTH(KCITempAct[[#This Row],[Date]])=7,0,IF(MONTH(KCITempAct[[#This Row],[Date]])=8,0,KCITempAct[[#This Row],[KCINHDD]]))","v":3.3333333333333333E-2},"Adj HDD and NDD =0 for July and August"]
["2019-06-13",78,51,{"$f":"AVERAGE(KCITempAct[[#This Row],[KCIHigh]:[KCILow]]\n)","v":64.5},{"$f":"IF(KCITempAct[[#This Row],[KCIAve]]<65,(65-KCITempAct[[#This Row],[KCIAve]]),0)","v":0.5},{"$f":"IF(MONTH(KCITempAct[[#This Row],[Date]])=7,0,IF(MONTH(KCITempAct[[#This Row],[Date]])=8,0,KCITempAct[[#This Row],[KCIHDD]]))","v":0.5},{"$f":"SUMPRODUCT((KCINHDD[Month]=MONTH(KCITempAct[[#This Row],[Date]]))*(KCINHDD[Day]=DAY(KCITempAct[[#This Row],[Date]]))*KCINHDD[KCINHDD])","v":0.05},{"$f":"IF(MONTH(KCITempAct[[#This Row],[Date]])=7,0,IF(MONTH(KCITempAct[[#This Row],[Date]])=8,0,KCITempAct[[#This Row],[KCINHDD]]))","v":0.05},"Adj HDD and NDD =0 for July and August"]
["2019-06-14",81,61,{"$f":"AVERAGE(KCITempAct[[#This Row],[KCIHigh]:[KCILow]]\n)","v":71},{"$f":"IF(KCITempAct[[#This Row],[KCIAve]]<65,(65-KCITempAct[[#This Row],[KCIAve]]),0)","v":0},{"$f":"IF(MONTH(KCITempAct[[#This Row],[Date]])=7,0,IF(MONTH(KCITempAct[[#This Row],[Date]])=8,0,KCITempAct[[#This Row],[KCIHDD]]))","v":0},{"$f":"SUMPRODUCT((KCINHDD[Month]=MONTH(KCITempAct[[#This Row],[Date]]))*(KCINHDD[Day]=DAY(KCITempAct[[#This Row],[Date]]))*KCINHDD[KCINHDD])","v":0},{"$f":"IF(MONTH(KCITempAct[[#This Row],[Date]])=7,0,IF(MONTH(KCITempAct[[#This Row],[Date]])=8,0,KCITempAct[[#This Row],[KCINHDD]]))","v":0},"Adj HDD and NDD =0 for July and August"]
["2019-06-15",86,69,{"$f":"AVERAGE(KCITempAct[[#This Row],[KCIHigh]:[KCILow]]\n)","v":77.5},{"$f":"IF(KCITempAct[[#This Row],[KCIAve]]<65,(65-KCITempAct[[#This Row],[KCIAve]]),0)","v":0},{"$f":"IF(MONTH(KCITempAct[[#This Row],[Date]])=7,0,IF(MONTH(KCITempAct[[#This Row],[Date]])=8,0,KCITempAct[[#This Row],[KCIHDD]]))","v":0},{"$f":"SUMPRODUCT((KCINHDD[Month]=MONTH(KCITempAct[[#This Row],[Date]]))*(KCINHDD[Day]=DAY(KCITempAct[[#This Row],[Date]]))*KCINHDD[KCINHDD])","v":0},{"$f":"IF(MONTH(KCITempAct[[#This Row],[Date]])=7,0,IF(MONTH(KCITempAct[[#This Row],[Date]])=8,0,KCITempAct[[#This Row],[KCINHDD]]))","v":0},"Adj HDD and NDD =0 for July and August"]
["2019-06-16",87,68,{"$f":"AVERAGE(KCITempAct[[#This Row],[KCIHigh]:[KCILow]]\n)","v":77.5},{"$f":"IF(KCITempAct[[#This Row],[KCIAve]]<65,(65-KCITempAct[[#This Row],[KCIAve]]),0)","v":0},{"$f":"IF(MONTH(KCITempAct[[#This Row],[Date]])=7,0,IF(MONTH(KCITempAct[[#This Row],[Date]])=8,0,KCITempAct[[#This Row],[KCIHDD]]))","v":0},{"$f":"SUMPRODUCT((KCINHDD[Month]=MONTH(KCITempAct[[#This Row],[Date]]))*(KCINHDD[Day]=DAY(KCITempAct[[#This Row],[Date]]))*KCINHDD[KCINHDD])","v":0.25},{"$f":"IF(MONTH(KCITempAct[[#This Row],[Date]])=7,0,IF(MONTH(KCITempAct[[#This Row],[Date]])=8,0,KCITempAct[[#This Row],[KCINHDD]]))","v":0.25},"Adj HDD and NDD =0 for July and August"]
["2019-06-17",82,67,{"$f":"AVERAGE(KCITempAct[[#This Row],[KCIHigh]:[KCILow]]\n)","v":74.5},{"$f":"IF(KCITempAct[[#This Row],[KCIAve]]<65,(65-KCITempAct[[#This Row],[KCIAve]]),0)","v":0},{"$f":"IF(MONTH(KCITempAct[[#This Row],[Date]])=7,0,IF(MONTH(KCITempAct[[#This Row],[Date]])=8,0,KCITempAct[[#This Row],[KCIHDD]]))","v":0},{"$f":"SUMPRODUCT((KCINHDD[Month]=MONTH(KCITempAct[[#This Row],[Date]]))*(KCINHDD[Day]=DAY(KCITempAct[[#This Row],[Date]]))*KCINHDD[KCINHDD])","v":0.25},{"$f":"IF(MONTH(KCITempAct[[#This Row],[Date]])=7,0,IF(MONTH(KCITempAct[[#This Row],[Date]])=8,0,KCITempAct[[#This Row],[KCINHDD]]))","v":0.25},"Adj HDD and NDD =0 for July and August"]
["2019-06-18",79,62,{"$f":"AVERAGE(KCITempAct[[#This Row],[KCIHigh]:[KCILow]]\n)","v":70.5},{"$f":"IF(KCITempAct[[#This Row],[KCIAve]]<65,(65-KCITempAct[[#This Row],[KCIAve]]),0)","v":0},{"$f":"IF(MONTH(KCITempAct[[#This Row],[Date]])=7,0,IF(MONTH(KCITempAct[[#This Row],[Date]])=8,0,KCITempAct[[#This Row],[KCIHDD]]))","v":0},{"$f":"SUMPRODUCT((KCINHDD[Month]=MONTH(KCITempAct[[#This Row],[Date]]))*(KCINHDD[Day]=DAY(KCITempAct[[#This Row],[Date]]))*KCINHDD[KCINHDD])","v":8.3333333333333329E-2},{"$f":"IF(MONTH(KCITempAct[[#This Row],[Date]])=7,0,IF(MONTH(KCITempAct[[#This Row],[Date]])=8,0,KCITempAct[[#This Row],[KCINHDD]]))","v":8.3333333333333329E-2},"Adj HDD and NDD =0 for July and August"]
["2019-06-19",76,66,{"$f":"AVERAGE(KCITempAct[[#This Row],[KCIHigh]:[KCILow]]\n)","v":71},{"$f":"IF(KCITempAct[[#This Row],[KCIAve]]<65,(65-KCITempAct[[#This Row],[KCIAve]]),0)","v":0},{"$f":"IF(MONTH(KCITempAct[[#This Row],[Date]])=7,0,IF(MONTH(KCITempAct[[#This Row],[Date]])=8,0,KCITempAct[[#This Row],[KCIHDD]]))","v":0},{"$f":"SUMPRODUCT((KCINHDD[Month]=MONTH(KCITempAct[[#This Row],[Date]]))*(KCINHDD[Day]=DAY(KCITempAct[[#This Row],[Date]]))*KCINHDD[KCINHDD])","v":6.6666666666666666E-2},{"$f":"IF(MONTH(KCITempAct[[#This Row],[Date]])=7,0,IF(MONTH(KCITempAct[[#This Row],[Date]])=8,0,KCITempAct[[#This Row],[KCINHDD]]))","v":6.6666666666666666E-2},"Adj HDD and NDD =0 for July and August"]
["2019-06-20",86,60,{"$f":"AVERAGE(KCITempAct[[#This Row],[KCIHigh]:[KCILow]]\n)","v":73},{"$f":"IF(KCITempAct[[#This Row],[KCIAve]]<65,(65-KCITempAct[[#This Row],[KCIAve]]),0)","v":0},{"$f":"IF(MONTH(KCITempAct[[#This Row],[Date]])=7,0,IF(MONTH(KCITempAct[[#This Row],[Date]])=8,0,KCITempAct[[#This Row],[KCIHDD]]))","v":0},{"$f":"SUMPRODUCT((KCINHDD[Month]=MONTH(KCITempAct[[#This Row],[Date]]))*(KCINHDD[Day]=DAY(KCITempAct[[#This Row],[Date]]))*KCINHDD[KCINHDD])","v":0.05},{"$f":"IF(MONTH(KCITempAct[[#This Row],[Date]])=7,0,IF(MONTH(KCITempAct[[#This Row],[Date]])=8,0,KCITempAct[[#This Row],[KCINHDD]]))","v":0.05},"Adj HDD and NDD =0 for July and August"]
["2019-06-21",80,65,{"$f":"AVERAGE(KCITempAct[[#This Row],[KCIHigh]:[KCILow]]\n)","v":72.5},{"$f":"IF(KCITempAct[[#This Row],[KCIAve]]<65,(65-KCITempAct[[#This Row],[KCIAve]]),0)","v":0},{"$f":"IF(MONTH(KCITempAct[[#This Row],[Date]])=7,0,IF(MONTH(KCITempAct[[#This Row],[Date]])=8,0,KCITempAct[[#This Row],[KCIHDD]]))","v":0},{"$f":"SUMPRODUCT((KCINHDD[Month]=MONTH(KCITempAct[[#This Row],[Date]]))*(KCINHDD[Day]=DAY(KCITempAct[[#This Row],[Date]]))*KCINHDD[KCINHDD])","v":0.1},{"$f":"IF(MONTH(KCITempAct[[#This Row],[Date]])=7,0,IF(MONTH(KCITempAct[[#This Row],[Date]])=8,0,KCITempAct[[#This Row],[KCINHDD]]))","v":0.1},"Adj HDD and NDD =0 for July and August"]
["2019-06-22",89,66,{"$f":"AVERAGE(KCITempAct[[#This Row],[KCIHigh]:[KCILow]]\n)","v":77.5},{"$f":"IF(KCITempAct[[#This Row],[KCIAve]]<65,(65-KCITempAct[[#This Row],[KCIAve]]),0)","v":0},{"$f":"IF(MONTH(KCITempAct[[#This Row],[Date]])=7,0,IF(MONTH(KCITempAct[[#This Row],[Date]])=8,0,KCITempAct[[#This Row],[KCIHDD]]))","v":0},{"$f":"SUMPRODUCT((KCINHDD[Month]=MONTH(KCITempAct[[#This Row],[Date]]))*(KCINHDD[Day]=DAY(KCITempAct[[#This Row],[Date]]))*KCINHDD[KCINHDD])","v":0},{"$f":"IF(MONTH(KCITempAct[[#This Row],[Date]])=7,0,IF(MONTH(KCITempAct[[#This Row],[Date]])=8,0,KCITempAct[[#This Row],[KCINHDD]]))","v":0},"Adj HDD and NDD =0 for July and August"]
["2019-06-23",74,64,{"$f":"AVERAGE(KCITempAct[[#This Row],[KCIHigh]:[KCILow]]\n)","v":69},{"$f":"IF(KCITempAct[[#This Row],[KCIAve]]<65,(65-KCITempAct[[#This Row],[KCIAve]]),0)","v":0},{"$f":"IF(MONTH(KCITempAct[[#This Row],[Date]])=7,0,IF(MONTH(KCITempAct[[#This Row],[Date]])=8,0,KCITempAct[[#This Row],[KCIHDD]]))","v":0},{"$f":"SUMPRODUCT((KCINHDD[Month]=MONTH(KCITempAct[[#This Row],[Date]]))*(KCINHDD[Day]=DAY(KCITempAct[[#This Row],[Date]]))*KCINHDD[KCINHDD])","v":0},{"$f":"IF(MONTH(KCITempAct[[#This Row],[Date]])=7,0,IF(MONTH(KCITempAct[[#This Row],[Date]])=8,0,KCITempAct[[#This Row],[KCINHDD]]))","v":0},"Adj HDD and NDD =0 for July and August"]
["2019-06-24",79,62,{"$f":"AVERAGE(KCITempAct[[#This Row],[KCIHigh]:[KCILow]]\n)","v":70.5},{"$f":"IF(KCITempAct[[#This Row],[KCIAve]]<65,(65-KCITempAct[[#This Row],[KCIAve]]),0)","v":0},{"$f":"IF(MONTH(KCITempAct[[#This Row],[Date]])=7,0,IF(MONTH(KCITempAct[[#This Row],[Date]])=8,0,KCITempAct[[#This Row],[KCIHDD]]))","v":0},{"$f":"SUMPRODUCT((KCINHDD[Month]=MONTH(KCITempAct[[#This Row],[Date]]))*(KCINHDD[Day]=DAY(KCITempAct[[#This Row],[Date]]))*KCINHDD[KCINHDD])","v":0},{"$f":"IF(MONTH(KCITempAct[[#This Row],[Date]])=7,0,IF(MONTH(KCITempAct[[#This Row],[Date]])=8,0,KCITempAct[[#This Row],[KCINHDD]]))","v":0},"Adj HDD and NDD =0 for July and August"]
["2019-06-25",87,64,{"$f":"AVERAGE(KCITempAct[[#This Row],[KCIHigh]:[KCILow]]\n)","v":75.5},{"$f":"IF(KCITempAct[[#This Row],[KCIAve]]<65,(65-KCITempAct[[#This Row],[KCIAve]]),0)","v":0},{"$f":"IF(MONTH(KCITempAct[[#This Row],[Date]])=7,0,IF(MONTH(KCITempAct[[#This Row],[Date]])=8,0,KCITempAct[[#This Row],[KCIHDD]]))","v":0},{"$f":"SUMPRODUCT((KCINHDD[Month]=MONTH(KCITempAct[[#This Row],[Date]]))*(KCINHDD[Day]=DAY(KCITempAct[[#This Row],[Date]]))*KCINHDD[KCINHDD])","v":0.1},{"$f":"IF(MONTH(KCITempAct[[#This Row],[Date]])=7,0,IF(MONTH(KCITempAct[[#This Row],[Date]])=8,0,KCITempAct[[#This Row],[KCINHDD]]))","v":0.1},"Adj HDD and NDD =0 for July and August"]
["2019-06-26",85,64,{"$f":"AVERAGE(KCITempAct[[#This Row],[KCIHigh]:[KCILow]]\n)","v":74.5},{"$f":"IF(KCITempAct[[#This Row],[KCIAve]]<65,(65-KCITempAct[[#This Row],[KCIAve]]),0)","v":0},{"$f":"IF(MONTH(KCITempAct[[#This Row],[Date]])=7,0,IF(MONTH(KCITempAct[[#This Row],[Date]])=8,0,KCITempAct[[#This Row],[KCIHDD]]))","v":0},{"$f":"SUMPRODUCT((KCINHDD[Month]=MONTH(KCITempAct[[#This Row],[Date]]))*(KCINHDD[Day]=DAY(KCITempAct[[#This Row],[Date]]))*KCINHDD[KCINHDD])","v":0.05},{"$f":"IF(MONTH(KCITempAct[[#This Row],[Date]])=7,0,IF(MONTH(KCITempAct[[#This Row],[Date]])=8,0,KCITempAct[[#This Row],[KCINHDD]]))","v":0.05},"Adj HDD and NDD =0 for July and August"]
["2019-06-27",90,72,{"$f":"AVERAGE(KCITempAct[[#This Row],[KCIHigh]:[KCILow]]\n)","v":81},{"$f":"IF(KCITempAct[[#This Row],[KCIAve]]<65,(65-KCITempAct[[#This Row],[KCIAve]]),0)","v":0},{"$f":"IF(MONTH(KCITempAct[[#This Row],[Date]])=7,0,IF(MONTH(KCITempAct[[#This Row],[Date]])=8,0,KCITempAct[[#This Row],[KCIHDD]]))","v":0},{"$f":"SUMPRODUCT((KCINHDD[Month]=MONTH(KCITempAct[[#This Row],[Date]]))*(KCINHDD[Day]=DAY(KCITempAct[[#This Row],[Date]]))*KCINHDD[KCINHDD])","v":3.3333333333333333E-2},{"$f":"IF(MONTH(KCITempAct[[#This Row],[Date]])=7,0,IF(MONTH(KCITempAct[[#This Row],[Date]])=8,0,KCITempAct[[#This Row],[KCINHDD]]))","v":3.3333333333333333E-2},"Adj HDD and NDD =0 for July and August"]
["2019-06-28",92,75,{"$f":"AVERAGE(KCITempAct[[#This Row],[KCIHigh]:[KCILow]]\n)","v":83.5},{"$f":"IF(KCITempAct[[#This Row],[KCIAve]]<65,(65-KCITempAct[[#This Row],[KCIAve]]),0)","v":0},{"$f":"IF(MONTH(KCITempAct[[#This Row],[Date]])=7,0,IF(MONTH(KCITempAct[[#This Row],[Date]])=8,0,KCITempAct[[#This Row],[KCIHDD]]))","v":0},{"$f":"SUMPRODUCT((KCINHDD[Month]=MONTH(KCITempAct[[#This Row],[Date]]))*(KCINHDD[Day]=DAY(KCITempAct[[#This Row],[Date]]))*KCINHDD[KCINHDD])","v":0},{"$f":"IF(MONTH(KCITempAct[[#This Row],[Date]])=7,0,IF(MONTH(KCITempAct[[#This Row],[Date]])=8,0,KCITempAct[[#This Row],[KCINHDD]]))","v":0},"Adj HDD and NDD =0 for July and August"]
["2019-06-29",93,76,{"$f":"AVERAGE(KCITempAct[[#This Row],[KCIHigh]:[KCILow]]\n)","v":84.5},{"$f":"IF(KCITempAct[[#This Row],[KCIAve]]<65,(65-KCITempAct[[#This Row],[KCIAve]]),0)","v":0},{"$f":"IF(MONTH(KCITempAct[[#This Row],[Date]])=7,0,IF(MONTH(KCITempAct[[#This Row],[Date]])=8,0,KCITempAct[[#This Row],[KCIHDD]]))","v":0},{"$f":"SUMPRODUCT((KCINHDD[Month]=MONTH(KCITempAct[[#This Row],[Date]]))*(KCINHDD[Day]=DAY(KCITempAct[[#This Row],[Date]]))*KCINHDD[KCINHDD])","v":1.6666666666666666E-2},{"$f":"IF(MONTH(KCITempAct[[#This Row],[Date]])=7,0,IF(MONTH(KCITempAct[[#This Row],[Date]])=8,0,KCITempAct[[#This Row],[KCINHDD]]))","v":1.6666666666666666E-2},"Adj HDD and NDD =0 for July and August"]
["2019-06-30",91,72,{"$f":"AVERAGE(KCITempAct[[#This Row],[KCIHigh]:[KCILow]]\n)","v":81.5},{"$f":"IF(KCITempAct[[#This Row],[KCIAve]]<65,(65-KCITempAct[[#This Row],[KCIAve]]),0)","v":0},{"$f":"IF(MONTH(KCITempAct[[#This Row],[Date]])=7,0,IF(MONTH(KCITempAct[[#This Row],[Date]])=8,0,KCITempAct[[#This Row],[KCIHDD]]))","v":0},{"$f":"SUMPRODUCT((KCINHDD[Month]=MONTH(KCITempAct[[#This Row],[Date]]))*(KCINHDD[Day]=DAY(KCITempAct[[#This Row],[Date]]))*KCINHDD[KCINHDD])","v":0},{"$f":"IF(MONTH(KCITempAct[[#This Row],[Date]])=7,0,IF(MONTH(KCITempAct[[#This Row],[Date]])=8,0,KCITempAct[[#This Row],[KCINHDD]]))","v":0},"Adj HDD and NDD =0 for July and August"]
["2019-07-01",90,69,{"$f":"AVERAGE(KCITempAct[[#This Row],[KCIHigh]:[KCILow]]\n)","v":79.5},{"$f":"IF(KCITempAct[[#This Row],[KCIAve]]<65,(65-KCITempAct[[#This Row],[KCIAve]]),0)","v":0},{"$f":"IF(MONTH(KCITempAct[[#This Row],[Date]])=7,0,IF(MONTH(KCITempAct[[#This Row],[Date]])=8,0,KCITempAct[[#This Row],[KCIHDD]]))","v":0},{"$f":"SUMPRODUCT((KCINHDD[Month]=MONTH(KCITempAct[[#This Row],[Date]]))*(KCINHDD[Day]=DAY(KCITempAct[[#This Row],[Date]]))*KCINHDD[KCINHDD])","v":1.6666666666666666E-2},{"$f":"IF(MONTH(KCITempAct[[#This Row],[Date]])=7,0,IF(MONTH(KCITempAct[[#This Row],[Date]])=8,0,KCITempAct[[#This Row],[KCINHDD]]))","v":0},"Adj HDD and NDD =0 for July and August"]
["2019-07-02",90,70,{"$f":"AVERAGE(KCITempAct[[#This Row],[KCIHigh]:[KCILow]]\n)","v":80},{"$f":"IF(KCITempAct[[#This Row],[KCIAve]]<65,(65-KCITempAct[[#This Row],[KCIAve]]),0)","v":0},{"$f":"IF(MONTH(KCITempAct[[#This Row],[Date]])=7,0,IF(MONTH(KCITempAct[[#This Row],[Date]])=8,0,KCITempAct[[#This Row],[KCIHDD]]))","v":0},{"$f":"SUMPRODUCT((KCINHDD[Month]=MONTH(KCITempAct[[#This Row],[Date]]))*(KCINHDD[Day]=DAY(KCITempAct[[#This Row],[Date]]))*KCINHDD[KCINHDD])","v":0.05},{"$f":"IF(MONTH(KCITempAct[[#This Row],[Date]])=7,0,IF(MONTH(KCITempAct[[#This Row],[Date]])=8,0,KCITempAct[[#This Row],[KCINHDD]]))","v":0},"Adj HDD and NDD =0 for July and August"]
["2019-07-03",88,69,{"$f":"AVERAGE(KCITempAct[[#This Row],[KCIHigh]:[KCILow]]\n)","v":78.5},{"$f":"IF(KCITempAct[[#This Row],[KCIAve]]<65,(65-KCITempAct[[#This Row],[KCIAve]]),0)","v":0},{"$f":"IF(MONTH(KCITempAct[[#This Row],[Date]])=7,0,IF(MONTH(KCITempAct[[#This Row],[Date]])=8,0,KCITempAct[[#This Row],[KCIHDD]]))","v":0},{"$f":"SUMPRODUCT((KCINHDD[Month]=MONTH(KCITempAct[[#This Row],[Date]]))*(KCINHDD[Day]=DAY(KCITempAct[[#This Row],[Date]]))*KCINHDD[KCINHDD])","v":3.3333333333333333E-2},{"$f":"IF(MONTH(KCITempAct[[#This Row],[Date]])=7,0,IF(MONTH(KCITempAct[[#This Row],[Date]])=8,0,KCITempAct[[#This Row],[KCINHDD]]))","v":0},"Adj HDD and NDD =0 for July and August"]
["2019-07-04",80,68,{"$f":"AVERAGE(KCITempAct[[#This Row],[KCIHigh]:[KCILow]]\n)","v":74},{"$f":"IF(KCITempAct[[#This Row],[KCIAve]]<65,(65-KCITempAct[[#This Row],[KCIAve]]),0)","v":0},{"$f":"IF(MONTH(KCITempAct[[#This Row],[Date]])=7,0,IF(MONTH(KCITempAct[[#This Row],[Date]])=8,0,KCITempAct[[#This Row],[KCIHDD]]))","v":0},{"$f":"SUMPRODUCT((KCINHDD[Month]=MONTH(KCITempAct[[#This Row],[Date]]))*(KCINHDD[Day]=DAY(KCITempAct[[#This Row],[Date]]))*KCINHDD[KCINHDD])","v":8.3333333333333329E-2},{"$f":"IF(MONTH(KCITempAct[[#This Row],[Date]])=7,0,IF(MONTH(KCITempAct[[#This Row],[Date]])=8,0,KCITempAct[[#This Row],[KCINHDD]]))","v":0},"Adj HDD and NDD =0 for July and August"]
["2019-07-05",85,71,{"$f":"AVERAGE(KCITempAct[[#This Row],[KCIHigh]:[KCILow]]\n)","v":78},{"$f":"IF(KCITempAct[[#This Row],[KCIAve]]<65,(65-KCITempAct[[#This Row],[KCIAve]]),0)","v":0},{"$f":"IF(MONTH(KCITempAct[[#This Row],[Date]])=7,0,IF(MONTH(KCITempAct[[#This Row],[Date]])=8,0,KCITempAct[[#This Row],[KCIHDD]]))","v":0},{"$f":"SUMPRODUCT((KCINHDD[Month]=MONTH(KCITempAct[[#This Row],[Date]]))*(KCINHDD[Day]=DAY(KCITempAct[[#This Row],[Date]]))*KCINHDD[KCINHDD])","v":1.6666666666666666E-2},{"$f":"IF(MONTH(KCITempAct[[#This Row],[Date]])=7,0,IF(MONTH(KCITempAct[[#This Row],[Date]])=8,0,KCITempAct[[#This Row],[KCINHDD]]))","v":0},"Adj HDD and NDD =0 for July and August"]
["2019-07-06",86,69,{"$f":"AVERAGE(KCITempAct[[#This Row],[KCIHigh]:[KCILow]]\n)","v":77.5},{"$f":"IF(KCITempAct[[#This Row],[KCIAve]]<65,(65-KCITempAct[[#This Row],[KCIAve]]),0)","v":0},{"$f":"IF(MONTH(KCITempAct[[#This Row],[Date]])=7,0,IF(MONTH(KCITempAct[[#This Row],[Date]])=8,0,KCITempAct[[#This Row],[KCIHDD]]))","v":0},{"$f":"SUMPRODUCT((KCINHDD[Month]=MONTH(KCITempAct[[#This Row],[Date]]))*(KCINHDD[Day]=DAY(KCITempAct[[#This Row],[Date]]))*KCINHDD[KCINHDD])","v":0},{"$f":"IF(MONTH(KCITempAct[[#This Row],[Date]])=7,0,IF(MONTH(KCITempAct[[#This Row],[Date]])=8,0,KCITempAct[[#This Row],[KCINHDD]]))","v":0},"Adj HDD and NDD =0 for July and August"]
["2019-07-07",88,73,{"$f":"AVERAGE(KCITempAct[[#This Row],[KCIHigh]:[KCILow]]\n)","v":80.5},{"$f":"IF(KCITempAct[[#This Row],[KCIAve]]<65,(65-KCITempAct[[#This Row],[KCIAve]]),0)","v":0},{"$f":"IF(MONTH(KCITempAct[[#This Row],[Date]])=7,0,IF(MONTH(KCITempAct[[#This Row],[Date]])=8,0,KCITempAct[[#This Row],[KCIHDD]]))","v":0},{"$f":"SUMPRODUCT((KCINHDD[Month]=MONTH(KCITempAct[[#This Row],[Date]]))*(KCINHDD[Day]=DAY(KCITempAct[[#This Row],[Date]]))*KCINHDD[KCINHDD])","v":0},{"$f":"IF(MONTH(KCITempAct[[#This Row],[Date]])=7,0,IF(MONTH(KCITempAct[[#This Row],[Date]])=8,0,KCITempAct[[#This Row],[KCINHDD]]))","v":0},"Adj HDD and NDD =0 for July and August"]
["2019-07-08",88,73,{"$f":"AVERAGE(KCITempAct[[#This Row],[KCIHigh]:[KCILow]]\n)","v":80.5},{"$f":"IF(KCITempAct[[#This Row],[KCIAve]]<65,(65-KCITempAct[[#This Row],[KCIAve]]),0)","v":0},{"$f":"IF(MONTH(KCITempAct[[#This Row],[Date]])=7,0,IF(MONTH(KCITempAct[[#This Row],[Date]])=8,0,KCITempAct[[#This Row],[KCIHDD]]))","v":0},{"$f":"SUMPRODUCT((KCINHDD[Month]=MONTH(KCITempAct[[#This Row],[Date]]))*(KCINHDD[Day]=DAY(KCITempAct[[#This Row],[Date]]))*KCINHDD[KCINHDD])","v":6.6666666666666666E-2},{"$f":"IF(MONTH(KCITempAct[[#This Row],[Date]])=7,0,IF(MONTH(KCITempAct[[#This Row],[Date]])=8,0,KCITempAct[[#This Row],[KCINHDD]]))","v":0},"Adj HDD and NDD =0 for July and August"]
["2019-07-09",91,71,{"$f":"AVERAGE(KCITempAct[[#This Row],[KCIHigh]:[KCILow]]\n)","v":81},{"$f":"IF(KCITempAct[[#This Row],[KCIAve]]<65,(65-KCITempAct[[#This Row],[KCIAve]]),0)","v":0},{"$f":"IF(MONTH(KCITempAct[[#This Row],[Date]])=7,0,IF(MONTH(KCITempAct[[#This Row],[Date]])=8,0,KCITempAct[[#This Row],[KCIHDD]]))","v":0},{"$f":"SUMPRODUCT((KCINHDD[Month]=MONTH(KCITempAct[[#This Row],[Date]]))*(KCINHDD[Day]=DAY(KCITempAct[[#This Row],[Date]]))*KCINHDD[KCINHDD])","v":0},{"$f":"IF(MONTH(KCITempAct[[#This Row],[Date]])=7,0,IF(MONTH(KCITempAct[[#This Row],[Date]])=8,0,KCITempAct[[#This Row],[KCINHDD]]))","v":0},"Adj HDD and NDD =0 for July and August"]
["2019-07-10",85,68,{"$f":"AVERAGE(KCITempAct[[#This Row],[KCIHigh]:[KCILow]]\n)","v":76.5},{"$f":"IF(KCITempAct[[#This Row],[KCIAve]]<65,(65-KCITempAct[[#This Row],[KCIAve]]),0)","v":0},{"$f":"IF(MONTH(KCITempAct[[#This Row],[Date]])=7,0,IF(MONTH(KCITempAct[[#This Row],[Date]])=8,0,KCITempAct[[#This Row],[KCIHDD]]))","v":0},{"$f":"SUMPRODUCT((KCINHDD[Month]=MONTH(KCITempAct[[#This Row],[Date]]))*(KCINHDD[Day]=DAY(KCITempAct[[#This Row],[Date]]))*KCINHDD[KCINHDD])","v":0},{"$f":"IF(MONTH(KCITempAct[[#This Row],[Date]])=7,0,IF(MONTH(KCITempAct[[#This Row],[Date]])=8,0,KCITempAct[[#This Row],[KCINHDD]]))","v":0},"Adj HDD and NDD =0 for July and August"]
["2019-07-11",85,65,{"$f":"AVERAGE(KCITempAct[[#This Row],[KCIHigh]:[KCILow]]\n)","v":75},{"$f":"IF(KCITempAct[[#This Row],[KCIAve]]<65,(65-KCITempAct[[#This Row],[KCIAve]]),0)","v":0},{"$f":"IF(MONTH(KCITempAct[[#This Row],[Date]])=7,0,IF(MONTH(KCITempAct[[#This Row],[Date]])=8,0,KCITempAct[[#This Row],[KCIHDD]]))","v":0},{"$f":"SUMPRODUCT((KCINHDD[Month]=MONTH(KCITempAct[[#This Row],[Date]]))*(KCINHDD[Day]=DAY(KCITempAct[[#This Row],[Date]]))*KCINHDD[KCINHDD])","v":0},{"$f":"IF(MONTH(KCITempAct[[#This Row],[Date]])=7,0,IF(MONTH(KCITempAct[[#This Row],[Date]])=8,0,KCITempAct[[#This Row],[KCINHDD]]))","v":0},"Adj HDD and NDD =0 for July and August"]
["2019-07-12",87,65,{"$f":"AVERAGE(KCITempAct[[#This Row],[KCIHigh]:[KCILow]]\n)","v":76},{"$f":"IF(KCITempAct[[#This Row],[KCIAve]]<65,(65-KCITempAct[[#This Row],[KCIAve]]),0)","v":0},{"$f":"IF(MONTH(KCITempAct[[#This Row],[Date]])=7,0,IF(MONTH(KCITempAct[[#This Row],[Date]])=8,0,KCITempAct[[#This Row],[KCIHDD]]))","v":0},{"$f":"SUMPRODUCT((KCINHDD[Month]=MONTH(KCITempAct[[#This Row],[Date]]))*(KCINHDD[Day]=DAY(KCITempAct[[#This Row],[Date]]))*KCINHDD[KCINHDD])","v":0},{"$f":"IF(MONTH(KCITempAct[[#This Row],[Date]])=7,0,IF(MONTH(KCITempAct[[#This Row],[Date]])=8,0,KCITempAct[[#This Row],[KCINHDD]]))","v":0},"Adj HDD and NDD =0 for July and August"]
["2019-07-13",89,67,{"$f":"AVERAGE(KCITempAct[[#This Row],[KCIHigh]:[KCILow]]\n)","v":78},{"$f":"IF(KCITempAct[[#This Row],[KCIAve]]<65,(65-KCITempAct[[#This Row],[KCIAve]]),0)","v":0},{"$f":"IF(MONTH(KCITempAct[[#This Row],[Date]])=7,0,IF(MONTH(KCITempAct[[#This Row],[Date]])=8,0,KCITempAct[[#This Row],[KCIHDD]]))","v":0},{"$f":"SUMPRODUCT((KCINHDD[Month]=MONTH(KCITempAct[[#This Row],[Date]]))*(KCINHDD[Day]=DAY(KCITempAct[[#This Row],[Date]]))*KCINHDD[KCINHDD])","v":0},{"$f":"IF(MONTH(KCITempAct[[#This Row],[Date]])=7,0,IF(MONTH(KCITempAct[[#This Row],[Date]])=8,0,KCITempAct[[#This Row],[KCINHDD]]))","v":0},"Adj HDD and NDD =0 for July and August"]
["2019-07-14",91,69,{"$f":"AVERAGE(KCITempAct[[#This Row],[KCIHigh]:[KCILow]]\n)","v":80},{"$f":"IF(KCITempAct[[#This Row],[KCIAve]]<65,(65-KCITempAct[[#This Row],[KCIAve]]),0)","v":0},{"$f":"IF(MONTH(KCITempAct[[#This Row],[Date]])=7,0,IF(MONTH(KCITempAct[[#This Row],[Date]])=8,0,KCITempAct[[#This Row],[KCIHDD]]))","v":0},{"$f":"SUMPRODUCT((KCINHDD[Month]=MONTH(KCITempAct[[#This Row],[Date]]))*(KCINHDD[Day]=DAY(KCITempAct[[#This Row],[Date]]))*KCINHDD[KCINHDD])","v":0},{"$f":"IF(MONTH(KCITempAct[[#This Row],[Date]])=7,0,IF(MONTH(KCITempAct[[#This Row],[Date]])=8,0,KCITempAct[[#This Row],[KCINHDD]]))","v":0},"Adj HDD and NDD =0 for July and August"]
["2019-07-15",84,67,{"$f":"AVERAGE(KCITempAct[[#This Row],[KCIHigh]:[KCILow]]\n)","v":75.5},{"$f":"IF(KCITempAct[[#This Row],[KCIAve]]<65,(65-KCITempAct[[#This Row],[KCIAve]]),0)","v":0},{"$f":"IF(MONTH(KCITempAct[[#This Row],[Date]])=7,0,IF(MONTH(KCITempAct[[#This Row],[Date]])=8,0,KCITempAct[[#This Row],[KCIHDD]]))","v":0},{"$f":"SUMPRODUCT((KCINHDD[Month]=MONTH(KCITempAct[[#This Row],[Date]]))*(KCINHDD[Day]=DAY(KCITempAct[[#This Row],[Date]]))*KCINHDD[KCINHDD])","v":3.3333333333333333E-2},{"$f":"IF(MONTH(KCITempAct[[#This Row],[Date]])=7,0,IF(MONTH(KCITempAct[[#This Row],[Date]])=8,0,KCITempAct[[#This Row],[KCINHDD]]))","v":0},"Adj HDD and NDD =0 for July and August"]
["2019-07-16",90,65,{"$f":"AVERAGE(KCITempAct[[#This Row],[KCIHigh]:[KCILow]]\n)","v":77.5},{"$f":"IF(KCITempAct[[#This Row],[KCIAve]]<65,(65-KCITempAct[[#This Row],[KCIAve]]),0)","v":0},{"$f":"IF(MONTH(KCITempAct[[#This Row],[Date]])=7,0,IF(MONTH(KCITempAct[[#This Row],[Date]])=8,0,KCITempAct[[#This Row],[KCIHDD]]))","v":0},{"$f":"SUMPRODUCT((KCINHDD[Month]=MONTH(KCITempAct[[#This Row],[Date]]))*(KCINHDD[Day]=DAY(KCITempAct[[#This Row],[Date]]))*KCINHDD[KCINHDD])","v":0},{"$f":"IF(MONTH(KCITempAct[[#This Row],[Date]])=7,0,IF(MONTH(KCITempAct[[#This Row],[Date]])=8,0,KCITempAct[[#This Row],[KCINHDD]]))","v":0},"Adj HDD and NDD =0 for July and August"]
["2019-07-17",96,73,{"$f":"AVERAGE(KCITempAct[[#This Row],[KCIHigh]:[KCILow]]\n)","v":84.5},{"$f":"IF(KCITempAct[[#This Row],[KCIAve]]<65,(65-KCITempAct[[#This Row],[KCIAve]]),0)","v":0},{"$f":"IF(MONTH(KCITempAct[[#This Row],[Date]])=7,0,IF(MONTH(KCITempAct[[#This Row],[Date]])=8,0,KCITempAct[[#This Row],[KCIHDD]]))","v":0},{"$f":"SUMPRODUCT((KCINHDD[Month]=MONTH(KCITempAct[[#This Row],[Date]]))*(KCINHDD[Day]=DAY(KCITempAct[[#This Row],[Date]]))*KCINHDD[KCINHDD])","v":0},{"$f":"IF(MONTH(KCITempAct[[#This Row],[Date]])=7,0,IF(MONTH(KCITempAct[[#This Row],[Date]])=8,0,KCITempAct[[#This Row],[KCINHDD]]))","v":0},"Adj HDD and NDD =0 for July and August"]
["2019-07-18",96,78,{"$f":"AVERAGE(KCITempAct[[#This Row],[KCIHigh]:[KCILow]]\n)","v":87},{"$f":"IF(KCITempAct[[#This Row],[KCIAve]]<65,(65-KCITempAct[[#This Row],[KCIAve]]),0)","v":0},{"$f":"IF(MONTH(KCITempAct[[#This Row],[Date]])=7,0,IF(MONTH(KCITempAct[[#This Row],[Date]])=8,0,KCITempAct[[#This Row],[KCIHDD]]))","v":0},{"$f":"SUMPRODUCT((KCINHDD[Month]=MONTH(KCITempAct[[#This Row],[Date]]))*(KCINHDD[Day]=DAY(KCITempAct[[#This Row],[Date]]))*KCINHDD[KCINHDD])","v":0},{"$f":"IF(MONTH(KCITempAct[[#This Row],[Date]])=7,0,IF(MONTH(KCITempAct[[#This Row],[Date]])=8,0,KCITempAct[[#This Row],[KCINHDD]]))","v":0},"Adj HDD and NDD =0 for July and August"]
["2019-07-19",97,79,{"$f":"AVERAGE(KCITempAct[[#This Row],[KCIHigh]:[KCILow]]\n)","v":88},{"$f":"IF(KCITempAct[[#This Row],[KCIAve]]<65,(65-KCITempAct[[#This Row],[KCIAve]]),0)","v":0},{"$f":"IF(MONTH(KCITempAct[[#This Row],[Date]])=7,0,IF(MONTH(KCITempAct[[#This Row],[Date]])=8,0,KCITempAct[[#This Row],[KCIHDD]]))","v":0},{"$f":"SUMPRODUCT((KCINHDD[Month]=MONTH(KCITempAct[[#This Row],[Date]]))*(KCINHDD[Day]=DAY(KCITempAct[[#This Row],[Date]]))*KCINHDD[KCINHDD])","v":0},{"$f":"IF(MONTH(KCITempAct[[#This Row],[Date]])=7,0,IF(MONTH(KCITempAct[[#This Row],[Date]])=8,0,KCITempAct[[#This Row],[KCINHDD]]))","v":0},"Adj HDD and NDD =0 for July and August"]
["2019-07-20",97,76,{"$f":"AVERAGE(KCITempAct[[#This Row],[KCIHigh]:[KCILow]]\n)","v":86.5},{"$f":"IF(KCITempAct[[#This Row],[KCIAve]]<65,(65-KCITempAct[[#This Row],[KCIAve]]),0)","v":0},{"$f":"IF(MONTH(KCITempAct[[#This Row],[Date]])=7,0,IF(MONTH(KCITempAct[[#This Row],[Date]])=8,0,KCITempAct[[#This Row],[KCIHDD]]))","v":0},{"$f":"SUMPRODUCT((KCINHDD[Month]=MONTH(KCITempAct[[#This Row],[Date]]))*(KCINHDD[Day]=DAY(KCITempAct[[#This Row],[Date]]))*KCINHDD[KCINHDD])","v":0},{"$f":"IF(MONTH(KCITempAct[[#This Row],[Date]])=7,0,IF(MONTH(KCITempAct[[#This Row],[Date]])=8,0,KCITempAct[[#This Row],[KCINHDD]]))","v":0},"Adj HDD and NDD =0 for July and August"]
["2019-07-21",83,70,{"$f":"AVERAGE(KCITempAct[[#This Row],[KCIHigh]:[KCILow]]\n)","v":76.5},{"$f":"IF(KCITempAct[[#This Row],[KCIAve]]<65,(65-KCITempAct[[#This Row],[KCIAve]]),0)","v":0},{"$f":"IF(MONTH(KCITempAct[[#This Row],[Date]])=7,0,IF(MONTH(KCITempAct[[#This Row],[Date]])=8,0,KCITempAct[[#This Row],[KCIHDD]]))","v":0},{"$f":"SUMPRODUCT((KCINHDD[Month]=MONTH(KCITempAct[[#This Row],[Date]]))*(KCINHDD[Day]=DAY(KCITempAct[[#This Row],[Date]]))*KCINHDD[KCINHDD])","v":0},{"$f":"IF(MONTH(KCITempAct[[#This Row],[Date]])=7,0,IF(MONTH(KCITempAct[[#This Row],[Date]])=8,0,KCITempAct[[#This Row],[KCINHDD]]))","v":0},"Adj HDD and NDD =0 for July and August"]
["2019-07-22",82,62,{"$f":"AVERAGE(KCITempAct[[#This Row],[KCIHigh]:[KCILow]]\n)","v":72},{"$f":"IF(KCITempAct[[#This Row],[KCIAve]]<65,(65-KCITempAct[[#This Row],[KCIAve]]),0)","v":0},{"$f":"IF(MONTH(KCITempAct[[#This Row],[Date]])=7,0,IF(MONTH(KCITempAct[[#This Row],[Date]])=8,0,KCITempAct[[#This Row],[KCIHDD]]))","v":0},{"$f":"SUMPRODUCT((KCINHDD[Month]=MONTH(KCITempAct[[#This Row],[Date]]))*(KCINHDD[Day]=DAY(KCITempAct[[#This Row],[Date]]))*KCINHDD[KCINHDD])","v":0},{"$f":"IF(MONTH(KCITempAct[[#This Row],[Date]])=7,0,IF(MONTH(KCITempAct[[#This Row],[Date]])=8,0,KCITempAct[[#This Row],[KCINHDD]]))","v":0},"Adj HDD and NDD =0 for July and August"]
["2019-07-23",81,57,{"$f":"AVERAGE(KCITempAct[[#This Row],[KCIHigh]:[KCILow]]\n)","v":69},{"$f":"IF(KCITempAct[[#This Row],[KCIAve]]<65,(65-KCITempAct[[#This Row],[KCIAve]]),0)","v":0},{"$f":"IF(MONTH(KCITempAct[[#This Row],[Date]])=7,0,IF(MONTH(KCITempAct[[#This Row],[Date]])=8,0,KCITempAct[[#This Row],[KCIHDD]]))","v":0},{"$f":"SUMPRODUCT((KCINHDD[Month]=MONTH(KCITempAct[[#This Row],[Date]]))*(KCINHDD[Day]=DAY(KCITempAct[[#This Row],[Date]]))*KCINHDD[KCINHDD])","v":0},{"$f":"IF(MONTH(KCITempAct[[#This Row],[Date]])=7,0,IF(MONTH(KCITempAct[[#This Row],[Date]])=8,0,KCITempAct[[#This Row],[KCINHDD]]))","v":0},"Adj HDD and NDD =0 for July and August"]
["2019-07-24",83,59,{"$f":"AVERAGE(KCITempAct[[#This Row],[KCIHigh]:[KCILow]]\n)","v":71},{"$f":"IF(KCITempAct[[#This Row],[KCIAve]]<65,(65-KCITempAct[[#This Row],[KCIAve]]),0)","v":0},{"$f":"IF(MONTH(KCITempAct[[#This Row],[Date]])=7,0,IF(MONTH(KCITempAct[[#This Row],[Date]])=8,0,KCITempAct[[#This Row],[KCIHDD]]))","v":0},{"$f":"SUMPRODUCT((KCINHDD[Month]=MONTH(KCITempAct[[#This Row],[Date]]))*(KCINHDD[Day]=DAY(KCITempAct[[#This Row],[Date]]))*KCINHDD[KCINHDD])","v":1.6666666666666666E-2},{"$f":"IF(MONTH(KCITempAct[[#This Row],[Date]])=7,0,IF(MONTH(KCITempAct[[#This Row],[Date]])=8,0,KCITempAct[[#This Row],[KCINHDD]]))","v":0},"Adj HDD and NDD =0 for July and August"]
["2019-07-25",84,60,{"$f":"AVERAGE(KCITempAct[[#This Row],[KCIHigh]:[KCILow]]\n)","v":72},{"$f":"IF(KCITempAct[[#This Row],[KCIAve]]<65,(65-KCITempAct[[#This Row],[KCIAve]]),0)","v":0},{"$f":"IF(MONTH(KCITempAct[[#This Row],[Date]])=7,0,IF(MONTH(KCITempAct[[#This Row],[Date]])=8,0,KCITempAct[[#This Row],[KCIHDD]]))","v":0},{"$f":"SUMPRODUCT((KCINHDD[Month]=MONTH(KCITempAct[[#This Row],[Date]]))*(KCINHDD[Day]=DAY(KCITempAct[[#This Row],[Date]]))*KCINHDD[KCINHDD])","v":0},{"$f":"IF(MONTH(KCITempAct[[#This Row],[Date]])=7,0,IF(MONTH(KCITempAct[[#This Row],[Date]])=8,0,KCITempAct[[#This Row],[KCINHDD]]))","v":0},"Adj HDD and NDD =0 for July and August"]
["2019-07-26",88,62,{"$f":"AVERAGE(KCITempAct[[#This Row],[KCIHigh]:[KCILow]]\n)","v":75},{"$f":"IF(KCITempAct[[#This Row],[KCIAve]]<65,(65-KCITempAct[[#This Row],[KCIAve]]),0)","v":0},{"$f":"IF(MONTH(KCITempAct[[#This Row],[Date]])=7,0,IF(MONTH(KCITempAct[[#This Row],[Date]])=8,0,KCITempAct[[#This Row],[KCIHDD]]))","v":0},{"$f":"SUMPRODUCT((KCINHDD[Month]=MONTH(KCITempAct[[#This Row],[Date]]))*(KCINHDD[Day]=DAY(KCITempAct[[#This Row],[Date]]))*KCINHDD[KCINHDD])","v":0},{"$f":"IF(MONTH(KCITempAct[[#This Row],[Date]])=7,0,IF(MONTH(KCITempAct[[#This Row],[Date]])=8,0,KCITempAct[[#This Row],[KCINHDD]]))","v":0},"Adj HDD and NDD =0 for July and August"]
["2019-07-27",89,65,{"$f":"AVERAGE(KCITempAct[[#This Row],[KCIHigh]:[KCILow]]\n)","v":77},{"$f":"IF(KCITempAct[[#This Row],[KCIAve]]<65,(65-KCITempAct[[#This Row],[KCIAve]]),0)","v":0},{"$f":"IF(MONTH(KCITempAct[[#This Row],[Date]])=7,0,IF(MONTH(KCITempAct[[#This Row],[Date]])=8,0,KCITempAct[[#This Row],[KCIHDD]]))","v":0},{"$f":"SUMPRODUCT((KCINHDD[Month]=MONTH(KCITempAct[[#This Row],[Date]]))*(KCINHDD[Day]=DAY(KCITempAct[[#This Row],[Date]]))*KCINHDD[KCINHDD])","v":0},{"$f":"IF(MONTH(KCITempAct[[#This Row],[Date]])=7,0,IF(MONTH(KCITempAct[[#This Row],[Date]])=8,0,KCITempAct[[#This Row],[KCINHDD]]))","v":0},"Adj HDD and NDD =0 for July and August"]
["2019-07-28",91,68,{"$f":"AVERAGE(KCITempAct[[#This Row],[KCIHigh]:[KCILow]]\n)","v":79.5},{"$f":"IF(KCITempAct[[#This Row],[KCIAve]]<65,(65-KCITempAct[[#This Row],[KCIAve]]),0)","v":0},{"$f":"IF(MONTH(KCITempAct[[#This Row],[Date]])=7,0,IF(MONTH(KCITempAct[[#This Row],[Date]])=8,0,KCITempAct[[#This Row],[KCIHDD]]))","v":0},{"$f":"SUMPRODUCT((KCINHDD[Month]=MONTH(KCITempAct[[#This Row],[Date]]))*(KCINHDD[Day]=DAY(KCITempAct[[#This Row],[Date]]))*KCINHDD[KCINHDD])","v":0},{"$f":"IF(MONTH(KCITempAct[[#This Row],[Date]])=7,0,IF(MONTH(KCITempAct[[#This Row],[Date]])=8,0,KCITempAct[[#This Row],[KCINHDD]]))","v":0},"Adj HDD and NDD =0 for July and August"]
["2019-07-29",88,66,{"$f":"AVERAGE(KCITempAct[[#This Row],[KCIHigh]:[KCILow]]\n)","v":77},{"$f":"IF(KCITempAct[[#This Row],[KCIAve]]<65,(65-KCITempAct[[#This Row],[KCIAve]]),0)","v":0},{"$f":"IF(MONTH(KCITempAct[[#This Row],[Date]])=7,0,IF(MONTH(KCITempAct[[#This Row],[Date]])=8,0,KCITempAct[[#This Row],[KCIHDD]]))","v":0},{"$f":"SUMPRODUCT((KCINHDD[Month]=MONTH(KCITempAct[[#This Row],[Date]]))*(KCINHDD[Day]=DAY(KCITempAct[[#This Row],[Date]]))*KCINHDD[KCINHDD])","v":0},{"$f":"IF(MONTH(KCITempAct[[#This Row],[Date]])=7,0,IF(MONTH(KCITempAct[[#This Row],[Date]])=8,0,KCITempAct[[#This Row],[KCINHDD]]))","v":0},"Adj HDD and NDD =0 for July and August"]
["2019-07-30",86,63,{"$f":"AVERAGE(KCITempAct[[#This Row],[KCIHigh]:[KCILow]]\n)","v":74.5},{"$f":"IF(KCITempAct[[#This Row],[KCIAve]]<65,(65-KCITempAct[[#This Row],[KCIAve]]),0)","v":0},{"$f":"IF(MONTH(KCITempAct[[#This Row],[Date]])=7,0,IF(MONTH(KCITempAct[[#This Row],[Date]])=8,0,KCITempAct[[#This Row],[KCIHDD]]))","v":0},{"$f":"SUMPRODUCT((KCINHDD[Month]=MONTH(KCITempAct[[#This Row],[Date]]))*(KCINHDD[Day]=DAY(KCITempAct[[#This Row],[Date]]))*KCINHDD[KCINHDD])","v":0},{"$f":"IF(MONTH(KCITempAct[[#This Row],[Date]])=7,0,IF(MONTH(KCITempAct[[#This Row],[Date]])=8,0,KCITempAct[[#This Row],[KCINHDD]]))","v":0},"Adj HDD and NDD =0 for July and August"]
["2019-07-31",81,68,{"$f":"AVERAGE(KCITempAct[[#This Row],[KCIHigh]:[KCILow]]\n)","v":74.5},{"$f":"IF(KCITempAct[[#This Row],[KCIAve]]<65,(65-KCITempAct[[#This Row],[KCIAve]]),0)","v":0},{"$f":"IF(MONTH(KCITempAct[[#This Row],[Date]])=7,0,IF(MONTH(KCITempAct[[#This Row],[Date]])=8,0,KCITempAct[[#This Row],[KCIHDD]]))","v":0},{"$f":"SUMPRODUCT((KCINHDD[Month]=MONTH(KCITempAct[[#This Row],[Date]]))*(KCINHDD[Day]=DAY(KCITempAct[[#This Row],[Date]]))*KCINHDD[KCINHDD])","v":0},{"$f":"IF(MONTH(KCITempAct[[#This Row],[Date]])=7,0,IF(MONTH(KCITempAct[[#This Row],[Date]])=8,0,KCITempAct[[#This Row],[KCINHDD]]))","v":0},"Adj HDD and NDD =0 for July and August"]
["2019-08-01",86,68,{"$f":"AVERAGE(KCITempAct[[#This Row],[KCIHigh]:[KCILow]]\n)","v":77},{"$f":"IF(KCITempAct[[#This Row],[KCIAve]]<65,(65-KCITempAct[[#This Row],[KCIAve]]),0)","v":0},{"$f":"IF(MONTH(KCITempAct[[#This Row],[Date]])=7,0,IF(MONTH(KCITempAct[[#This Row],[Date]])=8,0,KCITempAct[[#This Row],[KCIHDD]]))","v":0},{"$f":"SUMPRODUCT((KCINHDD[Month]=MONTH(KCITempAct[[#This Row],[Date]]))*(KCINHDD[Day]=DAY(KCITempAct[[#This Row],[Date]]))*KCINHDD[KCINHDD])","v":0},{"$f":"IF(MONTH(KCITempAct[[#This Row],[Date]])=7,0,IF(MONTH(KCITempAct[[#This Row],[Date]])=8,0,KCITempAct[[#This Row],[KCINHDD]]))","v":0},"Adj HDD and NDD =0 for July and August"]
["2019-08-02",82,69,{"$f":"AVERAGE(KCITempAct[[#This Row],[KCIHigh]:[KCILow]]\n)","v":75.5},{"$f":"IF(KCITempAct[[#This Row],[KCIAve]]<65,(65-KCITempAct[[#This Row],[KCIAve]]),0)","v":0},{"$f":"IF(MONTH(KCITempAct[[#This Row],[Date]])=7,0,IF(MONTH(KCITempAct[[#This Row],[Date]])=8,0,KCITempAct[[#This Row],[KCIHDD]]))","v":0},{"$f":"SUMPRODUCT((KCINHDD[Month]=MONTH(KCITempAct[[#This Row],[Date]]))*(KCINHDD[Day]=DAY(KCITempAct[[#This Row],[Date]]))*KCINHDD[KCINHDD])","v":0},{"$f":"IF(MONTH(KCITempAct[[#This Row],[Date]])=7,0,IF(MONTH(KCITempAct[[#This Row],[Date]])=8,0,KCITempAct[[#This Row],[KCINHDD]]))","v":0},"Adj HDD and NDD =0 for July and August"]
["2019-08-03",87,70,{"$f":"AVERAGE(KCITempAct[[#This Row],[KCIHigh]:[KCILow]]\n)","v":78.5},{"$f":"IF(KCITempAct[[#This Row],[KCIAve]]<65,(65-KCITempAct[[#This Row],[KCIAve]]),0)","v":0},{"$f":"IF(MONTH(KCITempAct[[#This Row],[Date]])=7,0,IF(MONTH(KCITempAct[[#This Row],[Date]])=8,0,KCITempAct[[#This Row],[KCIHDD]]))","v":0},{"$f":"SUMPRODUCT((KCINHDD[Month]=MONTH(KCITempAct[[#This Row],[Date]]))*(KCINHDD[Day]=DAY(KCITempAct[[#This Row],[Date]]))*KCINHDD[KCINHDD])","v":0},{"$f":"IF(MONTH(KCITempAct[[#This Row],[Date]])=7,0,IF(MONTH(KCITempAct[[#This Row],[Date]])=8,0,KCITempAct[[#This Row],[KCINHDD]]))","v":0},"Adj HDD and NDD =0 for July and August"]
["2019-08-04",90,67,{"$f":"AVERAGE(KCITempAct[[#This Row],[KCIHigh]:[KCILow]]\n)","v":78.5},{"$f":"IF(KCITempAct[[#This Row],[KCIAve]]<65,(65-KCITempAct[[#This Row],[KCIAve]]),0)","v":0},{"$f":"IF(MONTH(KCITempAct[[#This Row],[Date]])=7,0,IF(MONTH(KCITempAct[[#This Row],[Date]])=8,0,KCITempAct[[#This Row],[KCIHDD]]))","v":0},{"$f":"SUMPRODUCT((KCINHDD[Month]=MONTH(KCITempAct[[#This Row],[Date]]))*(KCINHDD[Day]=DAY(KCITempAct[[#This Row],[Date]]))*KCINHDD[KCINHDD])","v":3.3333333333333333E-2},{"$f":"IF(MONTH(KCITempAct[[#This Row],[Date]])=7,0,IF(MONTH(KCITempAct[[#This Row],[Date]])=8,0,KCITempAct[[#This Row],[KCINHDD]]))","v":0},"Adj HDD and NDD =0 for July and August"]
["2019-08-05",89,67,{"$f":"AVERAGE(KCITempAct[[#This Row],[KCIHigh]:[KCILow]]\n)","v":78},{"$f":"IF(KCITempAct[[#This Row],[KCIAve]]<65,(65-KCITempAct[[#This Row],[KCIAve]]),0)","v":0},{"$f":"IF(MONTH(KCITempAct[[#This Row],[Date]])=7,0,IF(MONTH(KCITempAct[[#This Row],[Date]])=8,0,KCITempAct[[#This Row],[KCIHDD]]))","v":0},{"$f":"SUMPRODUCT((KCINHDD[Month]=MONTH(KCITempAct[[#This Row],[Date]]))*(KCINHDD[Day]=DAY(KCITempAct[[#This Row],[Date]]))*KCINHDD[KCINHDD])","v":0.2},{"$f":"IF(MONTH(KCITempAct[[#This Row],[Date]])=7,0,IF(MONTH(KCITempAct[[#This Row],[Date]])=8,0,KCITempAct[[#This Row],[KCINHDD]]))","v":0},"Adj HDD and NDD =0 for July and August"]
["2019-08-06",91,71,{"$f":"AVERAGE(KCITempAct[[#This Row],[KCIHigh]:[KCILow]]\n)","v":81},{"$f":"IF(KCITempAct[[#This Row],[KCIAve]]<65,(65-KCITempAct[[#This Row],[KCIAve]]),0)","v":0},{"$f":"IF(MONTH(KCITempAct[[#This Row],[Date]])=7,0,IF(MONTH(KCITempAct[[#This Row],[Date]])=8,0,KCITempAct[[#This Row],[KCIHDD]]))","v":0},{"$f":"SUMPRODUCT((KCINHDD[Month]=MONTH(KCITempAct[[#This Row],[Date]]))*(KCINHDD[Day]=DAY(KCITempAct[[#This Row],[Date]]))*KCINHDD[KCINHDD])","v":0},{"$f":"IF(MONTH(KCITempAct[[#This Row],[Date]])=7,0,IF(MONTH(KCITempAct[[#This Row],[Date]])=8,0,KCITempAct[[#This Row],[KCINHDD]]))","v":0},"Adj HDD and NDD =0 for July and August"]
["2019-08-07",84,68,{"$f":"AVERAGE(KCITempAct[[#This Row],[KCIHigh]:[KCILow]]\n)","v":76},{"$f":"IF(KCITempAct[[#This Row],[KCIAve]]<65,(65-KCITempAct[[#This Row],[KCIAve]]),0)","v":0},{"$f":"IF(MONTH(KCITempAct[[#This Row],[Date]])=7,0,IF(MONTH(KCITempAct[[#This Row],[Date]])=8,0,KCITempAct[[#This Row],[KCIHDD]]))","v":0},{"$f":"SUMPRODUCT((KCINHDD[Month]=MONTH(KCITempAct[[#This Row],[Date]]))*(KCINHDD[Day]=DAY(KCITempAct[[#This Row],[Date]]))*KCINHDD[KCINHDD])","v":0},{"$f":"IF(MONTH(KCITempAct[[#This Row],[Date]])=7,0,IF(MONTH(KCITempAct[[#This Row],[Date]])=8,0,KCITempAct[[#This Row],[KCINHDD]]))","v":0},"Adj HDD and NDD =0 for July and August"]
["2019-08-08",86,65,{"$f":"AVERAGE(KCITempAct[[#This Row],[KCIHigh]:[KCILow]]\n)","v":75.5},{"$f":"IF(KCITempAct[[#This Row],[KCIAve]]<65,(65-KCITempAct[[#This Row],[KCIAve]]),0)","v":0},{"$f":"IF(MONTH(KCITempAct[[#This Row],[Date]])=7,0,IF(MONTH(KCITempAct[[#This Row],[Date]])=8,0,KCITempAct[[#This Row],[KCIHDD]]))","v":0},{"$f":"SUMPRODUCT((KCINHDD[Month]=MONTH(KCITempAct[[#This Row],[Date]]))*(KCINHDD[Day]=DAY(KCITempAct[[#This Row],[Date]]))*KCINHDD[KCINHDD])","v":0},{"$f":"IF(MONTH(KCITempAct[[#This Row],[Date]])=7,0,IF(MONTH(KCITempAct[[#This Row],[Date]])=8,0,KCITempAct[[#This Row],[KCINHDD]]))","v":0},"Adj HDD and NDD =0 for July and August"]
["2019-08-09",89,67,{"$f":"AVERAGE(KCITempAct[[#This Row],[KCIHigh]:[KCILow]]\n)","v":78},{"$f":"IF(KCITempAct[[#This Row],[KCIAve]]<65,(65-KCITempAct[[#This Row],[KCIAve]]),0)","v":0},{"$f":"IF(MONTH(KCITempAct[[#This Row],[Date]])=7,0,IF(MONTH(KCITempAct[[#This Row],[Date]])=8,0,KCITempAct[[#This Row],[KCIHDD]]))","v":0},{"$f":"SUMPRODUCT((KCINHDD[Month]=MONTH(KCITempAct[[#This Row],[Date]]))*(KCINHDD[Day]=DAY(KCITempAct[[#This Row],[Date]]))*KCINHDD[KCINHDD])","v":0},{"$f":"IF(MONTH(KCITempAct[[#This Row],[Date]])=7,0,IF(MONTH(KCITempAct[[#This Row],[Date]])=8,0,KCITempAct[[#This Row],[KCINHDD]]))","v":0},"Adj HDD and NDD =0 for July and August"]
["2019-08-10",92,71,{"$f":"AVERAGE(KCITempAct[[#This Row],[KCIHigh]:[KCILow]]\n)","v":81.5},{"$f":"IF(KCITempAct[[#This Row],[KCIAve]]<65,(65-KCITempAct[[#This Row],[KCIAve]]),0)","v":0},{"$f":"IF(MONTH(KCITempAct[[#This Row],[Date]])=7,0,IF(MONTH(KCITempAct[[#This Row],[Date]])=8,0,KCITempAct[[#This Row],[KCIHDD]]))","v":0},{"$f":"SUMPRODUCT((KCINHDD[Month]=MONTH(KCITempAct[[#This Row],[Date]]))*(KCINHDD[Day]=DAY(KCITempAct[[#This Row],[Date]]))*KCINHDD[KCINHDD])","v":0},{"$f":"IF(MONTH(KCITempAct[[#This Row],[Date]])=7,0,IF(MONTH(KCITempAct[[#This Row],[Date]])=8,0,KCITempAct[[#This Row],[KCINHDD]]))","v":0},"Adj HDD and NDD =0 for July and August"]
["2019-08-11",87,73,{"$f":"AVERAGE(KCITempAct[[#This Row],[KCIHigh]:[KCILow]]\n)","v":80},{"$f":"IF(KCITempAct[[#This Row],[KCIAve]]<65,(65-KCITempAct[[#This Row],[KCIAve]]),0)","v":0},{"$f":"IF(MONTH(KCITempAct[[#This Row],[Date]])=7,0,IF(MONTH(KCITempAct[[#This Row],[Date]])=8,0,KCITempAct[[#This Row],[KCIHDD]]))","v":0},{"$f":"SUMPRODUCT((KCINHDD[Month]=MONTH(KCITempAct[[#This Row],[Date]]))*(KCINHDD[Day]=DAY(KCITempAct[[#This Row],[Date]]))*KCINHDD[KCINHDD])","v":0.05},{"$f":"IF(MONTH(KCITempAct[[#This Row],[Date]])=7,0,IF(MONTH(KCITempAct[[#This Row],[Date]])=8,0,KCITempAct[[#This Row],[KCINHDD]]))","v":0},"Adj HDD and NDD =0 for July and August"]
["2019-08-12",94,71,{"$f":"AVERAGE(KCITempAct[[#This Row],[KCIHigh]:[KCILow]]\n)","v":82.5},{"$f":"IF(KCITempAct[[#This Row],[KCIAve]]<65,(65-KCITempAct[[#This Row],[KCIAve]]),0)","v":0},{"$f":"IF(MONTH(KCITempAct[[#This Row],[Date]])=7,0,IF(MONTH(KCITempAct[[#This Row],[Date]])=8,0,KCITempAct[[#This Row],[KCIHDD]]))","v":0},{"$f":"SUMPRODUCT((KCINHDD[Month]=MONTH(KCITempAct[[#This Row],[Date]]))*(KCINHDD[Day]=DAY(KCITempAct[[#This Row],[Date]]))*KCINHDD[KCINHDD])","v":0.11666666666666667},{"$f":"IF(MONTH(KCITempAct[[#This Row],[Date]])=7,0,IF(MONTH(KCITempAct[[#This Row],[Date]])=8,0,KCITempAct[[#This Row],[KCINHDD]]))","v":0},"Adj HDD and NDD =0 for July and August"]
["2019-08-13",92,68,{"$f":"AVERAGE(KCITempAct[[#This Row],[KCIHigh]:[KCILow]]\n)","v":80},{"$f":"IF(KCITempAct[[#This Row],[KCIAve]]<65,(65-KCITempAct[[#This Row],[KCIAve]]),0)","v":0},{"$f":"IF(MONTH(KCITempAct[[#This Row],[Date]])=7,0,IF(MONTH(KCITempAct[[#This Row],[Date]])=8,0,KCITempAct[[#This Row],[KCIHDD]]))","v":0},{"$f":"SUMPRODUCT((KCINHDD[Month]=MONTH(KCITempAct[[#This Row],[Date]]))*(KCINHDD[Day]=DAY(KCITempAct[[#This Row],[Date]]))*KCINHDD[KCINHDD])","v":1.6666666666666666E-2},{"$f":"IF(MONTH(KCITempAct[[#This Row],[Date]])=7,0,IF(MONTH(KCITempAct[[#This Row],[Date]])=8,0,KCITempAct[[#This Row],[KCINHDD]]))","v":0},"Adj HDD and NDD =0 for July and August"]
["2019-08-14",85,66,{"$f":"AVERAGE(KCITempAct[[#This Row],[KCIHigh]:[KCILow]]\n)","v":75.5},{"$f":"IF(KCITempAct[[#This Row],[KCIAve]]<65,(65-KCITempAct[[#This Row],[KCIAve]]),0)","v":0},{"$f":"IF(MONTH(KCITempAct[[#This Row],[Date]])=7,0,IF(MONTH(KCITempAct[[#This Row],[Date]])=8,0,KCITempAct[[#This Row],[KCIHDD]]))","v":0},{"$f":"SUMPRODUCT((KCINHDD[Month]=MONTH(KCITempAct[[#This Row],[Date]]))*(KCINHDD[Day]=DAY(KCITempAct[[#This Row],[Date]]))*KCINHDD[KCINHDD])","v":0},{"$f":"IF(MONTH(KCITempAct[[#This Row],[Date]])=7,0,IF(MONTH(KCITempAct[[#This Row],[Date]])=8,0,KCITempAct[[#This Row],[KCINHDD]]))","v":0},"Adj HDD and NDD =0 for July and August"]
["2019-08-15",81,60,{"$f":"AVERAGE(KCITempAct[[#This Row],[KCIHigh]:[KCILow]]\n)","v":70.5},{"$f":"IF(KCITempAct[[#This Row],[KCIAve]]<65,(65-KCITempAct[[#This Row],[KCIAve]]),0)","v":0},{"$f":"IF(MONTH(KCITempAct[[#This Row],[Date]])=7,0,IF(MONTH(KCITempAct[[#This Row],[Date]])=8,0,KCITempAct[[#This Row],[KCIHDD]]))","v":0},{"$f":"SUMPRODUCT((KCINHDD[Month]=MONTH(KCITempAct[[#This Row],[Date]]))*(KCINHDD[Day]=DAY(KCITempAct[[#This Row],[Date]]))*KCINHDD[KCINHDD])","v":8.3333333333333329E-2},{"$f":"IF(MONTH(KCITempAct[[#This Row],[Date]])=7,0,IF(MONTH(KCITempAct[[#This Row],[Date]])=8,0,KCITempAct[[#This Row],[KCINHDD]]))","v":0},"Adj HDD and NDD =0 for July and August"]
["2019-08-16",82,67,{"$f":"AVERAGE(KCITempAct[[#This Row],[KCIHigh]:[KCILow]]\n)","v":74.5},{"$f":"IF(KCITempAct[[#This Row],[KCIAve]]<65,(65-KCITempAct[[#This Row],[KCIAve]]),0)","v":0},{"$f":"IF(MONTH(KCITempAct[[#This Row],[Date]])=7,0,IF(MONTH(KCITempAct[[#This Row],[Date]])=8,0,KCITempAct[[#This Row],[KCIHDD]]))","v":0},{"$f":"SUMPRODUCT((KCINHDD[Month]=MONTH(KCITempAct[[#This Row],[Date]]))*(KCINHDD[Day]=DAY(KCITempAct[[#This Row],[Date]]))*KCINHDD[KCINHDD])","v":1.6666666666666666E-2},{"$f":"IF(MONTH(KCITempAct[[#This Row],[Date]])=7,0,IF(MONTH(KCITempAct[[#This Row],[Date]])=8,0,KCITempAct[[#This Row],[KCINHDD]]))","v":0},"Adj HDD and NDD =0 for July and August"]
["2019-08-17",87,66,{"$f":"AVERAGE(KCITempAct[[#This Row],[KCIHigh]:[KCILow]]\n)","v":76.5},{"$f":"IF(KCITempAct[[#This Row],[KCIAve]]<65,(65-KCITempAct[[#This Row],[KCIAve]]),0)","v":0},{"$f":"IF(MONTH(KCITempAct[[#This Row],[Date]])=7,0,IF(MONTH(KCITempAct[[#This Row],[Date]])=8,0,KCITempAct[[#This Row],[KCIHDD]]))","v":0},{"$f":"SUMPRODUCT((KCINHDD[Month]=MONTH(KCITempAct[[#This Row],[Date]]))*(KCINHDD[Day]=DAY(KCITempAct[[#This Row],[Date]]))*KCINHDD[KCINHDD])","v":0},{"$f":"IF(MONTH(KCITempAct[[#This Row],[Date]])=7,0,IF(MONTH(KCITempAct[[#This Row],[Date]])=8,0,KCITempAct[[#This Row],[KCINHDD]]))","v":0},"Adj HDD and NDD =0 for July and August"]
["2019-08-18",88,70,{"$f":"AVERAGE(KCITempAct[[#This Row],[KCIHigh]:[KCILow]]\n)","v":79},{"$f":"IF(KCITempAct[[#This Row],[KCIAve]]<65,(65-KCITempAct[[#This Row],[KCIAve]]),0)","v":0},{"$f":"IF(MONTH(KCITempAct[[#This Row],[Date]])=7,0,IF(MONTH(KCITempAct[[#This Row],[Date]])=8,0,KCITempAct[[#This Row],[KCIHDD]]))","v":0},{"$f":"SUMPRODUCT((KCINHDD[Month]=MONTH(KCITempAct[[#This Row],[Date]]))*(KCINHDD[Day]=DAY(KCITempAct[[#This Row],[Date]]))*KCINHDD[KCINHDD])","v":0},{"$f":"IF(MONTH(KCITempAct[[#This Row],[Date]])=7,0,IF(MONTH(KCITempAct[[#This Row],[Date]])=8,0,KCITempAct[[#This Row],[KCINHDD]]))","v":0},"Adj HDD and NDD =0 for July and August"]
["2019-08-19",93,70,{"$f":"AVERAGE(KCITempAct[[#This Row],[KCIHigh]:[KCILow]]\n)","v":81.5},{"$f":"IF(KCITempAct[[#This Row],[KCIAve]]<65,(65-KCITempAct[[#This Row],[KCIAve]]),0)","v":0},{"$f":"IF(MONTH(KCITempAct[[#This Row],[Date]])=7,0,IF(MONTH(KCITempAct[[#This Row],[Date]])=8,0,KCITempAct[[#This Row],[KCIHDD]]))","v":0},{"$f":"SUMPRODUCT((KCINHDD[Month]=MONTH(KCITempAct[[#This Row],[Date]]))*(KCINHDD[Day]=DAY(KCITempAct[[#This Row],[Date]]))*KCINHDD[KCINHDD])","v":0.05},{"$f":"IF(MONTH(KCITempAct[[#This Row],[Date]])=7,0,IF(MONTH(KCITempAct[[#This Row],[Date]])=8,0,KCITempAct[[#This Row],[KCINHDD]]))","v":0},"Adj HDD and NDD =0 for July and August"]
["2019-08-20",92,78,{"$f":"AVERAGE(KCITempAct[[#This Row],[KCIHigh]:[KCILow]]\n)","v":85},{"$f":"IF(KCITempAct[[#This Row],[KCIAve]]<65,(65-KCITempAct[[#This Row],[KCIAve]]),0)","v":0},{"$f":"IF(MONTH(KCITempAct[[#This Row],[Date]])=7,0,IF(MONTH(KCITempAct[[#This Row],[Date]])=8,0,KCITempAct[[#This Row],[KCIHDD]]))","v":0},{"$f":"SUMPRODUCT((KCINHDD[Month]=MONTH(KCITempAct[[#This Row],[Date]]))*(KCINHDD[Day]=DAY(KCITempAct[[#This Row],[Date]]))*KCINHDD[KCINHDD])","v":0},{"$f":"IF(MONTH(KCITempAct[[#This Row],[Date]])=7,0,IF(MONTH(KCITempAct[[#This Row],[Date]])=8,0,KCITempAct[[#This Row],[KCINHDD]]))","v":0},"Adj HDD and NDD =0 for July and August"]
["2019-08-21",81,70,{"$f":"AVERAGE(KCITempAct[[#This Row],[KCIHigh]:[KCILow]]\n)","v":75.5},{"$f":"IF(KCITempAct[[#This Row],[KCIAve]]<65,(65-KCITempAct[[#This Row],[KCIAve]]),0)","v":0},{"$f":"IF(MONTH(KCITempAct[[#This Row],[Date]])=7,0,IF(MONTH(KCITempAct[[#This Row],[Date]])=8,0,KCITempAct[[#This Row],[KCIHDD]]))","v":0},{"$f":"SUMPRODUCT((KCINHDD[Month]=MONTH(KCITempAct[[#This Row],[Date]]))*(KCINHDD[Day]=DAY(KCITempAct[[#This Row],[Date]]))*KCINHDD[KCINHDD])","v":0},{"$f":"IF(MONTH(KCITempAct[[#This Row],[Date]])=7,0,IF(MONTH(KCITempAct[[#This Row],[Date]])=8,0,KCITempAct[[#This Row],[KCINHDD]]))","v":0},"Adj HDD and NDD =0 for July and August"]
["2019-08-22",81,70,{"$f":"AVERAGE(KCITempAct[[#This Row],[KCIHigh]:[KCILow]]\n)","v":75.5},{"$f":"IF(KCITempAct[[#This Row],[KCIAve]]<65,(65-KCITempAct[[#This Row],[KCIAve]]),0)","v":0},{"$f":"IF(MONTH(KCITempAct[[#This Row],[Date]])=7,0,IF(MONTH(KCITempAct[[#This Row],[Date]])=8,0,KCITempAct[[#This Row],[KCIHDD]]))","v":0},{"$f":"SUMPRODUCT((KCINHDD[Month]=MONTH(KCITempAct[[#This Row],[Date]]))*(KCINHDD[Day]=DAY(KCITempAct[[#This Row],[Date]]))*KCINHDD[KCINHDD])","v":0},{"$f":"IF(MONTH(KCITempAct[[#This Row],[Date]])=7,0,IF(MONTH(KCITempAct[[#This Row],[Date]])=8,0,KCITempAct[[#This Row],[KCINHDD]]))","v":0},"Adj HDD and NDD =0 for July and August"]
["2019-08-23",83,68,{"$f":"AVERAGE(KCITempAct[[#This Row],[KCIHigh]:[KCILow]]\n)","v":75.5},{"$f":"IF(KCITempAct[[#This Row],[KCIAve]]<65,(65-KCITempAct[[#This Row],[KCIAve]]),0)","v":0},{"$f":"IF(MONTH(KCITempAct[[#This Row],[Date]])=7,0,IF(MONTH(KCITempAct[[#This Row],[Date]])=8,0,KCITempAct[[#This Row],[KCIHDD]]))","v":0},{"$f":"SUMPRODUCT((KCINHDD[Month]=MONTH(KCITempAct[[#This Row],[Date]]))*(KCINHDD[Day]=DAY(KCITempAct[[#This Row],[Date]]))*KCINHDD[KCINHDD])","v":1.6666666666666666E-2},{"$f":"IF(MONTH(KCITempAct[[#This Row],[Date]])=7,0,IF(MONTH(KCITempAct[[#This Row],[Date]])=8,0,KCITempAct[[#This Row],[KCINHDD]]))","v":0},"Adj HDD and NDD =0 for July and August"]
["2019-08-24",77,66,{"$f":"AVERAGE(KCITempAct[[#This Row],[KCIHigh]:[KCILow]]\n)","v":71.5},{"$f":"IF(KCITempAct[[#This Row],[KCIAve]]<65,(65-KCITempAct[[#This Row],[KCIAve]]),0)","v":0},{"$f":"IF(MONTH(KCITempAct[[#This Row],[Date]])=7,0,IF(MONTH(KCITempAct[[#This Row],[Date]])=8,0,KCITempAct[[#This Row],[KCIHDD]]))","v":0},{"$f":"SUMPRODUCT((KCINHDD[Month]=MONTH(KCITempAct[[#This Row],[Date]]))*(KCINHDD[Day]=DAY(KCITempAct[[#This Row],[Date]]))*KCINHDD[KCINHDD])","v":0},{"$f":"IF(MONTH(KCITempAct[[#This Row],[Date]])=7,0,IF(MONTH(KCITempAct[[#This Row],[Date]])=8,0,KCITempAct[[#This Row],[KCINHDD]]))","v":0},"Adj HDD and NDD =0 for July and August"]
["2019-08-25",70,66,{"$f":"AVERAGE(KCITempAct[[#This Row],[KCIHigh]:[KCILow]]\n)","v":68},{"$f":"IF(KCITempAct[[#This Row],[KCIAve]]<65,(65-KCITempAct[[#This Row],[KCIAve]]),0)","v":0},{"$f":"IF(MONTH(KCITempAct[[#This Row],[Date]])=7,0,IF(MONTH(KCITempAct[[#This Row],[Date]])=8,0,KCITempAct[[#This Row],[KCIHDD]]))","v":0},{"$f":"SUMPRODUCT((KCINHDD[Month]=MONTH(KCITempAct[[#This Row],[Date]]))*(KCINHDD[Day]=DAY(KCITempAct[[#This Row],[Date]]))*KCINHDD[KCINHDD])","v":0},{"$f":"IF(MONTH(KCITempAct[[#This Row],[Date]])=7,0,IF(MONTH(KCITempAct[[#This Row],[Date]])=8,0,KCITempAct[[#This Row],[KCINHDD]]))","v":0},"Adj HDD and NDD =0 for July and August"]
["2019-08-26",78,65,{"$f":"AVERAGE(KCITempAct[[#This Row],[KCIHigh]:[KCILow]]\n)","v":71.5},{"$f":"IF(KCITempAct[[#This Row],[KCIAve]]<65,(65-KCITempAct[[#This Row],[KCIAve]]),0)","v":0},{"$f":"IF(MONTH(KCITempAct[[#This Row],[Date]])=7,0,IF(MONTH(KCITempAct[[#This Row],[Date]])=8,0,KCITempAct[[#This Row],[KCIHDD]]))","v":0},{"$f":"SUMPRODUCT((KCINHDD[Month]=MONTH(KCITempAct[[#This Row],[Date]]))*(KCINHDD[Day]=DAY(KCITempAct[[#This Row],[Date]]))*KCINHDD[KCINHDD])","v":0.13333333333333333},{"$f":"IF(MONTH(KCITempAct[[#This Row],[Date]])=7,0,IF(MONTH(KCITempAct[[#This Row],[Date]])=8,0,KCITempAct[[#This Row],[KCINHDD]]))","v":0},"Adj HDD and NDD =0 for July and August"]
["2019-08-27",81,62,{"$f":"AVERAGE(KCITempAct[[#This Row],[KCIHigh]:[KCILow]]\n)","v":71.5},{"$f":"IF(KCITempAct[[#This Row],[KCIAve]]<65,(65-KCITempAct[[#This Row],[KCIAve]]),0)","v":0},{"$f":"IF(MONTH(KCITempAct[[#This Row],[Date]])=7,0,IF(MONTH(KCITempAct[[#This Row],[Date]])=8,0,KCITempAct[[#This Row],[KCIHDD]]))","v":0},{"$f":"SUMPRODUCT((KCINHDD[Month]=MONTH(KCITempAct[[#This Row],[Date]]))*(KCINHDD[Day]=DAY(KCITempAct[[#This Row],[Date]]))*KCINHDD[KCINHDD])","v":0.05},{"$f":"IF(MONTH(KCITempAct[[#This Row],[Date]])=7,0,IF(MONTH(KCITempAct[[#This Row],[Date]])=8,0,KCITempAct[[#This Row],[KCINHDD]]))","v":0},"Adj HDD and NDD =0 for July and August"]
["2019-08-28",81,56,{"$f":"AVERAGE(KCITempAct[[#This Row],[KCIHigh]:[KCILow]]\n)","v":68.5},{"$f":"IF(KCITempAct[[#This Row],[KCIAve]]<65,(65-KCITempAct[[#This Row],[KCIAve]]),0)","v":0},{"$f":"IF(MONTH(KCITempAct[[#This Row],[Date]])=7,0,IF(MONTH(KCITempAct[[#This Row],[Date]])=8,0,KCITempAct[[#This Row],[KCIHDD]]))","v":0},{"$f":"SUMPRODUCT((KCINHDD[Month]=MONTH(KCITempAct[[#This Row],[Date]]))*(KCINHDD[Day]=DAY(KCITempAct[[#This Row],[Date]]))*KCINHDD[KCINHDD])","v":0},{"$f":"IF(MONTH(KCITempAct[[#This Row],[Date]])=7,0,IF(MONTH(KCITempAct[[#This Row],[Date]])=8,0,KCITempAct[[#This Row],[KCINHDD]]))","v":0},"Adj HDD and NDD =0 for July and August"]
["2019-08-29",89,61,{"$f":"AVERAGE(KCITempAct[[#This Row],[KCIHigh]:[KCILow]]\n)","v":75},{"$f":"IF(KCITempAct[[#This Row],[KCIAve]]<65,(65-KCITempAct[[#This Row],[KCIAve]]),0)","v":0},{"$f":"IF(MONTH(KCITempAct[[#This Row],[Date]])=7,0,IF(MONTH(KCITempAct[[#This Row],[Date]])=8,0,KCITempAct[[#This Row],[KCIHDD]]))","v":0},{"$f":"SUMPRODUCT((KCINHDD[Month]=MONTH(KCITempAct[[#This Row],[Date]]))*(KCINHDD[Day]=DAY(KCITempAct[[#This Row],[Date]]))*KCINHDD[KCINHDD])","v":0.13333333333333333},{"$f":"IF(MONTH(KCITempAct[[#This Row],[Date]])=7,0,IF(MONTH(KCITempAct[[#This Row],[Date]])=8,0,KCITempAct[[#This Row],[KCINHDD]]))","v":0},"Adj HDD and NDD =0 for July and August"]
["2019-08-30",77,63,{"$f":"AVERAGE(KCITempAct[[#This Row],[KCIHigh]:[KCILow]]\n)","v":70},{"$f":"IF(KCITempAct[[#This Row],[KCIAve]]<65,(65-KCITempAct[[#This Row],[KCIAve]]),0)","v":0},{"$f":"IF(MONTH(KCITempAct[[#This Row],[Date]])=7,0,IF(MONTH(KCITempAct[[#This Row],[Date]])=8,0,KCITempAct[[#This Row],[KCIHDD]]))","v":0},{"$f":"SUMPRODUCT((KCINHDD[Month]=MONTH(KCITempAct[[#This Row],[Date]]))*(KCINHDD[Day]=DAY(KCITempAct[[#This Row],[Date]]))*KCINHDD[KCINHDD])","v":0.15},{"$f":"IF(MONTH(KCITempAct[[#This Row],[Date]])=7,0,IF(MONTH(KCITempAct[[#This Row],[Date]])=8,0,KCITempAct[[#This Row],[KCINHDD]]))","v":0},"Adj HDD and NDD =0 for July and August"]
["2019-08-31",76,59,{"$f":"AVERAGE(KCITempAct[[#This Row],[KCIHigh]:[KCILow]]\n)","v":67.5},{"$f":"IF(KCITempAct[[#This Row],[KCIAve]]<65,(65-KCITempAct[[#This Row],[KCIAve]]),0)","v":0},{"$f":"IF(MONTH(KCITempAct[[#This Row],[Date]])=7,0,IF(MONTH(KCITempAct[[#This Row],[Date]])=8,0,KCITempAct[[#This Row],[KCIHDD]]))","v":0},{"$f":"SUMPRODUCT((KCINHDD[Month]=MONTH(KCITempAct[[#This Row],[Date]]))*(KCINHDD[Day]=DAY(KCITempAct[[#This Row],[Date]]))*KCINHDD[KCINHDD])","v":8.3333333333333329E-2},{"$f":"IF(MONTH(KCITempAct[[#This Row],[Date]])=7,0,IF(MONTH(KCITempAct[[#This Row],[Date]])=8,0,KCITempAct[[#This Row],[KCINHDD]]))","v":0},"Adj HDD and NDD =0 for July and August"]
["2019-09-01",78,63,{"$f":"AVERAGE(KCITempAct[[#This Row],[KCIHigh]:[KCILow]]\n)","v":70.5},{"$f":"IF(KCITempAct[[#This Row],[KCIAve]]<65,(65-KCITempAct[[#This Row],[KCIAve]]),0)","v":0},{"$f":"IF(MONTH(KCITempAct[[#This Row],[Date]])=7,0,IF(MONTH(KCITempAct[[#This Row],[Date]])=8,0,KCITempAct[[#This Row],[KCIHDD]]))","v":0},{"$f":"SUMPRODUCT((KCINHDD[Month]=MONTH(KCITempAct[[#This Row],[Date]]))*(KCINHDD[Day]=DAY(KCITempAct[[#This Row],[Date]]))*KCINHDD[KCINHDD])","v":0.05},{"$f":"IF(MONTH(KCITempAct[[#This Row],[Date]])=7,0,IF(MONTH(KCITempAct[[#This Row],[Date]])=8,0,KCITempAct[[#This Row],[KCINHDD]]))","v":0.05},"Adj HDD and NDD =0 for July and August"]
["2019-09-02",86,63,{"$f":"AVERAGE(KCITempAct[[#This Row],[KCIHigh]:[KCILow]]\n)","v":74.5},{"$f":"IF(KCITempAct[[#This Row],[KCIAve]]<65,(65-KCITempAct[[#This Row],[KCIAve]]),0)","v":0},{"$f":"IF(MONTH(KCITempAct[[#This Row],[Date]])=7,0,IF(MONTH(KCITempAct[[#This Row],[Date]])=8,0,KCITempAct[[#This Row],[KCIHDD]]))","v":0},{"$f":"SUMPRODUCT((KCINHDD[Month]=MONTH(KCITempAct[[#This Row],[Date]]))*(KCINHDD[Day]=DAY(KCITempAct[[#This Row],[Date]]))*KCINHDD[KCINHDD])","v":3.3333333333333333E-2},{"$f":"IF(MONTH(KCITempAct[[#This Row],[Date]])=7,0,IF(MONTH(KCITempAct[[#This Row],[Date]])=8,0,KCITempAct[[#This Row],[KCINHDD]]))","v":3.3333333333333333E-2},"Adj HDD and NDD =0 for July and August"]
["2019-09-03",91,71,{"$f":"AVERAGE(KCITempAct[[#This Row],[KCIHigh]:[KCILow]]\n)","v":81},{"$f":"IF(KCITempAct[[#This Row],[KCIAve]]<65,(65-KCITempAct[[#This Row],[KCIAve]]),0)","v":0},{"$f":"IF(MONTH(KCITempAct[[#This Row],[Date]])=7,0,IF(MONTH(KCITempAct[[#This Row],[Date]])=8,0,KCITempAct[[#This Row],[KCIHDD]]))","v":0},{"$f":"SUMPRODUCT((KCINHDD[Month]=MONTH(KCITempAct[[#This Row],[Date]]))*(KCINHDD[Day]=DAY(KCITempAct[[#This Row],[Date]]))*KCINHDD[KCINHDD])","v":0.16666666666666666},{"$f":"IF(MONTH(KCITempAct[[#This Row],[Date]])=7,0,IF(MONTH(KCITempAct[[#This Row],[Date]])=8,0,KCITempAct[[#This Row],[KCINHDD]]))","v":0.16666666666666666},"Adj HDD and NDD =0 for July and August"]
["2019-09-04",81,66,{"$f":"AVERAGE(KCITempAct[[#This Row],[KCIHigh]:[KCILow]]\n)","v":73.5},{"$f":"IF(KCITempAct[[#This Row],[KCIAve]]<65,(65-KCITempAct[[#This Row],[KCIAve]]),0)","v":0},{"$f":"IF(MONTH(KCITempAct[[#This Row],[Date]])=7,0,IF(MONTH(KCITempAct[[#This Row],[Date]])=8,0,KCITempAct[[#This Row],[KCIHDD]]))","v":0},{"$f":"SUMPRODUCT((KCINHDD[Month]=MONTH(KCITempAct[[#This Row],[Date]]))*(KCINHDD[Day]=DAY(KCITempAct[[#This Row],[Date]]))*KCINHDD[KCINHDD])","v":0.3},{"$f":"IF(MONTH(KCITempAct[[#This Row],[Date]])=7,0,IF(MONTH(KCITempAct[[#This Row],[Date]])=8,0,KCITempAct[[#This Row],[KCINHDD]]))","v":0.3},"Adj HDD and NDD =0 for July and August"]
["2019-09-05",89,65,{"$f":"AVERAGE(KCITempAct[[#This Row],[KCIHigh]:[KCILow]]\n)","v":77},{"$f":"IF(KCITempAct[[#This Row],[KCIAve]]<65,(65-KCITempAct[[#This Row],[KCIAve]]),0)","v":0},{"$f":"IF(MONTH(KCITempAct[[#This Row],[Date]])=7,0,IF(MONTH(KCITempAct[[#This Row],[Date]])=8,0,KCITempAct[[#This Row],[KCIHDD]]))","v":0},{"$f":"SUMPRODUCT((KCINHDD[Month]=MONTH(KCITempAct[[#This Row],[Date]]))*(KCINHDD[Day]=DAY(KCITempAct[[#This Row],[Date]]))*KCINHDD[KCINHDD])","v":0.45},{"$f":"IF(MONTH(KCITempAct[[#This Row],[Date]])=7,0,IF(MONTH(KCITempAct[[#This Row],[Date]])=8,0,KCITempAct[[#This Row],[KCINHDD]]))","v":0.45},"Adj HDD and NDD =0 for July and August"]
["2019-09-06",84,66,{"$f":"AVERAGE(KCITempAct[[#This Row],[KCIHigh]:[KCILow]]\n)","v":75},{"$f":"IF(KCITempAct[[#This Row],[KCIAve]]<65,(65-KCITempAct[[#This Row],[KCIAve]]),0)","v":0},{"$f":"IF(MONTH(KCITempAct[[#This Row],[Date]])=7,0,IF(MONTH(KCITempAct[[#This Row],[Date]])=8,0,KCITempAct[[#This Row],[KCIHDD]]))","v":0},{"$f":"SUMPRODUCT((KCINHDD[Month]=MONTH(KCITempAct[[#This Row],[Date]]))*(KCINHDD[Day]=DAY(KCITempAct[[#This Row],[Date]]))*KCINHDD[KCINHDD])","v":0.48333333333333334},{"$f":"IF(MONTH(KCITempAct[[#This Row],[Date]])=7,0,IF(MONTH(KCITempAct[[#This Row],[Date]])=8,0,KCITempAct[[#This Row],[KCINHDD]]))","v":0.48333333333333334},"Adj HDD and NDD =0 for July and August"]
["2019-09-07",83,64,{"$f":"AVERAGE(KCITempAct[[#This Row],[KCIHigh]:[KCILow]]\n)","v":73.5},{"$f":"IF(KCITempAct[[#This Row],[KCIAve]]<65,(65-KCITempAct[[#This Row],[KCIAve]]),0)","v":0},{"$f":"IF(MONTH(KCITempAct[[#This Row],[Date]])=7,0,IF(MONTH(KCITempAct[[#This Row],[Date]])=8,0,KCITempAct[[#This Row],[KCIHDD]]))","v":0},{"$f":"SUMPRODUCT((KCINHDD[Month]=MONTH(KCITempAct[[#This Row],[Date]]))*(KCINHDD[Day]=DAY(KCITempAct[[#This Row],[Date]]))*KCINHDD[KCINHDD])","v":0.38333333333333336},{"$f":"IF(MONTH(KCITempAct[[#This Row],[Date]])=7,0,IF(MONTH(KCITempAct[[#This Row],[Date]])=8,0,KCITempAct[[#This Row],[KCINHDD]]))","v":0.38333333333333336},"Adj HDD and NDD =0 for July and August"]
["2019-09-08",82,66,{"$f":"AVERAGE(KCITempAct[[#This Row],[KCIHigh]:[KCILow]]\n)","v":74},{"$f":"IF(KCITempAct[[#This Row],[KCIAve]]<65,(65-KCITempAct[[#This Row],[KCIAve]]),0)","v":0},{"$f":"IF(MONTH(KCITempAct[[#This Row],[Date]])=7,0,IF(MONTH(KCITempAct[[#This Row],[Date]])=8,0,KCITempAct[[#This Row],[KCIHDD]]))","v":0},{"$f":"SUMPRODUCT((KCINHDD[Month]=MONTH(KCITempAct[[#This Row],[Date]]))*(KCINHDD[Day]=DAY(KCITempAct[[#This Row],[Date]]))*KCINHDD[KCINHDD])","v":1.0666666666666667},{"$f":"IF(MONTH(KCITempAct[[#This Row],[Date]])=7,0,IF(MONTH(KCITempAct[[#This Row],[Date]])=8,0,KCITempAct[[#This Row],[KCINHDD]]))","v":1.0666666666666667},"Adj HDD and NDD =0 for July and August"]
["2019-09-09",89,69,{"$f":"AVERAGE(KCITempAct[[#This Row],[KCIHigh]:[KCILow]]\n)","v":79},{"$f":"IF(KCITempAct[[#This Row],[KCIAve]]<65,(65-KCITempAct[[#This Row],[KCIAve]]),0)","v":0},{"$f":"IF(MONTH(KCITempAct[[#This Row],[Date]])=7,0,IF(MONTH(KCITempAct[[#This Row],[Date]])=8,0,KCITempAct[[#This Row],[KCIHDD]]))","v":0},{"$f":"SUMPRODUCT((KCINHDD[Month]=MONTH(KCITempAct[[#This Row],[Date]]))*(KCINHDD[Day]=DAY(KCITempAct[[#This Row],[Date]]))*KCINHDD[KCINHDD])","v":0.96666666666666667},{"$f":"IF(MONTH(KCITempAct[[#This Row],[Date]])=7,0,IF(MONTH(KCITempAct[[#This Row],[Date]])=8,0,KCITempAct[[#This Row],[KCINHDD]]))","v":0.96666666666666667},"Adj HDD and NDD =0 for July and August"]
["2019-09-10",87,74,{"$f":"AVERAGE(KCITempAct[[#This Row],[KCIHigh]:[KCILow]]\n)","v":80.5},{"$f":"IF(KCITempAct[[#This Row],[KCIAve]]<65,(65-KCITempAct[[#This Row],[KCIAve]]),0)","v":0},{"$f":"IF(MONTH(KCITempAct[[#This Row],[Date]])=7,0,IF(MONTH(KCITempAct[[#This Row],[Date]])=8,0,KCITempAct[[#This Row],[KCIHDD]]))","v":0},{"$f":"SUMPRODUCT((KCINHDD[Month]=MONTH(KCITempAct[[#This Row],[Date]]))*(KCINHDD[Day]=DAY(KCITempAct[[#This Row],[Date]]))*KCINHDD[KCINHDD])","v":0.85},{"$f":"IF(MONTH(KCITempAct[[#This Row],[Date]])=7,0,IF(MONTH(KCITempAct[[#This Row],[Date]])=8,0,KCITempAct[[#This Row],[KCINHDD]]))","v":0.85},"Adj HDD and NDD =0 for July and August"]
["2019-09-11",89,72,{"$f":"AVERAGE(KCITempAct[[#This Row],[KCIHigh]:[KCILow]]\n)","v":80.5},{"$f":"IF(KCITempAct[[#This Row],[KCIAve]]<65,(65-KCITempAct[[#This Row],[KCIAve]]),0)","v":0},{"$f":"IF(MONTH(KCITempAct[[#This Row],[Date]])=7,0,IF(MONTH(KCITempAct[[#This Row],[Date]])=8,0,KCITempAct[[#This Row],[KCIHDD]]))","v":0},{"$f":"SUMPRODUCT((KCINHDD[Month]=MONTH(KCITempAct[[#This Row],[Date]]))*(KCINHDD[Day]=DAY(KCITempAct[[#This Row],[Date]]))*KCINHDD[KCINHDD])","v":0.8666666666666667},{"$f":"IF(MONTH(KCITempAct[[#This Row],[Date]])=7,0,IF(MONTH(KCITempAct[[#This Row],[Date]])=8,0,KCITempAct[[#This Row],[KCINHDD]]))","v":0.8666666666666667},"Adj HDD and NDD =0 for July and August"]
["2019-09-12",83,68,{"$f":"AVERAGE(KCITempAct[[#This Row],[KCIHigh]:[KCILow]]\n)","v":75.5},{"$f":"IF(KCITempAct[[#This Row],[KCIAve]]<65,(65-KCITempAct[[#This Row],[KCIAve]]),0)","v":0},{"$f":"IF(MONTH(KCITempAct[[#This Row],[Date]])=7,0,IF(MONTH(KCITempAct[[#This Row],[Date]])=8,0,KCITempAct[[#This Row],[KCIHDD]]))","v":0},{"$f":"SUMPRODUCT((KCINHDD[Month]=MONTH(KCITempAct[[#This Row],[Date]]))*(KCINHDD[Day]=DAY(KCITempAct[[#This Row],[Date]]))*KCINHDD[KCINHDD])","v":1.0166666666666666},{"$f":"IF(MONTH(KCITempAct[[#This Row],[Date]])=7,0,IF(MONTH(KCITempAct[[#This Row],[Date]])=8,0,KCITempAct[[#This Row],[KCINHDD]]))","v":1.0166666666666666},"Adj HDD and NDD =0 for July and August"]
["2019-09-13",78,59,{"$f":"AVERAGE(KCITempAct[[#This Row],[KCIHigh]:[KCILow]]\n)","v":68.5},{"$f":"IF(KCITempAct[[#This Row],[KCIAve]]<65,(65-KCITempAct[[#This Row],[KCIAve]]),0)","v":0},{"$f":"IF(MONTH(KCITempAct[[#This Row],[Date]])=7,0,IF(MONTH(KCITempAct[[#This Row],[Date]])=8,0,KCITempAct[[#This Row],[KCIHDD]]))","v":0},{"$f":"SUMPRODUCT((KCINHDD[Month]=MONTH(KCITempAct[[#This Row],[Date]]))*(KCINHDD[Day]=DAY(KCITempAct[[#This Row],[Date]]))*KCINHDD[KCINHDD])","v":1.1166666666666667},{"$f":"IF(MONTH(KCITempAct[[#This Row],[Date]])=7,0,IF(MONTH(KCITempAct[[#This Row],[Date]])=8,0,KCITempAct[[#This Row],[KCINHDD]]))","v":1.1166666666666667},"Adj HDD and NDD =0 for July and August"]
["2019-09-14",85,60,{"$f":"AVERAGE(KCITempAct[[#This Row],[KCIHigh]:[KCILow]]\n)","v":72.5},{"$f":"IF(KCITempAct[[#This Row],[KCIAve]]<65,(65-KCITempAct[[#This Row],[KCIAve]]),0)","v":0},{"$f":"IF(MONTH(KCITempAct[[#This Row],[Date]])=7,0,IF(MONTH(KCITempAct[[#This Row],[Date]])=8,0,KCITempAct[[#This Row],[KCIHDD]]))","v":0},{"$f":"SUMPRODUCT((KCINHDD[Month]=MONTH(KCITempAct[[#This Row],[Date]]))*(KCINHDD[Day]=DAY(KCITempAct[[#This Row],[Date]]))*KCINHDD[KCINHDD])","v":2.0333333333333332},{"$f":"IF(MONTH(KCITempAct[[#This Row],[Date]])=7,0,IF(MONTH(KCITempAct[[#This Row],[Date]])=8,0,KCITempAct[[#This Row],[KCINHDD]]))","v":2.0333333333333332},"Adj HDD and NDD =0 for July and August"]
["2019-09-15",90,73,{"$f":"AVERAGE(KCITempAct[[#This Row],[KCIHigh]:[KCILow]]\n)","v":81.5},{"$f":"IF(KCITempAct[[#This Row],[KCIAve]]<65,(65-KCITempAct[[#This Row],[KCIAve]]),0)","v":0},{"$f":"IF(MONTH(KCITempAct[[#This Row],[Date]])=7,0,IF(MONTH(KCITempAct[[#This Row],[Date]])=8,0,KCITempAct[[#This Row],[KCIHDD]]))","v":0},{"$f":"SUMPRODUCT((KCINHDD[Month]=MONTH(KCITempAct[[#This Row],[Date]]))*(KCINHDD[Day]=DAY(KCITempAct[[#This Row],[Date]]))*KCINHDD[KCINHDD])","v":2.5833333333333335},{"$f":"IF(MONTH(KCITempAct[[#This Row],[Date]])=7,0,IF(MONTH(KCITempAct[[#This Row],[Date]])=8,0,KCITempAct[[#This Row],[KCINHDD]]))","v":2.5833333333333335},"Adj HDD and NDD =0 for July and August"]
["2019-09-16",89,69,{"$f":"AVERAGE(KCITempAct[[#This Row],[KCIHigh]:[KCILow]]\n)","v":79},{"$f":"IF(KCITempAct[[#This Row],[KCIAve]]<65,(65-KCITempAct[[#This Row],[KCIAve]]),0)","v":0},{"$f":"IF(MONTH(KCITempAct[[#This Row],[Date]])=7,0,IF(MONTH(KCITempAct[[#This Row],[Date]])=8,0,KCITempAct[[#This Row],[KCIHDD]]))","v":0},{"$f":"SUMPRODUCT((KCINHDD[Month]=MONTH(KCITempAct[[#This Row],[Date]]))*(KCINHDD[Day]=DAY(KCITempAct[[#This Row],[Date]]))*KCINHDD[KCINHDD])","v":1.7166666666666666},{"$f":"IF(MONTH(KCITempAct[[#This Row],[Date]])=7,0,IF(MONTH(KCITempAct[[#This Row],[Date]])=8,0,KCITempAct[[#This Row],[KCINHDD]]))","v":1.7166666666666666},"Adj HDD and NDD =0 for July and August"]
["2019-09-17",89,69,{"$f":"AVERAGE(KCITempAct[[#This Row],[KCIHigh]:[KCILow]]\n)","v":79},{"$f":"IF(KCITempAct[[#This Row],[KCIAve]]<65,(65-KCITempAct[[#This Row],[KCIAve]]),0)","v":0},{"$f":"IF(MONTH(KCITempAct[[#This Row],[Date]])=7,0,IF(MONTH(KCITempAct[[#This Row],[Date]])=8,0,KCITempAct[[#This Row],[KCIHDD]]))","v":0},{"$f":"SUMPRODUCT((KCINHDD[Month]=MONTH(KCITempAct[[#This Row],[Date]]))*(KCINHDD[Day]=DAY(KCITempAct[[#This Row],[Date]]))*KCINHDD[KCINHDD])","v":0.96666666666666667},{"$f":"IF(MONTH(KCITempAct[[#This Row],[Date]])=7,0,IF(MONTH(KCITempAct[[#This Row],[Date]])=8,0,KCITempAct[[#This Row],[KCINHDD]]))","v":0.96666666666666667},"Adj HDD and NDD =0 for July and August"]
["2019-09-18",91,70,{"$f":"AVERAGE(KCITempAct[[#This Row],[KCIHigh]:[KCILow]]\n)","v":80.5},{"$f":"IF(KCITempAct[[#This Row],[KCIAve]]<65,(65-KCITempAct[[#This Row],[KCIAve]]),0)","v":0},{"$f":"IF(MONTH(KCITempAct[[#This Row],[Date]])=7,0,IF(MONTH(KCITempAct[[#This Row],[Date]])=8,0,KCITempAct[[#This Row],[KCIHDD]]))","v":0},{"$f":"SUMPRODUCT((KCINHDD[Month]=MONTH(KCITempAct[[#This Row],[Date]]))*(KCINHDD[Day]=DAY(KCITempAct[[#This Row],[Date]]))*KCINHDD[KCINHDD])","v":1.25},{"$f":"IF(MONTH(KCITempAct[[#This Row],[Date]])=7,0,IF(MONTH(KCITempAct[[#This Row],[Date]])=8,0,KCITempAct[[#This Row],[KCINHDD]]))","v":1.25},"Adj HDD and NDD =0 for July and August"]
["2019-09-19",90,69,{"$f":"AVERAGE(KCITempAct[[#This Row],[KCIHigh]:[KCILow]]\n)","v":79.5},{"$f":"IF(KCITempAct[[#This Row],[KCIAve]]<65,(65-KCITempAct[[#This Row],[KCIAve]]),0)","v":0},{"$f":"IF(MONTH(KCITempAct[[#This Row],[Date]])=7,0,IF(MONTH(KCITempAct[[#This Row],[Date]])=8,0,KCITempAct[[#This Row],[KCIHDD]]))","v":0},{"$f":"SUMPRODUCT((KCINHDD[Month]=MONTH(KCITempAct[[#This Row],[Date]]))*(KCINHDD[Day]=DAY(KCITempAct[[#This Row],[Date]]))*KCINHDD[KCINHDD])","v":1.6166666666666667},{"$f":"IF(MONTH(KCITempAct[[#This Row],[Date]])=7,0,IF(MONTH(KCITempAct[[#This Row],[Date]])=8,0,KCITempAct[[#This Row],[KCINHDD]]))","v":1.6166666666666667},"Adj HDD and NDD =0 for July and August"]
["2019-09-20",85,69,{"$f":"AVERAGE(KCITempAct[[#This Row],[KCIHigh]:[KCILow]]\n)","v":77},{"$f":"IF(KCITempAct[[#This Row],[KCIAve]]<65,(65-KCITempAct[[#This Row],[KCIAve]]),0)","v":0},{"$f":"IF(MONTH(KCITempAct[[#This Row],[Date]])=7,0,IF(MONTH(KCITempAct[[#This Row],[Date]])=8,0,KCITempAct[[#This Row],[KCIHDD]]))","v":0},{"$f":"SUMPRODUCT((KCINHDD[Month]=MONTH(KCITempAct[[#This Row],[Date]]))*(KCINHDD[Day]=DAY(KCITempAct[[#This Row],[Date]]))*KCINHDD[KCINHDD])","v":2.1},{"$f":"IF(MONTH(KCITempAct[[#This Row],[Date]])=7,0,IF(MONTH(KCITempAct[[#This Row],[Date]])=8,0,KCITempAct[[#This Row],[KCINHDD]]))","v":2.1},"Adj HDD and NDD =0 for July and August"]
["2019-09-21",76,71,{"$f":"AVERAGE(KCITempAct[[#This Row],[KCIHigh]:[KCILow]]\n)","v":73.5},{"$f":"IF(KCITempAct[[#This Row],[KCIAve]]<65,(65-KCITempAct[[#This Row],[KCIAve]]),0)","v":0},{"$f":"IF(MONTH(KCITempAct[[#This Row],[Date]])=7,0,IF(MONTH(KCITempAct[[#This Row],[Date]])=8,0,KCITempAct[[#This Row],[KCIHDD]]))","v":0},{"$f":"SUMPRODUCT((KCINHDD[Month]=MONTH(KCITempAct[[#This Row],[Date]]))*(KCINHDD[Day]=DAY(KCITempAct[[#This Row],[Date]]))*KCINHDD[KCINHDD])","v":2.4333333333333331},{"$f":"IF(MONTH(KCITempAct[[#This Row],[Date]])=7,0,IF(MONTH(KCITempAct[[#This Row],[Date]])=8,0,KCITempAct[[#This Row],[KCINHDD]]))","v":2.4333333333333331},"Adj HDD and NDD =0 for July and August"]
["2019-09-22",79,57,{"$f":"AVERAGE(KCITempAct[[#This Row],[KCIHigh]:[KCILow]]\n)","v":68},{"$f":"IF(KCITempAct[[#This Row],[KCIAve]]<65,(65-KCITempAct[[#This Row],[KCIAve]]),0)","v":0},{"$f":"IF(MONTH(KCITempAct[[#This Row],[Date]])=7,0,IF(MONTH(KCITempAct[[#This Row],[Date]])=8,0,KCITempAct[[#This Row],[KCIHDD]]))","v":0},{"$f":"SUMPRODUCT((KCINHDD[Month]=MONTH(KCITempAct[[#This Row],[Date]]))*(KCINHDD[Day]=DAY(KCITempAct[[#This Row],[Date]]))*KCINHDD[KCINHDD])","v":3.45},{"$f":"IF(MONTH(KCITempAct[[#This Row],[Date]])=7,0,IF(MONTH(KCITempAct[[#This Row],[Date]])=8,0,KCITempAct[[#This Row],[KCINHDD]]))","v":3.45},"Adj HDD and NDD =0 for July and August"]
["2019-09-23",79,54,{"$f":"AVERAGE(KCITempAct[[#This Row],[KCIHigh]:[KCILow]]\n)","v":66.5},{"$f":"IF(KCITempAct[[#This Row],[KCIAve]]<65,(65-KCITempAct[[#This Row],[KCIAve]]),0)","v":0},{"$f":"IF(MONTH(KCITempAct[[#This Row],[Date]])=7,0,IF(MONTH(KCITempAct[[#This Row],[Date]])=8,0,KCITempAct[[#This Row],[KCIHDD]]))","v":0},{"$f":"SUMPRODUCT((KCINHDD[Month]=MONTH(KCITempAct[[#This Row],[Date]]))*(KCINHDD[Day]=DAY(KCITempAct[[#This Row],[Date]]))*KCINHDD[KCINHDD])","v":3.3},{"$f":"IF(MONTH(KCITempAct[[#This Row],[Date]])=7,0,IF(MONTH(KCITempAct[[#This Row],[Date]])=8,0,KCITempAct[[#This Row],[KCINHDD]]))","v":3.3},"Adj HDD and NDD =0 for July and August"]
["2019-09-24",81,56,{"$f":"AVERAGE(KCITempAct[[#This Row],[KCIHigh]:[KCILow]]\n)","v":68.5},{"$f":"IF(KCITempAct[[#This Row],[KCIAve]]<65,(65-KCITempAct[[#This Row],[KCIAve]]),0)","v":0},{"$f":"IF(MONTH(KCITempAct[[#This Row],[Date]])=7,0,IF(MONTH(KCITempAct[[#This Row],[Date]])=8,0,KCITempAct[[#This Row],[KCIHDD]]))","v":0},{"$f":"SUMPRODUCT((KCINHDD[Month]=MONTH(KCITempAct[[#This Row],[Date]]))*(KCINHDD[Day]=DAY(KCITempAct[[#This Row],[Date]]))*KCINHDD[KCINHDD])","v":3.1833333333333331},{"$f":"IF(MONTH(KCITempAct[[#This Row],[Date]])=7,0,IF(MONTH(KCITempAct[[#This Row],[Date]])=8,0,KCITempAct[[#This Row],[KCINHDD]]))","v":3.1833333333333331},"Adj HDD and NDD =0 for July and August"]
["2019-09-25",83,60,{"$f":"AVERAGE(KCITempAct[[#This Row],[KCIHigh]:[KCILow]]\n)","v":71.5},{"$f":"IF(KCITempAct[[#This Row],[KCIAve]]<65,(65-KCITempAct[[#This Row],[KCIAve]]),0)","v":0},{"$f":"IF(MONTH(KCITempAct[[#This Row],[Date]])=7,0,IF(MONTH(KCITempAct[[#This Row],[Date]])=8,0,KCITempAct[[#This Row],[KCIHDD]]))","v":0},{"$f":"SUMPRODUCT((KCINHDD[Month]=MONTH(KCITempAct[[#This Row],[Date]]))*(KCINHDD[Day]=DAY(KCITempAct[[#This Row],[Date]]))*KCINHDD[KCINHDD])","v":2.95},{"$f":"IF(MONTH(KCITempAct[[#This Row],[Date]])=7,0,IF(MONTH(KCITempAct[[#This Row],[Date]])=8,0,KCITempAct[[#This Row],[KCINHDD]]))","v":2.95},"Adj HDD and NDD =0 for July and August"]
["2019-09-26",75,55,{"$f":"AVERAGE(KCITempAct[[#This Row],[KCIHigh]:[KCILow]]\n)","v":65},{"$f":"IF(KCITempAct[[#This Row],[KCIAve]]<65,(65-KCITempAct[[#This Row],[KCIAve]]),0)","v":0},{"$f":"IF(MONTH(KCITempAct[[#This Row],[Date]])=7,0,IF(MONTH(KCITempAct[[#This Row],[Date]])=8,0,KCITempAct[[#This Row],[KCIHDD]]))","v":0},{"$f":"SUMPRODUCT((KCINHDD[Month]=MONTH(KCITempAct[[#This Row],[Date]]))*(KCINHDD[Day]=DAY(KCITempAct[[#This Row],[Date]]))*KCINHDD[KCINHDD])","v":3.1333333333333333},{"$f":"IF(MONTH(KCITempAct[[#This Row],[Date]])=7,0,IF(MONTH(KCITempAct[[#This Row],[Date]])=8,0,KCITempAct[[#This Row],[KCINHDD]]))","v":3.1333333333333333},"Adj HDD and NDD =0 for July and August"]
["2019-09-27",89,66,{"$f":"AVERAGE(KCITempAct[[#This Row],[KCIHigh]:[KCILow]]\n)","v":77.5},{"$f":"IF(KCITempAct[[#This Row],[KCIAve]]<65,(65-KCITempAct[[#This Row],[KCIAve]]),0)","v":0},{"$f":"IF(MONTH(KCITempAct[[#This Row],[Date]])=7,0,IF(MONTH(KCITempAct[[#This Row],[Date]])=8,0,KCITempAct[[#This Row],[KCIHDD]]))","v":0},{"$f":"SUMPRODUCT((KCINHDD[Month]=MONTH(KCITempAct[[#This Row],[Date]]))*(KCINHDD[Day]=DAY(KCITempAct[[#This Row],[Date]]))*KCINHDD[KCINHDD])","v":3.0666666666666669},{"$f":"IF(MONTH(KCITempAct[[#This Row],[Date]])=7,0,IF(MONTH(KCITempAct[[#This Row],[Date]])=8,0,KCITempAct[[#This Row],[KCINHDD]]))","v":3.0666666666666669},"Adj HDD and NDD =0 for July and August"]
["2019-09-28",71,59,{"$f":"AVERAGE(KCITempAct[[#This Row],[KCIHigh]:[KCILow]]\n)","v":65},{"$f":"IF(KCITempAct[[#This Row],[KCIAve]]<65,(65-KCITempAct[[#This Row],[KCIAve]]),0)","v":0},{"$f":"IF(MONTH(KCITempAct[[#This Row],[Date]])=7,0,IF(MONTH(KCITempAct[[#This Row],[Date]])=8,0,KCITempAct[[#This Row],[KCIHDD]]))","v":0},{"$f":"SUMPRODUCT((KCINHDD[Month]=MONTH(KCITempAct[[#This Row],[Date]]))*(KCINHDD[Day]=DAY(KCITempAct[[#This Row],[Date]]))*KCINHDD[KCINHDD])","v":3.5666666666666669},{"$f":"IF(MONTH(KCITempAct[[#This Row],[Date]])=7,0,IF(MONTH(KCITempAct[[#This Row],[Date]])=8,0,KCITempAct[[#This Row],[KCINHDD]]))","v":3.5666666666666669},"Adj HDD and NDD =0 for July and August"]
["2019-09-29",86,67,{"$f":"AVERAGE(KCITempAct[[#This Row],[KCIHigh]:[KCILow]]\n)","v":76.5},{"$f":"IF(KCITempAct[[#This Row],[KCIAve]]<65,(65-KCITempAct[[#This Row],[KCIAve]]),0)","v":0},{"$f":"IF(MONTH(KCITempAct[[#This Row],[Date]])=7,0,IF(MONTH(KCITempAct[[#This Row],[Date]])=8,0,KCITempAct[[#This Row],[KCIHDD]]))","v":0},{"$f":"SUMPRODUCT((KCINHDD[Month]=MONTH(KCITempAct[[#This Row],[Date]]))*(KCINHDD[Day]=DAY(KCITempAct[[#This Row],[Date]]))*KCINHDD[KCINHDD])","v":4.2666666666666666},{"$f":"IF(MONTH(KCITempAct[[#This Row],[Date]])=7,0,IF(MONTH(KCITempAct[[#This Row],[Date]])=8,0,KCITempAct[[#This Row],[KCINHDD]]))","v":4.2666666666666666},"Adj HDD and NDD =0 for July and August"]
["2019-09-30",87,74,{"$f":"AVERAGE(KCITempAct[[#This Row],[KCIHigh]:[KCILow]]\n)","v":80.5},{"$f":"IF(KCITempAct[[#This Row],[KCIAve]]<65,(65-KCITempAct[[#This Row],[KCIAve]]),0)","v":0},{"$f":"IF(MONTH(KCITempAct[[#This Row],[Date]])=7,0,IF(MONTH(KCITempAct[[#This Row],[Date]])=8,0,KCITempAct[[#This Row],[KCIHDD]]))","v":0},{"$f":"SUMPRODUCT((KCINHDD[Month]=MONTH(KCITempAct[[#This Row],[Date]]))*(KCINHDD[Day]=DAY(KCITempAct[[#This Row],[Date]]))*KCINHDD[KCINHDD])","v":2.4166666666666665},{"$f":"IF(MONTH(KCITempAct[[#This Row],[Date]])=7,0,IF(MONTH(KCITempAct[[#This Row],[Date]])=8,0,KCITempAct[[#This Row],[KCINHDD]]))","v":2.4166666666666665},"Adj HDD and NDD =0 for July and August"]
["2019-10-01",88,73,{"$f":"AVERAGE(KCITempAct[[#This Row],[KCIHigh]:[KCILow]]\n)","v":80.5},{"$f":"IF(KCITempAct[[#This Row],[KCIAve]]<65,(65-KCITempAct[[#This Row],[KCIAve]]),0)","v":0},{"$f":"IF(MONTH(KCITempAct[[#This Row],[Date]])=7,0,IF(MONTH(KCITempAct[[#This Row],[Date]])=8,0,KCITempAct[[#This Row],[KCIHDD]]))","v":0},{"$f":"SUMPRODUCT((KCINHDD[Month]=MONTH(KCITempAct[[#This Row],[Date]]))*(KCINHDD[Day]=DAY(KCITempAct[[#This Row],[Date]]))*KCINHDD[KCINHDD])","v":2.95},{"$f":"IF(MONTH(KCITempAct[[#This Row],[Date]])=7,0,IF(MONTH(KCITempAct[[#This Row],[Date]])=8,0,KCITempAct[[#This Row],[KCINHDD]]))","v":2.95},"Adj HDD and NDD =0 for July and August"]
["2019-10-02",85,56,{"$f":"AVERAGE(KCITempAct[[#This Row],[KCIHigh]:[KCILow]]\n)","v":70.5},{"$f":"IF(KCITempAct[[#This Row],[KCIAve]]<65,(65-KCITempAct[[#This Row],[KCIAve]]),0)","v":0},{"$f":"IF(MONTH(KCITempAct[[#This Row],[Date]])=7,0,IF(MONTH(KCITempAct[[#This Row],[Date]])=8,0,KCITempAct[[#This Row],[KCIHDD]]))","v":0},{"$f":"SUMPRODUCT((KCINHDD[Month]=MONTH(KCITempAct[[#This Row],[Date]]))*(KCINHDD[Day]=DAY(KCITempAct[[#This Row],[Date]]))*KCINHDD[KCINHDD])","v":5.1833333333333336},{"$f":"IF(MONTH(KCITempAct[[#This Row],[Date]])=7,0,IF(MONTH(KCITempAct[[#This Row],[Date]])=8,0,KCITempAct[[#This Row],[KCINHDD]]))","v":5.1833333333333336},"Adj HDD and NDD =0 for July and August"]
["2019-10-03",58,50,{"$f":"AVERAGE(KCITempAct[[#This Row],[KCIHigh]:[KCILow]]\n)","v":54},{"$f":"IF(KCITempAct[[#This Row],[KCIAve]]<65,(65-KCITempAct[[#This Row],[KCIAve]]),0)","v":11},{"$f":"IF(MONTH(KCITempAct[[#This Row],[Date]])=7,0,IF(MONTH(KCITempAct[[#This Row],[Date]])=8,0,KCITempAct[[#This Row],[KCIHDD]]))","v":11},{"$f":"SUMPRODUCT((KCINHDD[Month]=MONTH(KCITempAct[[#This Row],[Date]]))*(KCINHDD[Day]=DAY(KCITempAct[[#This Row],[Date]]))*KCINHDD[KCINHDD])","v":5.2166666666666668},{"$f":"IF(MONTH(KCITempAct[[#This Row],[Date]])=7,0,IF(MONTH(KCITempAct[[#This Row],[Date]])=8,0,KCITempAct[[#This Row],[KCINHDD]]))","v":5.2166666666666668},"Adj HDD and NDD =0 for July and August"]
["2019-10-04",59,49,{"$f":"AVERAGE(KCITempAct[[#This Row],[KCIHigh]:[KCILow]]\n)","v":54},{"$f":"IF(KCITempAct[[#This Row],[KCIAve]]<65,(65-KCITempAct[[#This Row],[KCIAve]]),0)","v":11},{"$f":"IF(MONTH(KCITempAct[[#This Row],[Date]])=7,0,IF(MONTH(KCITempAct[[#This Row],[Date]])=8,0,KCITempAct[[#This Row],[KCIHDD]]))","v":11},{"$f":"SUMPRODUCT((KCINHDD[Month]=MONTH(KCITempAct[[#This Row],[Date]]))*(KCINHDD[Day]=DAY(KCITempAct[[#This Row],[Date]]))*KCINHDD[KCINHDD])","v":6.083333333333333},{"$f":"IF(MONTH(KCITempAct[[#This Row],[Date]])=7,0,IF(MONTH(KCITempAct[[#This Row],[Date]])=8,0,KCITempAct[[#This Row],[KCINHDD]]))","v":6.083333333333333},"Adj HDD and NDD =0 for July and August"]
["2019-10-05",73,50,{"$f":"AVERAGE(KCITempAct[[#This Row],[KCIHigh]:[KCILow]]\n)","v":61.5},{"$f":"IF(KCITempAct[[#This Row],[KCIAve]]<65,(65-KCITempAct[[#This Row],[KCIAve]]),0)","v":3.5},{"$f":"IF(MONTH(KCITempAct[[#This Row],[Date]])=7,0,IF(MONTH(KCITempAct[[#This Row],[Date]])=8,0,KCITempAct[[#This Row],[KCIHDD]]))","v":3.5},{"$f":"SUMPRODUCT((KCINHDD[Month]=MONTH(KCITempAct[[#This Row],[Date]]))*(KCINHDD[Day]=DAY(KCITempAct[[#This Row],[Date]]))*KCINHDD[KCINHDD])","v":5.9333333333333336},{"$f":"IF(MONTH(KCITempAct[[#This Row],[Date]])=7,0,IF(MONTH(KCITempAct[[#This Row],[Date]])=8,0,KCITempAct[[#This Row],[KCINHDD]]))","v":5.9333333333333336},"Adj HDD and NDD =0 for July and August"]
["2019-10-06",67,46,{"$f":"AVERAGE(KCITempAct[[#This Row],[KCIHigh]:[KCILow]]\n)","v":56.5},{"$f":"IF(KCITempAct[[#This Row],[KCIAve]]<65,(65-KCITempAct[[#This Row],[KCIAve]]),0)","v":8.5},{"$f":"IF(MONTH(KCITempAct[[#This Row],[Date]])=7,0,IF(MONTH(KCITempAct[[#This Row],[Date]])=8,0,KCITempAct[[#This Row],[KCIHDD]]))","v":8.5},{"$f":"SUMPRODUCT((KCINHDD[Month]=MONTH(KCITempAct[[#This Row],[Date]]))*(KCINHDD[Day]=DAY(KCITempAct[[#This Row],[Date]]))*KCINHDD[KCINHDD])","v":6.6833333333333336},{"$f":"IF(MONTH(KCITempAct[[#This Row],[Date]])=7,0,IF(MONTH(KCITempAct[[#This Row],[Date]])=8,0,KCITempAct[[#This Row],[KCINHDD]]))","v":6.6833333333333336},"Adj HDD and NDD =0 for July and August"]
["2019-10-07",71,43,{"$f":"AVERAGE(KCITempAct[[#This Row],[KCIHigh]:[KCILow]]\n)","v":57},{"$f":"IF(KCITempAct[[#This Row],[KCIAve]]<65,(65-KCITempAct[[#This Row],[KCIAve]]),0)","v":8},{"$f":"IF(MONTH(KCITempAct[[#This Row],[Date]])=7,0,IF(MONTH(KCITempAct[[#This Row],[Date]])=8,0,KCITempAct[[#This Row],[KCIHDD]]))","v":8},{"$f":"SUMPRODUCT((KCINHDD[Month]=MONTH(KCITempAct[[#This Row],[Date]]))*(KCINHDD[Day]=DAY(KCITempAct[[#This Row],[Date]]))*KCINHDD[KCINHDD])","v":6.95},{"$f":"IF(MONTH(KCITempAct[[#This Row],[Date]])=7,0,IF(MONTH(KCITempAct[[#This Row],[Date]])=8,0,KCITempAct[[#This Row],[KCINHDD]]))","v":6.95},"Adj HDD and NDD =0 for July and August"]
["2019-10-08",71,43,{"$f":"AVERAGE(KCITempAct[[#This Row],[KCIHigh]:[KCILow]]\n)","v":57},{"$f":"IF(KCITempAct[[#This Row],[KCIAve]]<65,(65-KCITempAct[[#This Row],[KCIAve]]),0)","v":8},{"$f":"IF(MONTH(KCITempAct[[#This Row],[Date]])=7,0,IF(MONTH(KCITempAct[[#This Row],[Date]])=8,0,KCITempAct[[#This Row],[KCIHDD]]))","v":8},{"$f":"SUMPRODUCT((KCINHDD[Month]=MONTH(KCITempAct[[#This Row],[Date]]))*(KCINHDD[Day]=DAY(KCITempAct[[#This Row],[Date]]))*KCINHDD[KCINHDD])","v":6.35},{"$f":"IF(MONTH(KCITempAct[[#This Row],[Date]])=7,0,IF(MONTH(KCITempAct[[#This Row],[Date]])=8,0,KCITempAct[[#This Row],[KCINHDD]]))","v":6.35},"Adj HDD and NDD =0 for July and August"]
["2019-10-09",63,54,{"$f":"AVERAGE(KCITempAct[[#This Row],[KCIHigh]:[KCILow]]\n)","v":58.5},{"$f":"IF(KCITempAct[[#This Row],[KCIAve]]<65,(65-KCITempAct[[#This Row],[KCIAve]]),0)","v":6.5},{"$f":"IF(MONTH(KCITempAct[[#This Row],[Date]])=7,0,IF(MONTH(KCITempAct[[#This Row],[Date]])=8,0,KCITempAct[[#This Row],[KCIHDD]]))","v":6.5},{"$f":"SUMPRODUCT((KCINHDD[Month]=MONTH(KCITempAct[[#This Row],[Date]]))*(KCINHDD[Day]=DAY(KCITempAct[[#This Row],[Date]]))*KCINHDD[KCINHDD])","v":6.2833333333333332},{"$f":"IF(MONTH(KCITempAct[[#This Row],[Date]])=7,0,IF(MONTH(KCITempAct[[#This Row],[Date]])=8,0,KCITempAct[[#This Row],[KCINHDD]]))","v":6.2833333333333332},"Adj HDD and NDD =0 for July and August"]
["2019-10-10",71,41,{"$f":"AVERAGE(KCITempAct[[#This Row],[KCIHigh]:[KCILow]]\n)","v":56},{"$f":"IF(KCITempAct[[#This Row],[KCIAve]]<65,(65-KCITempAct[[#This Row],[KCIAve]]),0)","v":9},{"$f":"IF(MONTH(KCITempAct[[#This Row],[Date]])=7,0,IF(MONTH(KCITempAct[[#This Row],[Date]])=8,0,KCITempAct[[#This Row],[KCIHDD]]))","v":9},{"$f":"SUMPRODUCT((KCINHDD[Month]=MONTH(KCITempAct[[#This Row],[Date]]))*(KCINHDD[Day]=DAY(KCITempAct[[#This Row],[Date]]))*KCINHDD[KCINHDD])","v":8.1666666666666661},{"$f":"IF(MONTH(KCITempAct[[#This Row],[Date]])=7,0,IF(MONTH(KCITempAct[[#This Row],[Date]])=8,0,KCITempAct[[#This Row],[KCINHDD]]))","v":8.1666666666666661},"Adj HDD and NDD =0 for July and August"]
["2019-10-11",49,33,{"$f":"AVERAGE(KCITempAct[[#This Row],[KCIHigh]:[KCILow]]\n)","v":41},{"$f":"IF(KCITempAct[[#This Row],[KCIAve]]<65,(65-KCITempAct[[#This Row],[KCIAve]]),0)","v":24},{"$f":"IF(MONTH(KCITempAct[[#This Row],[Date]])=7,0,IF(MONTH(KCITempAct[[#This Row],[Date]])=8,0,KCITempAct[[#This Row],[KCIHDD]]))","v":24},{"$f":"SUMPRODUCT((KCINHDD[Month]=MONTH(KCITempAct[[#This Row],[Date]]))*(KCINHDD[Day]=DAY(KCITempAct[[#This Row],[Date]]))*KCINHDD[KCINHDD])","v":8.1333333333333329},{"$f":"IF(MONTH(KCITempAct[[#This Row],[Date]])=7,0,IF(MONTH(KCITempAct[[#This Row],[Date]])=8,0,KCITempAct[[#This Row],[KCINHDD]]))","v":8.1333333333333329},"Adj HDD and NDD =0 for July and August"]
["2019-10-12",67,29,{"$f":"AVERAGE(KCITempAct[[#This Row],[KCIHigh]:[KCILow]]\n)","v":48},{"$f":"IF(KCITempAct[[#This Row],[KCIAve]]<65,(65-KCITempAct[[#This Row],[KCIAve]]),0)","v":17},{"$f":"IF(MONTH(KCITempAct[[#This Row],[Date]])=7,0,IF(MONTH(KCITempAct[[#This Row],[Date]])=8,0,KCITempAct[[#This Row],[KCIHDD]]))","v":17},{"$f":"SUMPRODUCT((KCINHDD[Month]=MONTH(KCITempAct[[#This Row],[Date]]))*(KCINHDD[Day]=DAY(KCITempAct[[#This Row],[Date]]))*KCINHDD[KCINHDD])","v":7.75},{"$f":"IF(MONTH(KCITempAct[[#This Row],[Date]])=7,0,IF(MONTH(KCITempAct[[#This Row],[Date]])=8,0,KCITempAct[[#This Row],[KCINHDD]]))","v":7.75},"Adj HDD and NDD =0 for July and August"]
["2019-10-13",63,35,{"$f":"AVERAGE(KCITempAct[[#This Row],[KCIHigh]:[KCILow]]\n)","v":49},{"$f":"IF(KCITempAct[[#This Row],[KCIAve]]<65,(65-KCITempAct[[#This Row],[KCIAve]]),0)","v":16},{"$f":"IF(MONTH(KCITempAct[[#This Row],[Date]])=7,0,IF(MONTH(KCITempAct[[#This Row],[Date]])=8,0,KCITempAct[[#This Row],[KCIHDD]]))","v":16},{"$f":"SUMPRODUCT((KCINHDD[Month]=MONTH(KCITempAct[[#This Row],[Date]]))*(KCINHDD[Day]=DAY(KCITempAct[[#This Row],[Date]]))*KCINHDD[KCINHDD])","v":8.3666666666666671},{"$f":"IF(MONTH(KCITempAct[[#This Row],[Date]])=7,0,IF(MONTH(KCITempAct[[#This Row],[Date]])=8,0,KCITempAct[[#This Row],[KCINHDD]]))","v":8.3666666666666671},"Adj HDD and NDD =0 for July and August"]
["2019-10-14",72,37,{"$f":"AVERAGE(KCITempAct[[#This Row],[KCIHigh]:[KCILow]]\n)","v":54.5},{"$f":"IF(KCITempAct[[#This Row],[KCIAve]]<65,(65-KCITempAct[[#This Row],[KCIAve]]),0)","v":10.5},{"$f":"IF(MONTH(KCITempAct[[#This Row],[Date]])=7,0,IF(MONTH(KCITempAct[[#This Row],[Date]])=8,0,KCITempAct[[#This Row],[KCIHDD]]))","v":10.5},{"$f":"SUMPRODUCT((KCINHDD[Month]=MONTH(KCITempAct[[#This Row],[Date]]))*(KCINHDD[Day]=DAY(KCITempAct[[#This Row],[Date]]))*KCINHDD[KCINHDD])","v":8.0500000000000007},{"$f":"IF(MONTH(KCITempAct[[#This Row],[Date]])=7,0,IF(MONTH(KCITempAct[[#This Row],[Date]])=8,0,KCITempAct[[#This Row],[KCINHDD]]))","v":8.0500000000000007},"Adj HDD and NDD =0 for July and August"]
["2019-10-15",65,41,{"$f":"AVERAGE(KCITempAct[[#This Row],[KCIHigh]:[KCILow]]\n)","v":53},{"$f":"IF(KCITempAct[[#This Row],[KCIAve]]<65,(65-KCITempAct[[#This Row],[KCIAve]]),0)","v":12},{"$f":"IF(MONTH(KCITempAct[[#This Row],[Date]])=7,0,IF(MONTH(KCITempAct[[#This Row],[Date]])=8,0,KCITempAct[[#This Row],[KCIHDD]]))","v":12},{"$f":"SUMPRODUCT((KCINHDD[Month]=MONTH(KCITempAct[[#This Row],[Date]]))*(KCINHDD[Day]=DAY(KCITempAct[[#This Row],[Date]]))*KCINHDD[KCINHDD])","v":9.6},{"$f":"IF(MONTH(KCITempAct[[#This Row],[Date]])=7,0,IF(MONTH(KCITempAct[[#This Row],[Date]])=8,0,KCITempAct[[#This Row],[KCINHDD]]))","v":9.6},"Adj HDD and NDD =0 for July and August"]
["2019-10-16",57,38,{"$f":"AVERAGE(KCITempAct[[#This Row],[KCIHigh]:[KCILow]]\n)","v":47.5},{"$f":"IF(KCITempAct[[#This Row],[KCIAve]]<65,(65-KCITempAct[[#This Row],[KCIAve]]),0)","v":17.5},{"$f":"IF(MONTH(KCITempAct[[#This Row],[Date]])=7,0,IF(MONTH(KCITempAct[[#This Row],[Date]])=8,0,KCITempAct[[#This Row],[KCIHDD]]))","v":17.5},{"$f":"SUMPRODUCT((KCINHDD[Month]=MONTH(KCITempAct[[#This Row],[Date]]))*(KCINHDD[Day]=DAY(KCITempAct[[#This Row],[Date]]))*KCINHDD[KCINHDD])","v":9.9499999999999993},{"$f":"IF(MONTH(KCITempAct[[#This Row],[Date]])=7,0,IF(MONTH(KCITempAct[[#This Row],[Date]])=8,0,KCITempAct[[#This Row],[KCINHDD]]))","v":9.9499999999999993},"Adj HDD and NDD =0 for July and August"]
["2019-10-17",67,37,{"$f":"AVERAGE(KCITempAct[[#This Row],[KCIHigh]:[KCILow]]\n)","v":52},{"$f":"IF(KCITempAct[[#This Row],[KCIAve]]<65,(65-KCITempAct[[#This Row],[KCIAve]]),0)","v":13},{"$f":"IF(MONTH(KCITempAct[[#This Row],[Date]])=7,0,IF(MONTH(KCITempAct[[#This Row],[Date]])=8,0,KCITempAct[[#This Row],[KCIHDD]]))","v":13},{"$f":"SUMPRODUCT((KCINHDD[Month]=MONTH(KCITempAct[[#This Row],[Date]]))*(KCINHDD[Day]=DAY(KCITempAct[[#This Row],[Date]]))*KCINHDD[KCINHDD])","v":9.4833333333333325},{"$f":"IF(MONTH(KCITempAct[[#This Row],[Date]])=7,0,IF(MONTH(KCITempAct[[#This Row],[Date]])=8,0,KCITempAct[[#This Row],[KCINHDD]]))","v":9.4833333333333325},"Adj HDD and NDD =0 for July and August"]
["2019-10-18",72,50,{"$f":"AVERAGE(KCITempAct[[#This Row],[KCIHigh]:[KCILow]]\n)","v":61},{"$f":"IF(KCITempAct[[#This Row],[KCIAve]]<65,(65-KCITempAct[[#This Row],[KCIAve]]),0)","v":4},{"$f":"IF(MONTH(KCITempAct[[#This Row],[Date]])=7,0,IF(MONTH(KCITempAct[[#This Row],[Date]])=8,0,KCITempAct[[#This Row],[KCIHDD]]))","v":4},{"$f":"SUMPRODUCT((KCINHDD[Month]=MONTH(KCITempAct[[#This Row],[Date]]))*(KCINHDD[Day]=DAY(KCITempAct[[#This Row],[Date]]))*KCINHDD[KCINHDD])","v":10.65},{"$f":"IF(MONTH(KCITempAct[[#This Row],[Date]])=7,0,IF(MONTH(KCITempAct[[#This Row],[Date]])=8,0,KCITempAct[[#This Row],[KCINHDD]]))","v":10.65},"Adj HDD and NDD =0 for July and August"]
["2019-10-19",67,49,{"$f":"AVERAGE(KCITempAct[[#This Row],[KCIHigh]:[KCILow]]\n)","v":58},{"$f":"IF(KCITempAct[[#This Row],[KCIAve]]<65,(65-KCITempAct[[#This Row],[KCIAve]]),0)","v":7},{"$f":"IF(MONTH(KCITempAct[[#This Row],[Date]])=7,0,IF(MONTH(KCITempAct[[#This Row],[Date]])=8,0,KCITempAct[[#This Row],[KCIHDD]]))","v":7},{"$f":"SUMPRODUCT((KCINHDD[Month]=MONTH(KCITempAct[[#This Row],[Date]]))*(KCINHDD[Day]=DAY(KCITempAct[[#This Row],[Date]]))*KCINHDD[KCINHDD])","v":10.8},{"$f":"IF(MONTH(KCITempAct[[#This Row],[Date]])=7,0,IF(MONTH(KCITempAct[[#This Row],[Date]])=8,0,KCITempAct[[#This Row],[KCINHDD]]))","v":10.8},"Adj HDD and NDD =0 for July and August"]
["2019-10-20",66,42,{"$f":"AVERAGE(KCITempAct[[#This Row],[KCIHigh]:[KCILow]]\n)","v":54},{"$f":"IF(KCITempAct[[#This Row],[KCIAve]]<65,(65-KCITempAct[[#This Row],[KCIAve]]),0)","v":11},{"$f":"IF(MONTH(KCITempAct[[#This Row],[Date]])=7,0,IF(MONTH(KCITempAct[[#This Row],[Date]])=8,0,KCITempAct[[#This Row],[KCIHDD]]))","v":11},{"$f":"SUMPRODUCT((KCINHDD[Month]=MONTH(KCITempAct[[#This Row],[Date]]))*(KCINHDD[Day]=DAY(KCITempAct[[#This Row],[Date]]))*KCINHDD[KCINHDD])","v":9.4666666666666668},{"$f":"IF(MONTH(KCITempAct[[#This Row],[Date]])=7,0,IF(MONTH(KCITempAct[[#This Row],[Date]])=8,0,KCITempAct[[#This Row],[KCINHDD]]))","v":9.4666666666666668},"Adj HDD and NDD =0 for July and August"]
["2019-10-21",57,44,{"$f":"AVERAGE(KCITempAct[[#This Row],[KCIHigh]:[KCILow]]\n)","v":50.5},{"$f":"IF(KCITempAct[[#This Row],[KCIAve]]<65,(65-KCITempAct[[#This Row],[KCIAve]]),0)","v":14.5},{"$f":"IF(MONTH(KCITempAct[[#This Row],[Date]])=7,0,IF(MONTH(KCITempAct[[#This Row],[Date]])=8,0,KCITempAct[[#This Row],[KCIHDD]]))","v":14.5},{"$f":"SUMPRODUCT((KCINHDD[Month]=MONTH(KCITempAct[[#This Row],[Date]]))*(KCINHDD[Day]=DAY(KCITempAct[[#This Row],[Date]]))*KCINHDD[KCINHDD])","v":9.7166666666666668},{"$f":"IF(MONTH(KCITempAct[[#This Row],[Date]])=7,0,IF(MONTH(KCITempAct[[#This Row],[Date]])=8,0,KCITempAct[[#This Row],[KCINHDD]]))","v":9.7166666666666668},"Adj HDD and NDD =0 for July and August"]
["2019-10-22",59,40,{"$f":"AVERAGE(KCITempAct[[#This Row],[KCIHigh]:[KCILow]]\n)","v":49.5},{"$f":"IF(KCITempAct[[#This Row],[KCIAve]]<65,(65-KCITempAct[[#This Row],[KCIAve]]),0)","v":15.5},{"$f":"IF(MONTH(KCITempAct[[#This Row],[Date]])=7,0,IF(MONTH(KCITempAct[[#This Row],[Date]])=8,0,KCITempAct[[#This Row],[KCIHDD]]))","v":15.5},{"$f":"SUMPRODUCT((KCINHDD[Month]=MONTH(KCITempAct[[#This Row],[Date]]))*(KCINHDD[Day]=DAY(KCITempAct[[#This Row],[Date]]))*KCINHDD[KCINHDD])","v":9.5},{"$f":"IF(MONTH(KCITempAct[[#This Row],[Date]])=7,0,IF(MONTH(KCITempAct[[#This Row],[Date]])=8,0,KCITempAct[[#This Row],[KCINHDD]]))","v":9.5},"Adj HDD and NDD =0 for July and August"]
["2019-10-23",69,42,{"$f":"AVERAGE(KCITempAct[[#This Row],[KCIHigh]:[KCILow]]\n)","v":55.5},{"$f":"IF(KCITempAct[[#This Row],[KCIAve]]<65,(65-KCITempAct[[#This Row],[KCIAve]]),0)","v":9.5},{"$f":"IF(MONTH(KCITempAct[[#This Row],[Date]])=7,0,IF(MONTH(KCITempAct[[#This Row],[Date]])=8,0,KCITempAct[[#This Row],[KCIHDD]]))","v":9.5},{"$f":"SUMPRODUCT((KCINHDD[Month]=MONTH(KCITempAct[[#This Row],[Date]]))*(KCINHDD[Day]=DAY(KCITempAct[[#This Row],[Date]]))*KCINHDD[KCINHDD])","v":11.066666666666666},{"$f":"IF(MONTH(KCITempAct[[#This Row],[Date]])=7,0,IF(MONTH(KCITempAct[[#This Row],[Date]])=8,0,KCITempAct[[#This Row],[KCINHDD]]))","v":11.066666666666666},"Adj HDD and NDD =0 for July and August"]
["2019-10-24",46,38,{"$f":"AVERAGE(KCITempAct[[#This Row],[KCIHigh]:[KCILow]]\n)","v":42},{"$f":"IF(KCITempAct[[#This Row],[KCIAve]]<65,(65-KCITempAct[[#This Row],[KCIAve]]),0)","v":23},{"$f":"IF(MONTH(KCITempAct[[#This Row],[Date]])=7,0,IF(MONTH(KCITempAct[[#This Row],[Date]])=8,0,KCITempAct[[#This Row],[KCIHDD]]))","v":23},{"$f":"SUMPRODUCT((KCINHDD[Month]=MONTH(KCITempAct[[#This Row],[Date]]))*(KCINHDD[Day]=DAY(KCITempAct[[#This Row],[Date]]))*KCINHDD[KCINHDD])","v":12.433333333333334},{"$f":"IF(MONTH(KCITempAct[[#This Row],[Date]])=7,0,IF(MONTH(KCITempAct[[#This Row],[Date]])=8,0,KCITempAct[[#This Row],[KCINHDD]]))","v":12.433333333333334},"Adj HDD and NDD =0 for July and August"]
["2019-10-25",55,35,{"$f":"AVERAGE(KCITempAct[[#This Row],[KCIHigh]:[KCILow]]\n)","v":45},{"$f":"IF(KCITempAct[[#This Row],[KCIAve]]<65,(65-KCITempAct[[#This Row],[KCIAve]]),0)","v":20},{"$f":"IF(MONTH(KCITempAct[[#This Row],[Date]])=7,0,IF(MONTH(KCITempAct[[#This Row],[Date]])=8,0,KCITempAct[[#This Row],[KCIHDD]]))","v":20},{"$f":"SUMPRODUCT((KCINHDD[Month]=MONTH(KCITempAct[[#This Row],[Date]]))*(KCINHDD[Day]=DAY(KCITempAct[[#This Row],[Date]]))*KCINHDD[KCINHDD])","v":12.15},{"$f":"IF(MONTH(KCITempAct[[#This Row],[Date]])=7,0,IF(MONTH(KCITempAct[[#This Row],[Date]])=8,0,KCITempAct[[#This Row],[KCINHDD]]))","v":12.15},"Adj HDD and NDD =0 for July and August"]
["2019-10-26",61,33,{"$f":"AVERAGE(KCITempAct[[#This Row],[KCIHigh]:[KCILow]]\n)","v":47},{"$f":"IF(KCITempAct[[#This Row],[KCIAve]]<65,(65-KCITempAct[[#This Row],[KCIAve]]),0)","v":18},{"$f":"IF(MONTH(KCITempAct[[#This Row],[Date]])=7,0,IF(MONTH(KCITempAct[[#This Row],[Date]])=8,0,KCITempAct[[#This Row],[KCIHDD]]))","v":18},{"$f":"SUMPRODUCT((KCINHDD[Month]=MONTH(KCITempAct[[#This Row],[Date]]))*(KCINHDD[Day]=DAY(KCITempAct[[#This Row],[Date]]))*KCINHDD[KCINHDD])","v":13.983333333333333},{"$f":"IF(MONTH(KCITempAct[[#This Row],[Date]])=7,0,IF(MONTH(KCITempAct[[#This Row],[Date]])=8,0,KCITempAct[[#This Row],[KCINHDD]]))","v":13.983333333333333},"Adj HDD and NDD =0 for July and August"]
["2019-10-27",57,38,{"$f":"AVERAGE(KCITempAct[[#This Row],[KCIHigh]:[KCILow]]\n)","v":47.5},{"$f":"IF(KCITempAct[[#This Row],[KCIAve]]<65,(65-KCITempAct[[#This Row],[KCIAve]]),0)","v":17.5},{"$f":"IF(MONTH(KCITempAct[[#This Row],[Date]])=7,0,IF(MONTH(KCITempAct[[#This Row],[Date]])=8,0,KCITempAct[[#This Row],[KCIHDD]]))","v":17.5},{"$f":"SUMPRODUCT((KCINHDD[Month]=MONTH(KCITempAct[[#This Row],[Date]]))*(KCINHDD[Day]=DAY(KCITempAct[[#This Row],[Date]]))*KCINHDD[KCINHDD])","v":15.2},{"$f":"IF(MONTH(KCITempAct[[#This Row],[Date]])=7,0,IF(MONTH(KCITempAct[[#This Row],[Date]])=8,0,KCITempAct[[#This Row],[KCINHDD]]))","v":15.2},"Adj HDD and NDD =0 for July and August"]
["2019-10-28",43,32,{"$f":"AVERAGE(KCITempAct[[#This Row],[KCIHigh]:[KCILow]]\n)","v":37.5},{"$f":"IF(KCITempAct[[#This Row],[KCIAve]]<65,(65-KCITempAct[[#This Row],[KCIAve]]),0)","v":27.5},{"$f":"IF(MONTH(KCITempAct[[#This Row],[Date]])=7,0,IF(MONTH(KCITempAct[[#This Row],[Date]])=8,0,KCITempAct[[#This Row],[KCIHDD]]))","v":27.5},{"$f":"SUMPRODUCT((KCINHDD[Month]=MONTH(KCITempAct[[#This Row],[Date]]))*(KCINHDD[Day]=DAY(KCITempAct[[#This Row],[Date]]))*KCINHDD[KCINHDD])","v":13.066666666666666},{"$f":"IF(MONTH(KCITempAct[[#This Row],[Date]])=7,0,IF(MONTH(KCITempAct[[#This Row],[Date]])=8,0,KCITempAct[[#This Row],[KCINHDD]]))","v":13.066666666666666},"Adj HDD and NDD =0 for July and August"]
["2019-10-29",35,32,{"$f":"AVERAGE(KCITempAct[[#This Row],[KCIHigh]:[KCILow]]\n)","v":33.5},{"$f":"IF(KCITempAct[[#This Row],[KCIAve]]<65,(65-KCITempAct[[#This Row],[KCIAve]]),0)","v":31.5},{"$f":"IF(MONTH(KCITempAct[[#This Row],[Date]])=7,0,IF(MONTH(KCITempAct[[#This Row],[Date]])=8,0,KCITempAct[[#This Row],[KCIHDD]]))","v":31.5},{"$f":"SUMPRODUCT((KCINHDD[Month]=MONTH(KCITempAct[[#This Row],[Date]]))*(KCINHDD[Day]=DAY(KCITempAct[[#This Row],[Date]]))*KCINHDD[KCINHDD])","v":12.483333333333333},{"$f":"IF(MONTH(KCITempAct[[#This Row],[Date]])=7,0,IF(MONTH(KCITempAct[[#This Row],[Date]])=8,0,KCITempAct[[#This Row],[KCINHDD]]))","v":12.483333333333333},"Adj HDD and NDD =0 for July and August"]
["2019-10-30",35,28,{"$f":"AVERAGE(KCITempAct[[#This Row],[KCIHigh]:[KCILow]]\n)","v":31.5},{"$f":"IF(KCITempAct[[#This Row],[KCIAve]]<65,(65-KCITempAct[[#This Row],[KCIAve]]),0)","v":33.5},{"$f":"IF(MONTH(KCITempAct[[#This Row],[Date]])=7,0,IF(MONTH(KCITempAct[[#This Row],[Date]])=8,0,KCITempAct[[#This Row],[KCIHDD]]))","v":33.5},{"$f":"SUMPRODUCT((KCINHDD[Month]=MONTH(KCITempAct[[#This Row],[Date]]))*(KCINHDD[Day]=DAY(KCITempAct[[#This Row],[Date]]))*KCINHDD[KCINHDD])","v":13.8},{"$f":"IF(MONTH(KCITempAct[[#This Row],[Date]])=7,0,IF(MONTH(KCITempAct[[#This Row],[Date]])=8,0,KCITempAct[[#This Row],[KCINHDD]]))","v":13.8},"Adj HDD and NDD =0 for July and August"]
["2019-10-31",41,21,{"$f":"AVERAGE(KCITempAct[[#This Row],[KCIHigh]:[KCILow]]\n)","v":31},{"$f":"IF(KCITempAct[[#This Row],[KCIAve]]<65,(65-KCITempAct[[#This Row],[KCIAve]]),0)","v":34},{"$f":"IF(MONTH(KCITempAct[[#This Row],[Date]])=7,0,IF(MONTH(KCITempAct[[#This Row],[Date]])=8,0,KCITempAct[[#This Row],[KCIHDD]]))","v":34},{"$f":"SUMPRODUCT((KCINHDD[Month]=MONTH(KCITempAct[[#This Row],[Date]]))*(KCINHDD[Day]=DAY(KCITempAct[[#This Row],[Date]]))*KCINHDD[KCINHDD])","v":16.666666666666668},{"$f":"IF(MONTH(KCITempAct[[#This Row],[Date]])=7,0,IF(MONTH(KCITempAct[[#This Row],[Date]])=8,0,KCITempAct[[#This Row],[KCINHDD]]))","v":16.666666666666668},"Adj HDD and NDD =0 for July and August"]
["2019-11-01",55,29,{"$f":"AVERAGE(KCITempAct[[#This Row],[KCIHigh]:[KCILow]]\n)","v":42},{"$f":"IF(KCITempAct[[#This Row],[KCIAve]]<65,(65-KCITempAct[[#This Row],[KCIAve]]),0)","v":23},{"$f":"IF(MONTH(KCITempAct[[#This Row],[Date]])=7,0,IF(MONTH(KCITempAct[[#This Row],[Date]])=8,0,KCITempAct[[#This Row],[KCIHDD]]))","v":23},{"$f":"SUMPRODUCT((KCINHDD[Month]=MONTH(KCITempAct[[#This Row],[Date]]))*(KCINHDD[Day]=DAY(KCITempAct[[#This Row],[Date]]))*KCINHDD[KCINHDD])","v":15.466666666666667},{"$f":"IF(MONTH(KCITempAct[[#This Row],[Date]])=7,0,IF(MONTH(KCITempAct[[#This Row],[Date]])=8,0,KCITempAct[[#This Row],[KCINHDD]]))","v":15.466666666666667},"Adj HDD and NDD =0 for July and August"]
["2019-11-02",52,31,{"$f":"AVERAGE(KCITempAct[[#This Row],[KCIHigh]:[KCILow]]\n)","v":41.5},{"$f":"IF(KCITempAct[[#This Row],[KCIAve]]<65,(65-KCITempAct[[#This Row],[KCIAve]]),0)","v":23.5},{"$f":"IF(MONTH(KCITempAct[[#This Row],[Date]])=7,0,IF(MONTH(KCITempAct[[#This Row],[Date]])=8,0,KCITempAct[[#This Row],[KCIHDD]]))","v":23.5},{"$f":"SUMPRODUCT((KCINHDD[Month]=MONTH(KCITempAct[[#This Row],[Date]]))*(KCINHDD[Day]=DAY(KCITempAct[[#This Row],[Date]]))*KCINHDD[KCINHDD])","v":17.433333333333334},{"$f":"IF(MONTH(KCITempAct[[#This Row],[Date]])=7,0,IF(MONTH(KCITempAct[[#This Row],[Date]])=8,0,KCITempAct[[#This Row],[KCINHDD]]))","v":17.433333333333334},"Adj HDD and NDD =0 for July and August"]
["2019-11-03",63,36,{"$f":"AVERAGE(KCITempAct[[#This Row],[KCIHigh]:[KCILow]]\n)","v":49.5},{"$f":"IF(KCITempAct[[#This Row],[KCIAve]]<65,(65-KCITempAct[[#This Row],[KCIAve]]),0)","v":15.5},{"$f":"IF(MONTH(KCITempAct[[#This Row],[Date]])=7,0,IF(MONTH(KCITempAct[[#This Row],[Date]])=8,0,KCITempAct[[#This Row],[KCIHDD]]))","v":15.5},{"$f":"SUMPRODUCT((KCINHDD[Month]=MONTH(KCITempAct[[#This Row],[Date]]))*(KCINHDD[Day]=DAY(KCITempAct[[#This Row],[Date]]))*KCINHDD[KCINHDD])","v":16.816666666666666},{"$f":"IF(MONTH(KCITempAct[[#This Row],[Date]])=7,0,IF(MONTH(KCITempAct[[#This Row],[Date]])=8,0,KCITempAct[[#This Row],[KCINHDD]]))","v":16.816666666666666},"Adj HDD and NDD =0 for July and August"]
["2019-11-04",52,43,{"$f":"AVERAGE(KCITempAct[[#This Row],[KCIHigh]:[KCILow]]\n)","v":47.5},{"$f":"IF(KCITempAct[[#This Row],[KCIAve]]<65,(65-KCITempAct[[#This Row],[KCIAve]]),0)","v":17.5},{"$f":"IF(MONTH(KCITempAct[[#This Row],[Date]])=7,0,IF(MONTH(KCITempAct[[#This Row],[Date]])=8,0,KCITempAct[[#This Row],[KCIHDD]]))","v":17.5},{"$f":"SUMPRODUCT((KCINHDD[Month]=MONTH(KCITempAct[[#This Row],[Date]]))*(KCINHDD[Day]=DAY(KCITempAct[[#This Row],[Date]]))*KCINHDD[KCINHDD])","v":17.166666666666668},{"$f":"IF(MONTH(KCITempAct[[#This Row],[Date]])=7,0,IF(MONTH(KCITempAct[[#This Row],[Date]])=8,0,KCITempAct[[#This Row],[KCINHDD]]))","v":17.166666666666668},"Adj HDD and NDD =0 for July and August"]
["2019-11-05",55,35,{"$f":"AVERAGE(KCITempAct[[#This Row],[KCIHigh]:[KCILow]]\n)","v":45},{"$f":"IF(KCITempAct[[#This Row],[KCIAve]]<65,(65-KCITempAct[[#This Row],[KCIAve]]),0)","v":20},{"$f":"IF(MONTH(KCITempAct[[#This Row],[Date]])=7,0,IF(MONTH(KCITempAct[[#This Row],[Date]])=8,0,KCITempAct[[#This Row],[KCIHDD]]))","v":20},{"$f":"SUMPRODUCT((KCINHDD[Month]=MONTH(KCITempAct[[#This Row],[Date]]))*(KCINHDD[Day]=DAY(KCITempAct[[#This Row],[Date]]))*KCINHDD[KCINHDD])","v":17.383333333333333},{"$f":"IF(MONTH(KCITempAct[[#This Row],[Date]])=7,0,IF(MONTH(KCITempAct[[#This Row],[Date]])=8,0,KCITempAct[[#This Row],[KCINHDD]]))","v":17.383333333333333},"Adj HDD and NDD =0 for July and August"]
["2019-11-06",66,34,{"$f":"AVERAGE(KCITempAct[[#This Row],[KCIHigh]:[KCILow]]\n)","v":50},{"$f":"IF(KCITempAct[[#This Row],[KCIAve]]<65,(65-KCITempAct[[#This Row],[KCIAve]]),0)","v":15},{"$f":"IF(MONTH(KCITempAct[[#This Row],[Date]])=7,0,IF(MONTH(KCITempAct[[#This Row],[Date]])=8,0,KCITempAct[[#This Row],[KCIHDD]]))","v":15},{"$f":"SUMPRODUCT((KCINHDD[Month]=MONTH(KCITempAct[[#This Row],[Date]]))*(KCINHDD[Day]=DAY(KCITempAct[[#This Row],[Date]]))*KCINHDD[KCINHDD])","v":18.55},{"$f":"IF(MONTH(KCITempAct[[#This Row],[Date]])=7,0,IF(MONTH(KCITempAct[[#This Row],[Date]])=8,0,KCITempAct[[#This Row],[KCINHDD]]))","v":18.55},"Adj HDD and NDD =0 for July and August"]
["2019-11-07",38,22,{"$f":"AVERAGE(KCITempAct[[#This Row],[KCIHigh]:[KCILow]]\n)","v":30},{"$f":"IF(KCITempAct[[#This Row],[KCIAve]]<65,(65-KCITempAct[[#This Row],[KCIAve]]),0)","v":35},{"$f":"IF(MONTH(KCITempAct[[#This Row],[Date]])=7,0,IF(MONTH(KCITempAct[[#This Row],[Date]])=8,0,KCITempAct[[#This Row],[KCIHDD]]))","v":35},{"$f":"SUMPRODUCT((KCINHDD[Month]=MONTH(KCITempAct[[#This Row],[Date]]))*(KCINHDD[Day]=DAY(KCITempAct[[#This Row],[Date]]))*KCINHDD[KCINHDD])","v":18.600000000000001},{"$f":"IF(MONTH(KCITempAct[[#This Row],[Date]])=7,0,IF(MONTH(KCITempAct[[#This Row],[Date]])=8,0,KCITempAct[[#This Row],[KCINHDD]]))","v":18.600000000000001},"Adj HDD and NDD =0 for July and August"]
["2019-11-08",45,17,{"$f":"AVERAGE(KCITempAct[[#This Row],[KCIHigh]:[KCILow]]\n)","v":31},{"$f":"IF(KCITempAct[[#This Row],[KCIAve]]<65,(65-KCITempAct[[#This Row],[KCIAve]]),0)","v":34},{"$f":"IF(MONTH(KCITempAct[[#This Row],[Date]])=7,0,IF(MONTH(KCITempAct[[#This Row],[Date]])=8,0,KCITempAct[[#This Row],[KCIHDD]]))","v":34},{"$f":"SUMPRODUCT((KCINHDD[Month]=MONTH(KCITempAct[[#This Row],[Date]]))*(KCINHDD[Day]=DAY(KCITempAct[[#This Row],[Date]]))*KCINHDD[KCINHDD])","v":18.333333333333332},{"$f":"IF(MONTH(KCITempAct[[#This Row],[Date]])=7,0,IF(MONTH(KCITempAct[[#This Row],[Date]])=8,0,KCITempAct[[#This Row],[KCINHDD]]))","v":18.333333333333332},"Adj HDD and NDD =0 for July and August"]
["2019-11-09",65,35,{"$f":"AVERAGE(KCITempAct[[#This Row],[KCIHigh]:[KCILow]]\n)","v":50},{"$f":"IF(KCITempAct[[#This Row],[KCIAve]]<65,(65-KCITempAct[[#This Row],[KCIAve]]),0)","v":15},{"$f":"IF(MONTH(KCITempAct[[#This Row],[Date]])=7,0,IF(MONTH(KCITempAct[[#This Row],[Date]])=8,0,KCITempAct[[#This Row],[KCIHDD]]))","v":15},{"$f":"SUMPRODUCT((KCINHDD[Month]=MONTH(KCITempAct[[#This Row],[Date]]))*(KCINHDD[Day]=DAY(KCITempAct[[#This Row],[Date]]))*KCINHDD[KCINHDD])","v":16.733333333333334},{"$f":"IF(MONTH(KCITempAct[[#This Row],[Date]])=7,0,IF(MONTH(KCITempAct[[#This Row],[Date]])=8,0,KCITempAct[[#This Row],[KCINHDD]]))","v":16.733333333333334},"Adj HDD and NDD =0 for July and August"]
["2019-11-10",59,35,{"$f":"AVERAGE(KCITempAct[[#This Row],[KCIHigh]:[KCILow]]\n)","v":47},{"$f":"IF(KCITempAct[[#This Row],[KCIAve]]<65,(65-KCITempAct[[#This Row],[KCIAve]]),0)","v":18},{"$f":"IF(MONTH(KCITempAct[[#This Row],[Date]])=7,0,IF(MONTH(KCITempAct[[#This Row],[Date]])=8,0,KCITempAct[[#This Row],[KCIHDD]]))","v":18},{"$f":"SUMPRODUCT((KCINHDD[Month]=MONTH(KCITempAct[[#This Row],[Date]]))*(KCINHDD[Day]=DAY(KCITempAct[[#This Row],[Date]]))*KCINHDD[KCINHDD])","v":19.783333333333335},{"$f":"IF(MONTH(KCITempAct[[#This Row],[Date]])=7,0,IF(MONTH(KCITempAct[[#This Row],[Date]])=8,0,KCITempAct[[#This Row],[KCINHDD]]))","v":19.783333333333335},"Adj HDD and NDD =0 for July and August"]
["2019-11-11",35,11,{"$f":"AVERAGE(KCITempAct[[#This Row],[KCIHigh]:[KCILow]]\n)","v":23},{"$f":"IF(KCITempAct[[#This Row],[KCIAve]]<65,(65-KCITempAct[[#This Row],[KCIAve]]),0)","v":42},{"$f":"IF(MONTH(KCITempAct[[#This Row],[Date]])=7,0,IF(MONTH(KCITempAct[[#This Row],[Date]])=8,0,KCITempAct[[#This Row],[KCIHDD]]))","v":42},{"$f":"SUMPRODUCT((KCINHDD[Month]=MONTH(KCITempAct[[#This Row],[Date]]))*(KCINHDD[Day]=DAY(KCITempAct[[#This Row],[Date]]))*KCINHDD[KCINHDD])","v":22.15},{"$f":"IF(MONTH(KCITempAct[[#This Row],[Date]])=7,0,IF(MONTH(KCITempAct[[#This Row],[Date]])=8,0,KCITempAct[[#This Row],[KCINHDD]]))","v":22.15},"Adj HDD and NDD =0 for July and August"]
["2019-11-12",27,8,{"$f":"AVERAGE(KCITempAct[[#This Row],[KCIHigh]:[KCILow]]\n)","v":17.5},{"$f":"IF(KCITempAct[[#This Row],[KCIAve]]<65,(65-KCITempAct[[#This Row],[KCIAve]]),0)","v":47.5},{"$f":"IF(MONTH(KCITempAct[[#This Row],[Date]])=7,0,IF(MONTH(KCITempAct[[#This Row],[Date]])=8,0,KCITempAct[[#This Row],[KCIHDD]]))","v":47.5},{"$f":"SUMPRODUCT((KCINHDD[Month]=MONTH(KCITempAct[[#This Row],[Date]]))*(KCINHDD[Day]=DAY(KCITempAct[[#This Row],[Date]]))*KCINHDD[KCINHDD])","v":22.6},{"$f":"IF(MONTH(KCITempAct[[#This Row],[Date]])=7,0,IF(MONTH(KCITempAct[[#This Row],[Date]])=8,0,KCITempAct[[#This Row],[KCINHDD]]))","v":22.6},"Adj HDD and NDD =0 for July and August"]
["2019-11-13",40,22,{"$f":"AVERAGE(KCITempAct[[#This Row],[KCIHigh]:[KCILow]]\n)","v":31},{"$f":"IF(KCITempAct[[#This Row],[KCIAve]]<65,(65-KCITempAct[[#This Row],[KCIAve]]),0)","v":34},{"$f":"IF(MONTH(KCITempAct[[#This Row],[Date]])=7,0,IF(MONTH(KCITempAct[[#This Row],[Date]])=8,0,KCITempAct[[#This Row],[KCIHDD]]))","v":34},{"$f":"SUMPRODUCT((KCINHDD[Month]=MONTH(KCITempAct[[#This Row],[Date]]))*(KCINHDD[Day]=DAY(KCITempAct[[#This Row],[Date]]))*KCINHDD[KCINHDD])","v":21.8},{"$f":"IF(MONTH(KCITempAct[[#This Row],[Date]])=7,0,IF(MONTH(KCITempAct[[#This Row],[Date]])=8,0,KCITempAct[[#This Row],[KCINHDD]]))","v":21.8},"Adj HDD and NDD =0 for July and August"]
["2019-11-14",47,29,{"$f":"AVERAGE(KCITempAct[[#This Row],[KCIHigh]:[KCILow]]\n)","v":38},{"$f":"IF(KCITempAct[[#This Row],[KCIAve]]<65,(65-KCITempAct[[#This Row],[KCIAve]]),0)","v":27},{"$f":"IF(MONTH(KCITempAct[[#This Row],[Date]])=7,0,IF(MONTH(KCITempAct[[#This Row],[Date]])=8,0,KCITempAct[[#This Row],[KCIHDD]]))","v":27},{"$f":"SUMPRODUCT((KCINHDD[Month]=MONTH(KCITempAct[[#This Row],[Date]]))*(KCINHDD[Day]=DAY(KCITempAct[[#This Row],[Date]]))*KCINHDD[KCINHDD])","v":20.316666666666666},{"$f":"IF(MONTH(KCITempAct[[#This Row],[Date]])=7,0,IF(MONTH(KCITempAct[[#This Row],[Date]])=8,0,KCITempAct[[#This Row],[KCINHDD]]))","v":20.316666666666666},"Adj HDD and NDD =0 for July and August"]
["2019-11-15",56,25,{"$f":"AVERAGE(KCITempAct[[#This Row],[KCIHigh]:[KCILow]]\n)","v":40.5},{"$f":"IF(KCITempAct[[#This Row],[KCIAve]]<65,(65-KCITempAct[[#This Row],[KCIAve]]),0)","v":24.5},{"$f":"IF(MONTH(KCITempAct[[#This Row],[Date]])=7,0,IF(MONTH(KCITempAct[[#This Row],[Date]])=8,0,KCITempAct[[#This Row],[KCIHDD]]))","v":24.5},{"$f":"SUMPRODUCT((KCINHDD[Month]=MONTH(KCITempAct[[#This Row],[Date]]))*(KCINHDD[Day]=DAY(KCITempAct[[#This Row],[Date]]))*KCINHDD[KCINHDD])","v":21.883333333333333},{"$f":"IF(MONTH(KCITempAct[[#This Row],[Date]])=7,0,IF(MONTH(KCITempAct[[#This Row],[Date]])=8,0,KCITempAct[[#This Row],[KCINHDD]]))","v":21.883333333333333},"Adj HDD and NDD =0 for July and August"]
["2019-11-16",58,32,{"$f":"AVERAGE(KCITempAct[[#This Row],[KCIHigh]:[KCILow]]\n)","v":45},{"$f":"IF(KCITempAct[[#This Row],[KCIAve]]<65,(65-KCITempAct[[#This Row],[KCIAve]]),0)","v":20},{"$f":"IF(MONTH(KCITempAct[[#This Row],[Date]])=7,0,IF(MONTH(KCITempAct[[#This Row],[Date]])=8,0,KCITempAct[[#This Row],[KCIHDD]]))","v":20},{"$f":"SUMPRODUCT((KCINHDD[Month]=MONTH(KCITempAct[[#This Row],[Date]]))*(KCINHDD[Day]=DAY(KCITempAct[[#This Row],[Date]]))*KCINHDD[KCINHDD])","v":20.916666666666668},{"$f":"IF(MONTH(KCITempAct[[#This Row],[Date]])=7,0,IF(MONTH(KCITempAct[[#This Row],[Date]])=8,0,KCITempAct[[#This Row],[KCINHDD]]))","v":20.916666666666668},"Adj HDD and NDD =0 for July and August"]
["2019-11-17",52,33,{"$f":"AVERAGE(KCITempAct[[#This Row],[KCIHigh]:[KCILow]]\n)","v":42.5},{"$f":"IF(KCITempAct[[#This Row],[KCIAve]]<65,(65-KCITempAct[[#This Row],[KCIAve]]),0)","v":22.5},{"$f":"IF(MONTH(KCITempAct[[#This Row],[Date]])=7,0,IF(MONTH(KCITempAct[[#This Row],[Date]])=8,0,KCITempAct[[#This Row],[KCIHDD]]))","v":22.5},{"$f":"SUMPRODUCT((KCINHDD[Month]=MONTH(KCITempAct[[#This Row],[Date]]))*(KCINHDD[Day]=DAY(KCITempAct[[#This Row],[Date]]))*KCINHDD[KCINHDD])","v":20.066666666666666},{"$f":"IF(MONTH(KCITempAct[[#This Row],[Date]])=7,0,IF(MONTH(KCITempAct[[#This Row],[Date]])=8,0,KCITempAct[[#This Row],[KCINHDD]]))","v":20.066666666666666},"Adj HDD and NDD =0 for July and August"]
["2019-11-18",60,30,{"$f":"AVERAGE(KCITempAct[[#This Row],[KCIHigh]:[KCILow]]\n)","v":45},{"$f":"IF(KCITempAct[[#This Row],[KCIAve]]<65,(65-KCITempAct[[#This Row],[KCIAve]]),0)","v":20},{"$f":"IF(MONTH(KCITempAct[[#This Row],[Date]])=7,0,IF(MONTH(KCITempAct[[#This Row],[Date]])=8,0,KCITempAct[[#This Row],[KCIHDD]]))","v":20},{"$f":"SUMPRODUCT((KCINHDD[Month]=MONTH(KCITempAct[[#This Row],[Date]]))*(KCINHDD[Day]=DAY(KCITempAct[[#This Row],[Date]]))*KCINHDD[KCINHDD])","v":20.8},{"$f":"IF(MONTH(KCITempAct[[#This Row],[Date]])=7,0,IF(MONTH(KCITempAct[[#This Row],[Date]])=8,0,KCITempAct[[#This Row],[KCINHDD]]))","v":20.8},"Adj HDD and NDD =0 for July and August"]
["2019-11-19",63,40,{"$f":"AVERAGE(KCITempAct[[#This Row],[KCIHigh]:[KCILow]]\n)","v":51.5},{"$f":"IF(KCITempAct[[#This Row],[KCIAve]]<65,(65-KCITempAct[[#This Row],[KCIAve]]),0)","v":13.5},{"$f":"IF(MONTH(KCITempAct[[#This Row],[Date]])=7,0,IF(MONTH(KCITempAct[[#This Row],[Date]])=8,0,KCITempAct[[#This Row],[KCIHDD]]))","v":13.5},{"$f":"SUMPRODUCT((KCINHDD[Month]=MONTH(KCITempAct[[#This Row],[Date]]))*(KCINHDD[Day]=DAY(KCITempAct[[#This Row],[Date]]))*KCINHDD[KCINHDD])","v":19.616666666666667},{"$f":"IF(MONTH(KCITempAct[[#This Row],[Date]])=7,0,IF(MONTH(KCITempAct[[#This Row],[Date]])=8,0,KCITempAct[[#This Row],[KCINHDD]]))","v":19.616666666666667},"Adj HDD and NDD =0 for July and August"]
["2019-11-20",68,43,{"$f":"AVERAGE(KCITempAct[[#This Row],[KCIHigh]:[KCILow]]\n)","v":55.5},{"$f":"IF(KCITempAct[[#This Row],[KCIAve]]<65,(65-KCITempAct[[#This Row],[KCIAve]]),0)","v":9.5},{"$f":"IF(MONTH(KCITempAct[[#This Row],[Date]])=7,0,IF(MONTH(KCITempAct[[#This Row],[Date]])=8,0,KCITempAct[[#This Row],[KCIHDD]]))","v":9.5},{"$f":"SUMPRODUCT((KCINHDD[Month]=MONTH(KCITempAct[[#This Row],[Date]]))*(KCINHDD[Day]=DAY(KCITempAct[[#This Row],[Date]]))*KCINHDD[KCINHDD])","v":21.8},{"$f":"IF(MONTH(KCITempAct[[#This Row],[Date]])=7,0,IF(MONTH(KCITempAct[[#This Row],[Date]])=8,0,KCITempAct[[#This Row],[KCINHDD]]))","v":21.8},"Adj HDD and NDD =0 for July and August"]
["2019-11-21",59,36,{"$f":"AVERAGE(KCITempAct[[#This Row],[KCIHigh]:[KCILow]]\n)","v":47.5},{"$f":"IF(KCITempAct[[#This Row],[KCIAve]]<65,(65-KCITempAct[[#This Row],[KCIAve]]),0)","v":17.5},{"$f":"IF(MONTH(KCITempAct[[#This Row],[Date]])=7,0,IF(MONTH(KCITempAct[[#This Row],[Date]])=8,0,KCITempAct[[#This Row],[KCIHDD]]))","v":17.5},{"$f":"SUMPRODUCT((KCINHDD[Month]=MONTH(KCITempAct[[#This Row],[Date]]))*(KCINHDD[Day]=DAY(KCITempAct[[#This Row],[Date]]))*KCINHDD[KCINHDD])","v":22.783333333333335},{"$f":"IF(MONTH(KCITempAct[[#This Row],[Date]])=7,0,IF(MONTH(KCITempAct[[#This Row],[Date]])=8,0,KCITempAct[[#This Row],[KCINHDD]]))","v":22.783333333333335},"Adj HDD and NDD =0 for July and August"]
["2019-11-22",36,28,{"$f":"AVERAGE(KCITempAct[[#This Row],[KCIHigh]:[KCILow]]\n)","v":32},{"$f":"IF(KCITempAct[[#This Row],[KCIAve]]<65,(65-KCITempAct[[#This Row],[KCIAve]]),0)","v":33},{"$f":"IF(MONTH(KCITempAct[[#This Row],[Date]])=7,0,IF(MONTH(KCITempAct[[#This Row],[Date]])=8,0,KCITempAct[[#This Row],[KCIHDD]]))","v":33},{"$f":"SUMPRODUCT((KCINHDD[Month]=MONTH(KCITempAct[[#This Row],[Date]]))*(KCINHDD[Day]=DAY(KCITempAct[[#This Row],[Date]]))*KCINHDD[KCINHDD])","v":22.95},{"$f":"IF(MONTH(KCITempAct[[#This Row],[Date]])=7,0,IF(MONTH(KCITempAct[[#This Row],[Date]])=8,0,KCITempAct[[#This Row],[KCINHDD]]))","v":22.95},"Adj HDD and NDD =0 for July and August"]
["2019-11-23",46,31,{"$f":"AVERAGE(KCITempAct[[#This Row],[KCIHigh]:[KCILow]]\n)","v":38.5},{"$f":"IF(KCITempAct[[#This Row],[KCIAve]]<65,(65-KCITempAct[[#This Row],[KCIAve]]),0)","v":26.5},{"$f":"IF(MONTH(KCITempAct[[#This Row],[Date]])=7,0,IF(MONTH(KCITempAct[[#This Row],[Date]])=8,0,KCITempAct[[#This Row],[KCIHDD]]))","v":26.5},{"$f":"SUMPRODUCT((KCINHDD[Month]=MONTH(KCITempAct[[#This Row],[Date]]))*(KCINHDD[Day]=DAY(KCITempAct[[#This Row],[Date]]))*KCINHDD[KCINHDD])","v":23.95},{"$f":"IF(MONTH(KCITempAct[[#This Row],[Date]])=7,0,IF(MONTH(KCITempAct[[#This Row],[Date]])=8,0,KCITempAct[[#This Row],[KCINHDD]]))","v":23.95},"Adj HDD and NDD =0 for July and August"]
["2019-11-24",62,30,{"$f":"AVERAGE(KCITempAct[[#This Row],[KCIHigh]:[KCILow]]\n)","v":46},{"$f":"IF(KCITempAct[[#This Row],[KCIAve]]<65,(65-KCITempAct[[#This Row],[KCIAve]]),0)","v":19},{"$f":"IF(MONTH(KCITempAct[[#This Row],[Date]])=7,0,IF(MONTH(KCITempAct[[#This Row],[Date]])=8,0,KCITempAct[[#This Row],[KCIHDD]]))","v":19},{"$f":"SUMPRODUCT((KCINHDD[Month]=MONTH(KCITempAct[[#This Row],[Date]]))*(KCINHDD[Day]=DAY(KCITempAct[[#This Row],[Date]]))*KCINHDD[KCINHDD])","v":25},{"$f":"IF(MONTH(KCITempAct[[#This Row],[Date]])=7,0,IF(MONTH(KCITempAct[[#This Row],[Date]])=8,0,KCITempAct[[#This Row],[KCINHDD]]))","v":25},"Adj HDD and NDD =0 for July and August"]
["2019-11-25",59,36,{"$f":"AVERAGE(KCITempAct[[#This Row],[KCIHigh]:[KCILow]]\n)","v":47.5},{"$f":"IF(KCITempAct[[#This Row],[KCIAve]]<65,(65-KCITempAct[[#This Row],[KCIAve]]),0)","v":17.5},{"$f":"IF(MONTH(KCITempAct[[#This Row],[Date]])=7,0,IF(MONTH(KCITempAct[[#This Row],[Date]])=8,0,KCITempAct[[#This Row],[KCIHDD]]))","v":17.5},{"$f":"SUMPRODUCT((KCINHDD[Month]=MONTH(KCITempAct[[#This Row],[Date]]))*(KCINHDD[Day]=DAY(KCITempAct[[#This Row],[Date]]))*KCINHDD[KCINHDD])","v":25.85},{"$f":"IF(MONTH(KCITempAct[[#This Row],[Date]])=7,0,IF(MONTH(KCITempAct[[#This Row],[Date]])=8,0,KCITempAct[[#This Row],[KCINHDD]]))","v":25.85},"Adj HDD and NDD =0 for July and August"]
["2019-11-26",43,37,{"$f":"AVERAGE(KCITempAct[[#This Row],[KCIHigh]:[KCILow]]\n)","v":40},{"$f":"IF(KCITempAct[[#This Row],[KCIAve]]<65,(65-KCITempAct[[#This Row],[KCIAve]]),0)","v":25},{"$f":"IF(MONTH(KCITempAct[[#This Row],[Date]])=7,0,IF(MONTH(KCITempAct[[#This Row],[Date]])=8,0,KCITempAct[[#This Row],[KCIHDD]]))","v":25},{"$f":"SUMPRODUCT((KCINHDD[Month]=MONTH(KCITempAct[[#This Row],[Date]]))*(KCINHDD[Day]=DAY(KCITempAct[[#This Row],[Date]]))*KCINHDD[KCINHDD])","v":24.583333333333332},{"$f":"IF(MONTH(KCITempAct[[#This Row],[Date]])=7,0,IF(MONTH(KCITempAct[[#This Row],[Date]])=8,0,KCITempAct[[#This Row],[KCINHDD]]))","v":24.583333333333332},"Adj HDD and NDD =0 for July and August"]
["2019-11-27",43,27,{"$f":"AVERAGE(KCITempAct[[#This Row],[KCIHigh]:[KCILow]]\n)","v":35},{"$f":"IF(KCITempAct[[#This Row],[KCIAve]]<65,(65-KCITempAct[[#This Row],[KCIAve]]),0)","v":30},{"$f":"IF(MONTH(KCITempAct[[#This Row],[Date]])=7,0,IF(MONTH(KCITempAct[[#This Row],[Date]])=8,0,KCITempAct[[#This Row],[KCIHDD]]))","v":30},{"$f":"SUMPRODUCT((KCINHDD[Month]=MONTH(KCITempAct[[#This Row],[Date]]))*(KCINHDD[Day]=DAY(KCITempAct[[#This Row],[Date]]))*KCINHDD[KCINHDD])","v":26.733333333333334},{"$f":"IF(MONTH(KCITempAct[[#This Row],[Date]])=7,0,IF(MONTH(KCITempAct[[#This Row],[Date]])=8,0,KCITempAct[[#This Row],[KCINHDD]]))","v":26.733333333333334},"Adj HDD and NDD =0 for July and August"]
["2019-11-28",34,28,{"$f":"AVERAGE(KCITempAct[[#This Row],[KCIHigh]:[KCILow]]\n)","v":31},{"$f":"IF(KCITempAct[[#This Row],[KCIAve]]<65,(65-KCITempAct[[#This Row],[KCIAve]]),0)","v":34},{"$f":"IF(MONTH(KCITempAct[[#This Row],[Date]])=7,0,IF(MONTH(KCITempAct[[#This Row],[Date]])=8,0,KCITempAct[[#This Row],[KCIHDD]]))","v":34},{"$f":"SUMPRODUCT((KCINHDD[Month]=MONTH(KCITempAct[[#This Row],[Date]]))*(KCINHDD[Day]=DAY(KCITempAct[[#This Row],[Date]]))*KCINHDD[KCINHDD])","v":24.916666666666668},{"$f":"IF(MONTH(KCITempAct[[#This Row],[Date]])=7,0,IF(MONTH(KCITempAct[[#This Row],[Date]])=8,0,KCITempAct[[#This Row],[KCINHDD]]))","v":24.916666666666668},"Adj HDD and NDD =0 for July and August"]
["2019-11-29",40,33,{"$f":"AVERAGE(KCITempAct[[#This Row],[KCIHigh]:[KCILow]]\n)","v":36.5},{"$f":"IF(KCITempAct[[#This Row],[KCIAve]]<65,(65-KCITempAct[[#This Row],[KCIAve]]),0)","v":28.5},{"$f":"IF(MONTH(KCITempAct[[#This Row],[Date]])=7,0,IF(MONTH(KCITempAct[[#This Row],[Date]])=8,0,KCITempAct[[#This Row],[KCIHDD]]))","v":28.5},{"$f":"SUMPRODUCT((KCINHDD[Month]=MONTH(KCITempAct[[#This Row],[Date]]))*(KCINHDD[Day]=DAY(KCITempAct[[#This Row],[Date]]))*KCINHDD[KCINHDD])","v":25},{"$f":"IF(MONTH(KCITempAct[[#This Row],[Date]])=7,0,IF(MONTH(KCITempAct[[#This Row],[Date]])=8,0,KCITempAct[[#This Row],[KCINHDD]]))","v":25},"Adj HDD and NDD =0 for July and August"]
["2019-11-30",57,36,{"$f":"AVERAGE(KCITempAct[[#This Row],[KCIHigh]:[KCILow]]\n)","v":46.5},{"$f":"IF(KCITempAct[[#This Row],[KCIAve]]<65,(65-KCITempAct[[#This Row],[KCIAve]]),0)","v":18.5},{"$f":"IF(MONTH(KCITempAct[[#This Row],[Date]])=7,0,IF(MONTH(KCITempAct[[#This Row],[Date]])=8,0,KCITempAct[[#This Row],[KCIHDD]]))","v":18.5},{"$f":"SUMPRODUCT((KCINHDD[Month]=MONTH(KCITempAct[[#This Row],[Date]]))*(KCINHDD[Day]=DAY(KCITempAct[[#This Row],[Date]]))*KCINHDD[KCINHDD])","v":27.8},{"$f":"IF(MONTH(KCITempAct[[#This Row],[Date]])=7,0,IF(MONTH(KCITempAct[[#This Row],[Date]])=8,0,KCITempAct[[#This Row],[KCINHDD]]))","v":27.8},"Adj HDD and NDD =0 for July and August"]
["2019-12-01",37,30,{"$f":"AVERAGE(KCITempAct[[#This Row],[KCIHigh]:[KCILow]]\n)","v":33.5},{"$f":"IF(KCITempAct[[#This Row],[KCIAve]]<65,(65-KCITempAct[[#This Row],[KCIAve]]),0)","v":31.5},{"$f":"IF(MONTH(KCITempAct[[#This Row],[Date]])=7,0,IF(MONTH(KCITempAct[[#This Row],[Date]])=8,0,KCITempAct[[#This Row],[KCIHDD]]))","v":31.5},{"$f":"SUMPRODUCT((KCINHDD[Month]=MONTH(KCITempAct[[#This Row],[Date]]))*(KCINHDD[Day]=DAY(KCITempAct[[#This Row],[Date]]))*KCINHDD[KCINHDD])","v":26.983333333333334},{"$f":"IF(MONTH(KCITempAct[[#This Row],[Date]])=7,0,IF(MONTH(KCITempAct[[#This Row],[Date]])=8,0,KCITempAct[[#This Row],[KCINHDD]]))","v":26.983333333333334},"Adj HDD and NDD =0 for July and August"]
["2019-12-02",42,22,{"$f":"AVERAGE(KCITempAct[[#This Row],[KCIHigh]:[KCILow]]\n)","v":32},{"$f":"IF(KCITempAct[[#This Row],[KCIAve]]<65,(65-KCITempAct[[#This Row],[KCIAve]]),0)","v":33},{"$f":"IF(MONTH(KCITempAct[[#This Row],[Date]])=7,0,IF(MONTH(KCITempAct[[#This Row],[Date]])=8,0,KCITempAct[[#This Row],[KCIHDD]]))","v":33},{"$f":"SUMPRODUCT((KCINHDD[Month]=MONTH(KCITempAct[[#This Row],[Date]]))*(KCINHDD[Day]=DAY(KCITempAct[[#This Row],[Date]]))*KCINHDD[KCINHDD])","v":25.366666666666667},{"$f":"IF(MONTH(KCITempAct[[#This Row],[Date]])=7,0,IF(MONTH(KCITempAct[[#This Row],[Date]])=8,0,KCITempAct[[#This Row],[KCINHDD]]))","v":25.366666666666667},"Adj HDD and NDD =0 for July and August"]
["2019-12-03",57,30,{"$f":"AVERAGE(KCITempAct[[#This Row],[KCIHigh]:[KCILow]]\n)","v":43.5},{"$f":"IF(KCITempAct[[#This Row],[KCIAve]]<65,(65-KCITempAct[[#This Row],[KCIAve]]),0)","v":21.5},{"$f":"IF(MONTH(KCITempAct[[#This Row],[Date]])=7,0,IF(MONTH(KCITempAct[[#This Row],[Date]])=8,0,KCITempAct[[#This Row],[KCIHDD]]))","v":21.5},{"$f":"SUMPRODUCT((KCINHDD[Month]=MONTH(KCITempAct[[#This Row],[Date]]))*(KCINHDD[Day]=DAY(KCITempAct[[#This Row],[Date]]))*KCINHDD[KCINHDD])","v":26.733333333333334},{"$f":"IF(MONTH(KCITempAct[[#This Row],[Date]])=7,0,IF(MONTH(KCITempAct[[#This Row],[Date]])=8,0,KCITempAct[[#This Row],[KCINHDD]]))","v":26.733333333333334},"Adj HDD and NDD =0 for July and August"]
["2019-12-04",59,32,{"$f":"AVERAGE(KCITempAct[[#This Row],[KCIHigh]:[KCILow]]\n)","v":45.5},{"$f":"IF(KCITempAct[[#This Row],[KCIAve]]<65,(65-KCITempAct[[#This Row],[KCIAve]]),0)","v":19.5},{"$f":"IF(MONTH(KCITempAct[[#This Row],[Date]])=7,0,IF(MONTH(KCITempAct[[#This Row],[Date]])=8,0,KCITempAct[[#This Row],[KCIHDD]]))","v":19.5},{"$f":"SUMPRODUCT((KCINHDD[Month]=MONTH(KCITempAct[[#This Row],[Date]]))*(KCINHDD[Day]=DAY(KCITempAct[[#This Row],[Date]]))*KCINHDD[KCINHDD])","v":28.15},{"$f":"IF(MONTH(KCITempAct[[#This Row],[Date]])=7,0,IF(MONTH(KCITempAct[[#This Row],[Date]])=8,0,KCITempAct[[#This Row],[KCINHDD]]))","v":28.15},"Adj HDD and NDD =0 for July and August"]
["2019-12-05",61,35,{"$f":"AVERAGE(KCITempAct[[#This Row],[KCIHigh]:[KCILow]]\n)","v":48},{"$f":"IF(KCITempAct[[#This Row],[KCIAve]]<65,(65-KCITempAct[[#This Row],[KCIAve]]),0)","v":17},{"$f":"IF(MONTH(KCITempAct[[#This Row],[Date]])=7,0,IF(MONTH(KCITempAct[[#This Row],[Date]])=8,0,KCITempAct[[#This Row],[KCIHDD]]))","v":17},{"$f":"SUMPRODUCT((KCINHDD[Month]=MONTH(KCITempAct[[#This Row],[Date]]))*(KCINHDD[Day]=DAY(KCITempAct[[#This Row],[Date]]))*KCINHDD[KCINHDD])","v":30.233333333333334},{"$f":"IF(MONTH(KCITempAct[[#This Row],[Date]])=7,0,IF(MONTH(KCITempAct[[#This Row],[Date]])=8,0,KCITempAct[[#This Row],[KCINHDD]]))","v":30.233333333333334},"Adj HDD and NDD =0 for July and August"]
["2019-12-06",46,27,{"$f":"AVERAGE(KCITempAct[[#This Row],[KCIHigh]:[KCILow]]\n)","v":36.5},{"$f":"IF(KCITempAct[[#This Row],[KCIAve]]<65,(65-KCITempAct[[#This Row],[KCIAve]]),0)","v":28.5},{"$f":"IF(MONTH(KCITempAct[[#This Row],[Date]])=7,0,IF(MONTH(KCITempAct[[#This Row],[Date]])=8,0,KCITempAct[[#This Row],[KCIHDD]]))","v":28.5},{"$f":"SUMPRODUCT((KCINHDD[Month]=MONTH(KCITempAct[[#This Row],[Date]]))*(KCINHDD[Day]=DAY(KCITempAct[[#This Row],[Date]]))*KCINHDD[KCINHDD])","v":31.733333333333334},{"$f":"IF(MONTH(KCITempAct[[#This Row],[Date]])=7,0,IF(MONTH(KCITempAct[[#This Row],[Date]])=8,0,KCITempAct[[#This Row],[KCINHDD]]))","v":31.733333333333334},"Adj HDD and NDD =0 for July and August"]
["2019-12-07",51,21,{"$f":"AVERAGE(KCITempAct[[#This Row],[KCIHigh]:[KCILow]]\n)","v":36},{"$f":"IF(KCITempAct[[#This Row],[KCIAve]]<65,(65-KCITempAct[[#This Row],[KCIAve]]),0)","v":29},{"$f":"IF(MONTH(KCITempAct[[#This Row],[Date]])=7,0,IF(MONTH(KCITempAct[[#This Row],[Date]])=8,0,KCITempAct[[#This Row],[KCIHDD]]))","v":29},{"$f":"SUMPRODUCT((KCINHDD[Month]=MONTH(KCITempAct[[#This Row],[Date]]))*(KCINHDD[Day]=DAY(KCITempAct[[#This Row],[Date]]))*KCINHDD[KCINHDD])","v":32.200000000000003},{"$f":"IF(MONTH(KCITempAct[[#This Row],[Date]])=7,0,IF(MONTH(KCITempAct[[#This Row],[Date]])=8,0,KCITempAct[[#This Row],[KCINHDD]]))","v":32.200000000000003},"Adj HDD and NDD =0 for July and August"]
["2019-12-08",51,38,{"$f":"AVERAGE(KCITempAct[[#This Row],[KCIHigh]:[KCILow]]\n)","v":44.5},{"$f":"IF(KCITempAct[[#This Row],[KCIAve]]<65,(65-KCITempAct[[#This Row],[KCIAve]]),0)","v":20.5},{"$f":"IF(MONTH(KCITempAct[[#This Row],[Date]])=7,0,IF(MONTH(KCITempAct[[#This Row],[Date]])=8,0,KCITempAct[[#This Row],[KCIHDD]]))","v":20.5},{"$f":"SUMPRODUCT((KCINHDD[Month]=MONTH(KCITempAct[[#This Row],[Date]]))*(KCINHDD[Day]=DAY(KCITempAct[[#This Row],[Date]]))*KCINHDD[KCINHDD])","v":31.333333333333332},{"$f":"IF(MONTH(KCITempAct[[#This Row],[Date]])=7,0,IF(MONTH(KCITempAct[[#This Row],[Date]])=8,0,KCITempAct[[#This Row],[KCINHDD]]))","v":31.333333333333332},"Adj HDD and NDD =0 for July and August"]
["2019-12-09",49,16,{"$f":"AVERAGE(KCITempAct[[#This Row],[KCIHigh]:[KCILow]]\n)","v":32.5},{"$f":"IF(KCITempAct[[#This Row],[KCIAve]]<65,(65-KCITempAct[[#This Row],[KCIAve]]),0)","v":32.5},{"$f":"IF(MONTH(KCITempAct[[#This Row],[Date]])=7,0,IF(MONTH(KCITempAct[[#This Row],[Date]])=8,0,KCITempAct[[#This Row],[KCIHDD]]))","v":32.5},{"$f":"SUMPRODUCT((KCINHDD[Month]=MONTH(KCITempAct[[#This Row],[Date]]))*(KCINHDD[Day]=DAY(KCITempAct[[#This Row],[Date]]))*KCINHDD[KCINHDD])","v":32.866666666666667},{"$f":"IF(MONTH(KCITempAct[[#This Row],[Date]])=7,0,IF(MONTH(KCITempAct[[#This Row],[Date]])=8,0,KCITempAct[[#This Row],[KCINHDD]]))","v":32.866666666666667},"Adj HDD and NDD =0 for July and August"]
["2019-12-10",34,14,{"$f":"AVERAGE(KCITempAct[[#This Row],[KCIHigh]:[KCILow]]\n)","v":24},{"$f":"IF(KCITempAct[[#This Row],[KCIAve]]<65,(65-KCITempAct[[#This Row],[KCIAve]]),0)","v":41},{"$f":"IF(MONTH(KCITempAct[[#This Row],[Date]])=7,0,IF(MONTH(KCITempAct[[#This Row],[Date]])=8,0,KCITempAct[[#This Row],[KCIHDD]]))","v":41},{"$f":"SUMPRODUCT((KCINHDD[Month]=MONTH(KCITempAct[[#This Row],[Date]]))*(KCINHDD[Day]=DAY(KCITempAct[[#This Row],[Date]]))*KCINHDD[KCINHDD])","v":32.266666666666666},{"$f":"IF(MONTH(KCITempAct[[#This Row],[Date]])=7,0,IF(MONTH(KCITempAct[[#This Row],[Date]])=8,0,KCITempAct[[#This Row],[KCINHDD]]))","v":32.266666666666666},"Adj HDD and NDD =0 for July and August"]
["2019-12-11",46,19,{"$f":"AVERAGE(KCITempAct[[#This Row],[KCIHigh]:[KCILow]]\n)","v":32.5},{"$f":"IF(KCITempAct[[#This Row],[KCIAve]]<65,(65-KCITempAct[[#This Row],[KCIAve]]),0)","v":32.5},{"$f":"IF(MONTH(KCITempAct[[#This Row],[Date]])=7,0,IF(MONTH(KCITempAct[[#This Row],[Date]])=8,0,KCITempAct[[#This Row],[KCIHDD]]))","v":32.5},{"$f":"SUMPRODUCT((KCINHDD[Month]=MONTH(KCITempAct[[#This Row],[Date]]))*(KCINHDD[Day]=DAY(KCITempAct[[#This Row],[Date]]))*KCINHDD[KCINHDD])","v":31.366666666666667},{"$f":"IF(MONTH(KCITempAct[[#This Row],[Date]])=7,0,IF(MONTH(KCITempAct[[#This Row],[Date]])=8,0,KCITempAct[[#This Row],[KCINHDD]]))","v":31.366666666666667},"Adj HDD and NDD =0 for July and August"]
["2019-12-12",51,35,{"$f":"AVERAGE(KCITempAct[[#This Row],[KCIHigh]:[KCILow]]\n)","v":43},{"$f":"IF(KCITempAct[[#This Row],[KCIAve]]<65,(65-KCITempAct[[#This Row],[KCIAve]]),0)","v":22},{"$f":"IF(MONTH(KCITempAct[[#This Row],[Date]])=7,0,IF(MONTH(KCITempAct[[#This Row],[Date]])=8,0,KCITempAct[[#This Row],[KCIHDD]]))","v":22},{"$f":"SUMPRODUCT((KCINHDD[Month]=MONTH(KCITempAct[[#This Row],[Date]]))*(KCINHDD[Day]=DAY(KCITempAct[[#This Row],[Date]]))*KCINHDD[KCINHDD])","v":30.233333333333334},{"$f":"IF(MONTH(KCITempAct[[#This Row],[Date]])=7,0,IF(MONTH(KCITempAct[[#This Row],[Date]])=8,0,KCITempAct[[#This Row],[KCINHDD]]))","v":30.233333333333334},"Adj HDD and NDD =0 for July and August"]
["2019-12-13",54,31,{"$f":"AVERAGE(KCITempAct[[#This Row],[KCIHigh]:[KCILow]]\n)","v":42.5},{"$f":"IF(KCITempAct[[#This Row],[KCIAve]]<65,(65-KCITempAct[[#This Row],[KCIAve]]),0)","v":22.5},{"$f":"IF(MONTH(KCITempAct[[#This Row],[Date]])=7,0,IF(MONTH(KCITempAct[[#This Row],[Date]])=8,0,KCITempAct[[#This Row],[KCIHDD]]))","v":22.5},{"$f":"SUMPRODUCT((KCINHDD[Month]=MONTH(KCITempAct[[#This Row],[Date]]))*(KCINHDD[Day]=DAY(KCITempAct[[#This Row],[Date]]))*KCINHDD[KCINHDD])","v":28.566666666666666},{"$f":"IF(MONTH(KCITempAct[[#This Row],[Date]])=7,0,IF(MONTH(KCITempAct[[#This Row],[Date]])=8,0,KCITempAct[[#This Row],[KCINHDD]]))","v":28.566666666666666},"Adj HDD and NDD =0 for July and August"]
["2019-12-14",37,22,{"$f":"AVERAGE(KCITempAct[[#This Row],[KCIHigh]:[KCILow]]\n)","v":29.5},{"$f":"IF(KCITempAct[[#This Row],[KCIAve]]<65,(65-KCITempAct[[#This Row],[KCIAve]]),0)","v":35.5},{"$f":"IF(MONTH(KCITempAct[[#This Row],[Date]])=7,0,IF(MONTH(KCITempAct[[#This Row],[Date]])=8,0,KCITempAct[[#This Row],[KCIHDD]]))","v":35.5},{"$f":"SUMPRODUCT((KCINHDD[Month]=MONTH(KCITempAct[[#This Row],[Date]]))*(KCINHDD[Day]=DAY(KCITempAct[[#This Row],[Date]]))*KCINHDD[KCINHDD])","v":30.1},{"$f":"IF(MONTH(KCITempAct[[#This Row],[Date]])=7,0,IF(MONTH(KCITempAct[[#This Row],[Date]])=8,0,KCITempAct[[#This Row],[KCINHDD]]))","v":30.1},"Adj HDD and NDD =0 for July and August"]
["2019-12-15",25,22,{"$f":"AVERAGE(KCITempAct[[#This Row],[KCIHigh]:[KCILow]]\n)","v":23.5},{"$f":"IF(KCITempAct[[#This Row],[KCIAve]]<65,(65-KCITempAct[[#This Row],[KCIAve]]),0)","v":41.5},{"$f":"IF(MONTH(KCITempAct[[#This Row],[Date]])=7,0,IF(MONTH(KCITempAct[[#This Row],[Date]])=8,0,KCITempAct[[#This Row],[KCIHDD]]))","v":41.5},{"$f":"SUMPRODUCT((KCINHDD[Month]=MONTH(KCITempAct[[#This Row],[Date]]))*(KCINHDD[Day]=DAY(KCITempAct[[#This Row],[Date]]))*KCINHDD[KCINHDD])","v":31.4},{"$f":"IF(MONTH(KCITempAct[[#This Row],[Date]])=7,0,IF(MONTH(KCITempAct[[#This Row],[Date]])=8,0,KCITempAct[[#This Row],[KCINHDD]]))","v":31.4},"Adj HDD and NDD =0 for July and August"]
["2019-12-16",26,16,{"$f":"AVERAGE(KCITempAct[[#This Row],[KCIHigh]:[KCILow]]\n)","v":21},{"$f":"IF(KCITempAct[[#This Row],[KCIAve]]<65,(65-KCITempAct[[#This Row],[KCIAve]]),0)","v":44},{"$f":"IF(MONTH(KCITempAct[[#This Row],[Date]])=7,0,IF(MONTH(KCITempAct[[#This Row],[Date]])=8,0,KCITempAct[[#This Row],[KCIHDD]]))","v":44},{"$f":"SUMPRODUCT((KCINHDD[Month]=MONTH(KCITempAct[[#This Row],[Date]]))*(KCINHDD[Day]=DAY(KCITempAct[[#This Row],[Date]]))*KCINHDD[KCINHDD])","v":31.716666666666665},{"$f":"IF(MONTH(KCITempAct[[#This Row],[Date]])=7,0,IF(MONTH(KCITempAct[[#This Row],[Date]])=8,0,KCITempAct[[#This Row],[KCINHDD]]))","v":31.716666666666665},"Adj HDD and NDD =0 for July and August"]
["2019-12-17",31,20,{"$f":"AVERAGE(KCITempAct[[#This Row],[KCIHigh]:[KCILow]]\n)","v":25.5},{"$f":"IF(KCITempAct[[#This Row],[KCIAve]]<65,(65-KCITempAct[[#This Row],[KCIAve]]),0)","v":39.5},{"$f":"IF(MONTH(KCITempAct[[#This Row],[Date]])=7,0,IF(MONTH(KCITempAct[[#This Row],[Date]])=8,0,KCITempAct[[#This Row],[KCIHDD]]))","v":39.5},{"$f":"SUMPRODUCT((KCINHDD[Month]=MONTH(KCITempAct[[#This Row],[Date]]))*(KCINHDD[Day]=DAY(KCITempAct[[#This Row],[Date]]))*KCINHDD[KCINHDD])","v":32.716666666666669},{"$f":"IF(MONTH(KCITempAct[[#This Row],[Date]])=7,0,IF(MONTH(KCITempAct[[#This Row],[Date]])=8,0,KCITempAct[[#This Row],[KCINHDD]]))","v":32.716666666666669},"Adj HDD and NDD =0 for July and August"]
["2019-12-18",38,15,{"$f":"AVERAGE(KCITempAct[[#This Row],[KCIHigh]:[KCILow]]\n)","v":26.5},{"$f":"IF(KCITempAct[[#This Row],[KCIAve]]<65,(65-KCITempAct[[#This Row],[KCIAve]]),0)","v":38.5},{"$f":"IF(MONTH(KCITempAct[[#This Row],[Date]])=7,0,IF(MONTH(KCITempAct[[#This Row],[Date]])=8,0,KCITempAct[[#This Row],[KCIHDD]]))","v":38.5},{"$f":"SUMPRODUCT((KCINHDD[Month]=MONTH(KCITempAct[[#This Row],[Date]]))*(KCINHDD[Day]=DAY(KCITempAct[[#This Row],[Date]]))*KCINHDD[KCINHDD])","v":31.9},{"$f":"IF(MONTH(KCITempAct[[#This Row],[Date]])=7,0,IF(MONTH(KCITempAct[[#This Row],[Date]])=8,0,KCITempAct[[#This Row],[KCINHDD]]))","v":31.9},"Adj HDD and NDD =0 for July and August"]
["2019-12-19",51,31,{"$f":"AVERAGE(KCITempAct[[#This Row],[KCIHigh]:[KCILow]]\n)","v":41},{"$f":"IF(KCITempAct[[#This Row],[KCIAve]]<65,(65-KCITempAct[[#This Row],[KCIAve]]),0)","v":24},{"$f":"IF(MONTH(KCITempAct[[#This Row],[Date]])=7,0,IF(MONTH(KCITempAct[[#This Row],[Date]])=8,0,KCITempAct[[#This Row],[KCIHDD]]))","v":24},{"$f":"SUMPRODUCT((KCINHDD[Month]=MONTH(KCITempAct[[#This Row],[Date]]))*(KCINHDD[Day]=DAY(KCITempAct[[#This Row],[Date]]))*KCINHDD[KCINHDD])","v":32.983333333333334},{"$f":"IF(MONTH(KCITempAct[[#This Row],[Date]])=7,0,IF(MONTH(KCITempAct[[#This Row],[Date]])=8,0,KCITempAct[[#This Row],[KCINHDD]]))","v":32.983333333333334},"Adj HDD and NDD =0 for July and August"]
["2019-12-20",49,32,{"$f":"AVERAGE(KCITempAct[[#This Row],[KCIHigh]:[KCILow]]\n)","v":40.5},{"$f":"IF(KCITempAct[[#This Row],[KCIAve]]<65,(65-KCITempAct[[#This Row],[KCIAve]]),0)","v":24.5},{"$f":"IF(MONTH(KCITempAct[[#This Row],[Date]])=7,0,IF(MONTH(KCITempAct[[#This Row],[Date]])=8,0,KCITempAct[[#This Row],[KCIHDD]]))","v":24.5},{"$f":"SUMPRODUCT((KCINHDD[Month]=MONTH(KCITempAct[[#This Row],[Date]]))*(KCINHDD[Day]=DAY(KCITempAct[[#This Row],[Date]]))*KCINHDD[KCINHDD])","v":32.43333333333333},{"$f":"IF(MONTH(KCITempAct[[#This Row],[Date]])=7,0,IF(MONTH(KCITempAct[[#This Row],[Date]])=8,0,KCITempAct[[#This Row],[KCINHDD]]))","v":32.43333333333333},"Adj HDD and NDD =0 for July and August"]
["2019-12-21",53,29,{"$f":"AVERAGE(KCITempAct[[#This Row],[KCIHigh]:[KCILow]]\n)","v":41},{"$f":"IF(KCITempAct[[#This Row],[KCIAve]]<65,(65-KCITempAct[[#This Row],[KCIAve]]),0)","v":24},{"$f":"IF(MONTH(KCITempAct[[#This Row],[Date]])=7,0,IF(MONTH(KCITempAct[[#This Row],[Date]])=8,0,KCITempAct[[#This Row],[KCIHDD]]))","v":24},{"$f":"SUMPRODUCT((KCINHDD[Month]=MONTH(KCITempAct[[#This Row],[Date]]))*(KCINHDD[Day]=DAY(KCITempAct[[#This Row],[Date]]))*KCINHDD[KCINHDD])","v":31.933333333333334},{"$f":"IF(MONTH(KCITempAct[[#This Row],[Date]])=7,0,IF(MONTH(KCITempAct[[#This Row],[Date]])=8,0,KCITempAct[[#This Row],[KCINHDD]]))","v":31.933333333333334},"Adj HDD and NDD =0 for July and August"]
["2019-12-22",52,29,{"$f":"AVERAGE(KCITempAct[[#This Row],[KCIHigh]:[KCILow]]\n)","v":40.5},{"$f":"IF(KCITempAct[[#This Row],[KCIAve]]<65,(65-KCITempAct[[#This Row],[KCIAve]]),0)","v":24.5},{"$f":"IF(MONTH(KCITempAct[[#This Row],[Date]])=7,0,IF(MONTH(KCITempAct[[#This Row],[Date]])=8,0,KCITempAct[[#This Row],[KCIHDD]]))","v":24.5},{"$f":"SUMPRODUCT((KCINHDD[Month]=MONTH(KCITempAct[[#This Row],[Date]]))*(KCINHDD[Day]=DAY(KCITempAct[[#This Row],[Date]]))*KCINHDD[KCINHDD])","v":34.25},{"$f":"IF(MONTH(KCITempAct[[#This Row],[Date]])=7,0,IF(MONTH(KCITempAct[[#This Row],[Date]])=8,0,KCITempAct[[#This Row],[KCINHDD]]))","v":34.25},"Adj HDD and NDD =0 for July and August"]
["2019-12-23",58,29,{"$f":"AVERAGE(KCITempAct[[#This Row],[KCIHigh]:[KCILow]]\n)","v":43.5},{"$f":"IF(KCITempAct[[#This Row],[KCIAve]]<65,(65-KCITempAct[[#This Row],[KCIAve]]),0)","v":21.5},{"$f":"IF(MONTH(KCITempAct[[#This Row],[Date]])=7,0,IF(MONTH(KCITempAct[[#This Row],[Date]])=8,0,KCITempAct[[#This Row],[KCIHDD]]))","v":21.5},{"$f":"SUMPRODUCT((KCINHDD[Month]=MONTH(KCITempAct[[#This Row],[Date]]))*(KCINHDD[Day]=DAY(KCITempAct[[#This Row],[Date]]))*KCINHDD[KCINHDD])","v":35.56666666666667},{"$f":"IF(MONTH(KCITempAct[[#This Row],[Date]])=7,0,IF(MONTH(KCITempAct[[#This Row],[Date]])=8,0,KCITempAct[[#This Row],[KCINHDD]]))","v":35.56666666666667},"Adj HDD and NDD =0 for July and August"]
["2019-12-24",65,44,{"$f":"AVERAGE(KCITempAct[[#This Row],[KCIHigh]:[KCILow]]\n)","v":54.5},{"$f":"IF(KCITempAct[[#This Row],[KCIAve]]<65,(65-KCITempAct[[#This Row],[KCIAve]]),0)","v":10.5},{"$f":"IF(MONTH(KCITempAct[[#This Row],[Date]])=7,0,IF(MONTH(KCITempAct[[#This Row],[Date]])=8,0,KCITempAct[[#This Row],[KCIHDD]]))","v":10.5},{"$f":"SUMPRODUCT((KCINHDD[Month]=MONTH(KCITempAct[[#This Row],[Date]]))*(KCINHDD[Day]=DAY(KCITempAct[[#This Row],[Date]]))*KCINHDD[KCINHDD])","v":38.18333333333333},{"$f":"IF(MONTH(KCITempAct[[#This Row],[Date]])=7,0,IF(MONTH(KCITempAct[[#This Row],[Date]])=8,0,KCITempAct[[#This Row],[KCINHDD]]))","v":38.18333333333333},"Adj HDD and NDD =0 for July and August"]
["2019-12-25",66,50,{"$f":"AVERAGE(KCITempAct[[#This Row],[KCIHigh]:[KCILow]]\n)","v":58},{"$f":"IF(KCITempAct[[#This Row],[KCIAve]]<65,(65-KCITempAct[[#This Row],[KCIAve]]),0)","v":7},{"$f":"IF(MONTH(KCITempAct[[#This Row],[Date]])=7,0,IF(MONTH(KCITempAct[[#This Row],[Date]])=8,0,KCITempAct[[#This Row],[KCIHDD]]))","v":7},{"$f":"SUMPRODUCT((KCINHDD[Month]=MONTH(KCITempAct[[#This Row],[Date]]))*(KCINHDD[Day]=DAY(KCITempAct[[#This Row],[Date]]))*KCINHDD[KCINHDD])","v":34.833333333333336},{"$f":"IF(MONTH(KCITempAct[[#This Row],[Date]])=7,0,IF(MONTH(KCITempAct[[#This Row],[Date]])=8,0,KCITempAct[[#This Row],[KCINHDD]]))","v":34.833333333333336},"Adj HDD and NDD =0 for July and August"]
["2019-12-26",59,31,{"$f":"AVERAGE(KCITempAct[[#This Row],[KCIHigh]:[KCILow]]\n)","v":45},{"$f":"IF(KCITempAct[[#This Row],[KCIAve]]<65,(65-KCITempAct[[#This Row],[KCIAve]]),0)","v":20},{"$f":"IF(MONTH(KCITempAct[[#This Row],[Date]])=7,0,IF(MONTH(KCITempAct[[#This Row],[Date]])=8,0,KCITempAct[[#This Row],[KCIHDD]]))","v":20},{"$f":"SUMPRODUCT((KCINHDD[Month]=MONTH(KCITempAct[[#This Row],[Date]]))*(KCINHDD[Day]=DAY(KCITempAct[[#This Row],[Date]]))*KCINHDD[KCINHDD])","v":32.5},{"$f":"IF(MONTH(KCITempAct[[#This Row],[Date]])=7,0,IF(MONTH(KCITempAct[[#This Row],[Date]])=8,0,KCITempAct[[#This Row],[KCINHDD]]))","v":32.5},"Adj HDD and NDD =0 for July and August"]
["2019-12-27",44,25,{"$f":"AVERAGE(KCITempAct[[#This Row],[KCIHigh]:[KCILow]]\n)","v":34.5},{"$f":"IF(KCITempAct[[#This Row],[KCIAve]]<65,(65-KCITempAct[[#This Row],[KCIAve]]),0)","v":30.5},{"$f":"IF(MONTH(KCITempAct[[#This Row],[Date]])=7,0,IF(MONTH(KCITempAct[[#This Row],[Date]])=8,0,KCITempAct[[#This Row],[KCIHDD]]))","v":30.5},{"$f":"SUMPRODUCT((KCINHDD[Month]=MONTH(KCITempAct[[#This Row],[Date]]))*(KCINHDD[Day]=DAY(KCITempAct[[#This Row],[Date]]))*KCINHDD[KCINHDD])","v":31.9},{"$f":"IF(MONTH(KCITempAct[[#This Row],[Date]])=7,0,IF(MONTH(KCITempAct[[#This Row],[Date]])=8,0,KCITempAct[[#This Row],[KCINHDD]]))","v":31.9},"Adj HDD and NDD =0 for July and August"]
["2019-12-28",58,40,{"$f":"AVERAGE(KCITempAct[[#This Row],[KCIHigh]:[KCILow]]\n)","v":49},{"$f":"IF(KCITempAct[[#This Row],[KCIAve]]<65,(65-KCITempAct[[#This Row],[KCIAve]]),0)","v":16},{"$f":"IF(MONTH(KCITempAct[[#This Row],[Date]])=7,0,IF(MONTH(KCITempAct[[#This Row],[Date]])=8,0,KCITempAct[[#This Row],[KCIHDD]]))","v":16},{"$f":"SUMPRODUCT((KCINHDD[Month]=MONTH(KCITempAct[[#This Row],[Date]]))*(KCINHDD[Day]=DAY(KCITempAct[[#This Row],[Date]]))*KCINHDD[KCINHDD])","v":32.266666666666666},{"$f":"IF(MONTH(KCITempAct[[#This Row],[Date]])=7,0,IF(MONTH(KCITempAct[[#This Row],[Date]])=8,0,KCITempAct[[#This Row],[KCINHDD]]))","v":32.266666666666666},"Adj HDD and NDD =0 for July and August"]
["2019-12-29",53,30,{"$f":"AVERAGE(KCITempAct[[#This Row],[KCIHigh]:[KCILow]]\n)","v":41.5},{"$f":"IF(KCITempAct[[#This Row],[KCIAve]]<65,(65-KCITempAct[[#This Row],[KCIAve]]),0)","v":23.5},{"$f":"IF(MONTH(KCITempAct[[#This Row],[Date]])=7,0,IF(MONTH(KCITempAct[[#This Row],[Date]])=8,0,KCITempAct[[#This Row],[KCIHDD]]))","v":23.5},{"$f":"SUMPRODUCT((KCINHDD[Month]=MONTH(KCITempAct[[#This Row],[Date]]))*(KCINHDD[Day]=DAY(KCITempAct[[#This Row],[Date]]))*KCINHDD[KCINHDD])","v":33.083333333333336},{"$f":"IF(MONTH(KCITempAct[[#This Row],[Date]])=7,0,IF(MONTH(KCITempAct[[#This Row],[Date]])=8,0,KCITempAct[[#This Row],[KCINHDD]]))","v":33.083333333333336},"Adj HDD and NDD =0 for July and August"]
["2019-12-30",33,30,{"$f":"AVERAGE(KCITempAct[[#This Row],[KCIHigh]:[KCILow]]\n)","v":31.5},{"$f":"IF(KCITempAct[[#This Row],[KCIAve]]<65,(65-KCITempAct[[#This Row],[KCIAve]]),0)","v":33.5},{"$f":"IF(MONTH(KCITempAct[[#This Row],[Date]])=7,0,IF(MONTH(KCITempAct[[#This Row],[Date]])=8,0,KCITempAct[[#This Row],[KCIHDD]]))","v":33.5},{"$f":"SUMPRODUCT((KCINHDD[Month]=MONTH(KCITempAct[[#This Row],[Date]]))*(KCINHDD[Day]=DAY(KCITempAct[[#This Row],[Date]]))*KCINHDD[KCINHDD])","v":32.366666666666667},{"$f":"IF(MONTH(KCITempAct[[#This Row],[Date]])=7,0,IF(MONTH(KCITempAct[[#This Row],[Date]])=8,0,KCITempAct[[#This Row],[KCINHDD]]))","v":32.366666666666667},"Adj HDD and NDD =0 for July and August"]
["2019-12-31",43,26,{"$f":"AVERAGE(KCITempAct[[#This Row],[KCIHigh]:[KCILow]]\n)","v":34.5},{"$f":"IF(KCITempAct[[#This Row],[KCIAve]]<65,(65-KCITempAct[[#This Row],[KCIAve]]),0)","v":30.5},{"$f":"IF(MONTH(KCITempAct[[#This Row],[Date]])=7,0,IF(MONTH(KCITempAct[[#This Row],[Date]])=8,0,KCITempAct[[#This Row],[KCIHDD]]))","v":30.5},{"$f":"SUMPRODUCT((KCINHDD[Month]=MONTH(KCITempAct[[#This Row],[Date]]))*(KCINHDD[Day]=DAY(KCITempAct[[#This Row],[Date]]))*KCINHDD[KCINHDD])","v":36.033333333333331},{"$f":"IF(MONTH(KCITempAct[[#This Row],[Date]])=7,0,IF(MONTH(KCITempAct[[#This Row],[Date]])=8,0,KCITempAct[[#This Row],[KCINHDD]]))","v":36.033333333333331},"Adj HDD and NDD =0 for July and August"]
["2020-01-01",58,22,{"$f":"AVERAGE(KCITempAct[[#This Row],[KCIHigh]:[KCILow]]\n)","v":40},{"$f":"IF(KCITempAct[[#This Row],[KCIAve]]<65,(65-KCITempAct[[#This Row],[KCIAve]]),0)","v":25},{"$f":"IF(MONTH(KCITempAct[[#This Row],[Date]])=7,0,IF(MONTH(KCITempAct[[#This Row],[Date]])=8,0,KCITempAct[[#This Row],[KCIHDD]]))","v":25},{"$f":"SUMPRODUCT((KCINHDD[Month]=MONTH(KCITempAct[[#This Row],[Date]]))*(KCINHDD[Day]=DAY(KCITempAct[[#This Row],[Date]]))*KCINHDD[KCINHDD])","v":36.4},{"$f":"IF(MONTH(KCITempAct[[#This Row],[Date]])=7,0,IF(MONTH(KCITempAct[[#This Row],[Date]])=8,0,KCITempAct[[#This Row],[KCINHDD]]))","v":36.4},"Adj HDD and NDD =0 for July and August"]
["2020-01-02",52,38,{"$f":"AVERAGE(KCITempAct[[#This Row],[KCIHigh]:[KCILow]]\n)","v":45},{"$f":"IF(KCITempAct[[#This Row],[KCIAve]]<65,(65-KCITempAct[[#This Row],[KCIAve]]),0)","v":20},{"$f":"IF(MONTH(KCITempAct[[#This Row],[Date]])=7,0,IF(MONTH(KCITempAct[[#This Row],[Date]])=8,0,KCITempAct[[#This Row],[KCIHDD]]))","v":20},{"$f":"SUMPRODUCT((KCINHDD[Month]=MONTH(KCITempAct[[#This Row],[Date]]))*(KCINHDD[Day]=DAY(KCITempAct[[#This Row],[Date]]))*KCINHDD[KCINHDD])","v":35.583333333333336},{"$f":"IF(MONTH(KCITempAct[[#This Row],[Date]])=7,0,IF(MONTH(KCITempAct[[#This Row],[Date]])=8,0,KCITempAct[[#This Row],[KCINHDD]]))","v":35.583333333333336},"Adj HDD and NDD =0 for July and August"]
["2020-01-03",48,30,{"$f":"AVERAGE(KCITempAct[[#This Row],[KCIHigh]:[KCILow]]\n)","v":39},{"$f":"IF(KCITempAct[[#This Row],[KCIAve]]<65,(65-KCITempAct[[#This Row],[KCIAve]]),0)","v":26},{"$f":"IF(MONTH(KCITempAct[[#This Row],[Date]])=7,0,IF(MONTH(KCITempAct[[#This Row],[Date]])=8,0,KCITempAct[[#This Row],[KCIHDD]]))","v":26},{"$f":"SUMPRODUCT((KCINHDD[Month]=MONTH(KCITempAct[[#This Row],[Date]]))*(KCINHDD[Day]=DAY(KCITempAct[[#This Row],[Date]]))*KCINHDD[KCINHDD])","v":35.616666666666667},{"$f":"IF(MONTH(KCITempAct[[#This Row],[Date]])=7,0,IF(MONTH(KCITempAct[[#This Row],[Date]])=8,0,KCITempAct[[#This Row],[KCINHDD]]))","v":35.616666666666667},"Adj HDD and NDD =0 for July and August"]
["2020-01-04",44,25,{"$f":"AVERAGE(KCITempAct[[#This Row],[KCIHigh]:[KCILow]]\n)","v":34.5},{"$f":"IF(KCITempAct[[#This Row],[KCIAve]]<65,(65-KCITempAct[[#This Row],[KCIAve]]),0)","v":30.5},{"$f":"IF(MONTH(KCITempAct[[#This Row],[Date]])=7,0,IF(MONTH(KCITempAct[[#This Row],[Date]])=8,0,KCITempAct[[#This Row],[KCIHDD]]))","v":30.5},{"$f":"SUMPRODUCT((KCINHDD[Month]=MONTH(KCITempAct[[#This Row],[Date]]))*(KCINHDD[Day]=DAY(KCITempAct[[#This Row],[Date]]))*KCINHDD[KCINHDD])","v":37.56666666666667},{"$f":"IF(MONTH(KCITempAct[[#This Row],[Date]])=7,0,IF(MONTH(KCITempAct[[#This Row],[Date]])=8,0,KCITempAct[[#This Row],[KCINHDD]]))","v":37.56666666666667},"Adj HDD and NDD =0 for July and August"]
["2020-01-05",53,33,{"$f":"AVERAGE(KCITempAct[[#This Row],[KCIHigh]:[KCILow]]\n)","v":43},{"$f":"IF(KCITempAct[[#This Row],[KCIAve]]<65,(65-KCITempAct[[#This Row],[KCIAve]]),0)","v":22},{"$f":"IF(MONTH(KCITempAct[[#This Row],[Date]])=7,0,IF(MONTH(KCITempAct[[#This Row],[Date]])=8,0,KCITempAct[[#This Row],[KCIHDD]]))","v":22},{"$f":"SUMPRODUCT((KCINHDD[Month]=MONTH(KCITempAct[[#This Row],[Date]]))*(KCINHDD[Day]=DAY(KCITempAct[[#This Row],[Date]]))*KCINHDD[KCINHDD])","v":36.75},{"$f":"IF(MONTH(KCITempAct[[#This Row],[Date]])=7,0,IF(MONTH(KCITempAct[[#This Row],[Date]])=8,0,KCITempAct[[#This Row],[KCINHDD]]))","v":36.75},"Adj HDD and NDD =0 for July and August"]
["2020-01-06",44,25,{"$f":"AVERAGE(KCITempAct[[#This Row],[KCIHigh]:[KCILow]]\n)","v":34.5},{"$f":"IF(KCITempAct[[#This Row],[KCIAve]]<65,(65-KCITempAct[[#This Row],[KCIAve]]),0)","v":30.5},{"$f":"IF(MONTH(KCITempAct[[#This Row],[Date]])=7,0,IF(MONTH(KCITempAct[[#This Row],[Date]])=8,0,KCITempAct[[#This Row],[KCIHDD]]))","v":30.5},{"$f":"SUMPRODUCT((KCINHDD[Month]=MONTH(KCITempAct[[#This Row],[Date]]))*(KCINHDD[Day]=DAY(KCITempAct[[#This Row],[Date]]))*KCINHDD[KCINHDD])","v":37.416666666666664},{"$f":"IF(MONTH(KCITempAct[[#This Row],[Date]])=7,0,IF(MONTH(KCITempAct[[#This Row],[Date]])=8,0,KCITempAct[[#This Row],[KCINHDD]]))","v":37.416666666666664},"Adj HDD and NDD =0 for July and August"]
["2020-01-07",52,28,{"$f":"AVERAGE(KCITempAct[[#This Row],[KCIHigh]:[KCILow]]\n)","v":40},{"$f":"IF(KCITempAct[[#This Row],[KCIAve]]<65,(65-KCITempAct[[#This Row],[KCIAve]]),0)","v":25},{"$f":"IF(MONTH(KCITempAct[[#This Row],[Date]])=7,0,IF(MONTH(KCITempAct[[#This Row],[Date]])=8,0,KCITempAct[[#This Row],[KCIHDD]]))","v":25},{"$f":"SUMPRODUCT((KCINHDD[Month]=MONTH(KCITempAct[[#This Row],[Date]]))*(KCINHDD[Day]=DAY(KCITempAct[[#This Row],[Date]]))*KCINHDD[KCINHDD])","v":37.016666666666666},{"$f":"IF(MONTH(KCITempAct[[#This Row],[Date]])=7,0,IF(MONTH(KCITempAct[[#This Row],[Date]])=8,0,KCITempAct[[#This Row],[KCINHDD]]))","v":37.016666666666666},"Adj HDD and NDD =0 for July and August"]
["2020-01-08",50,28,{"$f":"AVERAGE(KCITempAct[[#This Row],[KCIHigh]:[KCILow]]\n)","v":39},{"$f":"IF(KCITempAct[[#This Row],[KCIAve]]<65,(65-KCITempAct[[#This Row],[KCIAve]]),0)","v":26},{"$f":"IF(MONTH(KCITempAct[[#This Row],[Date]])=7,0,IF(MONTH(KCITempAct[[#This Row],[Date]])=8,0,KCITempAct[[#This Row],[KCIHDD]]))","v":26},{"$f":"SUMPRODUCT((KCINHDD[Month]=MONTH(KCITempAct[[#This Row],[Date]]))*(KCINHDD[Day]=DAY(KCITempAct[[#This Row],[Date]]))*KCINHDD[KCINHDD])","v":34.483333333333334},{"$f":"IF(MONTH(KCITempAct[[#This Row],[Date]])=7,0,IF(MONTH(KCITempAct[[#This Row],[Date]])=8,0,KCITempAct[[#This Row],[KCINHDD]]))","v":34.483333333333334},"Adj HDD and NDD =0 for July and August"]
["2020-01-09",66,42,{"$f":"AVERAGE(KCITempAct[[#This Row],[KCIHigh]:[KCILow]]\n)","v":54},{"$f":"IF(KCITempAct[[#This Row],[KCIAve]]<65,(65-KCITempAct[[#This Row],[KCIAve]]),0)","v":11},{"$f":"IF(MONTH(KCITempAct[[#This Row],[Date]])=7,0,IF(MONTH(KCITempAct[[#This Row],[Date]])=8,0,KCITempAct[[#This Row],[KCIHDD]]))","v":11},{"$f":"SUMPRODUCT((KCINHDD[Month]=MONTH(KCITempAct[[#This Row],[Date]]))*(KCINHDD[Day]=DAY(KCITempAct[[#This Row],[Date]]))*KCINHDD[KCINHDD])","v":35.333333333333336},{"$f":"IF(MONTH(KCITempAct[[#This Row],[Date]])=7,0,IF(MONTH(KCITempAct[[#This Row],[Date]])=8,0,KCITempAct[[#This Row],[KCINHDD]]))","v":35.333333333333336},"Adj HDD and NDD =0 for July and August"]
["2020-01-10",43,22,{"$f":"AVERAGE(KCITempAct[[#This Row],[KCIHigh]:[KCILow]]\n)","v":32.5},{"$f":"IF(KCITempAct[[#This Row],[KCIAve]]<65,(65-KCITempAct[[#This Row],[KCIAve]]),0)","v":32.5},{"$f":"IF(MONTH(KCITempAct[[#This Row],[Date]])=7,0,IF(MONTH(KCITempAct[[#This Row],[Date]])=8,0,KCITempAct[[#This Row],[KCIHDD]]))","v":32.5},{"$f":"SUMPRODUCT((KCINHDD[Month]=MONTH(KCITempAct[[#This Row],[Date]]))*(KCINHDD[Day]=DAY(KCITempAct[[#This Row],[Date]]))*KCINHDD[KCINHDD])","v":35.466666666666669},{"$f":"IF(MONTH(KCITempAct[[#This Row],[Date]])=7,0,IF(MONTH(KCITempAct[[#This Row],[Date]])=8,0,KCITempAct[[#This Row],[KCINHDD]]))","v":35.466666666666669},"Adj HDD and NDD =0 for July and August"]
["2020-01-11",22,14,{"$f":"AVERAGE(KCITempAct[[#This Row],[KCIHigh]:[KCILow]]\n)","v":18},{"$f":"IF(KCITempAct[[#This Row],[KCIAve]]<65,(65-KCITempAct[[#This Row],[KCIAve]]),0)","v":47},{"$f":"IF(MONTH(KCITempAct[[#This Row],[Date]])=7,0,IF(MONTH(KCITempAct[[#This Row],[Date]])=8,0,KCITempAct[[#This Row],[KCIHDD]]))","v":47},{"$f":"SUMPRODUCT((KCINHDD[Month]=MONTH(KCITempAct[[#This Row],[Date]]))*(KCINHDD[Day]=DAY(KCITempAct[[#This Row],[Date]]))*KCINHDD[KCINHDD])","v":33.033333333333331},{"$f":"IF(MONTH(KCITempAct[[#This Row],[Date]])=7,0,IF(MONTH(KCITempAct[[#This Row],[Date]])=8,0,KCITempAct[[#This Row],[KCINHDD]]))","v":33.033333333333331},"Adj HDD and NDD =0 for July and August"]
["2020-01-12",32,18,{"$f":"AVERAGE(KCITempAct[[#This Row],[KCIHigh]:[KCILow]]\n)","v":25},{"$f":"IF(KCITempAct[[#This Row],[KCIAve]]<65,(65-KCITempAct[[#This Row],[KCIAve]]),0)","v":40},{"$f":"IF(MONTH(KCITempAct[[#This Row],[Date]])=7,0,IF(MONTH(KCITempAct[[#This Row],[Date]])=8,0,KCITempAct[[#This Row],[KCIHDD]]))","v":40},{"$f":"SUMPRODUCT((KCINHDD[Month]=MONTH(KCITempAct[[#This Row],[Date]]))*(KCINHDD[Day]=DAY(KCITempAct[[#This Row],[Date]]))*KCINHDD[KCINHDD])","v":35.31666666666667},{"$f":"IF(MONTH(KCITempAct[[#This Row],[Date]])=7,0,IF(MONTH(KCITempAct[[#This Row],[Date]])=8,0,KCITempAct[[#This Row],[KCINHDD]]))","v":35.31666666666667},"Adj HDD and NDD =0 for July and August"]
["2020-01-13",45,21,{"$f":"AVERAGE(KCITempAct[[#This Row],[KCIHigh]:[KCILow]]\n)","v":33},{"$f":"IF(KCITempAct[[#This Row],[KCIAve]]<65,(65-KCITempAct[[#This Row],[KCIAve]]),0)","v":32},{"$f":"IF(MONTH(KCITempAct[[#This Row],[Date]])=7,0,IF(MONTH(KCITempAct[[#This Row],[Date]])=8,0,KCITempAct[[#This Row],[KCIHDD]]))","v":32},{"$f":"SUMPRODUCT((KCINHDD[Month]=MONTH(KCITempAct[[#This Row],[Date]]))*(KCINHDD[Day]=DAY(KCITempAct[[#This Row],[Date]]))*KCINHDD[KCINHDD])","v":38.450000000000003},{"$f":"IF(MONTH(KCITempAct[[#This Row],[Date]])=7,0,IF(MONTH(KCITempAct[[#This Row],[Date]])=8,0,KCITempAct[[#This Row],[KCINHDD]]))","v":38.450000000000003},"Adj HDD and NDD =0 for July and August"]
["2020-01-14",48,36,{"$f":"AVERAGE(KCITempAct[[#This Row],[KCIHigh]:[KCILow]]\n)","v":42},{"$f":"IF(KCITempAct[[#This Row],[KCIAve]]<65,(65-KCITempAct[[#This Row],[KCIAve]]),0)","v":23},{"$f":"IF(MONTH(KCITempAct[[#This Row],[Date]])=7,0,IF(MONTH(KCITempAct[[#This Row],[Date]])=8,0,KCITempAct[[#This Row],[KCIHDD]]))","v":23},{"$f":"SUMPRODUCT((KCINHDD[Month]=MONTH(KCITempAct[[#This Row],[Date]]))*(KCINHDD[Day]=DAY(KCITempAct[[#This Row],[Date]]))*KCINHDD[KCINHDD])","v":36.016666666666666},{"$f":"IF(MONTH(KCITempAct[[#This Row],[Date]])=7,0,IF(MONTH(KCITempAct[[#This Row],[Date]])=8,0,KCITempAct[[#This Row],[KCINHDD]]))","v":36.016666666666666},"Adj HDD and NDD =0 for July and August"]
["2020-01-15",48,17,{"$f":"AVERAGE(KCITempAct[[#This Row],[KCIHigh]:[KCILow]]\n)","v":32.5},{"$f":"IF(KCITempAct[[#This Row],[KCIAve]]<65,(65-KCITempAct[[#This Row],[KCIAve]]),0)","v":32.5},{"$f":"IF(MONTH(KCITempAct[[#This Row],[Date]])=7,0,IF(MONTH(KCITempAct[[#This Row],[Date]])=8,0,KCITempAct[[#This Row],[KCIHDD]]))","v":32.5},{"$f":"SUMPRODUCT((KCINHDD[Month]=MONTH(KCITempAct[[#This Row],[Date]]))*(KCINHDD[Day]=DAY(KCITempAct[[#This Row],[Date]]))*KCINHDD[KCINHDD])","v":37.25},{"$f":"IF(MONTH(KCITempAct[[#This Row],[Date]])=7,0,IF(MONTH(KCITempAct[[#This Row],[Date]])=8,0,KCITempAct[[#This Row],[KCINHDD]]))","v":37.25},"Adj HDD and NDD =0 for July and August"]
["2020-01-16",25,12,{"$f":"AVERAGE(KCITempAct[[#This Row],[KCIHigh]:[KCILow]]\n)","v":18.5},{"$f":"IF(KCITempAct[[#This Row],[KCIAve]]<65,(65-KCITempAct[[#This Row],[KCIAve]]),0)","v":46.5},{"$f":"IF(MONTH(KCITempAct[[#This Row],[Date]])=7,0,IF(MONTH(KCITempAct[[#This Row],[Date]])=8,0,KCITempAct[[#This Row],[KCIHDD]]))","v":46.5},{"$f":"SUMPRODUCT((KCINHDD[Month]=MONTH(KCITempAct[[#This Row],[Date]]))*(KCINHDD[Day]=DAY(KCITempAct[[#This Row],[Date]]))*KCINHDD[KCINHDD])","v":36.733333333333334},{"$f":"IF(MONTH(KCITempAct[[#This Row],[Date]])=7,0,IF(MONTH(KCITempAct[[#This Row],[Date]])=8,0,KCITempAct[[#This Row],[KCINHDD]]))","v":36.733333333333334},"Adj HDD and NDD =0 for July and August"]
["2020-01-17",36,24,{"$f":"AVERAGE(KCITempAct[[#This Row],[KCIHigh]:[KCILow]]\n)","v":30},{"$f":"IF(KCITempAct[[#This Row],[KCIAve]]<65,(65-KCITempAct[[#This Row],[KCIAve]]),0)","v":35},{"$f":"IF(MONTH(KCITempAct[[#This Row],[Date]])=7,0,IF(MONTH(KCITempAct[[#This Row],[Date]])=8,0,KCITempAct[[#This Row],[KCIHDD]]))","v":35},{"$f":"SUMPRODUCT((KCINHDD[Month]=MONTH(KCITempAct[[#This Row],[Date]]))*(KCINHDD[Day]=DAY(KCITempAct[[#This Row],[Date]]))*KCINHDD[KCINHDD])","v":37.75},{"$f":"IF(MONTH(KCITempAct[[#This Row],[Date]])=7,0,IF(MONTH(KCITempAct[[#This Row],[Date]])=8,0,KCITempAct[[#This Row],[KCINHDD]]))","v":37.75},"Adj HDD and NDD =0 for July and August"]
["2020-01-18",40,23,{"$f":"AVERAGE(KCITempAct[[#This Row],[KCIHigh]:[KCILow]]\n)","v":31.5},{"$f":"IF(KCITempAct[[#This Row],[KCIAve]]<65,(65-KCITempAct[[#This Row],[KCIAve]]),0)","v":33.5},{"$f":"IF(MONTH(KCITempAct[[#This Row],[Date]])=7,0,IF(MONTH(KCITempAct[[#This Row],[Date]])=8,0,KCITempAct[[#This Row],[KCIHDD]]))","v":33.5},{"$f":"SUMPRODUCT((KCINHDD[Month]=MONTH(KCITempAct[[#This Row],[Date]]))*(KCINHDD[Day]=DAY(KCITempAct[[#This Row],[Date]]))*KCINHDD[KCINHDD])","v":37.166666666666664},{"$f":"IF(MONTH(KCITempAct[[#This Row],[Date]])=7,0,IF(MONTH(KCITempAct[[#This Row],[Date]])=8,0,KCITempAct[[#This Row],[KCINHDD]]))","v":37.166666666666664},"Adj HDD and NDD =0 for July and August"]
["2020-01-19",23,11,{"$f":"AVERAGE(KCITempAct[[#This Row],[KCIHigh]:[KCILow]]\n)","v":17},{"$f":"IF(KCITempAct[[#This Row],[KCIAve]]<65,(65-KCITempAct[[#This Row],[KCIAve]]),0)","v":48},{"$f":"IF(MONTH(KCITempAct[[#This Row],[Date]])=7,0,IF(MONTH(KCITempAct[[#This Row],[Date]])=8,0,KCITempAct[[#This Row],[KCIHDD]]))","v":48},{"$f":"SUMPRODUCT((KCINHDD[Month]=MONTH(KCITempAct[[#This Row],[Date]]))*(KCINHDD[Day]=DAY(KCITempAct[[#This Row],[Date]]))*KCINHDD[KCINHDD])","v":35.983333333333334},{"$f":"IF(MONTH(KCITempAct[[#This Row],[Date]])=7,0,IF(MONTH(KCITempAct[[#This Row],[Date]])=8,0,KCITempAct[[#This Row],[KCINHDD]]))","v":35.983333333333334},"Adj HDD and NDD =0 for July and August"]
["2020-01-20",18,6,{"$f":"AVERAGE(KCITempAct[[#This Row],[KCIHigh]:[KCILow]]\n)","v":12},{"$f":"IF(KCITempAct[[#This Row],[KCIAve]]<65,(65-KCITempAct[[#This Row],[KCIAve]]),0)","v":53},{"$f":"IF(MONTH(KCITempAct[[#This Row],[Date]])=7,0,IF(MONTH(KCITempAct[[#This Row],[Date]])=8,0,KCITempAct[[#This Row],[KCIHDD]]))","v":53},{"$f":"SUMPRODUCT((KCINHDD[Month]=MONTH(KCITempAct[[#This Row],[Date]]))*(KCINHDD[Day]=DAY(KCITempAct[[#This Row],[Date]]))*KCINHDD[KCINHDD])","v":35.93333333333333},{"$f":"IF(MONTH(KCITempAct[[#This Row],[Date]])=7,0,IF(MONTH(KCITempAct[[#This Row],[Date]])=8,0,KCITempAct[[#This Row],[KCINHDD]]))","v":35.93333333333333},"Adj HDD and NDD =0 for July and August"]
["2020-01-21",34,4,{"$f":"AVERAGE(KCITempAct[[#This Row],[KCIHigh]:[KCILow]]\n)","v":19},{"$f":"IF(KCITempAct[[#This Row],[KCIAve]]<65,(65-KCITempAct[[#This Row],[KCIAve]]),0)","v":46},{"$f":"IF(MONTH(KCITempAct[[#This Row],[Date]])=7,0,IF(MONTH(KCITempAct[[#This Row],[Date]])=8,0,KCITempAct[[#This Row],[KCIHDD]]))","v":46},{"$f":"SUMPRODUCT((KCINHDD[Month]=MONTH(KCITempAct[[#This Row],[Date]]))*(KCINHDD[Day]=DAY(KCITempAct[[#This Row],[Date]]))*KCINHDD[KCINHDD])","v":33.799999999999997},{"$f":"IF(MONTH(KCITempAct[[#This Row],[Date]])=7,0,IF(MONTH(KCITempAct[[#This Row],[Date]])=8,0,KCITempAct[[#This Row],[KCINHDD]]))","v":33.799999999999997},"Adj HDD and NDD =0 for July and August"]
["2020-01-22",37,32,{"$f":"AVERAGE(KCITempAct[[#This Row],[KCIHigh]:[KCILow]]\n)","v":34.5},{"$f":"IF(KCITempAct[[#This Row],[KCIAve]]<65,(65-KCITempAct[[#This Row],[KCIAve]]),0)","v":30.5},{"$f":"IF(MONTH(KCITempAct[[#This Row],[Date]])=7,0,IF(MONTH(KCITempAct[[#This Row],[Date]])=8,0,KCITempAct[[#This Row],[KCIHDD]]))","v":30.5},{"$f":"SUMPRODUCT((KCINHDD[Month]=MONTH(KCITempAct[[#This Row],[Date]]))*(KCINHDD[Day]=DAY(KCITempAct[[#This Row],[Date]]))*KCINHDD[KCINHDD])","v":33.43333333333333},{"$f":"IF(MONTH(KCITempAct[[#This Row],[Date]])=7,0,IF(MONTH(KCITempAct[[#This Row],[Date]])=8,0,KCITempAct[[#This Row],[KCINHDD]]))","v":33.43333333333333},"Adj HDD and NDD =0 for July and August"]
["2020-01-23",37,34,{"$f":"AVERAGE(KCITempAct[[#This Row],[KCIHigh]:[KCILow]]\n)","v":35.5},{"$f":"IF(KCITempAct[[#This Row],[KCIAve]]<65,(65-KCITempAct[[#This Row],[KCIAve]]),0)","v":29.5},{"$f":"IF(MONTH(KCITempAct[[#This Row],[Date]])=7,0,IF(MONTH(KCITempAct[[#This Row],[Date]])=8,0,KCITempAct[[#This Row],[KCIHDD]]))","v":29.5},{"$f":"SUMPRODUCT((KCINHDD[Month]=MONTH(KCITempAct[[#This Row],[Date]]))*(KCINHDD[Day]=DAY(KCITempAct[[#This Row],[Date]]))*KCINHDD[KCINHDD])","v":36.416666666666664},{"$f":"IF(MONTH(KCITempAct[[#This Row],[Date]])=7,0,IF(MONTH(KCITempAct[[#This Row],[Date]])=8,0,KCITempAct[[#This Row],[KCINHDD]]))","v":36.416666666666664},"Adj HDD and NDD =0 for July and August"]
["2020-01-24",34,32,{"$f":"AVERAGE(KCITempAct[[#This Row],[KCIHigh]:[KCILow]]\n)","v":33},{"$f":"IF(KCITempAct[[#This Row],[KCIAve]]<65,(65-KCITempAct[[#This Row],[KCIAve]]),0)","v":32},{"$f":"IF(MONTH(KCITempAct[[#This Row],[Date]])=7,0,IF(MONTH(KCITempAct[[#This Row],[Date]])=8,0,KCITempAct[[#This Row],[KCIHDD]]))","v":32},{"$f":"SUMPRODUCT((KCINHDD[Month]=MONTH(KCITempAct[[#This Row],[Date]]))*(KCINHDD[Day]=DAY(KCITempAct[[#This Row],[Date]]))*KCINHDD[KCINHDD])","v":35.799999999999997},{"$f":"IF(MONTH(KCITempAct[[#This Row],[Date]])=7,0,IF(MONTH(KCITempAct[[#This Row],[Date]])=8,0,KCITempAct[[#This Row],[KCINHDD]]))","v":35.799999999999997},"Adj HDD and NDD =0 for July and August"]
["2020-01-25",32,24,{"$f":"AVERAGE(KCITempAct[[#This Row],[KCIHigh]:[KCILow]]\n)","v":28},{"$f":"IF(KCITempAct[[#This Row],[KCIAve]]<65,(65-KCITempAct[[#This Row],[KCIAve]]),0)","v":37},{"$f":"IF(MONTH(KCITempAct[[#This Row],[Date]])=7,0,IF(MONTH(KCITempAct[[#This Row],[Date]])=8,0,KCITempAct[[#This Row],[KCIHDD]]))","v":37},{"$f":"SUMPRODUCT((KCINHDD[Month]=MONTH(KCITempAct[[#This Row],[Date]]))*(KCINHDD[Day]=DAY(KCITempAct[[#This Row],[Date]]))*KCINHDD[KCINHDD])","v":34.06666666666667},{"$f":"IF(MONTH(KCITempAct[[#This Row],[Date]])=7,0,IF(MONTH(KCITempAct[[#This Row],[Date]])=8,0,KCITempAct[[#This Row],[KCINHDD]]))","v":34.06666666666667},"Adj HDD and NDD =0 for July and August"]
["2020-01-26",34,24,{"$f":"AVERAGE(KCITempAct[[#This Row],[KCIHigh]:[KCILow]]\n)","v":29},{"$f":"IF(KCITempAct[[#This Row],[KCIAve]]<65,(65-KCITempAct[[#This Row],[KCIAve]]),0)","v":36},{"$f":"IF(MONTH(KCITempAct[[#This Row],[Date]])=7,0,IF(MONTH(KCITempAct[[#This Row],[Date]])=8,0,KCITempAct[[#This Row],[KCIHDD]]))","v":36},{"$f":"SUMPRODUCT((KCINHDD[Month]=MONTH(KCITempAct[[#This Row],[Date]]))*(KCINHDD[Day]=DAY(KCITempAct[[#This Row],[Date]]))*KCINHDD[KCINHDD])","v":33.049999999999997},{"$f":"IF(MONTH(KCITempAct[[#This Row],[Date]])=7,0,IF(MONTH(KCITempAct[[#This Row],[Date]])=8,0,KCITempAct[[#This Row],[KCINHDD]]))","v":33.049999999999997},"Adj HDD and NDD =0 for July and August"]
["2020-01-27",38,25,{"$f":"AVERAGE(KCITempAct[[#This Row],[KCIHigh]:[KCILow]]\n)","v":31.5},{"$f":"IF(KCITempAct[[#This Row],[KCIAve]]<65,(65-KCITempAct[[#This Row],[KCIAve]]),0)","v":33.5},{"$f":"IF(MONTH(KCITempAct[[#This Row],[Date]])=7,0,IF(MONTH(KCITempAct[[#This Row],[Date]])=8,0,KCITempAct[[#This Row],[KCIHDD]]))","v":33.5},{"$f":"SUMPRODUCT((KCINHDD[Month]=MONTH(KCITempAct[[#This Row],[Date]]))*(KCINHDD[Day]=DAY(KCITempAct[[#This Row],[Date]]))*KCINHDD[KCINHDD])","v":33.5},{"$f":"IF(MONTH(KCITempAct[[#This Row],[Date]])=7,0,IF(MONTH(KCITempAct[[#This Row],[Date]])=8,0,KCITempAct[[#This Row],[KCINHDD]]))","v":33.5},"Adj HDD and NDD =0 for July and August"]
["2020-01-28",34,30,{"$f":"AVERAGE(KCITempAct[[#This Row],[KCIHigh]:[KCILow]]\n)","v":32},{"$f":"IF(KCITempAct[[#This Row],[KCIAve]]<65,(65-KCITempAct[[#This Row],[KCIAve]]),0)","v":33},{"$f":"IF(MONTH(KCITempAct[[#This Row],[Date]])=7,0,IF(MONTH(KCITempAct[[#This Row],[Date]])=8,0,KCITempAct[[#This Row],[KCIHDD]]))","v":33},{"$f":"SUMPRODUCT((KCINHDD[Month]=MONTH(KCITempAct[[#This Row],[Date]]))*(KCINHDD[Day]=DAY(KCITempAct[[#This Row],[Date]]))*KCINHDD[KCINHDD])","v":33.06666666666667},{"$f":"IF(MONTH(KCITempAct[[#This Row],[Date]])=7,0,IF(MONTH(KCITempAct[[#This Row],[Date]])=8,0,KCITempAct[[#This Row],[KCINHDD]]))","v":33.06666666666667},"Adj HDD and NDD =0 for July and August"]
["2020-01-29",34,28,{"$f":"AVERAGE(KCITempAct[[#This Row],[KCIHigh]:[KCILow]]\n)","v":31},{"$f":"IF(KCITempAct[[#This Row],[KCIAve]]<65,(65-KCITempAct[[#This Row],[KCIAve]]),0)","v":34},{"$f":"IF(MONTH(KCITempAct[[#This Row],[Date]])=7,0,IF(MONTH(KCITempAct[[#This Row],[Date]])=8,0,KCITempAct[[#This Row],[KCIHDD]]))","v":34},{"$f":"SUMPRODUCT((KCINHDD[Month]=MONTH(KCITempAct[[#This Row],[Date]]))*(KCINHDD[Day]=DAY(KCITempAct[[#This Row],[Date]]))*KCINHDD[KCINHDD])","v":34.866666666666667},{"$f":"IF(MONTH(KCITempAct[[#This Row],[Date]])=7,0,IF(MONTH(KCITempAct[[#This Row],[Date]])=8,0,KCITempAct[[#This Row],[KCINHDD]]))","v":34.866666666666667},"Adj HDD and NDD =0 for July and August"]
["2020-01-30",38,25,{"$f":"AVERAGE(KCITempAct[[#This Row],[KCIHigh]:[KCILow]]\n)","v":31.5},{"$f":"IF(KCITempAct[[#This Row],[KCIAve]]<65,(65-KCITempAct[[#This Row],[KCIAve]]),0)","v":33.5},{"$f":"IF(MONTH(KCITempAct[[#This Row],[Date]])=7,0,IF(MONTH(KCITempAct[[#This Row],[Date]])=8,0,KCITempAct[[#This Row],[KCIHDD]]))","v":33.5},{"$f":"SUMPRODUCT((KCINHDD[Month]=MONTH(KCITempAct[[#This Row],[Date]]))*(KCINHDD[Day]=DAY(KCITempAct[[#This Row],[Date]]))*KCINHDD[KCINHDD])","v":36.31666666666667},{"$f":"IF(MONTH(KCITempAct[[#This Row],[Date]])=7,0,IF(MONTH(KCITempAct[[#This Row],[Date]])=8,0,KCITempAct[[#This Row],[KCINHDD]]))","v":36.31666666666667},"Adj HDD and NDD =0 for July and August"]
["2020-01-31",39,29,{"$f":"AVERAGE(KCITempAct[[#This Row],[KCIHigh]:[KCILow]]\n)","v":34},{"$f":"IF(KCITempAct[[#This Row],[KCIAve]]<65,(65-KCITempAct[[#This Row],[KCIAve]]),0)","v":31},{"$f":"IF(MONTH(KCITempAct[[#This Row],[Date]])=7,0,IF(MONTH(KCITempAct[[#This Row],[Date]])=8,0,KCITempAct[[#This Row],[KCIHDD]]))","v":31},{"$f":"SUMPRODUCT((KCINHDD[Month]=MONTH(KCITempAct[[#This Row],[Date]]))*(KCINHDD[Day]=DAY(KCITempAct[[#This Row],[Date]]))*KCINHDD[KCINHDD])","v":32.700000000000003},{"$f":"IF(MONTH(KCITempAct[[#This Row],[Date]])=7,0,IF(MONTH(KCITempAct[[#This Row],[Date]])=8,0,KCITempAct[[#This Row],[KCINHDD]]))","v":32.700000000000003},"Adj HDD and NDD =0 for July and August"]
["2020-02-01",54,31,{"$f":"AVERAGE(KCITempAct[[#This Row],[KCIHigh]:[KCILow]]\n)","v":42.5},{"$f":"IF(KCITempAct[[#This Row],[KCIAve]]<65,(65-KCITempAct[[#This Row],[KCIAve]]),0)","v":22.5},{"$f":"IF(MONTH(KCITempAct[[#This Row],[Date]])=7,0,IF(MONTH(KCITempAct[[#This Row],[Date]])=8,0,KCITempAct[[#This Row],[KCIHDD]]))","v":22.5},{"$f":"SUMPRODUCT((KCINHDD[Month]=MONTH(KCITempAct[[#This Row],[Date]]))*(KCINHDD[Day]=DAY(KCITempAct[[#This Row],[Date]]))*KCINHDD[KCINHDD])","v":33.266666666666666},{"$f":"IF(MONTH(KCITempAct[[#This Row],[Date]])=7,0,IF(MONTH(KCITempAct[[#This Row],[Date]])=8,0,KCITempAct[[#This Row],[KCINHDD]]))","v":33.266666666666666},"Adj HDD and NDD =0 for July and August"]
["2020-02-02",65,38,{"$f":"AVERAGE(KCITempAct[[#This Row],[KCIHigh]:[KCILow]]\n)","v":51.5},{"$f":"IF(KCITempAct[[#This Row],[KCIAve]]<65,(65-KCITempAct[[#This Row],[KCIAve]]),0)","v":13.5},{"$f":"IF(MONTH(KCITempAct[[#This Row],[Date]])=7,0,IF(MONTH(KCITempAct[[#This Row],[Date]])=8,0,KCITempAct[[#This Row],[KCIHDD]]))","v":13.5},{"$f":"SUMPRODUCT((KCINHDD[Month]=MONTH(KCITempAct[[#This Row],[Date]]))*(KCINHDD[Day]=DAY(KCITempAct[[#This Row],[Date]]))*KCINHDD[KCINHDD])","v":33.700000000000003},{"$f":"IF(MONTH(KCITempAct[[#This Row],[Date]])=7,0,IF(MONTH(KCITempAct[[#This Row],[Date]])=8,0,KCITempAct[[#This Row],[KCINHDD]]))","v":33.700000000000003},"Adj HDD and NDD =0 for July and August"]
["2020-02-03",50,34,{"$f":"AVERAGE(KCITempAct[[#This Row],[KCIHigh]:[KCILow]]\n)","v":42},{"$f":"IF(KCITempAct[[#This Row],[KCIAve]]<65,(65-KCITempAct[[#This Row],[KCIAve]]),0)","v":23},{"$f":"IF(MONTH(KCITempAct[[#This Row],[Date]])=7,0,IF(MONTH(KCITempAct[[#This Row],[Date]])=8,0,KCITempAct[[#This Row],[KCIHDD]]))","v":23},{"$f":"SUMPRODUCT((KCINHDD[Month]=MONTH(KCITempAct[[#This Row],[Date]]))*(KCINHDD[Day]=DAY(KCITempAct[[#This Row],[Date]]))*KCINHDD[KCINHDD])","v":32.666666666666664},{"$f":"IF(MONTH(KCITempAct[[#This Row],[Date]])=7,0,IF(MONTH(KCITempAct[[#This Row],[Date]])=8,0,KCITempAct[[#This Row],[KCINHDD]]))","v":32.666666666666664},"Adj HDD and NDD =0 for July and August"]
["2020-02-04",34,29,{"$f":"AVERAGE(KCITempAct[[#This Row],[KCIHigh]:[KCILow]]\n)","v":31.5},{"$f":"IF(KCITempAct[[#This Row],[KCIAve]]<65,(65-KCITempAct[[#This Row],[KCIAve]]),0)","v":33.5},{"$f":"IF(MONTH(KCITempAct[[#This Row],[Date]])=7,0,IF(MONTH(KCITempAct[[#This Row],[Date]])=8,0,KCITempAct[[#This Row],[KCIHDD]]))","v":33.5},{"$f":"SUMPRODUCT((KCINHDD[Month]=MONTH(KCITempAct[[#This Row],[Date]]))*(KCINHDD[Day]=DAY(KCITempAct[[#This Row],[Date]]))*KCINHDD[KCINHDD])","v":35.5},{"$f":"IF(MONTH(KCITempAct[[#This Row],[Date]])=7,0,IF(MONTH(KCITempAct[[#This Row],[Date]])=8,0,KCITempAct[[#This Row],[KCINHDD]]))","v":35.5},"Adj HDD and NDD =0 for July and August"]
["2020-02-05",29,24,{"$f":"AVERAGE(KCITempAct[[#This Row],[KCIHigh]:[KCILow]]\n)","v":26.5},{"$f":"IF(KCITempAct[[#This Row],[KCIAve]]<65,(65-KCITempAct[[#This Row],[KCIAve]]),0)","v":38.5},{"$f":"IF(MONTH(KCITempAct[[#This Row],[Date]])=7,0,IF(MONTH(KCITempAct[[#This Row],[Date]])=8,0,KCITempAct[[#This Row],[KCIHDD]]))","v":38.5},{"$f":"SUMPRODUCT((KCINHDD[Month]=MONTH(KCITempAct[[#This Row],[Date]]))*(KCINHDD[Day]=DAY(KCITempAct[[#This Row],[Date]]))*KCINHDD[KCINHDD])","v":35.616666666666667},{"$f":"IF(MONTH(KCITempAct[[#This Row],[Date]])=7,0,IF(MONTH(KCITempAct[[#This Row],[Date]])=8,0,KCITempAct[[#This Row],[KCINHDD]]))","v":35.616666666666667},"Adj HDD and NDD =0 for July and August"]
["2020-02-06",38,17,{"$f":"AVERAGE(KCITempAct[[#This Row],[KCIHigh]:[KCILow]]\n)","v":27.5},{"$f":"IF(KCITempAct[[#This Row],[KCIAve]]<65,(65-KCITempAct[[#This Row],[KCIAve]]),0)","v":37.5},{"$f":"IF(MONTH(KCITempAct[[#This Row],[Date]])=7,0,IF(MONTH(KCITempAct[[#This Row],[Date]])=8,0,KCITempAct[[#This Row],[KCIHDD]]))","v":37.5},{"$f":"SUMPRODUCT((KCINHDD[Month]=MONTH(KCITempAct[[#This Row],[Date]]))*(KCINHDD[Day]=DAY(KCITempAct[[#This Row],[Date]]))*KCINHDD[KCINHDD])","v":32.716666666666669},{"$f":"IF(MONTH(KCITempAct[[#This Row],[Date]])=7,0,IF(MONTH(KCITempAct[[#This Row],[Date]])=8,0,KCITempAct[[#This Row],[KCINHDD]]))","v":32.716666666666669},"Adj HDD and NDD =0 for July and August"]
["2020-02-07",38,22,{"$f":"AVERAGE(KCITempAct[[#This Row],[KCIHigh]:[KCILow]]\n)","v":30},{"$f":"IF(KCITempAct[[#This Row],[KCIAve]]<65,(65-KCITempAct[[#This Row],[KCIAve]]),0)","v":35},{"$f":"IF(MONTH(KCITempAct[[#This Row],[Date]])=7,0,IF(MONTH(KCITempAct[[#This Row],[Date]])=8,0,KCITempAct[[#This Row],[KCIHDD]]))","v":35},{"$f":"SUMPRODUCT((KCINHDD[Month]=MONTH(KCITempAct[[#This Row],[Date]]))*(KCINHDD[Day]=DAY(KCITempAct[[#This Row],[Date]]))*KCINHDD[KCINHDD])","v":34.333333333333336},{"$f":"IF(MONTH(KCITempAct[[#This Row],[Date]])=7,0,IF(MONTH(KCITempAct[[#This Row],[Date]])=8,0,KCITempAct[[#This Row],[KCINHDD]]))","v":34.333333333333336},"Adj HDD and NDD =0 for July and August"]
["2020-02-08",43,17,{"$f":"AVERAGE(KCITempAct[[#This Row],[KCIHigh]:[KCILow]]\n)","v":30},{"$f":"IF(KCITempAct[[#This Row],[KCIAve]]<65,(65-KCITempAct[[#This Row],[KCIAve]]),0)","v":35},{"$f":"IF(MONTH(KCITempAct[[#This Row],[Date]])=7,0,IF(MONTH(KCITempAct[[#This Row],[Date]])=8,0,KCITempAct[[#This Row],[KCIHDD]]))","v":35},{"$f":"SUMPRODUCT((KCINHDD[Month]=MONTH(KCITempAct[[#This Row],[Date]]))*(KCINHDD[Day]=DAY(KCITempAct[[#This Row],[Date]]))*KCINHDD[KCINHDD])","v":36.266666666666666},{"$f":"IF(MONTH(KCITempAct[[#This Row],[Date]])=7,0,IF(MONTH(KCITempAct[[#This Row],[Date]])=8,0,KCITempAct[[#This Row],[KCINHDD]]))","v":36.266666666666666},"Adj HDD and NDD =0 for July and August"]
["2020-02-09",52,27,{"$f":"AVERAGE(KCITempAct[[#This Row],[KCIHigh]:[KCILow]]\n)","v":39.5},{"$f":"IF(KCITempAct[[#This Row],[KCIAve]]<65,(65-KCITempAct[[#This Row],[KCIAve]]),0)","v":25.5},{"$f":"IF(MONTH(KCITempAct[[#This Row],[Date]])=7,0,IF(MONTH(KCITempAct[[#This Row],[Date]])=8,0,KCITempAct[[#This Row],[KCIHDD]]))","v":25.5},{"$f":"SUMPRODUCT((KCINHDD[Month]=MONTH(KCITempAct[[#This Row],[Date]]))*(KCINHDD[Day]=DAY(KCITempAct[[#This Row],[Date]]))*KCINHDD[KCINHDD])","v":34.516666666666666},{"$f":"IF(MONTH(KCITempAct[[#This Row],[Date]])=7,0,IF(MONTH(KCITempAct[[#This Row],[Date]])=8,0,KCITempAct[[#This Row],[KCINHDD]]))","v":34.516666666666666},"Adj HDD and NDD =0 for July and August"]
["2020-02-10",45,22,{"$f":"AVERAGE(KCITempAct[[#This Row],[KCIHigh]:[KCILow]]\n)","v":33.5},{"$f":"IF(KCITempAct[[#This Row],[KCIAve]]<65,(65-KCITempAct[[#This Row],[KCIAve]]),0)","v":31.5},{"$f":"IF(MONTH(KCITempAct[[#This Row],[Date]])=7,0,IF(MONTH(KCITempAct[[#This Row],[Date]])=8,0,KCITempAct[[#This Row],[KCIHDD]]))","v":31.5},{"$f":"SUMPRODUCT((KCINHDD[Month]=MONTH(KCITempAct[[#This Row],[Date]]))*(KCINHDD[Day]=DAY(KCITempAct[[#This Row],[Date]]))*KCINHDD[KCINHDD])","v":33.883333333333333},{"$f":"IF(MONTH(KCITempAct[[#This Row],[Date]])=7,0,IF(MONTH(KCITempAct[[#This Row],[Date]])=8,0,KCITempAct[[#This Row],[KCINHDD]]))","v":33.883333333333333},"Adj HDD and NDD =0 for July and August"]
["2020-02-11",44,28,{"$f":"AVERAGE(KCITempAct[[#This Row],[KCIHigh]:[KCILow]]\n)","v":36},{"$f":"IF(KCITempAct[[#This Row],[KCIAve]]<65,(65-KCITempAct[[#This Row],[KCIAve]]),0)","v":29},{"$f":"IF(MONTH(KCITempAct[[#This Row],[Date]])=7,0,IF(MONTH(KCITempAct[[#This Row],[Date]])=8,0,KCITempAct[[#This Row],[KCIHDD]]))","v":29},{"$f":"SUMPRODUCT((KCINHDD[Month]=MONTH(KCITempAct[[#This Row],[Date]]))*(KCINHDD[Day]=DAY(KCITempAct[[#This Row],[Date]]))*KCINHDD[KCINHDD])","v":35.083333333333336},{"$f":"IF(MONTH(KCITempAct[[#This Row],[Date]])=7,0,IF(MONTH(KCITempAct[[#This Row],[Date]])=8,0,KCITempAct[[#This Row],[KCINHDD]]))","v":35.083333333333336},"Adj HDD and NDD =0 for July and August"]
["2020-02-12",34,19,{"$f":"AVERAGE(KCITempAct[[#This Row],[KCIHigh]:[KCILow]]\n)","v":26.5},{"$f":"IF(KCITempAct[[#This Row],[KCIAve]]<65,(65-KCITempAct[[#This Row],[KCIAve]]),0)","v":38.5},{"$f":"IF(MONTH(KCITempAct[[#This Row],[Date]])=7,0,IF(MONTH(KCITempAct[[#This Row],[Date]])=8,0,KCITempAct[[#This Row],[KCIHDD]]))","v":38.5},{"$f":"SUMPRODUCT((KCINHDD[Month]=MONTH(KCITempAct[[#This Row],[Date]]))*(KCINHDD[Day]=DAY(KCITempAct[[#This Row],[Date]]))*KCINHDD[KCINHDD])","v":36.6},{"$f":"IF(MONTH(KCITempAct[[#This Row],[Date]])=7,0,IF(MONTH(KCITempAct[[#This Row],[Date]])=8,0,KCITempAct[[#This Row],[KCINHDD]]))","v":36.6},"Adj HDD and NDD =0 for July and August"]
["2020-02-13",19,2,{"$f":"AVERAGE(KCITempAct[[#This Row],[KCIHigh]:[KCILow]]\n)","v":10.5},{"$f":"IF(KCITempAct[[#This Row],[KCIAve]]<65,(65-KCITempAct[[#This Row],[KCIAve]]),0)","v":54.5},{"$f":"IF(MONTH(KCITempAct[[#This Row],[Date]])=7,0,IF(MONTH(KCITempAct[[#This Row],[Date]])=8,0,KCITempAct[[#This Row],[KCIHDD]]))","v":54.5},{"$f":"SUMPRODUCT((KCINHDD[Month]=MONTH(KCITempAct[[#This Row],[Date]]))*(KCINHDD[Day]=DAY(KCITempAct[[#This Row],[Date]]))*KCINHDD[KCINHDD])","v":33.266666666666666},{"$f":"IF(MONTH(KCITempAct[[#This Row],[Date]])=7,0,IF(MONTH(KCITempAct[[#This Row],[Date]])=8,0,KCITempAct[[#This Row],[KCINHDD]]))","v":33.266666666666666},"Adj HDD and NDD =0 for July and August"]
["2020-02-14",27,0,{"$f":"AVERAGE(KCITempAct[[#This Row],[KCIHigh]:[KCILow]]\n)","v":13.5},{"$f":"IF(KCITempAct[[#This Row],[KCIAve]]<65,(65-KCITempAct[[#This Row],[KCIAve]]),0)","v":51.5},{"$f":"IF(MONTH(KCITempAct[[#This Row],[Date]])=7,0,IF(MONTH(KCITempAct[[#This Row],[Date]])=8,0,KCITempAct[[#This Row],[KCIHDD]]))","v":51.5},{"$f":"SUMPRODUCT((KCINHDD[Month]=MONTH(KCITempAct[[#This Row],[Date]]))*(KCINHDD[Day]=DAY(KCITempAct[[#This Row],[Date]]))*KCINHDD[KCINHDD])","v":30.716666666666665},{"$f":"IF(MONTH(KCITempAct[[#This Row],[Date]])=7,0,IF(MONTH(KCITempAct[[#This Row],[Date]])=8,0,KCITempAct[[#This Row],[KCINHDD]]))","v":30.716666666666665},"Adj HDD and NDD =0 for July and August"]
["2020-02-15",45,27,{"$f":"AVERAGE(KCITempAct[[#This Row],[KCIHigh]:[KCILow]]\n)","v":36},{"$f":"IF(KCITempAct[[#This Row],[KCIAve]]<65,(65-KCITempAct[[#This Row],[KCIAve]]),0)","v":29},{"$f":"IF(MONTH(KCITempAct[[#This Row],[Date]])=7,0,IF(MONTH(KCITempAct[[#This Row],[Date]])=8,0,KCITempAct[[#This Row],[KCIHDD]]))","v":29},{"$f":"SUMPRODUCT((KCINHDD[Month]=MONTH(KCITempAct[[#This Row],[Date]]))*(KCINHDD[Day]=DAY(KCITempAct[[#This Row],[Date]]))*KCINHDD[KCINHDD])","v":33.766666666666666},{"$f":"IF(MONTH(KCITempAct[[#This Row],[Date]])=7,0,IF(MONTH(KCITempAct[[#This Row],[Date]])=8,0,KCITempAct[[#This Row],[KCINHDD]]))","v":33.766666666666666},"Adj HDD and NDD =0 for July and August"]
["2020-02-16",55,26,{"$f":"AVERAGE(KCITempAct[[#This Row],[KCIHigh]:[KCILow]]\n)","v":40.5},{"$f":"IF(KCITempAct[[#This Row],[KCIAve]]<65,(65-KCITempAct[[#This Row],[KCIAve]]),0)","v":24.5},{"$f":"IF(MONTH(KCITempAct[[#This Row],[Date]])=7,0,IF(MONTH(KCITempAct[[#This Row],[Date]])=8,0,KCITempAct[[#This Row],[KCIHDD]]))","v":24.5},{"$f":"SUMPRODUCT((KCINHDD[Month]=MONTH(KCITempAct[[#This Row],[Date]]))*(KCINHDD[Day]=DAY(KCITempAct[[#This Row],[Date]]))*KCINHDD[KCINHDD])","v":34.56666666666667},{"$f":"IF(MONTH(KCITempAct[[#This Row],[Date]])=7,0,IF(MONTH(KCITempAct[[#This Row],[Date]])=8,0,KCITempAct[[#This Row],[KCINHDD]]))","v":34.56666666666667},"Adj HDD and NDD =0 for July and August"]
["2020-02-17",64,35,{"$f":"AVERAGE(KCITempAct[[#This Row],[KCIHigh]:[KCILow]]\n)","v":49.5},{"$f":"IF(KCITempAct[[#This Row],[KCIAve]]<65,(65-KCITempAct[[#This Row],[KCIAve]]),0)","v":15.5},{"$f":"IF(MONTH(KCITempAct[[#This Row],[Date]])=7,0,IF(MONTH(KCITempAct[[#This Row],[Date]])=8,0,KCITempAct[[#This Row],[KCIHDD]]))","v":15.5},{"$f":"SUMPRODUCT((KCINHDD[Month]=MONTH(KCITempAct[[#This Row],[Date]]))*(KCINHDD[Day]=DAY(KCITempAct[[#This Row],[Date]]))*KCINHDD[KCINHDD])","v":29.55},{"$f":"IF(MONTH(KCITempAct[[#This Row],[Date]])=7,0,IF(MONTH(KCITempAct[[#This Row],[Date]])=8,0,KCITempAct[[#This Row],[KCINHDD]]))","v":29.55},"Adj HDD and NDD =0 for July and August"]
["2020-02-18",46,29,{"$f":"AVERAGE(KCITempAct[[#This Row],[KCIHigh]:[KCILow]]\n)","v":37.5},{"$f":"IF(KCITempAct[[#This Row],[KCIAve]]<65,(65-KCITempAct[[#This Row],[KCIAve]]),0)","v":27.5},{"$f":"IF(MONTH(KCITempAct[[#This Row],[Date]])=7,0,IF(MONTH(KCITempAct[[#This Row],[Date]])=8,0,KCITempAct[[#This Row],[KCIHDD]]))","v":27.5},{"$f":"SUMPRODUCT((KCINHDD[Month]=MONTH(KCITempAct[[#This Row],[Date]]))*(KCINHDD[Day]=DAY(KCITempAct[[#This Row],[Date]]))*KCINHDD[KCINHDD])","v":28.05},{"$f":"IF(MONTH(KCITempAct[[#This Row],[Date]])=7,0,IF(MONTH(KCITempAct[[#This Row],[Date]])=8,0,KCITempAct[[#This Row],[KCINHDD]]))","v":28.05},"Adj HDD and NDD =0 for July and August"]
["2020-02-19",41,26,{"$f":"AVERAGE(KCITempAct[[#This Row],[KCIHigh]:[KCILow]]\n)","v":33.5},{"$f":"IF(KCITempAct[[#This Row],[KCIAve]]<65,(65-KCITempAct[[#This Row],[KCIAve]]),0)","v":31.5},{"$f":"IF(MONTH(KCITempAct[[#This Row],[Date]])=7,0,IF(MONTH(KCITempAct[[#This Row],[Date]])=8,0,KCITempAct[[#This Row],[KCIHDD]]))","v":31.5},{"$f":"SUMPRODUCT((KCINHDD[Month]=MONTH(KCITempAct[[#This Row],[Date]]))*(KCINHDD[Day]=DAY(KCITempAct[[#This Row],[Date]]))*KCINHDD[KCINHDD])","v":27.25},{"$f":"IF(MONTH(KCITempAct[[#This Row],[Date]])=7,0,IF(MONTH(KCITempAct[[#This Row],[Date]])=8,0,KCITempAct[[#This Row],[KCINHDD]]))","v":27.25},"Adj HDD and NDD =0 for July and August"]
["2020-02-20",33,18,{"$f":"AVERAGE(KCITempAct[[#This Row],[KCIHigh]:[KCILow]]\n)","v":25.5},{"$f":"IF(KCITempAct[[#This Row],[KCIAve]]<65,(65-KCITempAct[[#This Row],[KCIAve]]),0)","v":39.5},{"$f":"IF(MONTH(KCITempAct[[#This Row],[Date]])=7,0,IF(MONTH(KCITempAct[[#This Row],[Date]])=8,0,KCITempAct[[#This Row],[KCIHDD]]))","v":39.5},{"$f":"SUMPRODUCT((KCINHDD[Month]=MONTH(KCITempAct[[#This Row],[Date]]))*(KCINHDD[Day]=DAY(KCITempAct[[#This Row],[Date]]))*KCINHDD[KCINHDD])","v":26.1},{"$f":"IF(MONTH(KCITempAct[[#This Row],[Date]])=7,0,IF(MONTH(KCITempAct[[#This Row],[Date]])=8,0,KCITempAct[[#This Row],[KCINHDD]]))","v":26.1},"Adj HDD and NDD =0 for July and August"]
["2020-02-21",45,14,{"$f":"AVERAGE(KCITempAct[[#This Row],[KCIHigh]:[KCILow]]\n)","v":29.5},{"$f":"IF(KCITempAct[[#This Row],[KCIAve]]<65,(65-KCITempAct[[#This Row],[KCIAve]]),0)","v":35.5},{"$f":"IF(MONTH(KCITempAct[[#This Row],[Date]])=7,0,IF(MONTH(KCITempAct[[#This Row],[Date]])=8,0,KCITempAct[[#This Row],[KCIHDD]]))","v":35.5},{"$f":"SUMPRODUCT((KCINHDD[Month]=MONTH(KCITempAct[[#This Row],[Date]]))*(KCINHDD[Day]=DAY(KCITempAct[[#This Row],[Date]]))*KCINHDD[KCINHDD])","v":29.15},{"$f":"IF(MONTH(KCITempAct[[#This Row],[Date]])=7,0,IF(MONTH(KCITempAct[[#This Row],[Date]])=8,0,KCITempAct[[#This Row],[KCINHDD]]))","v":29.15},"Adj HDD and NDD =0 for July and August"]
["2020-02-22",55,31,{"$f":"AVERAGE(KCITempAct[[#This Row],[KCIHigh]:[KCILow]]\n)","v":43},{"$f":"IF(KCITempAct[[#This Row],[KCIAve]]<65,(65-KCITempAct[[#This Row],[KCIAve]]),0)","v":22},{"$f":"IF(MONTH(KCITempAct[[#This Row],[Date]])=7,0,IF(MONTH(KCITempAct[[#This Row],[Date]])=8,0,KCITempAct[[#This Row],[KCIHDD]]))","v":22},{"$f":"SUMPRODUCT((KCINHDD[Month]=MONTH(KCITempAct[[#This Row],[Date]]))*(KCINHDD[Day]=DAY(KCITempAct[[#This Row],[Date]]))*KCINHDD[KCINHDD])","v":27.783333333333335},{"$f":"IF(MONTH(KCITempAct[[#This Row],[Date]])=7,0,IF(MONTH(KCITempAct[[#This Row],[Date]])=8,0,KCITempAct[[#This Row],[KCINHDD]]))","v":27.783333333333335},"Adj HDD and NDD =0 for July and August"]
["2020-02-23",63,43,{"$f":"AVERAGE(KCITempAct[[#This Row],[KCIHigh]:[KCILow]]\n)","v":53},{"$f":"IF(KCITempAct[[#This Row],[KCIAve]]<65,(65-KCITempAct[[#This Row],[KCIAve]]),0)","v":12},{"$f":"IF(MONTH(KCITempAct[[#This Row],[Date]])=7,0,IF(MONTH(KCITempAct[[#This Row],[Date]])=8,0,KCITempAct[[#This Row],[KCIHDD]]))","v":12},{"$f":"SUMPRODUCT((KCINHDD[Month]=MONTH(KCITempAct[[#This Row],[Date]]))*(KCINHDD[Day]=DAY(KCITempAct[[#This Row],[Date]]))*KCINHDD[KCINHDD])","v":27.9},{"$f":"IF(MONTH(KCITempAct[[#This Row],[Date]])=7,0,IF(MONTH(KCITempAct[[#This Row],[Date]])=8,0,KCITempAct[[#This Row],[KCINHDD]]))","v":27.9},"Adj HDD and NDD =0 for July and August"]
["2020-02-24",50,38,{"$f":"AVERAGE(KCITempAct[[#This Row],[KCIHigh]:[KCILow]]\n)","v":44},{"$f":"IF(KCITempAct[[#This Row],[KCIAve]]<65,(65-KCITempAct[[#This Row],[KCIAve]]),0)","v":21},{"$f":"IF(MONTH(KCITempAct[[#This Row],[Date]])=7,0,IF(MONTH(KCITempAct[[#This Row],[Date]])=8,0,KCITempAct[[#This Row],[KCIHDD]]))","v":21},{"$f":"SUMPRODUCT((KCINHDD[Month]=MONTH(KCITempAct[[#This Row],[Date]]))*(KCINHDD[Day]=DAY(KCITempAct[[#This Row],[Date]]))*KCINHDD[KCINHDD])","v":29.4},{"$f":"IF(MONTH(KCITempAct[[#This Row],[Date]])=7,0,IF(MONTH(KCITempAct[[#This Row],[Date]])=8,0,KCITempAct[[#This Row],[KCINHDD]]))","v":29.4},"Adj HDD and NDD =0 for July and August"]
["2020-02-25",48,32,{"$f":"AVERAGE(KCITempAct[[#This Row],[KCIHigh]:[KCILow]]\n)","v":40},{"$f":"IF(KCITempAct[[#This Row],[KCIAve]]<65,(65-KCITempAct[[#This Row],[KCIAve]]),0)","v":25},{"$f":"IF(MONTH(KCITempAct[[#This Row],[Date]])=7,0,IF(MONTH(KCITempAct[[#This Row],[Date]])=8,0,KCITempAct[[#This Row],[KCIHDD]]))","v":25},{"$f":"SUMPRODUCT((KCINHDD[Month]=MONTH(KCITempAct[[#This Row],[Date]]))*(KCINHDD[Day]=DAY(KCITempAct[[#This Row],[Date]]))*KCINHDD[KCINHDD])","v":29.683333333333334},{"$f":"IF(MONTH(KCITempAct[[#This Row],[Date]])=7,0,IF(MONTH(KCITempAct[[#This Row],[Date]])=8,0,KCITempAct[[#This Row],[KCINHDD]]))","v":29.683333333333334},"Adj HDD and NDD =0 for July and August"]
["2020-02-26",41,25,{"$f":"AVERAGE(KCITempAct[[#This Row],[KCIHigh]:[KCILow]]\n)","v":33},{"$f":"IF(KCITempAct[[#This Row],[KCIAve]]<65,(65-KCITempAct[[#This Row],[KCIAve]]),0)","v":32},{"$f":"IF(MONTH(KCITempAct[[#This Row],[Date]])=7,0,IF(MONTH(KCITempAct[[#This Row],[Date]])=8,0,KCITempAct[[#This Row],[KCIHDD]]))","v":32},{"$f":"SUMPRODUCT((KCINHDD[Month]=MONTH(KCITempAct[[#This Row],[Date]]))*(KCINHDD[Day]=DAY(KCITempAct[[#This Row],[Date]]))*KCINHDD[KCINHDD])","v":30.3},{"$f":"IF(MONTH(KCITempAct[[#This Row],[Date]])=7,0,IF(MONTH(KCITempAct[[#This Row],[Date]])=8,0,KCITempAct[[#This Row],[KCINHDD]]))","v":30.3},"Adj HDD and NDD =0 for July and August"]
["2020-02-27",48,20,{"$f":"AVERAGE(KCITempAct[[#This Row],[KCIHigh]:[KCILow]]\n)","v":34},{"$f":"IF(KCITempAct[[#This Row],[KCIAve]]<65,(65-KCITempAct[[#This Row],[KCIAve]]),0)","v":31},{"$f":"IF(MONTH(KCITempAct[[#This Row],[Date]])=7,0,IF(MONTH(KCITempAct[[#This Row],[Date]])=8,0,KCITempAct[[#This Row],[KCIHDD]]))","v":31},{"$f":"SUMPRODUCT((KCINHDD[Month]=MONTH(KCITempAct[[#This Row],[Date]]))*(KCINHDD[Day]=DAY(KCITempAct[[#This Row],[Date]]))*KCINHDD[KCINHDD])","v":30.65},{"$f":"IF(MONTH(KCITempAct[[#This Row],[Date]])=7,0,IF(MONTH(KCITempAct[[#This Row],[Date]])=8,0,KCITempAct[[#This Row],[KCINHDD]]))","v":30.65},"Adj HDD and NDD =0 for July and August"]
["2020-02-28",56,25,{"$f":"AVERAGE(KCITempAct[[#This Row],[KCIHigh]:[KCILow]]\n)","v":40.5},{"$f":"IF(KCITempAct[[#This Row],[KCIAve]]<65,(65-KCITempAct[[#This Row],[KCIAve]]),0)","v":24.5},{"$f":"IF(MONTH(KCITempAct[[#This Row],[Date]])=7,0,IF(MONTH(KCITempAct[[#This Row],[Date]])=8,0,KCITempAct[[#This Row],[KCIHDD]]))","v":24.5},{"$f":"SUMPRODUCT((KCINHDD[Month]=MONTH(KCITempAct[[#This Row],[Date]]))*(KCINHDD[Day]=DAY(KCITempAct[[#This Row],[Date]]))*KCINHDD[KCINHDD])","v":27.9},{"$f":"IF(MONTH(KCITempAct[[#This Row],[Date]])=7,0,IF(MONTH(KCITempAct[[#This Row],[Date]])=8,0,KCITempAct[[#This Row],[KCINHDD]]))","v":27.9},"Adj HDD and NDD =0 for July and August"]
["2020-02-29",64,28,{"$f":"AVERAGE(KCITempAct[[#This Row],[KCIHigh]:[KCILow]]\n)","v":46},{"$f":"IF(KCITempAct[[#This Row],[KCIAve]]<65,(65-KCITempAct[[#This Row],[KCIAve]]),0)","v":19},{"$f":"IF(MONTH(KCITempAct[[#This Row],[Date]])=7,0,IF(MONTH(KCITempAct[[#This Row],[Date]])=8,0,KCITempAct[[#This Row],[KCIHDD]]))","v":19},{"$f":"SUMPRODUCT((KCINHDD[Month]=MONTH(KCITempAct[[#This Row],[Date]]))*(KCINHDD[Day]=DAY(KCITempAct[[#This Row],[Date]]))*KCINHDD[KCINHDD])","v":0},{"$f":"IF(MONTH(KCITempAct[[#This Row],[Date]])=7,0,IF(MONTH(KCITempAct[[#This Row],[Date]])=8,0,KCITempAct[[#This Row],[KCINHDD]]))","v":0},"Adj HDD and NDD =0 for July and August"]
["2020-03-01",67,44,{"$f":"AVERAGE(KCITempAct[[#This Row],[KCIHigh]:[KCILow]]\n)","v":55.5},{"$f":"IF(KCITempAct[[#This Row],[KCIAve]]<65,(65-KCITempAct[[#This Row],[KCIAve]]),0)","v":9.5},{"$f":"IF(MONTH(KCITempAct[[#This Row],[Date]])=7,0,IF(MONTH(KCITempAct[[#This Row],[Date]])=8,0,KCITempAct[[#This Row],[KCIHDD]]))","v":9.5},{"$f":"SUMPRODUCT((KCINHDD[Month]=MONTH(KCITempAct[[#This Row],[Date]]))*(KCINHDD[Day]=DAY(KCITempAct[[#This Row],[Date]]))*KCINHDD[KCINHDD])","v":27.533333333333335},{"$f":"IF(MONTH(KCITempAct[[#This Row],[Date]])=7,0,IF(MONTH(KCITempAct[[#This Row],[Date]])=8,0,KCITempAct[[#This Row],[KCINHDD]]))","v":27.533333333333335},"Adj HDD and NDD =0 for July and August"]
["2020-03-02",54,32,{"$f":"AVERAGE(KCITempAct[[#This Row],[KCIHigh]:[KCILow]]\n)","v":43},{"$f":"IF(KCITempAct[[#This Row],[KCIAve]]<65,(65-KCITempAct[[#This Row],[KCIAve]]),0)","v":22},{"$f":"IF(MONTH(KCITempAct[[#This Row],[Date]])=7,0,IF(MONTH(KCITempAct[[#This Row],[Date]])=8,0,KCITempAct[[#This Row],[KCIHDD]]))","v":22},{"$f":"SUMPRODUCT((KCINHDD[Month]=MONTH(KCITempAct[[#This Row],[Date]]))*(KCINHDD[Day]=DAY(KCITempAct[[#This Row],[Date]]))*KCINHDD[KCINHDD])","v":30.35},{"$f":"IF(MONTH(KCITempAct[[#This Row],[Date]])=7,0,IF(MONTH(KCITempAct[[#This Row],[Date]])=8,0,KCITempAct[[#This Row],[KCINHDD]]))","v":30.35},"Adj HDD and NDD =0 for July and August"]
["2020-03-03",62,35,{"$f":"AVERAGE(KCITempAct[[#This Row],[KCIHigh]:[KCILow]]\n)","v":48.5},{"$f":"IF(KCITempAct[[#This Row],[KCIAve]]<65,(65-KCITempAct[[#This Row],[KCIAve]]),0)","v":16.5},{"$f":"IF(MONTH(KCITempAct[[#This Row],[Date]])=7,0,IF(MONTH(KCITempAct[[#This Row],[Date]])=8,0,KCITempAct[[#This Row],[KCIHDD]]))","v":16.5},{"$f":"SUMPRODUCT((KCINHDD[Month]=MONTH(KCITempAct[[#This Row],[Date]]))*(KCINHDD[Day]=DAY(KCITempAct[[#This Row],[Date]]))*KCINHDD[KCINHDD])","v":28.8},{"$f":"IF(MONTH(KCITempAct[[#This Row],[Date]])=7,0,IF(MONTH(KCITempAct[[#This Row],[Date]])=8,0,KCITempAct[[#This Row],[KCINHDD]]))","v":28.8},"Adj HDD and NDD =0 for July and August"]
["2020-03-04",61,35,{"$f":"AVERAGE(KCITempAct[[#This Row],[KCIHigh]:[KCILow]]\n)","v":48},{"$f":"IF(KCITempAct[[#This Row],[KCIAve]]<65,(65-KCITempAct[[#This Row],[KCIAve]]),0)","v":17},{"$f":"IF(MONTH(KCITempAct[[#This Row],[Date]])=7,0,IF(MONTH(KCITempAct[[#This Row],[Date]])=8,0,KCITempAct[[#This Row],[KCIHDD]]))","v":17},{"$f":"SUMPRODUCT((KCINHDD[Month]=MONTH(KCITempAct[[#This Row],[Date]]))*(KCINHDD[Day]=DAY(KCITempAct[[#This Row],[Date]]))*KCINHDD[KCINHDD])","v":25.116666666666667},{"$f":"IF(MONTH(KCITempAct[[#This Row],[Date]])=7,0,IF(MONTH(KCITempAct[[#This Row],[Date]])=8,0,KCITempAct[[#This Row],[KCINHDD]]))","v":25.116666666666667},"Adj HDD and NDD =0 for July and August"]
["2020-03-05",59,35,{"$f":"AVERAGE(KCITempAct[[#This Row],[KCIHigh]:[KCILow]]\n)","v":47},{"$f":"IF(KCITempAct[[#This Row],[KCIAve]]<65,(65-KCITempAct[[#This Row],[KCIAve]]),0)","v":18},{"$f":"IF(MONTH(KCITempAct[[#This Row],[Date]])=7,0,IF(MONTH(KCITempAct[[#This Row],[Date]])=8,0,KCITempAct[[#This Row],[KCIHDD]]))","v":18},{"$f":"SUMPRODUCT((KCINHDD[Month]=MONTH(KCITempAct[[#This Row],[Date]]))*(KCINHDD[Day]=DAY(KCITempAct[[#This Row],[Date]]))*KCINHDD[KCINHDD])","v":23.933333333333334},{"$f":"IF(MONTH(KCITempAct[[#This Row],[Date]])=7,0,IF(MONTH(KCITempAct[[#This Row],[Date]])=8,0,KCITempAct[[#This Row],[KCINHDD]]))","v":23.933333333333334},"Adj HDD and NDD =0 for July and August"]
["2020-03-06",56,28,{"$f":"AVERAGE(KCITempAct[[#This Row],[KCIHigh]:[KCILow]]\n)","v":42},{"$f":"IF(KCITempAct[[#This Row],[KCIAve]]<65,(65-KCITempAct[[#This Row],[KCIAve]]),0)","v":23},{"$f":"IF(MONTH(KCITempAct[[#This Row],[Date]])=7,0,IF(MONTH(KCITempAct[[#This Row],[Date]])=8,0,KCITempAct[[#This Row],[KCIHDD]]))","v":23},{"$f":"SUMPRODUCT((KCINHDD[Month]=MONTH(KCITempAct[[#This Row],[Date]]))*(KCINHDD[Day]=DAY(KCITempAct[[#This Row],[Date]]))*KCINHDD[KCINHDD])","v":22.666666666666668},{"$f":"IF(MONTH(KCITempAct[[#This Row],[Date]])=7,0,IF(MONTH(KCITempAct[[#This Row],[Date]])=8,0,KCITempAct[[#This Row],[KCINHDD]]))","v":22.666666666666668},"Adj HDD and NDD =0 for July and August"]
["2020-03-07",69,36,{"$f":"AVERAGE(KCITempAct[[#This Row],[KCIHigh]:[KCILow]]\n)","v":52.5},{"$f":"IF(KCITempAct[[#This Row],[KCIAve]]<65,(65-KCITempAct[[#This Row],[KCIAve]]),0)","v":12.5},{"$f":"IF(MONTH(KCITempAct[[#This Row],[Date]])=7,0,IF(MONTH(KCITempAct[[#This Row],[Date]])=8,0,KCITempAct[[#This Row],[KCIHDD]]))","v":12.5},{"$f":"SUMPRODUCT((KCINHDD[Month]=MONTH(KCITempAct[[#This Row],[Date]]))*(KCINHDD[Day]=DAY(KCITempAct[[#This Row],[Date]]))*KCINHDD[KCINHDD])","v":22.05},{"$f":"IF(MONTH(KCITempAct[[#This Row],[Date]])=7,0,IF(MONTH(KCITempAct[[#This Row],[Date]])=8,0,KCITempAct[[#This Row],[KCINHDD]]))","v":22.05},"Adj HDD and NDD =0 for July and August"]
["2020-03-08",71,48,{"$f":"AVERAGE(KCITempAct[[#This Row],[KCIHigh]:[KCILow]]\n)","v":59.5},{"$f":"IF(KCITempAct[[#This Row],[KCIAve]]<65,(65-KCITempAct[[#This Row],[KCIAve]]),0)","v":5.5},{"$f":"IF(MONTH(KCITempAct[[#This Row],[Date]])=7,0,IF(MONTH(KCITempAct[[#This Row],[Date]])=8,0,KCITempAct[[#This Row],[KCIHDD]]))","v":5.5},{"$f":"SUMPRODUCT((KCINHDD[Month]=MONTH(KCITempAct[[#This Row],[Date]]))*(KCINHDD[Day]=DAY(KCITempAct[[#This Row],[Date]]))*KCINHDD[KCINHDD])","v":22.65},{"$f":"IF(MONTH(KCITempAct[[#This Row],[Date]])=7,0,IF(MONTH(KCITempAct[[#This Row],[Date]])=8,0,KCITempAct[[#This Row],[KCINHDD]]))","v":22.65},"Adj HDD and NDD =0 for July and August"]
["2020-03-09",56,36,{"$f":"AVERAGE(KCITempAct[[#This Row],[KCIHigh]:[KCILow]]\n)","v":46},{"$f":"IF(KCITempAct[[#This Row],[KCIAve]]<65,(65-KCITempAct[[#This Row],[KCIAve]]),0)","v":19},{"$f":"IF(MONTH(KCITempAct[[#This Row],[Date]])=7,0,IF(MONTH(KCITempAct[[#This Row],[Date]])=8,0,KCITempAct[[#This Row],[KCIHDD]]))","v":19},{"$f":"SUMPRODUCT((KCINHDD[Month]=MONTH(KCITempAct[[#This Row],[Date]]))*(KCINHDD[Day]=DAY(KCITempAct[[#This Row],[Date]]))*KCINHDD[KCINHDD])","v":24.183333333333334},{"$f":"IF(MONTH(KCITempAct[[#This Row],[Date]])=7,0,IF(MONTH(KCITempAct[[#This Row],[Date]])=8,0,KCITempAct[[#This Row],[KCINHDD]]))","v":24.183333333333334},"Adj HDD and NDD =0 for July and August"]
["2020-03-10",54,30,{"$f":"AVERAGE(KCITempAct[[#This Row],[KCIHigh]:[KCILow]]\n)","v":42},{"$f":"IF(KCITempAct[[#This Row],[KCIAve]]<65,(65-KCITempAct[[#This Row],[KCIAve]]),0)","v":23},{"$f":"IF(MONTH(KCITempAct[[#This Row],[Date]])=7,0,IF(MONTH(KCITempAct[[#This Row],[Date]])=8,0,KCITempAct[[#This Row],[KCIHDD]]))","v":23},{"$f":"SUMPRODUCT((KCINHDD[Month]=MONTH(KCITempAct[[#This Row],[Date]]))*(KCINHDD[Day]=DAY(KCITempAct[[#This Row],[Date]]))*KCINHDD[KCINHDD])","v":23.583333333333332},{"$f":"IF(MONTH(KCITempAct[[#This Row],[Date]])=7,0,IF(MONTH(KCITempAct[[#This Row],[Date]])=8,0,KCITempAct[[#This Row],[KCINHDD]]))","v":23.583333333333332},"Adj HDD and NDD =0 for July and August"]
["2020-03-11",67,38,{"$f":"AVERAGE(KCITempAct[[#This Row],[KCIHigh]:[KCILow]]\n)","v":52.5},{"$f":"IF(KCITempAct[[#This Row],[KCIAve]]<65,(65-KCITempAct[[#This Row],[KCIAve]]),0)","v":12.5},{"$f":"IF(MONTH(KCITempAct[[#This Row],[Date]])=7,0,IF(MONTH(KCITempAct[[#This Row],[Date]])=8,0,KCITempAct[[#This Row],[KCIHDD]]))","v":12.5},{"$f":"SUMPRODUCT((KCINHDD[Month]=MONTH(KCITempAct[[#This Row],[Date]]))*(KCINHDD[Day]=DAY(KCITempAct[[#This Row],[Date]]))*KCINHDD[KCINHDD])","v":22.616666666666667},{"$f":"IF(MONTH(KCITempAct[[#This Row],[Date]])=7,0,IF(MONTH(KCITempAct[[#This Row],[Date]])=8,0,KCITempAct[[#This Row],[KCINHDD]]))","v":22.616666666666667},"Adj HDD and NDD =0 for July and August"]
["2020-03-12",66,41,{"$f":"AVERAGE(KCITempAct[[#This Row],[KCIHigh]:[KCILow]]\n)","v":53.5},{"$f":"IF(KCITempAct[[#This Row],[KCIAve]]<65,(65-KCITempAct[[#This Row],[KCIAve]]),0)","v":11.5},{"$f":"IF(MONTH(KCITempAct[[#This Row],[Date]])=7,0,IF(MONTH(KCITempAct[[#This Row],[Date]])=8,0,KCITempAct[[#This Row],[KCIHDD]]))","v":11.5},{"$f":"SUMPRODUCT((KCINHDD[Month]=MONTH(KCITempAct[[#This Row],[Date]]))*(KCINHDD[Day]=DAY(KCITempAct[[#This Row],[Date]]))*KCINHDD[KCINHDD])","v":20.350000000000001},{"$f":"IF(MONTH(KCITempAct[[#This Row],[Date]])=7,0,IF(MONTH(KCITempAct[[#This Row],[Date]])=8,0,KCITempAct[[#This Row],[KCINHDD]]))","v":20.350000000000001},"Adj HDD and NDD =0 for July and August"]
["2020-03-13",46,35,{"$f":"AVERAGE(KCITempAct[[#This Row],[KCIHigh]:[KCILow]]\n)","v":40.5},{"$f":"IF(KCITempAct[[#This Row],[KCIAve]]<65,(65-KCITempAct[[#This Row],[KCIAve]]),0)","v":24.5},{"$f":"IF(MONTH(KCITempAct[[#This Row],[Date]])=7,0,IF(MONTH(KCITempAct[[#This Row],[Date]])=8,0,KCITempAct[[#This Row],[KCIHDD]]))","v":24.5},{"$f":"SUMPRODUCT((KCINHDD[Month]=MONTH(KCITempAct[[#This Row],[Date]]))*(KCINHDD[Day]=DAY(KCITempAct[[#This Row],[Date]]))*KCINHDD[KCINHDD])","v":19.5},{"$f":"IF(MONTH(KCITempAct[[#This Row],[Date]])=7,0,IF(MONTH(KCITempAct[[#This Row],[Date]])=8,0,KCITempAct[[#This Row],[KCINHDD]]))","v":19.5},"Adj HDD and NDD =0 for July and August"]
["2020-03-14",42,35,{"$f":"AVERAGE(KCITempAct[[#This Row],[KCIHigh]:[KCILow]]\n)","v":38.5},{"$f":"IF(KCITempAct[[#This Row],[KCIAve]]<65,(65-KCITempAct[[#This Row],[KCIAve]]),0)","v":26.5},{"$f":"IF(MONTH(KCITempAct[[#This Row],[Date]])=7,0,IF(MONTH(KCITempAct[[#This Row],[Date]])=8,0,KCITempAct[[#This Row],[KCIHDD]]))","v":26.5},{"$f":"SUMPRODUCT((KCINHDD[Month]=MONTH(KCITempAct[[#This Row],[Date]]))*(KCINHDD[Day]=DAY(KCITempAct[[#This Row],[Date]]))*KCINHDD[KCINHDD])","v":18.45},{"$f":"IF(MONTH(KCITempAct[[#This Row],[Date]])=7,0,IF(MONTH(KCITempAct[[#This Row],[Date]])=8,0,KCITempAct[[#This Row],[KCINHDD]]))","v":18.45},"Adj HDD and NDD =0 for July and August"]
["2020-03-15",38,34,{"$f":"AVERAGE(KCITempAct[[#This Row],[KCIHigh]:[KCILow]]\n)","v":36},{"$f":"IF(KCITempAct[[#This Row],[KCIAve]]<65,(65-KCITempAct[[#This Row],[KCIAve]]),0)","v":29},{"$f":"IF(MONTH(KCITempAct[[#This Row],[Date]])=7,0,IF(MONTH(KCITempAct[[#This Row],[Date]])=8,0,KCITempAct[[#This Row],[KCIHDD]]))","v":29},{"$f":"SUMPRODUCT((KCINHDD[Month]=MONTH(KCITempAct[[#This Row],[Date]]))*(KCINHDD[Day]=DAY(KCITempAct[[#This Row],[Date]]))*KCINHDD[KCINHDD])","v":19.149999999999999},{"$f":"IF(MONTH(KCITempAct[[#This Row],[Date]])=7,0,IF(MONTH(KCITempAct[[#This Row],[Date]])=8,0,KCITempAct[[#This Row],[KCINHDD]]))","v":19.149999999999999},"Adj HDD and NDD =0 for July and August"]
["2020-03-16",44,36,{"$f":"AVERAGE(KCITempAct[[#This Row],[KCIHigh]:[KCILow]]\n)","v":40},{"$f":"IF(KCITempAct[[#This Row],[KCIAve]]<65,(65-KCITempAct[[#This Row],[KCIAve]]),0)","v":25},{"$f":"IF(MONTH(KCITempAct[[#This Row],[Date]])=7,0,IF(MONTH(KCITempAct[[#This Row],[Date]])=8,0,KCITempAct[[#This Row],[KCIHDD]]))","v":25},{"$f":"SUMPRODUCT((KCINHDD[Month]=MONTH(KCITempAct[[#This Row],[Date]]))*(KCINHDD[Day]=DAY(KCITempAct[[#This Row],[Date]]))*KCINHDD[KCINHDD])","v":19.316666666666666},{"$f":"IF(MONTH(KCITempAct[[#This Row],[Date]])=7,0,IF(MONTH(KCITempAct[[#This Row],[Date]])=8,0,KCITempAct[[#This Row],[KCINHDD]]))","v":19.316666666666666},"Adj HDD and NDD =0 for July and August"]
["2020-03-17",48,41,{"$f":"AVERAGE(KCITempAct[[#This Row],[KCIHigh]:[KCILow]]\n)","v":44.5},{"$f":"IF(KCITempAct[[#This Row],[KCIAve]]<65,(65-KCITempAct[[#This Row],[KCIAve]]),0)","v":20.5},{"$f":"IF(MONTH(KCITempAct[[#This Row],[Date]])=7,0,IF(MONTH(KCITempAct[[#This Row],[Date]])=8,0,KCITempAct[[#This Row],[KCIHDD]]))","v":20.5},{"$f":"SUMPRODUCT((KCINHDD[Month]=MONTH(KCITempAct[[#This Row],[Date]]))*(KCINHDD[Day]=DAY(KCITempAct[[#This Row],[Date]]))*KCINHDD[KCINHDD])","v":17.983333333333334},{"$f":"IF(MONTH(KCITempAct[[#This Row],[Date]])=7,0,IF(MONTH(KCITempAct[[#This Row],[Date]])=8,0,KCITempAct[[#This Row],[KCINHDD]]))","v":17.983333333333334},"Adj HDD and NDD =0 for July and August"]
["2020-03-18",61,48,{"$f":"AVERAGE(KCITempAct[[#This Row],[KCIHigh]:[KCILow]]\n)","v":54.5},{"$f":"IF(KCITempAct[[#This Row],[KCIAve]]<65,(65-KCITempAct[[#This Row],[KCIAve]]),0)","v":10.5},{"$f":"IF(MONTH(KCITempAct[[#This Row],[Date]])=7,0,IF(MONTH(KCITempAct[[#This Row],[Date]])=8,0,KCITempAct[[#This Row],[KCIHDD]]))","v":10.5},{"$f":"SUMPRODUCT((KCINHDD[Month]=MONTH(KCITempAct[[#This Row],[Date]]))*(KCINHDD[Day]=DAY(KCITempAct[[#This Row],[Date]]))*KCINHDD[KCINHDD])","v":18.883333333333333},{"$f":"IF(MONTH(KCITempAct[[#This Row],[Date]])=7,0,IF(MONTH(KCITempAct[[#This Row],[Date]])=8,0,KCITempAct[[#This Row],[KCINHDD]]))","v":18.883333333333333},"Adj HDD and NDD =0 for July and August"]
["2020-03-19",75,49,{"$f":"AVERAGE(KCITempAct[[#This Row],[KCIHigh]:[KCILow]]\n)","v":62},{"$f":"IF(KCITempAct[[#This Row],[KCIAve]]<65,(65-KCITempAct[[#This Row],[KCIAve]]),0)","v":3},{"$f":"IF(MONTH(KCITempAct[[#This Row],[Date]])=7,0,IF(MONTH(KCITempAct[[#This Row],[Date]])=8,0,KCITempAct[[#This Row],[KCIHDD]]))","v":3},{"$f":"SUMPRODUCT((KCINHDD[Month]=MONTH(KCITempAct[[#This Row],[Date]]))*(KCINHDD[Day]=DAY(KCITempAct[[#This Row],[Date]]))*KCINHDD[KCINHDD])","v":19.166666666666668},{"$f":"IF(MONTH(KCITempAct[[#This Row],[Date]])=7,0,IF(MONTH(KCITempAct[[#This Row],[Date]])=8,0,KCITempAct[[#This Row],[KCINHDD]]))","v":19.166666666666668},"Adj HDD and NDD =0 for July and August"]
["2020-03-20",49,27,{"$f":"AVERAGE(KCITempAct[[#This Row],[KCIHigh]:[KCILow]]\n)","v":38},{"$f":"IF(KCITempAct[[#This Row],[KCIAve]]<65,(65-KCITempAct[[#This Row],[KCIAve]]),0)","v":27},{"$f":"IF(MONTH(KCITempAct[[#This Row],[Date]])=7,0,IF(MONTH(KCITempAct[[#This Row],[Date]])=8,0,KCITempAct[[#This Row],[KCIHDD]]))","v":27},{"$f":"SUMPRODUCT((KCINHDD[Month]=MONTH(KCITempAct[[#This Row],[Date]]))*(KCINHDD[Day]=DAY(KCITempAct[[#This Row],[Date]]))*KCINHDD[KCINHDD])","v":18.8},{"$f":"IF(MONTH(KCITempAct[[#This Row],[Date]])=7,0,IF(MONTH(KCITempAct[[#This Row],[Date]])=8,0,KCITempAct[[#This Row],[KCINHDD]]))","v":18.8},"Adj HDD and NDD =0 for July and August"]
["2020-03-21",49,22,{"$f":"AVERAGE(KCITempAct[[#This Row],[KCIHigh]:[KCILow]]\n)","v":35.5},{"$f":"IF(KCITempAct[[#This Row],[KCIAve]]<65,(65-KCITempAct[[#This Row],[KCIAve]]),0)","v":29.5},{"$f":"IF(MONTH(KCITempAct[[#This Row],[Date]])=7,0,IF(MONTH(KCITempAct[[#This Row],[Date]])=8,0,KCITempAct[[#This Row],[KCIHDD]]))","v":29.5},{"$f":"SUMPRODUCT((KCINHDD[Month]=MONTH(KCITempAct[[#This Row],[Date]]))*(KCINHDD[Day]=DAY(KCITempAct[[#This Row],[Date]]))*KCINHDD[KCINHDD])","v":18.649999999999999},{"$f":"IF(MONTH(KCITempAct[[#This Row],[Date]])=7,0,IF(MONTH(KCITempAct[[#This Row],[Date]])=8,0,KCITempAct[[#This Row],[KCINHDD]]))","v":18.649999999999999},"Adj HDD and NDD =0 for July and August"]
["2020-03-22",44,37,{"$f":"AVERAGE(KCITempAct[[#This Row],[KCIHigh]:[KCILow]]\n)","v":40.5},{"$f":"IF(KCITempAct[[#This Row],[KCIAve]]<65,(65-KCITempAct[[#This Row],[KCIAve]]),0)","v":24.5},{"$f":"IF(MONTH(KCITempAct[[#This Row],[Date]])=7,0,IF(MONTH(KCITempAct[[#This Row],[Date]])=8,0,KCITempAct[[#This Row],[KCIHDD]]))","v":24.5},{"$f":"SUMPRODUCT((KCINHDD[Month]=MONTH(KCITempAct[[#This Row],[Date]]))*(KCINHDD[Day]=DAY(KCITempAct[[#This Row],[Date]]))*KCINHDD[KCINHDD])","v":17.616666666666667},{"$f":"IF(MONTH(KCITempAct[[#This Row],[Date]])=7,0,IF(MONTH(KCITempAct[[#This Row],[Date]])=8,0,KCITempAct[[#This Row],[KCINHDD]]))","v":17.616666666666667},"Adj HDD and NDD =0 for July and August"]
["2020-03-23",50,41,{"$f":"AVERAGE(KCITempAct[[#This Row],[KCIHigh]:[KCILow]]\n)","v":45.5},{"$f":"IF(KCITempAct[[#This Row],[KCIAve]]<65,(65-KCITempAct[[#This Row],[KCIAve]]),0)","v":19.5},{"$f":"IF(MONTH(KCITempAct[[#This Row],[Date]])=7,0,IF(MONTH(KCITempAct[[#This Row],[Date]])=8,0,KCITempAct[[#This Row],[KCIHDD]]))","v":19.5},{"$f":"SUMPRODUCT((KCINHDD[Month]=MONTH(KCITempAct[[#This Row],[Date]]))*(KCINHDD[Day]=DAY(KCITempAct[[#This Row],[Date]]))*KCINHDD[KCINHDD])","v":15.4},{"$f":"IF(MONTH(KCITempAct[[#This Row],[Date]])=7,0,IF(MONTH(KCITempAct[[#This Row],[Date]])=8,0,KCITempAct[[#This Row],[KCINHDD]]))","v":15.4},"Adj HDD and NDD =0 for July and August"]
["2020-03-24",56,41,{"$f":"AVERAGE(KCITempAct[[#This Row],[KCIHigh]:[KCILow]]\n)","v":48.5},{"$f":"IF(KCITempAct[[#This Row],[KCIAve]]<65,(65-KCITempAct[[#This Row],[KCIAve]]),0)","v":16.5},{"$f":"IF(MONTH(KCITempAct[[#This Row],[Date]])=7,0,IF(MONTH(KCITempAct[[#This Row],[Date]])=8,0,KCITempAct[[#This Row],[KCIHDD]]))","v":16.5},{"$f":"SUMPRODUCT((KCINHDD[Month]=MONTH(KCITempAct[[#This Row],[Date]]))*(KCINHDD[Day]=DAY(KCITempAct[[#This Row],[Date]]))*KCINHDD[KCINHDD])","v":18.216666666666665},{"$f":"IF(MONTH(KCITempAct[[#This Row],[Date]])=7,0,IF(MONTH(KCITempAct[[#This Row],[Date]])=8,0,KCITempAct[[#This Row],[KCINHDD]]))","v":18.216666666666665},"Adj HDD and NDD =0 for July and August"]
["2020-03-25",69,44,{"$f":"AVERAGE(KCITempAct[[#This Row],[KCIHigh]:[KCILow]]\n)","v":56.5},{"$f":"IF(KCITempAct[[#This Row],[KCIAve]]<65,(65-KCITempAct[[#This Row],[KCIAve]]),0)","v":8.5},{"$f":"IF(MONTH(KCITempAct[[#This Row],[Date]])=7,0,IF(MONTH(KCITempAct[[#This Row],[Date]])=8,0,KCITempAct[[#This Row],[KCIHDD]]))","v":8.5},{"$f":"SUMPRODUCT((KCINHDD[Month]=MONTH(KCITempAct[[#This Row],[Date]]))*(KCINHDD[Day]=DAY(KCITempAct[[#This Row],[Date]]))*KCINHDD[KCINHDD])","v":19.916666666666668},{"$f":"IF(MONTH(KCITempAct[[#This Row],[Date]])=7,0,IF(MONTH(KCITempAct[[#This Row],[Date]])=8,0,KCITempAct[[#This Row],[KCINHDD]]))","v":19.916666666666668},"Adj HDD and NDD =0 for July and August"]
["2020-03-26",61,52,{"$f":"AVERAGE(KCITempAct[[#This Row],[KCIHigh]:[KCILow]]\n)","v":56.5},{"$f":"IF(KCITempAct[[#This Row],[KCIAve]]<65,(65-KCITempAct[[#This Row],[KCIAve]]),0)","v":8.5},{"$f":"IF(MONTH(KCITempAct[[#This Row],[Date]])=7,0,IF(MONTH(KCITempAct[[#This Row],[Date]])=8,0,KCITempAct[[#This Row],[KCIHDD]]))","v":8.5},{"$f":"SUMPRODUCT((KCINHDD[Month]=MONTH(KCITempAct[[#This Row],[Date]]))*(KCINHDD[Day]=DAY(KCITempAct[[#This Row],[Date]]))*KCINHDD[KCINHDD])","v":17.866666666666667},{"$f":"IF(MONTH(KCITempAct[[#This Row],[Date]])=7,0,IF(MONTH(KCITempAct[[#This Row],[Date]])=8,0,KCITempAct[[#This Row],[KCINHDD]]))","v":17.866666666666667},"Adj HDD and NDD =0 for July and August"]
["2020-03-27",61,51,{"$f":"AVERAGE(KCITempAct[[#This Row],[KCIHigh]:[KCILow]]\n)","v":56},{"$f":"IF(KCITempAct[[#This Row],[KCIAve]]<65,(65-KCITempAct[[#This Row],[KCIAve]]),0)","v":9},{"$f":"IF(MONTH(KCITempAct[[#This Row],[Date]])=7,0,IF(MONTH(KCITempAct[[#This Row],[Date]])=8,0,KCITempAct[[#This Row],[KCIHDD]]))","v":9},{"$f":"SUMPRODUCT((KCINHDD[Month]=MONTH(KCITempAct[[#This Row],[Date]]))*(KCINHDD[Day]=DAY(KCITempAct[[#This Row],[Date]]))*KCINHDD[KCINHDD])","v":17.266666666666666},{"$f":"IF(MONTH(KCITempAct[[#This Row],[Date]])=7,0,IF(MONTH(KCITempAct[[#This Row],[Date]])=8,0,KCITempAct[[#This Row],[KCINHDD]]))","v":17.266666666666666},"Adj HDD and NDD =0 for July and August"]
["2020-03-28",75,46,{"$f":"AVERAGE(KCITempAct[[#This Row],[KCIHigh]:[KCILow]]\n)","v":60.5},{"$f":"IF(KCITempAct[[#This Row],[KCIAve]]<65,(65-KCITempAct[[#This Row],[KCIAve]]),0)","v":4.5},{"$f":"IF(MONTH(KCITempAct[[#This Row],[Date]])=7,0,IF(MONTH(KCITempAct[[#This Row],[Date]])=8,0,KCITempAct[[#This Row],[KCIHDD]]))","v":4.5},{"$f":"SUMPRODUCT((KCINHDD[Month]=MONTH(KCITempAct[[#This Row],[Date]]))*(KCINHDD[Day]=DAY(KCITempAct[[#This Row],[Date]]))*KCINHDD[KCINHDD])","v":16.716666666666665},{"$f":"IF(MONTH(KCITempAct[[#This Row],[Date]])=7,0,IF(MONTH(KCITempAct[[#This Row],[Date]])=8,0,KCITempAct[[#This Row],[KCINHDD]]))","v":16.716666666666665},"Adj HDD and NDD =0 for July and August"]
["2020-03-29",68,43,{"$f":"AVERAGE(KCITempAct[[#This Row],[KCIHigh]:[KCILow]]\n)","v":55.5},{"$f":"IF(KCITempAct[[#This Row],[KCIAve]]<65,(65-KCITempAct[[#This Row],[KCIAve]]),0)","v":9.5},{"$f":"IF(MONTH(KCITempAct[[#This Row],[Date]])=7,0,IF(MONTH(KCITempAct[[#This Row],[Date]])=8,0,KCITempAct[[#This Row],[KCIHDD]]))","v":9.5},{"$f":"SUMPRODUCT((KCINHDD[Month]=MONTH(KCITempAct[[#This Row],[Date]]))*(KCINHDD[Day]=DAY(KCITempAct[[#This Row],[Date]]))*KCINHDD[KCINHDD])","v":14.566666666666666},{"$f":"IF(MONTH(KCITempAct[[#This Row],[Date]])=7,0,IF(MONTH(KCITempAct[[#This Row],[Date]])=8,0,KCITempAct[[#This Row],[KCINHDD]]))","v":14.566666666666666},"Adj HDD and NDD =0 for July and August"]
["2020-03-30",69,43,{"$f":"AVERAGE(KCITempAct[[#This Row],[KCIHigh]:[KCILow]]\n)","v":56},{"$f":"IF(KCITempAct[[#This Row],[KCIAve]]<65,(65-KCITempAct[[#This Row],[KCIAve]]),0)","v":9},{"$f":"IF(MONTH(KCITempAct[[#This Row],[Date]])=7,0,IF(MONTH(KCITempAct[[#This Row],[Date]])=8,0,KCITempAct[[#This Row],[KCIHDD]]))","v":9},{"$f":"SUMPRODUCT((KCINHDD[Month]=MONTH(KCITempAct[[#This Row],[Date]]))*(KCINHDD[Day]=DAY(KCITempAct[[#This Row],[Date]]))*KCINHDD[KCINHDD])","v":13.9},{"$f":"IF(MONTH(KCITempAct[[#This Row],[Date]])=7,0,IF(MONTH(KCITempAct[[#This Row],[Date]])=8,0,KCITempAct[[#This Row],[KCINHDD]]))","v":13.9},"Adj HDD and NDD =0 for July and August"]
["2020-03-31",70,44,{"$f":"AVERAGE(KCITempAct[[#This Row],[KCIHigh]:[KCILow]]\n)","v":57},{"$f":"IF(KCITempAct[[#This Row],[KCIAve]]<65,(65-KCITempAct[[#This Row],[KCIAve]]),0)","v":8},{"$f":"IF(MONTH(KCITempAct[[#This Row],[Date]])=7,0,IF(MONTH(KCITempAct[[#This Row],[Date]])=8,0,KCITempAct[[#This Row],[KCIHDD]]))","v":8},{"$f":"SUMPRODUCT((KCINHDD[Month]=MONTH(KCITempAct[[#This Row],[Date]]))*(KCINHDD[Day]=DAY(KCITempAct[[#This Row],[Date]]))*KCINHDD[KCINHDD])","v":15.366666666666667},{"$f":"IF(MONTH(KCITempAct[[#This Row],[Date]])=7,0,IF(MONTH(KCITempAct[[#This Row],[Date]])=8,0,KCITempAct[[#This Row],[KCINHDD]]))","v":15.366666666666667},"Adj HDD and NDD =0 for July and August"]
["2020-04-01",73,43,{"$f":"AVERAGE(KCITempAct[[#This Row],[KCIHigh]:[KCILow]]\n)","v":58},{"$f":"IF(KCITempAct[[#This Row],[KCIAve]]<65,(65-KCITempAct[[#This Row],[KCIAve]]),0)","v":7},{"$f":"IF(MONTH(KCITempAct[[#This Row],[Date]])=7,0,IF(MONTH(KCITempAct[[#This Row],[Date]])=8,0,KCITempAct[[#This Row],[KCIHDD]]))","v":7},{"$f":"SUMPRODUCT((KCINHDD[Month]=MONTH(KCITempAct[[#This Row],[Date]]))*(KCINHDD[Day]=DAY(KCITempAct[[#This Row],[Date]]))*KCINHDD[KCINHDD])","v":16.066666666666666},{"$f":"IF(MONTH(KCITempAct[[#This Row],[Date]])=7,0,IF(MONTH(KCITempAct[[#This Row],[Date]])=8,0,KCITempAct[[#This Row],[KCINHDD]]))","v":16.066666666666666},"Adj HDD and NDD =0 for July and August"]
["2020-04-02",69,39,{"$f":"AVERAGE(KCITempAct[[#This Row],[KCIHigh]:[KCILow]]\n)","v":54},{"$f":"IF(KCITempAct[[#This Row],[KCIAve]]<65,(65-KCITempAct[[#This Row],[KCIAve]]),0)","v":11},{"$f":"IF(MONTH(KCITempAct[[#This Row],[Date]])=7,0,IF(MONTH(KCITempAct[[#This Row],[Date]])=8,0,KCITempAct[[#This Row],[KCIHDD]]))","v":11},{"$f":"SUMPRODUCT((KCINHDD[Month]=MONTH(KCITempAct[[#This Row],[Date]]))*(KCINHDD[Day]=DAY(KCITempAct[[#This Row],[Date]]))*KCINHDD[KCINHDD])","v":13.633333333333333},{"$f":"IF(MONTH(KCITempAct[[#This Row],[Date]])=7,0,IF(MONTH(KCITempAct[[#This Row],[Date]])=8,0,KCITempAct[[#This Row],[KCINHDD]]))","v":13.633333333333333},"Adj HDD and NDD =0 for July and August"]
["2020-04-03",39,30,{"$f":"AVERAGE(KCITempAct[[#This Row],[KCIHigh]:[KCILow]]\n)","v":34.5},{"$f":"IF(KCITempAct[[#This Row],[KCIAve]]<65,(65-KCITempAct[[#This Row],[KCIAve]]),0)","v":30.5},{"$f":"IF(MONTH(KCITempAct[[#This Row],[Date]])=7,0,IF(MONTH(KCITempAct[[#This Row],[Date]])=8,0,KCITempAct[[#This Row],[KCIHDD]]))","v":30.5},{"$f":"SUMPRODUCT((KCINHDD[Month]=MONTH(KCITempAct[[#This Row],[Date]]))*(KCINHDD[Day]=DAY(KCITempAct[[#This Row],[Date]]))*KCINHDD[KCINHDD])","v":14},{"$f":"IF(MONTH(KCITempAct[[#This Row],[Date]])=7,0,IF(MONTH(KCITempAct[[#This Row],[Date]])=8,0,KCITempAct[[#This Row],[KCINHDD]]))","v":14},"Adj HDD and NDD =0 for July and August"]
["2020-04-04",48,30,{"$f":"AVERAGE(KCITempAct[[#This Row],[KCIHigh]:[KCILow]]\n)","v":39},{"$f":"IF(KCITempAct[[#This Row],[KCIAve]]<65,(65-KCITempAct[[#This Row],[KCIAve]]),0)","v":26},{"$f":"IF(MONTH(KCITempAct[[#This Row],[Date]])=7,0,IF(MONTH(KCITempAct[[#This Row],[Date]])=8,0,KCITempAct[[#This Row],[KCIHDD]]))","v":26},{"$f":"SUMPRODUCT((KCINHDD[Month]=MONTH(KCITempAct[[#This Row],[Date]]))*(KCINHDD[Day]=DAY(KCITempAct[[#This Row],[Date]]))*KCINHDD[KCINHDD])","v":15.95},{"$f":"IF(MONTH(KCITempAct[[#This Row],[Date]])=7,0,IF(MONTH(KCITempAct[[#This Row],[Date]])=8,0,KCITempAct[[#This Row],[KCINHDD]]))","v":15.95},"Adj HDD and NDD =0 for July and August"]
["2020-04-05",61,34,{"$f":"AVERAGE(KCITempAct[[#This Row],[KCIHigh]:[KCILow]]\n)","v":47.5},{"$f":"IF(KCITempAct[[#This Row],[KCIAve]]<65,(65-KCITempAct[[#This Row],[KCIAve]]),0)","v":17.5},{"$f":"IF(MONTH(KCITempAct[[#This Row],[Date]])=7,0,IF(MONTH(KCITempAct[[#This Row],[Date]])=8,0,KCITempAct[[#This Row],[KCIHDD]]))","v":17.5},{"$f":"SUMPRODUCT((KCINHDD[Month]=MONTH(KCITempAct[[#This Row],[Date]]))*(KCINHDD[Day]=DAY(KCITempAct[[#This Row],[Date]]))*KCINHDD[KCINHDD])","v":13.583333333333334},{"$f":"IF(MONTH(KCITempAct[[#This Row],[Date]])=7,0,IF(MONTH(KCITempAct[[#This Row],[Date]])=8,0,KCITempAct[[#This Row],[KCINHDD]]))","v":13.583333333333334},"Adj HDD and NDD =0 for July and August"]
["2020-04-06",67,52,{"$f":"AVERAGE(KCITempAct[[#This Row],[KCIHigh]:[KCILow]]\n)","v":59.5},{"$f":"IF(KCITempAct[[#This Row],[KCIAve]]<65,(65-KCITempAct[[#This Row],[KCIAve]]),0)","v":5.5},{"$f":"IF(MONTH(KCITempAct[[#This Row],[Date]])=7,0,IF(MONTH(KCITempAct[[#This Row],[Date]])=8,0,KCITempAct[[#This Row],[KCIHDD]]))","v":5.5},{"$f":"SUMPRODUCT((KCINHDD[Month]=MONTH(KCITempAct[[#This Row],[Date]]))*(KCINHDD[Day]=DAY(KCITempAct[[#This Row],[Date]]))*KCINHDD[KCINHDD])","v":11.633333333333333},{"$f":"IF(MONTH(KCITempAct[[#This Row],[Date]])=7,0,IF(MONTH(KCITempAct[[#This Row],[Date]])=8,0,KCITempAct[[#This Row],[KCINHDD]]))","v":11.633333333333333},"Adj HDD and NDD =0 for July and August"]
["2020-04-07",80,61,{"$f":"AVERAGE(KCITempAct[[#This Row],[KCIHigh]:[KCILow]]\n)","v":70.5},{"$f":"IF(KCITempAct[[#This Row],[KCIAve]]<65,(65-KCITempAct[[#This Row],[KCIAve]]),0)","v":0},{"$f":"IF(MONTH(KCITempAct[[#This Row],[Date]])=7,0,IF(MONTH(KCITempAct[[#This Row],[Date]])=8,0,KCITempAct[[#This Row],[KCIHDD]]))","v":0},{"$f":"SUMPRODUCT((KCINHDD[Month]=MONTH(KCITempAct[[#This Row],[Date]]))*(KCINHDD[Day]=DAY(KCITempAct[[#This Row],[Date]]))*KCINHDD[KCINHDD])","v":13.083333333333334},{"$f":"IF(MONTH(KCITempAct[[#This Row],[Date]])=7,0,IF(MONTH(KCITempAct[[#This Row],[Date]])=8,0,KCITempAct[[#This Row],[KCINHDD]]))","v":13.083333333333334},"Adj HDD and NDD =0 for July and August"]
["2020-04-08",88,48,{"$f":"AVERAGE(KCITempAct[[#This Row],[KCIHigh]:[KCILow]]\n)","v":68},{"$f":"IF(KCITempAct[[#This Row],[KCIAve]]<65,(65-KCITempAct[[#This Row],[KCIAve]]),0)","v":0},{"$f":"IF(MONTH(KCITempAct[[#This Row],[Date]])=7,0,IF(MONTH(KCITempAct[[#This Row],[Date]])=8,0,KCITempAct[[#This Row],[KCIHDD]]))","v":0},{"$f":"SUMPRODUCT((KCINHDD[Month]=MONTH(KCITempAct[[#This Row],[Date]]))*(KCINHDD[Day]=DAY(KCITempAct[[#This Row],[Date]]))*KCINHDD[KCINHDD])","v":13.666666666666666},{"$f":"IF(MONTH(KCITempAct[[#This Row],[Date]])=7,0,IF(MONTH(KCITempAct[[#This Row],[Date]])=8,0,KCITempAct[[#This Row],[KCINHDD]]))","v":13.666666666666666},"Adj HDD and NDD =0 for July and August"]
["2020-04-09",60,32,{"$f":"AVERAGE(KCITempAct[[#This Row],[KCIHigh]:[KCILow]]\n)","v":46},{"$f":"IF(KCITempAct[[#This Row],[KCIAve]]<65,(65-KCITempAct[[#This Row],[KCIAve]]),0)","v":19},{"$f":"IF(MONTH(KCITempAct[[#This Row],[Date]])=7,0,IF(MONTH(KCITempAct[[#This Row],[Date]])=8,0,KCITempAct[[#This Row],[KCIHDD]]))","v":19},{"$f":"SUMPRODUCT((KCINHDD[Month]=MONTH(KCITempAct[[#This Row],[Date]]))*(KCINHDD[Day]=DAY(KCITempAct[[#This Row],[Date]]))*KCINHDD[KCINHDD])","v":13.05},{"$f":"IF(MONTH(KCITempAct[[#This Row],[Date]])=7,0,IF(MONTH(KCITempAct[[#This Row],[Date]])=8,0,KCITempAct[[#This Row],[KCINHDD]]))","v":13.05},"Adj HDD and NDD =0 for July and August"]
["2020-04-10",55,25,{"$f":"AVERAGE(KCITempAct[[#This Row],[KCIHigh]:[KCILow]]\n)","v":40},{"$f":"IF(KCITempAct[[#This Row],[KCIAve]]<65,(65-KCITempAct[[#This Row],[KCIAve]]),0)","v":25},{"$f":"IF(MONTH(KCITempAct[[#This Row],[Date]])=7,0,IF(MONTH(KCITempAct[[#This Row],[Date]])=8,0,KCITempAct[[#This Row],[KCIHDD]]))","v":25},{"$f":"SUMPRODUCT((KCINHDD[Month]=MONTH(KCITempAct[[#This Row],[Date]]))*(KCINHDD[Day]=DAY(KCITempAct[[#This Row],[Date]]))*KCINHDD[KCINHDD])","v":11.066666666666666},{"$f":"IF(MONTH(KCITempAct[[#This Row],[Date]])=7,0,IF(MONTH(KCITempAct[[#This Row],[Date]])=8,0,KCITempAct[[#This Row],[KCINHDD]]))","v":11.066666666666666},"Adj HDD and NDD =0 for July and August"]
["2020-04-11",74,44,{"$f":"AVERAGE(KCITempAct[[#This Row],[KCIHigh]:[KCILow]]\n)","v":59},{"$f":"IF(KCITempAct[[#This Row],[KCIAve]]<65,(65-KCITempAct[[#This Row],[KCIAve]]),0)","v":6},{"$f":"IF(MONTH(KCITempAct[[#This Row],[Date]])=7,0,IF(MONTH(KCITempAct[[#This Row],[Date]])=8,0,KCITempAct[[#This Row],[KCIHDD]]))","v":6},{"$f":"SUMPRODUCT((KCINHDD[Month]=MONTH(KCITempAct[[#This Row],[Date]]))*(KCINHDD[Day]=DAY(KCITempAct[[#This Row],[Date]]))*KCINHDD[KCINHDD])","v":12.016666666666667},{"$f":"IF(MONTH(KCITempAct[[#This Row],[Date]])=7,0,IF(MONTH(KCITempAct[[#This Row],[Date]])=8,0,KCITempAct[[#This Row],[KCINHDD]]))","v":12.016666666666667},"Adj HDD and NDD =0 for July and August"]
["2020-04-12",63,31,{"$f":"AVERAGE(KCITempAct[[#This Row],[KCIHigh]:[KCILow]]\n)","v":47},{"$f":"IF(KCITempAct[[#This Row],[KCIAve]]<65,(65-KCITempAct[[#This Row],[KCIAve]]),0)","v":18},{"$f":"IF(MONTH(KCITempAct[[#This Row],[Date]])=7,0,IF(MONTH(KCITempAct[[#This Row],[Date]])=8,0,KCITempAct[[#This Row],[KCIHDD]]))","v":18},{"$f":"SUMPRODUCT((KCINHDD[Month]=MONTH(KCITempAct[[#This Row],[Date]]))*(KCINHDD[Day]=DAY(KCITempAct[[#This Row],[Date]]))*KCINHDD[KCINHDD])","v":13.85},{"$f":"IF(MONTH(KCITempAct[[#This Row],[Date]])=7,0,IF(MONTH(KCITempAct[[#This Row],[Date]])=8,0,KCITempAct[[#This Row],[KCINHDD]]))","v":13.85},"Adj HDD and NDD =0 for July and August"]
["2020-04-13",45,27,{"$f":"AVERAGE(KCITempAct[[#This Row],[KCIHigh]:[KCILow]]\n)","v":36},{"$f":"IF(KCITempAct[[#This Row],[KCIAve]]<65,(65-KCITempAct[[#This Row],[KCIAve]]),0)","v":29},{"$f":"IF(MONTH(KCITempAct[[#This Row],[Date]])=7,0,IF(MONTH(KCITempAct[[#This Row],[Date]])=8,0,KCITempAct[[#This Row],[KCIHDD]]))","v":29},{"$f":"SUMPRODUCT((KCINHDD[Month]=MONTH(KCITempAct[[#This Row],[Date]]))*(KCINHDD[Day]=DAY(KCITempAct[[#This Row],[Date]]))*KCINHDD[KCINHDD])","v":12.1},{"$f":"IF(MONTH(KCITempAct[[#This Row],[Date]])=7,0,IF(MONTH(KCITempAct[[#This Row],[Date]])=8,0,KCITempAct[[#This Row],[KCINHDD]]))","v":12.1},"Adj HDD and NDD =0 for July and August"]
["2020-04-14",51,30,{"$f":"AVERAGE(KCITempAct[[#This Row],[KCIHigh]:[KCILow]]\n)","v":40.5},{"$f":"IF(KCITempAct[[#This Row],[KCIAve]]<65,(65-KCITempAct[[#This Row],[KCIAve]]),0)","v":24.5},{"$f":"IF(MONTH(KCITempAct[[#This Row],[Date]])=7,0,IF(MONTH(KCITempAct[[#This Row],[Date]])=8,0,KCITempAct[[#This Row],[KCIHDD]]))","v":24.5},{"$f":"SUMPRODUCT((KCINHDD[Month]=MONTH(KCITempAct[[#This Row],[Date]]))*(KCINHDD[Day]=DAY(KCITempAct[[#This Row],[Date]]))*KCINHDD[KCINHDD])","v":10.199999999999999},{"$f":"IF(MONTH(KCITempAct[[#This Row],[Date]])=7,0,IF(MONTH(KCITempAct[[#This Row],[Date]])=8,0,KCITempAct[[#This Row],[KCINHDD]]))","v":10.199999999999999},"Adj HDD and NDD =0 for July and August"]
["2020-04-15",53,31,{"$f":"AVERAGE(KCITempAct[[#This Row],[KCIHigh]:[KCILow]]\n)","v":42},{"$f":"IF(KCITempAct[[#This Row],[KCIAve]]<65,(65-KCITempAct[[#This Row],[KCIAve]]),0)","v":23},{"$f":"IF(MONTH(KCITempAct[[#This Row],[Date]])=7,0,IF(MONTH(KCITempAct[[#This Row],[Date]])=8,0,KCITempAct[[#This Row],[KCIHDD]]))","v":23},{"$f":"SUMPRODUCT((KCINHDD[Month]=MONTH(KCITempAct[[#This Row],[Date]]))*(KCINHDD[Day]=DAY(KCITempAct[[#This Row],[Date]]))*KCINHDD[KCINHDD])","v":10.533333333333333},{"$f":"IF(MONTH(KCITempAct[[#This Row],[Date]])=7,0,IF(MONTH(KCITempAct[[#This Row],[Date]])=8,0,KCITempAct[[#This Row],[KCINHDD]]))","v":10.533333333333333},"Adj HDD and NDD =0 for July and August"]
["2020-04-16",47,36,{"$f":"AVERAGE(KCITempAct[[#This Row],[KCIHigh]:[KCILow]]\n)","v":41.5},{"$f":"IF(KCITempAct[[#This Row],[KCIAve]]<65,(65-KCITempAct[[#This Row],[KCIAve]]),0)","v":23.5},{"$f":"IF(MONTH(KCITempAct[[#This Row],[Date]])=7,0,IF(MONTH(KCITempAct[[#This Row],[Date]])=8,0,KCITempAct[[#This Row],[KCIHDD]]))","v":23.5},{"$f":"SUMPRODUCT((KCINHDD[Month]=MONTH(KCITempAct[[#This Row],[Date]]))*(KCINHDD[Day]=DAY(KCITempAct[[#This Row],[Date]]))*KCINHDD[KCINHDD])","v":10.483333333333333},{"$f":"IF(MONTH(KCITempAct[[#This Row],[Date]])=7,0,IF(MONTH(KCITempAct[[#This Row],[Date]])=8,0,KCITempAct[[#This Row],[KCINHDD]]))","v":10.483333333333333},"Adj HDD and NDD =0 for July and August"]
["2020-04-17",47,31,{"$f":"AVERAGE(KCITempAct[[#This Row],[KCIHigh]:[KCILow]]\n)","v":39},{"$f":"IF(KCITempAct[[#This Row],[KCIAve]]<65,(65-KCITempAct[[#This Row],[KCIAve]]),0)","v":26},{"$f":"IF(MONTH(KCITempAct[[#This Row],[Date]])=7,0,IF(MONTH(KCITempAct[[#This Row],[Date]])=8,0,KCITempAct[[#This Row],[KCIHDD]]))","v":26},{"$f":"SUMPRODUCT((KCINHDD[Month]=MONTH(KCITempAct[[#This Row],[Date]]))*(KCINHDD[Day]=DAY(KCITempAct[[#This Row],[Date]]))*KCINHDD[KCINHDD])","v":10.5},{"$f":"IF(MONTH(KCITempAct[[#This Row],[Date]])=7,0,IF(MONTH(KCITempAct[[#This Row],[Date]])=8,0,KCITempAct[[#This Row],[KCINHDD]]))","v":10.5},"Adj HDD and NDD =0 for July and August"]
["2020-04-18",63,28,{"$f":"AVERAGE(KCITempAct[[#This Row],[KCIHigh]:[KCILow]]\n)","v":45.5},{"$f":"IF(KCITempAct[[#This Row],[KCIAve]]<65,(65-KCITempAct[[#This Row],[KCIAve]]),0)","v":19.5},{"$f":"IF(MONTH(KCITempAct[[#This Row],[Date]])=7,0,IF(MONTH(KCITempAct[[#This Row],[Date]])=8,0,KCITempAct[[#This Row],[KCIHDD]]))","v":19.5},{"$f":"SUMPRODUCT((KCINHDD[Month]=MONTH(KCITempAct[[#This Row],[Date]]))*(KCINHDD[Day]=DAY(KCITempAct[[#This Row],[Date]]))*KCINHDD[KCINHDD])","v":7.9833333333333334},{"$f":"IF(MONTH(KCITempAct[[#This Row],[Date]])=7,0,IF(MONTH(KCITempAct[[#This Row],[Date]])=8,0,KCITempAct[[#This Row],[KCINHDD]]))","v":7.9833333333333334},"Adj HDD and NDD =0 for July and August"]
["2020-04-19",67,43,{"$f":"AVERAGE(KCITempAct[[#This Row],[KCIHigh]:[KCILow]]\n)","v":55},{"$f":"IF(KCITempAct[[#This Row],[KCIAve]]<65,(65-KCITempAct[[#This Row],[KCIAve]]),0)","v":10},{"$f":"IF(MONTH(KCITempAct[[#This Row],[Date]])=7,0,IF(MONTH(KCITempAct[[#This Row],[Date]])=8,0,KCITempAct[[#This Row],[KCIHDD]]))","v":10},{"$f":"SUMPRODUCT((KCINHDD[Month]=MONTH(KCITempAct[[#This Row],[Date]]))*(KCINHDD[Day]=DAY(KCITempAct[[#This Row],[Date]]))*KCINHDD[KCINHDD])","v":8.1166666666666671},{"$f":"IF(MONTH(KCITempAct[[#This Row],[Date]])=7,0,IF(MONTH(KCITempAct[[#This Row],[Date]])=8,0,KCITempAct[[#This Row],[KCINHDD]]))","v":8.1166666666666671},"Adj HDD and NDD =0 for July and August"]
["2020-04-20",70,44,{"$f":"AVERAGE(KCITempAct[[#This Row],[KCIHigh]:[KCILow]]\n)","v":57},{"$f":"IF(KCITempAct[[#This Row],[KCIAve]]<65,(65-KCITempAct[[#This Row],[KCIAve]]),0)","v":8},{"$f":"IF(MONTH(KCITempAct[[#This Row],[Date]])=7,0,IF(MONTH(KCITempAct[[#This Row],[Date]])=8,0,KCITempAct[[#This Row],[KCIHDD]]))","v":8},{"$f":"SUMPRODUCT((KCINHDD[Month]=MONTH(KCITempAct[[#This Row],[Date]]))*(KCINHDD[Day]=DAY(KCITempAct[[#This Row],[Date]]))*KCINHDD[KCINHDD])","v":9.6999999999999993},{"$f":"IF(MONTH(KCITempAct[[#This Row],[Date]])=7,0,IF(MONTH(KCITempAct[[#This Row],[Date]])=8,0,KCITempAct[[#This Row],[KCINHDD]]))","v":9.6999999999999993},"Adj HDD and NDD =0 for July and August"]
["2020-04-21",71,43,{"$f":"AVERAGE(KCITempAct[[#This Row],[KCIHigh]:[KCILow]]\n)","v":57},{"$f":"IF(KCITempAct[[#This Row],[KCIAve]]<65,(65-KCITempAct[[#This Row],[KCIAve]]),0)","v":8},{"$f":"IF(MONTH(KCITempAct[[#This Row],[Date]])=7,0,IF(MONTH(KCITempAct[[#This Row],[Date]])=8,0,KCITempAct[[#This Row],[KCIHDD]]))","v":8},{"$f":"SUMPRODUCT((KCINHDD[Month]=MONTH(KCITempAct[[#This Row],[Date]]))*(KCINHDD[Day]=DAY(KCITempAct[[#This Row],[Date]]))*KCINHDD[KCINHDD])","v":9.3666666666666671},{"$f":"IF(MONTH(KCITempAct[[#This Row],[Date]])=7,0,IF(MONTH(KCITempAct[[#This Row],[Date]])=8,0,KCITempAct[[#This Row],[KCINHDD]]))","v":9.3666666666666671},"Adj HDD and NDD =0 for July and August"]
["2020-04-22",66,50,{"$f":"AVERAGE(KCITempAct[[#This Row],[KCIHigh]:[KCILow]]\n)","v":58},{"$f":"IF(KCITempAct[[#This Row],[KCIAve]]<65,(65-KCITempAct[[#This Row],[KCIAve]]),0)","v":7},{"$f":"IF(MONTH(KCITempAct[[#This Row],[Date]])=7,0,IF(MONTH(KCITempAct[[#This Row],[Date]])=8,0,KCITempAct[[#This Row],[KCIHDD]]))","v":7},{"$f":"SUMPRODUCT((KCINHDD[Month]=MONTH(KCITempAct[[#This Row],[Date]]))*(KCINHDD[Day]=DAY(KCITempAct[[#This Row],[Date]]))*KCINHDD[KCINHDD])","v":9.4},{"$f":"IF(MONTH(KCITempAct[[#This Row],[Date]])=7,0,IF(MONTH(KCITempAct[[#This Row],[Date]])=8,0,KCITempAct[[#This Row],[KCINHDD]]))","v":9.4},"Adj HDD and NDD =0 for July and August"]
["2020-04-23",75,52,{"$f":"AVERAGE(KCITempAct[[#This Row],[KCIHigh]:[KCILow]]\n)","v":63.5},{"$f":"IF(KCITempAct[[#This Row],[KCIAve]]<65,(65-KCITempAct[[#This Row],[KCIAve]]),0)","v":1.5},{"$f":"IF(MONTH(KCITempAct[[#This Row],[Date]])=7,0,IF(MONTH(KCITempAct[[#This Row],[Date]])=8,0,KCITempAct[[#This Row],[KCIHDD]]))","v":1.5},{"$f":"SUMPRODUCT((KCINHDD[Month]=MONTH(KCITempAct[[#This Row],[Date]]))*(KCINHDD[Day]=DAY(KCITempAct[[#This Row],[Date]]))*KCINHDD[KCINHDD])","v":8.15},{"$f":"IF(MONTH(KCITempAct[[#This Row],[Date]])=7,0,IF(MONTH(KCITempAct[[#This Row],[Date]])=8,0,KCITempAct[[#This Row],[KCINHDD]]))","v":8.15},"Adj HDD and NDD =0 for July and August"]
["2020-04-24",63,53,{"$f":"AVERAGE(KCITempAct[[#This Row],[KCIHigh]:[KCILow]]\n)","v":58},{"$f":"IF(KCITempAct[[#This Row],[KCIAve]]<65,(65-KCITempAct[[#This Row],[KCIAve]]),0)","v":7},{"$f":"IF(MONTH(KCITempAct[[#This Row],[Date]])=7,0,IF(MONTH(KCITempAct[[#This Row],[Date]])=8,0,KCITempAct[[#This Row],[KCIHDD]]))","v":7},{"$f":"SUMPRODUCT((KCINHDD[Month]=MONTH(KCITempAct[[#This Row],[Date]]))*(KCINHDD[Day]=DAY(KCITempAct[[#This Row],[Date]]))*KCINHDD[KCINHDD])","v":7.4},{"$f":"IF(MONTH(KCITempAct[[#This Row],[Date]])=7,0,IF(MONTH(KCITempAct[[#This Row],[Date]])=8,0,KCITempAct[[#This Row],[KCINHDD]]))","v":7.4},"Adj HDD and NDD =0 for July and August"]
["2020-04-25",68,47,{"$f":"AVERAGE(KCITempAct[[#This Row],[KCIHigh]:[KCILow]]\n)","v":57.5},{"$f":"IF(KCITempAct[[#This Row],[KCIAve]]<65,(65-KCITempAct[[#This Row],[KCIAve]]),0)","v":7.5},{"$f":"IF(MONTH(KCITempAct[[#This Row],[Date]])=7,0,IF(MONTH(KCITempAct[[#This Row],[Date]])=8,0,KCITempAct[[#This Row],[KCIHDD]]))","v":7.5},{"$f":"SUMPRODUCT((KCINHDD[Month]=MONTH(KCITempAct[[#This Row],[Date]]))*(KCINHDD[Day]=DAY(KCITempAct[[#This Row],[Date]]))*KCINHDD[KCINHDD])","v":8.2833333333333332},{"$f":"IF(MONTH(KCITempAct[[#This Row],[Date]])=7,0,IF(MONTH(KCITempAct[[#This Row],[Date]])=8,0,KCITempAct[[#This Row],[KCINHDD]]))","v":8.2833333333333332},"Adj HDD and NDD =0 for July and August"]
["2020-04-26",70,43,{"$f":"AVERAGE(KCITempAct[[#This Row],[KCIHigh]:[KCILow]]\n)","v":56.5},{"$f":"IF(KCITempAct[[#This Row],[KCIAve]]<65,(65-KCITempAct[[#This Row],[KCIAve]]),0)","v":8.5},{"$f":"IF(MONTH(KCITempAct[[#This Row],[Date]])=7,0,IF(MONTH(KCITempAct[[#This Row],[Date]])=8,0,KCITempAct[[#This Row],[KCIHDD]]))","v":8.5},{"$f":"SUMPRODUCT((KCINHDD[Month]=MONTH(KCITempAct[[#This Row],[Date]]))*(KCINHDD[Day]=DAY(KCITempAct[[#This Row],[Date]]))*KCINHDD[KCINHDD])","v":9.4833333333333325},{"$f":"IF(MONTH(KCITempAct[[#This Row],[Date]])=7,0,IF(MONTH(KCITempAct[[#This Row],[Date]])=8,0,KCITempAct[[#This Row],[KCINHDD]]))","v":9.4833333333333325},"Adj HDD and NDD =0 for July and August"]
["2020-04-27",75,53,{"$f":"AVERAGE(KCITempAct[[#This Row],[KCIHigh]:[KCILow]]\n)","v":64},{"$f":"IF(KCITempAct[[#This Row],[KCIAve]]<65,(65-KCITempAct[[#This Row],[KCIAve]]),0)","v":1},{"$f":"IF(MONTH(KCITempAct[[#This Row],[Date]])=7,0,IF(MONTH(KCITempAct[[#This Row],[Date]])=8,0,KCITempAct[[#This Row],[KCIHDD]]))","v":1},{"$f":"SUMPRODUCT((KCINHDD[Month]=MONTH(KCITempAct[[#This Row],[Date]]))*(KCINHDD[Day]=DAY(KCITempAct[[#This Row],[Date]]))*KCINHDD[KCINHDD])","v":9.5666666666666664},{"$f":"IF(MONTH(KCITempAct[[#This Row],[Date]])=7,0,IF(MONTH(KCITempAct[[#This Row],[Date]])=8,0,KCITempAct[[#This Row],[KCINHDD]]))","v":9.5666666666666664},"Adj HDD and NDD =0 for July and August"]
["2020-04-28",76,52,{"$f":"AVERAGE(KCITempAct[[#This Row],[KCIHigh]:[KCILow]]\n)","v":64},{"$f":"IF(KCITempAct[[#This Row],[KCIAve]]<65,(65-KCITempAct[[#This Row],[KCIAve]]),0)","v":1},{"$f":"IF(MONTH(KCITempAct[[#This Row],[Date]])=7,0,IF(MONTH(KCITempAct[[#This Row],[Date]])=8,0,KCITempAct[[#This Row],[KCIHDD]]))","v":1},{"$f":"SUMPRODUCT((KCINHDD[Month]=MONTH(KCITempAct[[#This Row],[Date]]))*(KCINHDD[Day]=DAY(KCITempAct[[#This Row],[Date]]))*KCINHDD[KCINHDD])","v":9.25},{"$f":"IF(MONTH(KCITempAct[[#This Row],[Date]])=7,0,IF(MONTH(KCITempAct[[#This Row],[Date]])=8,0,KCITempAct[[#This Row],[KCINHDD]]))","v":9.25},"Adj HDD and NDD =0 for July and August"]
["2020-04-29",70,50,{"$f":"AVERAGE(KCITempAct[[#This Row],[KCIHigh]:[KCILow]]\n)","v":60},{"$f":"IF(KCITempAct[[#This Row],[KCIAve]]<65,(65-KCITempAct[[#This Row],[KCIAve]]),0)","v":5},{"$f":"IF(MONTH(KCITempAct[[#This Row],[Date]])=7,0,IF(MONTH(KCITempAct[[#This Row],[Date]])=8,0,KCITempAct[[#This Row],[KCIHDD]]))","v":5},{"$f":"SUMPRODUCT((KCINHDD[Month]=MONTH(KCITempAct[[#This Row],[Date]]))*(KCINHDD[Day]=DAY(KCITempAct[[#This Row],[Date]]))*KCINHDD[KCINHDD])","v":7.916666666666667},{"$f":"IF(MONTH(KCITempAct[[#This Row],[Date]])=7,0,IF(MONTH(KCITempAct[[#This Row],[Date]])=8,0,KCITempAct[[#This Row],[KCINHDD]]))","v":7.916666666666667},"Adj HDD and NDD =0 for July and August"]
["2020-04-30",74,48,{"$f":"AVERAGE(KCITempAct[[#This Row],[KCIHigh]:[KCILow]]\n)","v":61},{"$f":"IF(KCITempAct[[#This Row],[KCIAve]]<65,(65-KCITempAct[[#This Row],[KCIAve]]),0)","v":4},{"$f":"IF(MONTH(KCITempAct[[#This Row],[Date]])=7,0,IF(MONTH(KCITempAct[[#This Row],[Date]])=8,0,KCITempAct[[#This Row],[KCIHDD]]))","v":4},{"$f":"SUMPRODUCT((KCINHDD[Month]=MONTH(KCITempAct[[#This Row],[Date]]))*(KCINHDD[Day]=DAY(KCITempAct[[#This Row],[Date]]))*KCINHDD[KCINHDD])","v":6.4833333333333334},{"$f":"IF(MONTH(KCITempAct[[#This Row],[Date]])=7,0,IF(MONTH(KCITempAct[[#This Row],[Date]])=8,0,KCITempAct[[#This Row],[KCINHDD]]))","v":6.4833333333333334},"Adj HDD and NDD =0 for July and August"]
["2020-05-01",81,52,{"$f":"AVERAGE(KCITempAct[[#This Row],[KCIHigh]:[KCILow]]\n)","v":66.5},{"$f":"IF(KCITempAct[[#This Row],[KCIAve]]<65,(65-KCITempAct[[#This Row],[KCIAve]]),0)","v":0},{"$f":"IF(MONTH(KCITempAct[[#This Row],[Date]])=7,0,IF(MONTH(KCITempAct[[#This Row],[Date]])=8,0,KCITempAct[[#This Row],[KCIHDD]]))","v":0},{"$f":"SUMPRODUCT((KCINHDD[Month]=MONTH(KCITempAct[[#This Row],[Date]]))*(KCINHDD[Day]=DAY(KCITempAct[[#This Row],[Date]]))*KCINHDD[KCINHDD])","v":7.5666666666666664},{"$f":"IF(MONTH(KCITempAct[[#This Row],[Date]])=7,0,IF(MONTH(KCITempAct[[#This Row],[Date]])=8,0,KCITempAct[[#This Row],[KCINHDD]]))","v":7.5666666666666664},"Adj HDD and NDD =0 for July and August"]
["2020-05-02",81,57,{"$f":"AVERAGE(KCITempAct[[#This Row],[KCIHigh]:[KCILow]]\n)","v":69},{"$f":"IF(KCITempAct[[#This Row],[KCIAve]]<65,(65-KCITempAct[[#This Row],[KCIAve]]),0)","v":0},{"$f":"IF(MONTH(KCITempAct[[#This Row],[Date]])=7,0,IF(MONTH(KCITempAct[[#This Row],[Date]])=8,0,KCITempAct[[#This Row],[KCIHDD]]))","v":0},{"$f":"SUMPRODUCT((KCINHDD[Month]=MONTH(KCITempAct[[#This Row],[Date]]))*(KCINHDD[Day]=DAY(KCITempAct[[#This Row],[Date]]))*KCINHDD[KCINHDD])","v":8.0500000000000007},{"$f":"IF(MONTH(KCITempAct[[#This Row],[Date]])=7,0,IF(MONTH(KCITempAct[[#This Row],[Date]])=8,0,KCITempAct[[#This Row],[KCINHDD]]))","v":8.0500000000000007},"Adj HDD and NDD =0 for July and August"]
["2020-05-03",73,56,{"$f":"AVERAGE(KCITempAct[[#This Row],[KCIHigh]:[KCILow]]\n)","v":64.5},{"$f":"IF(KCITempAct[[#This Row],[KCIAve]]<65,(65-KCITempAct[[#This Row],[KCIAve]]),0)","v":0.5},{"$f":"IF(MONTH(KCITempAct[[#This Row],[Date]])=7,0,IF(MONTH(KCITempAct[[#This Row],[Date]])=8,0,KCITempAct[[#This Row],[KCIHDD]]))","v":0.5},{"$f":"SUMPRODUCT((KCINHDD[Month]=MONTH(KCITempAct[[#This Row],[Date]]))*(KCINHDD[Day]=DAY(KCITempAct[[#This Row],[Date]]))*KCINHDD[KCINHDD])","v":7.0166666666666666},{"$f":"IF(MONTH(KCITempAct[[#This Row],[Date]])=7,0,IF(MONTH(KCITempAct[[#This Row],[Date]])=8,0,KCITempAct[[#This Row],[KCINHDD]]))","v":7.0166666666666666},"Adj HDD and NDD =0 for July and August"]
["2020-05-04",60,51,{"$f":"AVERAGE(KCITempAct[[#This Row],[KCIHigh]:[KCILow]]\n)","v":55.5},{"$f":"IF(KCITempAct[[#This Row],[KCIAve]]<65,(65-KCITempAct[[#This Row],[KCIAve]]),0)","v":9.5},{"$f":"IF(MONTH(KCITempAct[[#This Row],[Date]])=7,0,IF(MONTH(KCITempAct[[#This Row],[Date]])=8,0,KCITempAct[[#This Row],[KCIHDD]]))","v":9.5},{"$f":"SUMPRODUCT((KCINHDD[Month]=MONTH(KCITempAct[[#This Row],[Date]]))*(KCINHDD[Day]=DAY(KCITempAct[[#This Row],[Date]]))*KCINHDD[KCINHDD])","v":5.0333333333333332},{"$f":"IF(MONTH(KCITempAct[[#This Row],[Date]])=7,0,IF(MONTH(KCITempAct[[#This Row],[Date]])=8,0,KCITempAct[[#This Row],[KCINHDD]]))","v":5.0333333333333332},"Adj HDD and NDD =0 for July and August"]
["2020-05-05",71,46,{"$f":"AVERAGE(KCITempAct[[#This Row],[KCIHigh]:[KCILow]]\n)","v":58.5},{"$f":"IF(KCITempAct[[#This Row],[KCIAve]]<65,(65-KCITempAct[[#This Row],[KCIAve]]),0)","v":6.5},{"$f":"IF(MONTH(KCITempAct[[#This Row],[Date]])=7,0,IF(MONTH(KCITempAct[[#This Row],[Date]])=8,0,KCITempAct[[#This Row],[KCIHDD]]))","v":6.5},{"$f":"SUMPRODUCT((KCINHDD[Month]=MONTH(KCITempAct[[#This Row],[Date]]))*(KCINHDD[Day]=DAY(KCITempAct[[#This Row],[Date]]))*KCINHDD[KCINHDD])","v":4.25},{"$f":"IF(MONTH(KCITempAct[[#This Row],[Date]])=7,0,IF(MONTH(KCITempAct[[#This Row],[Date]])=8,0,KCITempAct[[#This Row],[KCINHDD]]))","v":4.25},"Adj HDD and NDD =0 for July and August"]
["2020-05-06",62,42,{"$f":"AVERAGE(KCITempAct[[#This Row],[KCIHigh]:[KCILow]]\n)","v":52},{"$f":"IF(KCITempAct[[#This Row],[KCIAve]]<65,(65-KCITempAct[[#This Row],[KCIAve]]),0)","v":13},{"$f":"IF(MONTH(KCITempAct[[#This Row],[Date]])=7,0,IF(MONTH(KCITempAct[[#This Row],[Date]])=8,0,KCITempAct[[#This Row],[KCIHDD]]))","v":13},{"$f":"SUMPRODUCT((KCINHDD[Month]=MONTH(KCITempAct[[#This Row],[Date]]))*(KCINHDD[Day]=DAY(KCITempAct[[#This Row],[Date]]))*KCINHDD[KCINHDD])","v":3.3833333333333333},{"$f":"IF(MONTH(KCITempAct[[#This Row],[Date]])=7,0,IF(MONTH(KCITempAct[[#This Row],[Date]])=8,0,KCITempAct[[#This Row],[KCINHDD]]))","v":3.3833333333333333},"Adj HDD and NDD =0 for July and August"]
["2020-05-07",63,37,{"$f":"AVERAGE(KCITempAct[[#This Row],[KCIHigh]:[KCILow]]\n)","v":50},{"$f":"IF(KCITempAct[[#This Row],[KCIAve]]<65,(65-KCITempAct[[#This Row],[KCIAve]]),0)","v":15},{"$f":"IF(MONTH(KCITempAct[[#This Row],[Date]])=7,0,IF(MONTH(KCITempAct[[#This Row],[Date]])=8,0,KCITempAct[[#This Row],[KCIHDD]]))","v":15},{"$f":"SUMPRODUCT((KCINHDD[Month]=MONTH(KCITempAct[[#This Row],[Date]]))*(KCINHDD[Day]=DAY(KCITempAct[[#This Row],[Date]]))*KCINHDD[KCINHDD])","v":3.4833333333333334},{"$f":"IF(MONTH(KCITempAct[[#This Row],[Date]])=7,0,IF(MONTH(KCITempAct[[#This Row],[Date]])=8,0,KCITempAct[[#This Row],[KCINHDD]]))","v":3.4833333333333334},"Adj HDD and NDD =0 for July and August"]
["2020-05-08",59,44,{"$f":"AVERAGE(KCITempAct[[#This Row],[KCIHigh]:[KCILow]]\n)","v":51.5},{"$f":"IF(KCITempAct[[#This Row],[KCIAve]]<65,(65-KCITempAct[[#This Row],[KCIAve]]),0)","v":13.5},{"$f":"IF(MONTH(KCITempAct[[#This Row],[Date]])=7,0,IF(MONTH(KCITempAct[[#This Row],[Date]])=8,0,KCITempAct[[#This Row],[KCIHDD]]))","v":13.5},{"$f":"SUMPRODUCT((KCINHDD[Month]=MONTH(KCITempAct[[#This Row],[Date]]))*(KCINHDD[Day]=DAY(KCITempAct[[#This Row],[Date]]))*KCINHDD[KCINHDD])","v":2.4333333333333331},{"$f":"IF(MONTH(KCITempAct[[#This Row],[Date]])=7,0,IF(MONTH(KCITempAct[[#This Row],[Date]])=8,0,KCITempAct[[#This Row],[KCINHDD]]))","v":2.4333333333333331},"Adj HDD and NDD =0 for July and August"]
["2020-05-09",63,34,{"$f":"AVERAGE(KCITempAct[[#This Row],[KCIHigh]:[KCILow]]\n)","v":48.5},{"$f":"IF(KCITempAct[[#This Row],[KCIAve]]<65,(65-KCITempAct[[#This Row],[KCIAve]]),0)","v":16.5},{"$f":"IF(MONTH(KCITempAct[[#This Row],[Date]])=7,0,IF(MONTH(KCITempAct[[#This Row],[Date]])=8,0,KCITempAct[[#This Row],[KCIHDD]]))","v":16.5},{"$f":"SUMPRODUCT((KCINHDD[Month]=MONTH(KCITempAct[[#This Row],[Date]]))*(KCINHDD[Day]=DAY(KCITempAct[[#This Row],[Date]]))*KCINHDD[KCINHDD])","v":4.2166666666666668},{"$f":"IF(MONTH(KCITempAct[[#This Row],[Date]])=7,0,IF(MONTH(KCITempAct[[#This Row],[Date]])=8,0,KCITempAct[[#This Row],[KCINHDD]]))","v":4.2166666666666668},"Adj HDD and NDD =0 for July and August"]
["2020-05-10",60,41,{"$f":"AVERAGE(KCITempAct[[#This Row],[KCIHigh]:[KCILow]]\n)","v":50.5},{"$f":"IF(KCITempAct[[#This Row],[KCIAve]]<65,(65-KCITempAct[[#This Row],[KCIAve]]),0)","v":14.5},{"$f":"IF(MONTH(KCITempAct[[#This Row],[Date]])=7,0,IF(MONTH(KCITempAct[[#This Row],[Date]])=8,0,KCITempAct[[#This Row],[KCIHDD]]))","v":14.5},{"$f":"SUMPRODUCT((KCINHDD[Month]=MONTH(KCITempAct[[#This Row],[Date]]))*(KCINHDD[Day]=DAY(KCITempAct[[#This Row],[Date]]))*KCINHDD[KCINHDD])","v":4.2833333333333332},{"$f":"IF(MONTH(KCITempAct[[#This Row],[Date]])=7,0,IF(MONTH(KCITempAct[[#This Row],[Date]])=8,0,KCITempAct[[#This Row],[KCINHDD]]))","v":4.2833333333333332},"Adj HDD and NDD =0 for July and August"]
["2020-05-11",54,37,{"$f":"AVERAGE(KCITempAct[[#This Row],[KCIHigh]:[KCILow]]\n)","v":45.5},{"$f":"IF(KCITempAct[[#This Row],[KCIAve]]<65,(65-KCITempAct[[#This Row],[KCIAve]]),0)","v":19.5},{"$f":"IF(MONTH(KCITempAct[[#This Row],[Date]])=7,0,IF(MONTH(KCITempAct[[#This Row],[Date]])=8,0,KCITempAct[[#This Row],[KCIHDD]]))","v":19.5},{"$f":"SUMPRODUCT((KCINHDD[Month]=MONTH(KCITempAct[[#This Row],[Date]]))*(KCINHDD[Day]=DAY(KCITempAct[[#This Row],[Date]]))*KCINHDD[KCINHDD])","v":4.7333333333333334},{"$f":"IF(MONTH(KCITempAct[[#This Row],[Date]])=7,0,IF(MONTH(KCITempAct[[#This Row],[Date]])=8,0,KCITempAct[[#This Row],[KCINHDD]]))","v":4.7333333333333334},"Adj HDD and NDD =0 for July and August"]
["2020-05-12",55,42,{"$f":"AVERAGE(KCITempAct[[#This Row],[KCIHigh]:[KCILow]]\n)","v":48.5},{"$f":"IF(KCITempAct[[#This Row],[KCIAve]]<65,(65-KCITempAct[[#This Row],[KCIAve]]),0)","v":16.5},{"$f":"IF(MONTH(KCITempAct[[#This Row],[Date]])=7,0,IF(MONTH(KCITempAct[[#This Row],[Date]])=8,0,KCITempAct[[#This Row],[KCIHDD]]))","v":16.5},{"$f":"SUMPRODUCT((KCINHDD[Month]=MONTH(KCITempAct[[#This Row],[Date]]))*(KCINHDD[Day]=DAY(KCITempAct[[#This Row],[Date]]))*KCINHDD[KCINHDD])","v":5.5333333333333332},{"$f":"IF(MONTH(KCITempAct[[#This Row],[Date]])=7,0,IF(MONTH(KCITempAct[[#This Row],[Date]])=8,0,KCITempAct[[#This Row],[KCINHDD]]))","v":5.5333333333333332},"Adj HDD and NDD =0 for July and August"]
["2020-05-13",63,49,{"$f":"AVERAGE(KCITempAct[[#This Row],[KCIHigh]:[KCILow]]\n)","v":56},{"$f":"IF(KCITempAct[[#This Row],[KCIAve]]<65,(65-KCITempAct[[#This Row],[KCIAve]]),0)","v":9},{"$f":"IF(MONTH(KCITempAct[[#This Row],[Date]])=7,0,IF(MONTH(KCITempAct[[#This Row],[Date]])=8,0,KCITempAct[[#This Row],[KCIHDD]]))","v":9},{"$f":"SUMPRODUCT((KCINHDD[Month]=MONTH(KCITempAct[[#This Row],[Date]]))*(KCINHDD[Day]=DAY(KCITempAct[[#This Row],[Date]]))*KCINHDD[KCINHDD])","v":4.8166666666666664},{"$f":"IF(MONTH(KCITempAct[[#This Row],[Date]])=7,0,IF(MONTH(KCITempAct[[#This Row],[Date]])=8,0,KCITempAct[[#This Row],[KCINHDD]]))","v":4.8166666666666664},"Adj HDD and NDD =0 for July and August"]
["2020-05-14",82,63,{"$f":"AVERAGE(KCITempAct[[#This Row],[KCIHigh]:[KCILow]]\n)","v":72.5},{"$f":"IF(KCITempAct[[#This Row],[KCIAve]]<65,(65-KCITempAct[[#This Row],[KCIAve]]),0)","v":0},{"$f":"IF(MONTH(KCITempAct[[#This Row],[Date]])=7,0,IF(MONTH(KCITempAct[[#This Row],[Date]])=8,0,KCITempAct[[#This Row],[KCIHDD]]))","v":0},{"$f":"SUMPRODUCT((KCINHDD[Month]=MONTH(KCITempAct[[#This Row],[Date]]))*(KCINHDD[Day]=DAY(KCITempAct[[#This Row],[Date]]))*KCINHDD[KCINHDD])","v":5.05},{"$f":"IF(MONTH(KCITempAct[[#This Row],[Date]])=7,0,IF(MONTH(KCITempAct[[#This Row],[Date]])=8,0,KCITempAct[[#This Row],[KCINHDD]]))","v":5.05},"Adj HDD and NDD =0 for July and August"]
["2020-05-15",73,62,{"$f":"AVERAGE(KCITempAct[[#This Row],[KCIHigh]:[KCILow]]\n)","v":67.5},{"$f":"IF(KCITempAct[[#This Row],[KCIAve]]<65,(65-KCITempAct[[#This Row],[KCIAve]]),0)","v":0},{"$f":"IF(MONTH(KCITempAct[[#This Row],[Date]])=7,0,IF(MONTH(KCITempAct[[#This Row],[Date]])=8,0,KCITempAct[[#This Row],[KCIHDD]]))","v":0},{"$f":"SUMPRODUCT((KCINHDD[Month]=MONTH(KCITempAct[[#This Row],[Date]]))*(KCINHDD[Day]=DAY(KCITempAct[[#This Row],[Date]]))*KCINHDD[KCINHDD])","v":3.6},{"$f":"IF(MONTH(KCITempAct[[#This Row],[Date]])=7,0,IF(MONTH(KCITempAct[[#This Row],[Date]])=8,0,KCITempAct[[#This Row],[KCINHDD]]))","v":3.6},"Adj HDD and NDD =0 for July and August"]
["2020-05-16",74,62,{"$f":"AVERAGE(KCITempAct[[#This Row],[KCIHigh]:[KCILow]]\n)","v":68},{"$f":"IF(KCITempAct[[#This Row],[KCIAve]]<65,(65-KCITempAct[[#This Row],[KCIAve]]),0)","v":0},{"$f":"IF(MONTH(KCITempAct[[#This Row],[Date]])=7,0,IF(MONTH(KCITempAct[[#This Row],[Date]])=8,0,KCITempAct[[#This Row],[KCIHDD]]))","v":0},{"$f":"SUMPRODUCT((KCINHDD[Month]=MONTH(KCITempAct[[#This Row],[Date]]))*(KCINHDD[Day]=DAY(KCITempAct[[#This Row],[Date]]))*KCINHDD[KCINHDD])","v":3.35},{"$f":"IF(MONTH(KCITempAct[[#This Row],[Date]])=7,0,IF(MONTH(KCITempAct[[#This Row],[Date]])=8,0,KCITempAct[[#This Row],[KCINHDD]]))","v":3.35},"Adj HDD and NDD =0 for July and August"]
["2020-05-17",69,55,{"$f":"AVERAGE(KCITempAct[[#This Row],[KCIHigh]:[KCILow]]\n)","v":62},{"$f":"IF(KCITempAct[[#This Row],[KCIAve]]<65,(65-KCITempAct[[#This Row],[KCIAve]]),0)","v":3},{"$f":"IF(MONTH(KCITempAct[[#This Row],[Date]])=7,0,IF(MONTH(KCITempAct[[#This Row],[Date]])=8,0,KCITempAct[[#This Row],[KCIHDD]]))","v":3},{"$f":"SUMPRODUCT((KCINHDD[Month]=MONTH(KCITempAct[[#This Row],[Date]]))*(KCINHDD[Day]=DAY(KCITempAct[[#This Row],[Date]]))*KCINHDD[KCINHDD])","v":2.8},{"$f":"IF(MONTH(KCITempAct[[#This Row],[Date]])=7,0,IF(MONTH(KCITempAct[[#This Row],[Date]])=8,0,KCITempAct[[#This Row],[KCINHDD]]))","v":2.8},"Adj HDD and NDD =0 for July and August"]
["2020-05-18",60,54,{"$f":"AVERAGE(KCITempAct[[#This Row],[KCIHigh]:[KCILow]]\n)","v":57},{"$f":"IF(KCITempAct[[#This Row],[KCIAve]]<65,(65-KCITempAct[[#This Row],[KCIAve]]),0)","v":8},{"$f":"IF(MONTH(KCITempAct[[#This Row],[Date]])=7,0,IF(MONTH(KCITempAct[[#This Row],[Date]])=8,0,KCITempAct[[#This Row],[KCIHDD]]))","v":8},{"$f":"SUMPRODUCT((KCINHDD[Month]=MONTH(KCITempAct[[#This Row],[Date]]))*(KCINHDD[Day]=DAY(KCITempAct[[#This Row],[Date]]))*KCINHDD[KCINHDD])","v":2.7},{"$f":"IF(MONTH(KCITempAct[[#This Row],[Date]])=7,0,IF(MONTH(KCITempAct[[#This Row],[Date]])=8,0,KCITempAct[[#This Row],[KCINHDD]]))","v":2.7},"Adj HDD and NDD =0 for July and August"]
["2020-05-19",71,55,{"$f":"AVERAGE(KCITempAct[[#This Row],[KCIHigh]:[KCILow]]\n)","v":63},{"$f":"IF(KCITempAct[[#This Row],[KCIAve]]<65,(65-KCITempAct[[#This Row],[KCIAve]]),0)","v":2},{"$f":"IF(MONTH(KCITempAct[[#This Row],[Date]])=7,0,IF(MONTH(KCITempAct[[#This Row],[Date]])=8,0,KCITempAct[[#This Row],[KCIHDD]]))","v":2},{"$f":"SUMPRODUCT((KCINHDD[Month]=MONTH(KCITempAct[[#This Row],[Date]]))*(KCINHDD[Day]=DAY(KCITempAct[[#This Row],[Date]]))*KCINHDD[KCINHDD])","v":3.35},{"$f":"IF(MONTH(KCITempAct[[#This Row],[Date]])=7,0,IF(MONTH(KCITempAct[[#This Row],[Date]])=8,0,KCITempAct[[#This Row],[KCINHDD]]))","v":3.35},"Adj HDD and NDD =0 for July and August"]
["2020-05-20",70,58,{"$f":"AVERAGE(KCITempAct[[#This Row],[KCIHigh]:[KCILow]]\n)","v":64},{"$f":"IF(KCITempAct[[#This Row],[KCIAve]]<65,(65-KCITempAct[[#This Row],[KCIAve]]),0)","v":1},{"$f":"IF(MONTH(KCITempAct[[#This Row],[Date]])=7,0,IF(MONTH(KCITempAct[[#This Row],[Date]])=8,0,KCITempAct[[#This Row],[KCIHDD]]))","v":1},{"$f":"SUMPRODUCT((KCINHDD[Month]=MONTH(KCITempAct[[#This Row],[Date]]))*(KCINHDD[Day]=DAY(KCITempAct[[#This Row],[Date]]))*KCINHDD[KCINHDD])","v":3.1333333333333333},{"$f":"IF(MONTH(KCITempAct[[#This Row],[Date]])=7,0,IF(MONTH(KCITempAct[[#This Row],[Date]])=8,0,KCITempAct[[#This Row],[KCINHDD]]))","v":3.1333333333333333},"Adj HDD and NDD =0 for July and August"]
["2020-05-21",71,59,{"$f":"AVERAGE(KCITempAct[[#This Row],[KCIHigh]:[KCILow]]\n)","v":65},{"$f":"IF(KCITempAct[[#This Row],[KCIAve]]<65,(65-KCITempAct[[#This Row],[KCIAve]]),0)","v":0},{"$f":"IF(MONTH(KCITempAct[[#This Row],[Date]])=7,0,IF(MONTH(KCITempAct[[#This Row],[Date]])=8,0,KCITempAct[[#This Row],[KCIHDD]]))","v":0},{"$f":"SUMPRODUCT((KCINHDD[Month]=MONTH(KCITempAct[[#This Row],[Date]]))*(KCINHDD[Day]=DAY(KCITempAct[[#This Row],[Date]]))*KCINHDD[KCINHDD])","v":2.6166666666666667},{"$f":"IF(MONTH(KCITempAct[[#This Row],[Date]])=7,0,IF(MONTH(KCITempAct[[#This Row],[Date]])=8,0,KCITempAct[[#This Row],[KCINHDD]]))","v":2.6166666666666667},"Adj HDD and NDD =0 for July and August"]
["2020-05-22",75,60,{"$f":"AVERAGE(KCITempAct[[#This Row],[KCIHigh]:[KCILow]]\n)","v":67.5},{"$f":"IF(KCITempAct[[#This Row],[KCIAve]]<65,(65-KCITempAct[[#This Row],[KCIAve]]),0)","v":0},{"$f":"IF(MONTH(KCITempAct[[#This Row],[Date]])=7,0,IF(MONTH(KCITempAct[[#This Row],[Date]])=8,0,KCITempAct[[#This Row],[KCIHDD]]))","v":0},{"$f":"SUMPRODUCT((KCINHDD[Month]=MONTH(KCITempAct[[#This Row],[Date]]))*(KCINHDD[Day]=DAY(KCITempAct[[#This Row],[Date]]))*KCINHDD[KCINHDD])","v":1.4333333333333333},{"$f":"IF(MONTH(KCITempAct[[#This Row],[Date]])=7,0,IF(MONTH(KCITempAct[[#This Row],[Date]])=8,0,KCITempAct[[#This Row],[KCINHDD]]))","v":1.4333333333333333},"Adj HDD and NDD =0 for July and August"]
["2020-05-23",84,57,{"$f":"AVERAGE(KCITempAct[[#This Row],[KCIHigh]:[KCILow]]\n)","v":70.5},{"$f":"IF(KCITempAct[[#This Row],[KCIAve]]<65,(65-KCITempAct[[#This Row],[KCIAve]]),0)","v":0},{"$f":"IF(MONTH(KCITempAct[[#This Row],[Date]])=7,0,IF(MONTH(KCITempAct[[#This Row],[Date]])=8,0,KCITempAct[[#This Row],[KCIHDD]]))","v":0},{"$f":"SUMPRODUCT((KCINHDD[Month]=MONTH(KCITempAct[[#This Row],[Date]]))*(KCINHDD[Day]=DAY(KCITempAct[[#This Row],[Date]]))*KCINHDD[KCINHDD])","v":1.5666666666666667},{"$f":"IF(MONTH(KCITempAct[[#This Row],[Date]])=7,0,IF(MONTH(KCITempAct[[#This Row],[Date]])=8,0,KCITempAct[[#This Row],[KCINHDD]]))","v":1.5666666666666667},"Adj HDD and NDD =0 for July and August"]
["2020-05-24",86,65,{"$f":"AVERAGE(KCITempAct[[#This Row],[KCIHigh]:[KCILow]]\n)","v":75.5},{"$f":"IF(KCITempAct[[#This Row],[KCIAve]]<65,(65-KCITempAct[[#This Row],[KCIAve]]),0)","v":0},{"$f":"IF(MONTH(KCITempAct[[#This Row],[Date]])=7,0,IF(MONTH(KCITempAct[[#This Row],[Date]])=8,0,KCITempAct[[#This Row],[KCIHDD]]))","v":0},{"$f":"SUMPRODUCT((KCINHDD[Month]=MONTH(KCITempAct[[#This Row],[Date]]))*(KCINHDD[Day]=DAY(KCITempAct[[#This Row],[Date]]))*KCINHDD[KCINHDD])","v":2.2999999999999998},{"$f":"IF(MONTH(KCITempAct[[#This Row],[Date]])=7,0,IF(MONTH(KCITempAct[[#This Row],[Date]])=8,0,KCITempAct[[#This Row],[KCINHDD]]))","v":2.2999999999999998},"Adj HDD and NDD =0 for July and August"]
["2020-05-25",81,67,{"$f":"AVERAGE(KCITempAct[[#This Row],[KCIHigh]:[KCILow]]\n)","v":74},{"$f":"IF(KCITempAct[[#This Row],[KCIAve]]<65,(65-KCITempAct[[#This Row],[KCIAve]]),0)","v":0},{"$f":"IF(MONTH(KCITempAct[[#This Row],[Date]])=7,0,IF(MONTH(KCITempAct[[#This Row],[Date]])=8,0,KCITempAct[[#This Row],[KCIHDD]]))","v":0},{"$f":"SUMPRODUCT((KCINHDD[Month]=MONTH(KCITempAct[[#This Row],[Date]]))*(KCINHDD[Day]=DAY(KCITempAct[[#This Row],[Date]]))*KCINHDD[KCINHDD])","v":1.8833333333333333},{"$f":"IF(MONTH(KCITempAct[[#This Row],[Date]])=7,0,IF(MONTH(KCITempAct[[#This Row],[Date]])=8,0,KCITempAct[[#This Row],[KCINHDD]]))","v":1.8833333333333333},"Adj HDD and NDD =0 for July and August"]
["2020-05-26",76,62,{"$f":"AVERAGE(KCITempAct[[#This Row],[KCIHigh]:[KCILow]]\n)","v":69},{"$f":"IF(KCITempAct[[#This Row],[KCIAve]]<65,(65-KCITempAct[[#This Row],[KCIAve]]),0)","v":0},{"$f":"IF(MONTH(KCITempAct[[#This Row],[Date]])=7,0,IF(MONTH(KCITempAct[[#This Row],[Date]])=8,0,KCITempAct[[#This Row],[KCIHDD]]))","v":0},{"$f":"SUMPRODUCT((KCINHDD[Month]=MONTH(KCITempAct[[#This Row],[Date]]))*(KCINHDD[Day]=DAY(KCITempAct[[#This Row],[Date]]))*KCINHDD[KCINHDD])","v":2.0333333333333332},{"$f":"IF(MONTH(KCITempAct[[#This Row],[Date]])=7,0,IF(MONTH(KCITempAct[[#This Row],[Date]])=8,0,KCITempAct[[#This Row],[KCINHDD]]))","v":2.0333333333333332},"Adj HDD and NDD =0 for July and August"]
["2020-05-27",76,61,{"$f":"AVERAGE(KCITempAct[[#This Row],[KCIHigh]:[KCILow]]\n)","v":68.5},{"$f":"IF(KCITempAct[[#This Row],[KCIAve]]<65,(65-KCITempAct[[#This Row],[KCIAve]]),0)","v":0},{"$f":"IF(MONTH(KCITempAct[[#This Row],[Date]])=7,0,IF(MONTH(KCITempAct[[#This Row],[Date]])=8,0,KCITempAct[[#This Row],[KCIHDD]]))","v":0},{"$f":"SUMPRODUCT((KCINHDD[Month]=MONTH(KCITempAct[[#This Row],[Date]]))*(KCINHDD[Day]=DAY(KCITempAct[[#This Row],[Date]]))*KCINHDD[KCINHDD])","v":1.7333333333333334},{"$f":"IF(MONTH(KCITempAct[[#This Row],[Date]])=7,0,IF(MONTH(KCITempAct[[#This Row],[Date]])=8,0,KCITempAct[[#This Row],[KCINHDD]]))","v":1.7333333333333334},"Adj HDD and NDD =0 for July and August"]
["2020-05-28",75,54,{"$f":"AVERAGE(KCITempAct[[#This Row],[KCIHigh]:[KCILow]]\n)","v":64.5},{"$f":"IF(KCITempAct[[#This Row],[KCIAve]]<65,(65-KCITempAct[[#This Row],[KCIAve]]),0)","v":0.5},{"$f":"IF(MONTH(KCITempAct[[#This Row],[Date]])=7,0,IF(MONTH(KCITempAct[[#This Row],[Date]])=8,0,KCITempAct[[#This Row],[KCIHDD]]))","v":0.5},{"$f":"SUMPRODUCT((KCINHDD[Month]=MONTH(KCITempAct[[#This Row],[Date]]))*(KCINHDD[Day]=DAY(KCITempAct[[#This Row],[Date]]))*KCINHDD[KCINHDD])","v":1.85},{"$f":"IF(MONTH(KCITempAct[[#This Row],[Date]])=7,0,IF(MONTH(KCITempAct[[#This Row],[Date]])=8,0,KCITempAct[[#This Row],[KCINHDD]]))","v":1.85},"Adj HDD and NDD =0 for July and August"]
["2020-05-29",77,55,{"$f":"AVERAGE(KCITempAct[[#This Row],[KCIHigh]:[KCILow]]\n)","v":66},{"$f":"IF(KCITempAct[[#This Row],[KCIAve]]<65,(65-KCITempAct[[#This Row],[KCIAve]]),0)","v":0},{"$f":"IF(MONTH(KCITempAct[[#This Row],[Date]])=7,0,IF(MONTH(KCITempAct[[#This Row],[Date]])=8,0,KCITempAct[[#This Row],[KCIHDD]]))","v":0},{"$f":"SUMPRODUCT((KCINHDD[Month]=MONTH(KCITempAct[[#This Row],[Date]]))*(KCINHDD[Day]=DAY(KCITempAct[[#This Row],[Date]]))*KCINHDD[KCINHDD])","v":1.1666666666666667},{"$f":"IF(MONTH(KCITempAct[[#This Row],[Date]])=7,0,IF(MONTH(KCITempAct[[#This Row],[Date]])=8,0,KCITempAct[[#This Row],[KCINHDD]]))","v":1.1666666666666667},"Adj HDD and NDD =0 for July and August"]
["2020-05-30",75,57,{"$f":"AVERAGE(KCITempAct[[#This Row],[KCIHigh]:[KCILow]]\n)","v":66},{"$f":"IF(KCITempAct[[#This Row],[KCIAve]]<65,(65-KCITempAct[[#This Row],[KCIAve]]),0)","v":0},{"$f":"IF(MONTH(KCITempAct[[#This Row],[Date]])=7,0,IF(MONTH(KCITempAct[[#This Row],[Date]])=8,0,KCITempAct[[#This Row],[KCIHDD]]))","v":0},{"$f":"SUMPRODUCT((KCINHDD[Month]=MONTH(KCITempAct[[#This Row],[Date]]))*(KCINHDD[Day]=DAY(KCITempAct[[#This Row],[Date]]))*KCINHDD[KCINHDD])","v":0.8},{"$f":"IF(MONTH(KCITempAct[[#This Row],[Date]])=7,0,IF(MONTH(KCITempAct[[#This Row],[Date]])=8,0,KCITempAct[[#This Row],[KCINHDD]]))","v":0.8},"Adj HDD and NDD =0 for July and August"]
["2020-05-31",79,60,{"$f":"AVERAGE(KCITempAct[[#This Row],[KCIHigh]:[KCILow]]\n)","v":69.5},{"$f":"IF(KCITempAct[[#This Row],[KCIAve]]<65,(65-KCITempAct[[#This Row],[KCIAve]]),0)","v":0},{"$f":"IF(MONTH(KCITempAct[[#This Row],[Date]])=7,0,IF(MONTH(KCITempAct[[#This Row],[Date]])=8,0,KCITempAct[[#This Row],[KCIHDD]]))","v":0},{"$f":"SUMPRODUCT((KCINHDD[Month]=MONTH(KCITempAct[[#This Row],[Date]]))*(KCINHDD[Day]=DAY(KCITempAct[[#This Row],[Date]]))*KCINHDD[KCINHDD])","v":1.2},{"$f":"IF(MONTH(KCITempAct[[#This Row],[Date]])=7,0,IF(MONTH(KCITempAct[[#This Row],[Date]])=8,0,KCITempAct[[#This Row],[KCINHDD]]))","v":1.2},"Adj HDD and NDD =0 for July and August"]
["2020-06-01",85,66,{"$f":"AVERAGE(KCITempAct[[#This Row],[KCIHigh]:[KCILow]]\n)","v":75.5},{"$f":"IF(KCITempAct[[#This Row],[KCIAve]]<65,(65-KCITempAct[[#This Row],[KCIAve]]),0)","v":0},{"$f":"IF(MONTH(KCITempAct[[#This Row],[Date]])=7,0,IF(MONTH(KCITempAct[[#This Row],[Date]])=8,0,KCITempAct[[#This Row],[KCIHDD]]))","v":0},{"$f":"SUMPRODUCT((KCINHDD[Month]=MONTH(KCITempAct[[#This Row],[Date]]))*(KCINHDD[Day]=DAY(KCITempAct[[#This Row],[Date]]))*KCINHDD[KCINHDD])","v":0.8833333333333333},{"$f":"IF(MONTH(KCITempAct[[#This Row],[Date]])=7,0,IF(MONTH(KCITempAct[[#This Row],[Date]])=8,0,KCITempAct[[#This Row],[KCINHDD]]))","v":0.8833333333333333},"Adj HDD and NDD =0 for July and August"]
["2020-06-02",87,65,{"$f":"AVERAGE(KCITempAct[[#This Row],[KCIHigh]:[KCILow]]\n)","v":76},{"$f":"IF(KCITempAct[[#This Row],[KCIAve]]<65,(65-KCITempAct[[#This Row],[KCIAve]]),0)","v":0},{"$f":"IF(MONTH(KCITempAct[[#This Row],[Date]])=7,0,IF(MONTH(KCITempAct[[#This Row],[Date]])=8,0,KCITempAct[[#This Row],[KCIHDD]]))","v":0},{"$f":"SUMPRODUCT((KCINHDD[Month]=MONTH(KCITempAct[[#This Row],[Date]]))*(KCINHDD[Day]=DAY(KCITempAct[[#This Row],[Date]]))*KCINHDD[KCINHDD])","v":0.65},{"$f":"IF(MONTH(KCITempAct[[#This Row],[Date]])=7,0,IF(MONTH(KCITempAct[[#This Row],[Date]])=8,0,KCITempAct[[#This Row],[KCINHDD]]))","v":0.65},"Adj HDD and NDD =0 for July and August"]
["2020-06-03",91,72,{"$f":"AVERAGE(KCITempAct[[#This Row],[KCIHigh]:[KCILow]]\n)","v":81.5},{"$f":"IF(KCITempAct[[#This Row],[KCIAve]]<65,(65-KCITempAct[[#This Row],[KCIAve]]),0)","v":0},{"$f":"IF(MONTH(KCITempAct[[#This Row],[Date]])=7,0,IF(MONTH(KCITempAct[[#This Row],[Date]])=8,0,KCITempAct[[#This Row],[KCIHDD]]))","v":0},{"$f":"SUMPRODUCT((KCINHDD[Month]=MONTH(KCITempAct[[#This Row],[Date]]))*(KCINHDD[Day]=DAY(KCITempAct[[#This Row],[Date]]))*KCINHDD[KCINHDD])","v":0.91666666666666663},{"$f":"IF(MONTH(KCITempAct[[#This Row],[Date]])=7,0,IF(MONTH(KCITempAct[[#This Row],[Date]])=8,0,KCITempAct[[#This Row],[KCINHDD]]))","v":0.91666666666666663},"Adj HDD and NDD =0 for July and August"]
["2020-06-04",87,65,{"$f":"AVERAGE(KCITempAct[[#This Row],[KCIHigh]:[KCILow]]\n)","v":76},{"$f":"IF(KCITempAct[[#This Row],[KCIAve]]<65,(65-KCITempAct[[#This Row],[KCIAve]]),0)","v":0},{"$f":"IF(MONTH(KCITempAct[[#This Row],[Date]])=7,0,IF(MONTH(KCITempAct[[#This Row],[Date]])=8,0,KCITempAct[[#This Row],[KCIHDD]]))","v":0},{"$f":"SUMPRODUCT((KCINHDD[Month]=MONTH(KCITempAct[[#This Row],[Date]]))*(KCINHDD[Day]=DAY(KCITempAct[[#This Row],[Date]]))*KCINHDD[KCINHDD])","v":1.2},{"$f":"IF(MONTH(KCITempAct[[#This Row],[Date]])=7,0,IF(MONTH(KCITempAct[[#This Row],[Date]])=8,0,KCITempAct[[#This Row],[KCINHDD]]))","v":1.2},"Adj HDD and NDD =0 for July and August"]
["2020-06-05",89,66,{"$f":"AVERAGE(KCITempAct[[#This Row],[KCIHigh]:[KCILow]]\n)","v":77.5},{"$f":"IF(KCITempAct[[#This Row],[KCIAve]]<65,(65-KCITempAct[[#This Row],[KCIAve]]),0)","v":0},{"$f":"IF(MONTH(KCITempAct[[#This Row],[Date]])=7,0,IF(MONTH(KCITempAct[[#This Row],[Date]])=8,0,KCITempAct[[#This Row],[KCIHDD]]))","v":0},{"$f":"SUMPRODUCT((KCINHDD[Month]=MONTH(KCITempAct[[#This Row],[Date]]))*(KCINHDD[Day]=DAY(KCITempAct[[#This Row],[Date]]))*KCINHDD[KCINHDD])","v":0.68333333333333335},{"$f":"IF(MONTH(KCITempAct[[#This Row],[Date]])=7,0,IF(MONTH(KCITempAct[[#This Row],[Date]])=8,0,KCITempAct[[#This Row],[KCINHDD]]))","v":0.68333333333333335},"Adj HDD and NDD =0 for July and August"]
["2020-06-06",92,72,{"$f":"AVERAGE(KCITempAct[[#This Row],[KCIHigh]:[KCILow]]\n)","v":82},{"$f":"IF(KCITempAct[[#This Row],[KCIAve]]<65,(65-KCITempAct[[#This Row],[KCIAve]]),0)","v":0},{"$f":"IF(MONTH(KCITempAct[[#This Row],[Date]])=7,0,IF(MONTH(KCITempAct[[#This Row],[Date]])=8,0,KCITempAct[[#This Row],[KCIHDD]]))","v":0},{"$f":"SUMPRODUCT((KCINHDD[Month]=MONTH(KCITempAct[[#This Row],[Date]]))*(KCINHDD[Day]=DAY(KCITempAct[[#This Row],[Date]]))*KCINHDD[KCINHDD])","v":0.31666666666666665},{"$f":"IF(MONTH(KCITempAct[[#This Row],[Date]])=7,0,IF(MONTH(KCITempAct[[#This Row],[Date]])=8,0,KCITempAct[[#This Row],[KCINHDD]]))","v":0.31666666666666665},"Adj HDD and NDD =0 for July and August"]
["2020-06-07",91,72,{"$f":"AVERAGE(KCITempAct[[#This Row],[KCIHigh]:[KCILow]]\n)","v":81.5},{"$f":"IF(KCITempAct[[#This Row],[KCIAve]]<65,(65-KCITempAct[[#This Row],[KCIAve]]),0)","v":0},{"$f":"IF(MONTH(KCITempAct[[#This Row],[Date]])=7,0,IF(MONTH(KCITempAct[[#This Row],[Date]])=8,0,KCITempAct[[#This Row],[KCIHDD]]))","v":0},{"$f":"SUMPRODUCT((KCINHDD[Month]=MONTH(KCITempAct[[#This Row],[Date]]))*(KCINHDD[Day]=DAY(KCITempAct[[#This Row],[Date]]))*KCINHDD[KCINHDD])","v":0.3},{"$f":"IF(MONTH(KCITempAct[[#This Row],[Date]])=7,0,IF(MONTH(KCITempAct[[#This Row],[Date]])=8,0,KCITempAct[[#This Row],[KCINHDD]]))","v":0.3},"Adj HDD and NDD =0 for July and August"]
["2020-06-08",91,73,{"$f":"AVERAGE(KCITempAct[[#This Row],[KCIHigh]:[KCILow]]\n)","v":82},{"$f":"IF(KCITempAct[[#This Row],[KCIAve]]<65,(65-KCITempAct[[#This Row],[KCIAve]]),0)","v":0},{"$f":"IF(MONTH(KCITempAct[[#This Row],[Date]])=7,0,IF(MONTH(KCITempAct[[#This Row],[Date]])=8,0,KCITempAct[[#This Row],[KCIHDD]]))","v":0},{"$f":"SUMPRODUCT((KCINHDD[Month]=MONTH(KCITempAct[[#This Row],[Date]]))*(KCINHDD[Day]=DAY(KCITempAct[[#This Row],[Date]]))*KCINHDD[KCINHDD])","v":0.21666666666666667},{"$f":"IF(MONTH(KCITempAct[[#This Row],[Date]])=7,0,IF(MONTH(KCITempAct[[#This Row],[Date]])=8,0,KCITempAct[[#This Row],[KCINHDD]]))","v":0.21666666666666667},"Adj HDD and NDD =0 for July and August"]
["2020-06-09",90,65,{"$f":"AVERAGE(KCITempAct[[#This Row],[KCIHigh]:[KCILow]]\n)","v":77.5},{"$f":"IF(KCITempAct[[#This Row],[KCIAve]]<65,(65-KCITempAct[[#This Row],[KCIAve]]),0)","v":0},{"$f":"IF(MONTH(KCITempAct[[#This Row],[Date]])=7,0,IF(MONTH(KCITempAct[[#This Row],[Date]])=8,0,KCITempAct[[#This Row],[KCIHDD]]))","v":0},{"$f":"SUMPRODUCT((KCINHDD[Month]=MONTH(KCITempAct[[#This Row],[Date]]))*(KCINHDD[Day]=DAY(KCITempAct[[#This Row],[Date]]))*KCINHDD[KCINHDD])","v":0.16666666666666666},{"$f":"IF(MONTH(KCITempAct[[#This Row],[Date]])=7,0,IF(MONTH(KCITempAct[[#This Row],[Date]])=8,0,KCITempAct[[#This Row],[KCINHDD]]))","v":0.16666666666666666},"Adj HDD and NDD =0 for July and August"]
["2020-06-10",76,58,{"$f":"AVERAGE(KCITempAct[[#This Row],[KCIHigh]:[KCILow]]\n)","v":67},{"$f":"IF(KCITempAct[[#This Row],[KCIAve]]<65,(65-KCITempAct[[#This Row],[KCIAve]]),0)","v":0},{"$f":"IF(MONTH(KCITempAct[[#This Row],[Date]])=7,0,IF(MONTH(KCITempAct[[#This Row],[Date]])=8,0,KCITempAct[[#This Row],[KCIHDD]]))","v":0},{"$f":"SUMPRODUCT((KCINHDD[Month]=MONTH(KCITempAct[[#This Row],[Date]]))*(KCINHDD[Day]=DAY(KCITempAct[[#This Row],[Date]]))*KCINHDD[KCINHDD])","v":3.3333333333333333E-2},{"$f":"IF(MONTH(KCITempAct[[#This Row],[Date]])=7,0,IF(MONTH(KCITempAct[[#This Row],[Date]])=8,0,KCITempAct[[#This Row],[KCINHDD]]))","v":3.3333333333333333E-2},"Adj HDD and NDD =0 for July and August"]
["2020-06-11",87,52,{"$f":"AVERAGE(KCITempAct[[#This Row],[KCIHigh]:[KCILow]]\n)","v":69.5},{"$f":"IF(KCITempAct[[#This Row],[KCIAve]]<65,(65-KCITempAct[[#This Row],[KCIAve]]),0)","v":0},{"$f":"IF(MONTH(KCITempAct[[#This Row],[Date]])=7,0,IF(MONTH(KCITempAct[[#This Row],[Date]])=8,0,KCITempAct[[#This Row],[KCIHDD]]))","v":0},{"$f":"SUMPRODUCT((KCINHDD[Month]=MONTH(KCITempAct[[#This Row],[Date]]))*(KCINHDD[Day]=DAY(KCITempAct[[#This Row],[Date]]))*KCINHDD[KCINHDD])","v":0.05},{"$f":"IF(MONTH(KCITempAct[[#This Row],[Date]])=7,0,IF(MONTH(KCITempAct[[#This Row],[Date]])=8,0,KCITempAct[[#This Row],[KCINHDD]]))","v":0.05},"Adj HDD and NDD =0 for July and August"]
["2020-06-12",89,64,{"$f":"AVERAGE(KCITempAct[[#This Row],[KCIHigh]:[KCILow]]\n)","v":76.5},{"$f":"IF(KCITempAct[[#This Row],[KCIAve]]<65,(65-KCITempAct[[#This Row],[KCIAve]]),0)","v":0},{"$f":"IF(MONTH(KCITempAct[[#This Row],[Date]])=7,0,IF(MONTH(KCITempAct[[#This Row],[Date]])=8,0,KCITempAct[[#This Row],[KCIHDD]]))","v":0},{"$f":"SUMPRODUCT((KCINHDD[Month]=MONTH(KCITempAct[[#This Row],[Date]]))*(KCINHDD[Day]=DAY(KCITempAct[[#This Row],[Date]]))*KCINHDD[KCINHDD])","v":3.3333333333333333E-2},{"$f":"IF(MONTH(KCITempAct[[#This Row],[Date]])=7,0,IF(MONTH(KCITempAct[[#This Row],[Date]])=8,0,KCITempAct[[#This Row],[KCINHDD]]))","v":3.3333333333333333E-2},"Adj HDD and NDD =0 for July and August"]
["2020-06-13",90,69,{"$f":"AVERAGE(KCITempAct[[#This Row],[KCIHigh]:[KCILow]]\n)","v":79.5},{"$f":"IF(KCITempAct[[#This Row],[KCIAve]]<65,(65-KCITempAct[[#This Row],[KCIAve]]),0)","v":0},{"$f":"IF(MONTH(KCITempAct[[#This Row],[Date]])=7,0,IF(MONTH(KCITempAct[[#This Row],[Date]])=8,0,KCITempAct[[#This Row],[KCIHDD]]))","v":0},{"$f":"SUMPRODUCT((KCINHDD[Month]=MONTH(KCITempAct[[#This Row],[Date]]))*(KCINHDD[Day]=DAY(KCITempAct[[#This Row],[Date]]))*KCINHDD[KCINHDD])","v":0.05},{"$f":"IF(MONTH(KCITempAct[[#This Row],[Date]])=7,0,IF(MONTH(KCITempAct[[#This Row],[Date]])=8,0,KCITempAct[[#This Row],[KCINHDD]]))","v":0.05},"Adj HDD and NDD =0 for July and August"]
["2020-06-14",91,71,{"$f":"AVERAGE(KCITempAct[[#This Row],[KCIHigh]:[KCILow]]\n)","v":81},{"$f":"IF(KCITempAct[[#This Row],[KCIAve]]<65,(65-KCITempAct[[#This Row],[KCIAve]]),0)","v":0},{"$f":"IF(MONTH(KCITempAct[[#This Row],[Date]])=7,0,IF(MONTH(KCITempAct[[#This Row],[Date]])=8,0,KCITempAct[[#This Row],[KCIHDD]]))","v":0},{"$f":"SUMPRODUCT((KCINHDD[Month]=MONTH(KCITempAct[[#This Row],[Date]]))*(KCINHDD[Day]=DAY(KCITempAct[[#This Row],[Date]]))*KCINHDD[KCINHDD])","v":0},{"$f":"IF(MONTH(KCITempAct[[#This Row],[Date]])=7,0,IF(MONTH(KCITempAct[[#This Row],[Date]])=8,0,KCITempAct[[#This Row],[KCINHDD]]))","v":0},"Adj HDD and NDD =0 for July and August"]
["2020-06-15",91,71,{"$f":"AVERAGE(KCITempAct[[#This Row],[KCIHigh]:[KCILow]]\n)","v":81},{"$f":"IF(KCITempAct[[#This Row],[KCIAve]]<65,(65-KCITempAct[[#This Row],[KCIAve]]),0)","v":0},{"$f":"IF(MONTH(KCITempAct[[#This Row],[Date]])=7,0,IF(MONTH(KCITempAct[[#This Row],[Date]])=8,0,KCITempAct[[#This Row],[KCIHDD]]))","v":0},{"$f":"SUMPRODUCT((KCINHDD[Month]=MONTH(KCITempAct[[#This Row],[Date]]))*(KCINHDD[Day]=DAY(KCITempAct[[#This Row],[Date]]))*KCINHDD[KCINHDD])","v":0},{"$f":"IF(MONTH(KCITempAct[[#This Row],[Date]])=7,0,IF(MONTH(KCITempAct[[#This Row],[Date]])=8,0,KCITempAct[[#This Row],[KCINHDD]]))","v":0},"Adj HDD and NDD =0 for July and August"]
["2020-06-16",90,70,{"$f":"AVERAGE(KCITempAct[[#This Row],[KCIHigh]:[KCILow]]\n)","v":80},{"$f":"IF(KCITempAct[[#This Row],[KCIAve]]<65,(65-KCITempAct[[#This Row],[KCIAve]]),0)","v":0},{"$f":"IF(MONTH(KCITempAct[[#This Row],[Date]])=7,0,IF(MONTH(KCITempAct[[#This Row],[Date]])=8,0,KCITempAct[[#This Row],[KCIHDD]]))","v":0},{"$f":"SUMPRODUCT((KCINHDD[Month]=MONTH(KCITempAct[[#This Row],[Date]]))*(KCINHDD[Day]=DAY(KCITempAct[[#This Row],[Date]]))*KCINHDD[KCINHDD])","v":0.25},{"$f":"IF(MONTH(KCITempAct[[#This Row],[Date]])=7,0,IF(MONTH(KCITempAct[[#This Row],[Date]])=8,0,KCITempAct[[#This Row],[KCINHDD]]))","v":0.25},"Adj HDD and NDD =0 for July and August"]
["2020-06-17",89,69,{"$f":"AVERAGE(KCITempAct[[#This Row],[KCIHigh]:[KCILow]]\n)","v":79},{"$f":"IF(KCITempAct[[#This Row],[KCIAve]]<65,(65-KCITempAct[[#This Row],[KCIAve]]),0)","v":0},{"$f":"IF(MONTH(KCITempAct[[#This Row],[Date]])=7,0,IF(MONTH(KCITempAct[[#This Row],[Date]])=8,0,KCITempAct[[#This Row],[KCIHDD]]))","v":0},{"$f":"SUMPRODUCT((KCINHDD[Month]=MONTH(KCITempAct[[#This Row],[Date]]))*(KCINHDD[Day]=DAY(KCITempAct[[#This Row],[Date]]))*KCINHDD[KCINHDD])","v":0.25},{"$f":"IF(MONTH(KCITempAct[[#This Row],[Date]])=7,0,IF(MONTH(KCITempAct[[#This Row],[Date]])=8,0,KCITempAct[[#This Row],[KCINHDD]]))","v":0.25},"Adj HDD and NDD =0 for July and August"]
["2020-06-18",91,71,{"$f":"AVERAGE(KCITempAct[[#This Row],[KCIHigh]:[KCILow]]\n)","v":81},{"$f":"IF(KCITempAct[[#This Row],[KCIAve]]<65,(65-KCITempAct[[#This Row],[KCIAve]]),0)","v":0},{"$f":"IF(MONTH(KCITempAct[[#This Row],[Date]])=7,0,IF(MONTH(KCITempAct[[#This Row],[Date]])=8,0,KCITempAct[[#This Row],[KCIHDD]]))","v":0},{"$f":"SUMPRODUCT((KCINHDD[Month]=MONTH(KCITempAct[[#This Row],[Date]]))*(KCINHDD[Day]=DAY(KCITempAct[[#This Row],[Date]]))*KCINHDD[KCINHDD])","v":8.3333333333333329E-2},{"$f":"IF(MONTH(KCITempAct[[#This Row],[Date]])=7,0,IF(MONTH(KCITempAct[[#This Row],[Date]])=8,0,KCITempAct[[#This Row],[KCINHDD]]))","v":8.3333333333333329E-2},"Adj HDD and NDD =0 for July and August"]
["2020-06-19",76,69,{"$f":"AVERAGE(KCITempAct[[#This Row],[KCIHigh]:[KCILow]]\n)","v":72.5},{"$f":"IF(KCITempAct[[#This Row],[KCIAve]]<65,(65-KCITempAct[[#This Row],[KCIAve]]),0)","v":0},{"$f":"IF(MONTH(KCITempAct[[#This Row],[Date]])=7,0,IF(MONTH(KCITempAct[[#This Row],[Date]])=8,0,KCITempAct[[#This Row],[KCIHDD]]))","v":0},{"$f":"SUMPRODUCT((KCINHDD[Month]=MONTH(KCITempAct[[#This Row],[Date]]))*(KCINHDD[Day]=DAY(KCITempAct[[#This Row],[Date]]))*KCINHDD[KCINHDD])","v":6.6666666666666666E-2},{"$f":"IF(MONTH(KCITempAct[[#This Row],[Date]])=7,0,IF(MONTH(KCITempAct[[#This Row],[Date]])=8,0,KCITempAct[[#This Row],[KCINHDD]]))","v":6.6666666666666666E-2},"Adj HDD and NDD =0 for July and August"]
["2020-06-20",85,62,{"$f":"AVERAGE(KCITempAct[[#This Row],[KCIHigh]:[KCILow]]\n)","v":73.5},{"$f":"IF(KCITempAct[[#This Row],[KCIAve]]<65,(65-KCITempAct[[#This Row],[KCIAve]]),0)","v":0},{"$f":"IF(MONTH(KCITempAct[[#This Row],[Date]])=7,0,IF(MONTH(KCITempAct[[#This Row],[Date]])=8,0,KCITempAct[[#This Row],[KCIHDD]]))","v":0},{"$f":"SUMPRODUCT((KCINHDD[Month]=MONTH(KCITempAct[[#This Row],[Date]]))*(KCINHDD[Day]=DAY(KCITempAct[[#This Row],[Date]]))*KCINHDD[KCINHDD])","v":0.05},{"$f":"IF(MONTH(KCITempAct[[#This Row],[Date]])=7,0,IF(MONTH(KCITempAct[[#This Row],[Date]])=8,0,KCITempAct[[#This Row],[KCINHDD]]))","v":0.05},"Adj HDD and NDD =0 for July and August"]
["2020-06-21",88,65,{"$f":"AVERAGE(KCITempAct[[#This Row],[KCIHigh]:[KCILow]]\n)","v":76.5},{"$f":"IF(KCITempAct[[#This Row],[KCIAve]]<65,(65-KCITempAct[[#This Row],[KCIAve]]),0)","v":0},{"$f":"IF(MONTH(KCITempAct[[#This Row],[Date]])=7,0,IF(MONTH(KCITempAct[[#This Row],[Date]])=8,0,KCITempAct[[#This Row],[KCIHDD]]))","v":0},{"$f":"SUMPRODUCT((KCINHDD[Month]=MONTH(KCITempAct[[#This Row],[Date]]))*(KCINHDD[Day]=DAY(KCITempAct[[#This Row],[Date]]))*KCINHDD[KCINHDD])","v":0.1},{"$f":"IF(MONTH(KCITempAct[[#This Row],[Date]])=7,0,IF(MONTH(KCITempAct[[#This Row],[Date]])=8,0,KCITempAct[[#This Row],[KCINHDD]]))","v":0.1},"Adj HDD and NDD =0 for July and August"]
["2020-06-22",87,66,{"$f":"AVERAGE(KCITempAct[[#This Row],[KCIHigh]:[KCILow]]\n)","v":76.5},{"$f":"IF(KCITempAct[[#This Row],[KCIAve]]<65,(65-KCITempAct[[#This Row],[KCIAve]]),0)","v":0},{"$f":"IF(MONTH(KCITempAct[[#This Row],[Date]])=7,0,IF(MONTH(KCITempAct[[#This Row],[Date]])=8,0,KCITempAct[[#This Row],[KCIHDD]]))","v":0},{"$f":"SUMPRODUCT((KCINHDD[Month]=MONTH(KCITempAct[[#This Row],[Date]]))*(KCINHDD[Day]=DAY(KCITempAct[[#This Row],[Date]]))*KCINHDD[KCINHDD])","v":0},{"$f":"IF(MONTH(KCITempAct[[#This Row],[Date]])=7,0,IF(MONTH(KCITempAct[[#This Row],[Date]])=8,0,KCITempAct[[#This Row],[KCINHDD]]))","v":0},"Adj HDD and NDD =0 for July and August"]
["2020-06-23",81,62,{"$f":"AVERAGE(KCITempAct[[#This Row],[KCIHigh]:[KCILow]]\n)","v":71.5},{"$f":"IF(KCITempAct[[#This Row],[KCIAve]]<65,(65-KCITempAct[[#This Row],[KCIAve]]),0)","v":0},{"$f":"IF(MONTH(KCITempAct[[#This Row],[Date]])=7,0,IF(MONTH(KCITempAct[[#This Row],[Date]])=8,0,KCITempAct[[#This Row],[KCIHDD]]))","v":0},{"$f":"SUMPRODUCT((KCINHDD[Month]=MONTH(KCITempAct[[#This Row],[Date]]))*(KCINHDD[Day]=DAY(KCITempAct[[#This Row],[Date]]))*KCINHDD[KCINHDD])","v":0},{"$f":"IF(MONTH(KCITempAct[[#This Row],[Date]])=7,0,IF(MONTH(KCITempAct[[#This Row],[Date]])=8,0,KCITempAct[[#This Row],[KCINHDD]]))","v":0},"Adj HDD and NDD =0 for July and August"]
["2020-06-24",85,57,{"$f":"AVERAGE(KCITempAct[[#This Row],[KCIHigh]:[KCILow]]\n)","v":71},{"$f":"IF(KCITempAct[[#This Row],[KCIAve]]<65,(65-KCITempAct[[#This Row],[KCIAve]]),0)","v":0},{"$f":"IF(MONTH(KCITempAct[[#This Row],[Date]])=7,0,IF(MONTH(KCITempAct[[#This Row],[Date]])=8,0,KCITempAct[[#This Row],[KCIHDD]]))","v":0},{"$f":"SUMPRODUCT((KCINHDD[Month]=MONTH(KCITempAct[[#This Row],[Date]]))*(KCINHDD[Day]=DAY(KCITempAct[[#This Row],[Date]]))*KCINHDD[KCINHDD])","v":0},{"$f":"IF(MONTH(KCITempAct[[#This Row],[Date]])=7,0,IF(MONTH(KCITempAct[[#This Row],[Date]])=8,0,KCITempAct[[#This Row],[KCINHDD]]))","v":0},"Adj HDD and NDD =0 for July and August"]
["2020-06-25",92,63,{"$f":"AVERAGE(KCITempAct[[#This Row],[KCIHigh]:[KCILow]]\n)","v":77.5},{"$f":"IF(KCITempAct[[#This Row],[KCIAve]]<65,(65-KCITempAct[[#This Row],[KCIAve]]),0)","v":0},{"$f":"IF(MONTH(KCITempAct[[#This Row],[Date]])=7,0,IF(MONTH(KCITempAct[[#This Row],[Date]])=8,0,KCITempAct[[#This Row],[KCIHDD]]))","v":0},{"$f":"SUMPRODUCT((KCINHDD[Month]=MONTH(KCITempAct[[#This Row],[Date]]))*(KCINHDD[Day]=DAY(KCITempAct[[#This Row],[Date]]))*KCINHDD[KCINHDD])","v":0.1},{"$f":"IF(MONTH(KCITempAct[[#This Row],[Date]])=7,0,IF(MONTH(KCITempAct[[#This Row],[Date]])=8,0,KCITempAct[[#This Row],[KCINHDD]]))","v":0.1},"Adj HDD and NDD =0 for July and August"]
["2020-06-26",90,69,{"$f":"AVERAGE(KCITempAct[[#This Row],[KCIHigh]:[KCILow]]\n)","v":79.5},{"$f":"IF(KCITempAct[[#This Row],[KCIAve]]<65,(65-KCITempAct[[#This Row],[KCIAve]]),0)","v":0},{"$f":"IF(MONTH(KCITempAct[[#This Row],[Date]])=7,0,IF(MONTH(KCITempAct[[#This Row],[Date]])=8,0,KCITempAct[[#This Row],[KCIHDD]]))","v":0},{"$f":"SUMPRODUCT((KCINHDD[Month]=MONTH(KCITempAct[[#This Row],[Date]]))*(KCINHDD[Day]=DAY(KCITempAct[[#This Row],[Date]]))*KCINHDD[KCINHDD])","v":0.05},{"$f":"IF(MONTH(KCITempAct[[#This Row],[Date]])=7,0,IF(MONTH(KCITempAct[[#This Row],[Date]])=8,0,KCITempAct[[#This Row],[KCINHDD]]))","v":0.05},"Adj HDD and NDD =0 for July and August"]
["2020-06-27",80,67,{"$f":"AVERAGE(KCITempAct[[#This Row],[KCIHigh]:[KCILow]]\n)","v":73.5},{"$f":"IF(KCITempAct[[#This Row],[KCIAve]]<65,(65-KCITempAct[[#This Row],[KCIAve]]),0)","v":0},{"$f":"IF(MONTH(KCITempAct[[#This Row],[Date]])=7,0,IF(MONTH(KCITempAct[[#This Row],[Date]])=8,0,KCITempAct[[#This Row],[KCIHDD]]))","v":0},{"$f":"SUMPRODUCT((KCINHDD[Month]=MONTH(KCITempAct[[#This Row],[Date]]))*(KCINHDD[Day]=DAY(KCITempAct[[#This Row],[Date]]))*KCINHDD[KCINHDD])","v":3.3333333333333333E-2},{"$f":"IF(MONTH(KCITempAct[[#This Row],[Date]])=7,0,IF(MONTH(KCITempAct[[#This Row],[Date]])=8,0,KCITempAct[[#This Row],[KCINHDD]]))","v":3.3333333333333333E-2},"Adj HDD and NDD =0 for July and August"]
["2020-06-28",91,71,{"$f":"AVERAGE(KCITempAct[[#This Row],[KCIHigh]:[KCILow]]\n)","v":81},{"$f":"IF(KCITempAct[[#This Row],[KCIAve]]<65,(65-KCITempAct[[#This Row],[KCIAve]]),0)","v":0},{"$f":"IF(MONTH(KCITempAct[[#This Row],[Date]])=7,0,IF(MONTH(KCITempAct[[#This Row],[Date]])=8,0,KCITempAct[[#This Row],[KCIHDD]]))","v":0},{"$f":"SUMPRODUCT((KCINHDD[Month]=MONTH(KCITempAct[[#This Row],[Date]]))*(KCINHDD[Day]=DAY(KCITempAct[[#This Row],[Date]]))*KCINHDD[KCINHDD])","v":0},{"$f":"IF(MONTH(KCITempAct[[#This Row],[Date]])=7,0,IF(MONTH(KCITempAct[[#This Row],[Date]])=8,0,KCITempAct[[#This Row],[KCINHDD]]))","v":0},"Adj HDD and NDD =0 for July and August"]
["2020-06-29",87,76,{"$f":"AVERAGE(KCITempAct[[#This Row],[KCIHigh]:[KCILow]]\n)","v":81.5},{"$f":"IF(KCITempAct[[#This Row],[KCIAve]]<65,(65-KCITempAct[[#This Row],[KCIAve]]),0)","v":0},{"$f":"IF(MONTH(KCITempAct[[#This Row],[Date]])=7,0,IF(MONTH(KCITempAct[[#This Row],[Date]])=8,0,KCITempAct[[#This Row],[KCIHDD]]))","v":0},{"$f":"SUMPRODUCT((KCINHDD[Month]=MONTH(KCITempAct[[#This Row],[Date]]))*(KCINHDD[Day]=DAY(KCITempAct[[#This Row],[Date]]))*KCINHDD[KCINHDD])","v":1.6666666666666666E-2},{"$f":"IF(MONTH(KCITempAct[[#This Row],[Date]])=7,0,IF(MONTH(KCITempAct[[#This Row],[Date]])=8,0,KCITempAct[[#This Row],[KCINHDD]]))","v":1.6666666666666666E-2},"Adj HDD and NDD =0 for July and August"]
["2020-06-30",91,77,{"$f":"AVERAGE(KCITempAct[[#This Row],[KCIHigh]:[KCILow]]\n)","v":84},{"$f":"IF(KCITempAct[[#This Row],[KCIAve]]<65,(65-KCITempAct[[#This Row],[KCIAve]]),0)","v":0},{"$f":"IF(MONTH(KCITempAct[[#This Row],[Date]])=7,0,IF(MONTH(KCITempAct[[#This Row],[Date]])=8,0,KCITempAct[[#This Row],[KCIHDD]]))","v":0},{"$f":"SUMPRODUCT((KCINHDD[Month]=MONTH(KCITempAct[[#This Row],[Date]]))*(KCINHDD[Day]=DAY(KCITempAct[[#This Row],[Date]]))*KCINHDD[KCINHDD])","v":0},{"$f":"IF(MONTH(KCITempAct[[#This Row],[Date]])=7,0,IF(MONTH(KCITempAct[[#This Row],[Date]])=8,0,KCITempAct[[#This Row],[KCINHDD]]))","v":0},"Adj HDD and NDD =0 for July and August"]
["2020-07-01",84,68,{"$f":"AVERAGE(KCITempAct[[#This Row],[KCIHigh]:[KCILow]]\n)","v":76},{"$f":"IF(KCITempAct[[#This Row],[KCIAve]]<65,(65-KCITempAct[[#This Row],[KCIAve]]),0)","v":0},{"$f":"IF(MONTH(KCITempAct[[#This Row],[Date]])=7,0,IF(MONTH(KCITempAct[[#This Row],[Date]])=8,0,KCITempAct[[#This Row],[KCIHDD]]))","v":0},{"$f":"SUMPRODUCT((KCINHDD[Month]=MONTH(KCITempAct[[#This Row],[Date]]))*(KCINHDD[Day]=DAY(KCITempAct[[#This Row],[Date]]))*KCINHDD[KCINHDD])","v":1.6666666666666666E-2},{"$f":"IF(MONTH(KCITempAct[[#This Row],[Date]])=7,0,IF(MONTH(KCITempAct[[#This Row],[Date]])=8,0,KCITempAct[[#This Row],[KCINHDD]]))","v":0},"Adj HDD and NDD =0 for July and August"]
["2020-07-02",88,70,{"$f":"AVERAGE(KCITempAct[[#This Row],[KCIHigh]:[KCILow]]\n)","v":79},{"$f":"IF(KCITempAct[[#This Row],[KCIAve]]<65,(65-KCITempAct[[#This Row],[KCIAve]]),0)","v":0},{"$f":"IF(MONTH(KCITempAct[[#This Row],[Date]])=7,0,IF(MONTH(KCITempAct[[#This Row],[Date]])=8,0,KCITempAct[[#This Row],[KCIHDD]]))","v":0},{"$f":"SUMPRODUCT((KCINHDD[Month]=MONTH(KCITempAct[[#This Row],[Date]]))*(KCINHDD[Day]=DAY(KCITempAct[[#This Row],[Date]]))*KCINHDD[KCINHDD])","v":0.05},{"$f":"IF(MONTH(KCITempAct[[#This Row],[Date]])=7,0,IF(MONTH(KCITempAct[[#This Row],[Date]])=8,0,KCITempAct[[#This Row],[KCINHDD]]))","v":0},"Adj HDD and NDD =0 for July and August"]
["2020-07-03",89,72,{"$f":"AVERAGE(KCITempAct[[#This Row],[KCIHigh]:[KCILow]]\n)","v":80.5},{"$f":"IF(KCITempAct[[#This Row],[KCIAve]]<65,(65-KCITempAct[[#This Row],[KCIAve]]),0)","v":0},{"$f":"IF(MONTH(KCITempAct[[#This Row],[Date]])=7,0,IF(MONTH(KCITempAct[[#This Row],[Date]])=8,0,KCITempAct[[#This Row],[KCIHDD]]))","v":0},{"$f":"SUMPRODUCT((KCINHDD[Month]=MONTH(KCITempAct[[#This Row],[Date]]))*(KCINHDD[Day]=DAY(KCITempAct[[#This Row],[Date]]))*KCINHDD[KCINHDD])","v":3.3333333333333333E-2},{"$f":"IF(MONTH(KCITempAct[[#This Row],[Date]])=7,0,IF(MONTH(KCITempAct[[#This Row],[Date]])=8,0,KCITempAct[[#This Row],[KCINHDD]]))","v":0},"Adj HDD and NDD =0 for July and August"]
["2020-07-04",87,71,{"$f":"AVERAGE(KCITempAct[[#This Row],[KCIHigh]:[KCILow]]\n)","v":79},{"$f":"IF(KCITempAct[[#This Row],[KCIAve]]<65,(65-KCITempAct[[#This Row],[KCIAve]]),0)","v":0},{"$f":"IF(MONTH(KCITempAct[[#This Row],[Date]])=7,0,IF(MONTH(KCITempAct[[#This Row],[Date]])=8,0,KCITempAct[[#This Row],[KCIHDD]]))","v":0},{"$f":"SUMPRODUCT((KCINHDD[Month]=MONTH(KCITempAct[[#This Row],[Date]]))*(KCINHDD[Day]=DAY(KCITempAct[[#This Row],[Date]]))*KCINHDD[KCINHDD])","v":8.3333333333333329E-2},{"$f":"IF(MONTH(KCITempAct[[#This Row],[Date]])=7,0,IF(MONTH(KCITempAct[[#This Row],[Date]])=8,0,KCITempAct[[#This Row],[KCINHDD]]))","v":0},"Adj HDD and NDD =0 for July and August"]
["2020-07-05",90,72,{"$f":"AVERAGE(KCITempAct[[#This Row],[KCIHigh]:[KCILow]]\n)","v":81},{"$f":"IF(KCITempAct[[#This Row],[KCIAve]]<65,(65-KCITempAct[[#This Row],[KCIAve]]),0)","v":0},{"$f":"IF(MONTH(KCITempAct[[#This Row],[Date]])=7,0,IF(MONTH(KCITempAct[[#This Row],[Date]])=8,0,KCITempAct[[#This Row],[KCIHDD]]))","v":0},{"$f":"SUMPRODUCT((KCINHDD[Month]=MONTH(KCITempAct[[#This Row],[Date]]))*(KCINHDD[Day]=DAY(KCITempAct[[#This Row],[Date]]))*KCINHDD[KCINHDD])","v":1.6666666666666666E-2},{"$f":"IF(MONTH(KCITempAct[[#This Row],[Date]])=7,0,IF(MONTH(KCITempAct[[#This Row],[Date]])=8,0,KCITempAct[[#This Row],[KCINHDD]]))","v":0},"Adj HDD and NDD =0 for July and August"]
["2020-07-06",92,72,{"$f":"AVERAGE(KCITempAct[[#This Row],[KCIHigh]:[KCILow]]\n)","v":82},{"$f":"IF(KCITempAct[[#This Row],[KCIAve]]<65,(65-KCITempAct[[#This Row],[KCIAve]]),0)","v":0},{"$f":"IF(MONTH(KCITempAct[[#This Row],[Date]])=7,0,IF(MONTH(KCITempAct[[#This Row],[Date]])=8,0,KCITempAct[[#This Row],[KCIHDD]]))","v":0},{"$f":"SUMPRODUCT((KCINHDD[Month]=MONTH(KCITempAct[[#This Row],[Date]]))*(KCINHDD[Day]=DAY(KCITempAct[[#This Row],[Date]]))*KCINHDD[KCINHDD])","v":0},{"$f":"IF(MONTH(KCITempAct[[#This Row],[Date]])=7,0,IF(MONTH(KCITempAct[[#This Row],[Date]])=8,0,KCITempAct[[#This Row],[KCINHDD]]))","v":0},"Adj HDD and NDD =0 for July and August"]
["2020-07-07",93,71,{"$f":"AVERAGE(KCITempAct[[#This Row],[KCIHigh]:[KCILow]]\n)","v":82},{"$f":"IF(KCITempAct[[#This Row],[KCIAve]]<65,(65-KCITempAct[[#This Row],[KCIAve]]),0)","v":0},{"$f":"IF(MONTH(KCITempAct[[#This Row],[Date]])=7,0,IF(MONTH(KCITempAct[[#This Row],[Date]])=8,0,KCITempAct[[#This Row],[KCIHDD]]))","v":0},{"$f":"SUMPRODUCT((KCINHDD[Month]=MONTH(KCITempAct[[#This Row],[Date]]))*(KCINHDD[Day]=DAY(KCITempAct[[#This Row],[Date]]))*KCINHDD[KCINHDD])","v":0},{"$f":"IF(MONTH(KCITempAct[[#This Row],[Date]])=7,0,IF(MONTH(KCITempAct[[#This Row],[Date]])=8,0,KCITempAct[[#This Row],[KCINHDD]]))","v":0},"Adj HDD and NDD =0 for July and August"]
["2020-07-08",94,71,{"$f":"AVERAGE(KCITempAct[[#This Row],[KCIHigh]:[KCILow]]\n)","v":82.5},{"$f":"IF(KCITempAct[[#This Row],[KCIAve]]<65,(65-KCITempAct[[#This Row],[KCIAve]]),0)","v":0},{"$f":"IF(MONTH(KCITempAct[[#This Row],[Date]])=7,0,IF(MONTH(KCITempAct[[#This Row],[Date]])=8,0,KCITempAct[[#This Row],[KCIHDD]]))","v":0},{"$f":"SUMPRODUCT((KCINHDD[Month]=MONTH(KCITempAct[[#This Row],[Date]]))*(KCINHDD[Day]=DAY(KCITempAct[[#This Row],[Date]]))*KCINHDD[KCINHDD])","v":6.6666666666666666E-2},{"$f":"IF(MONTH(KCITempAct[[#This Row],[Date]])=7,0,IF(MONTH(KCITempAct[[#This Row],[Date]])=8,0,KCITempAct[[#This Row],[KCINHDD]]))","v":0},"Adj HDD and NDD =0 for July and August"]
["2020-07-09",86,67,{"$f":"AVERAGE(KCITempAct[[#This Row],[KCIHigh]:[KCILow]]\n)","v":76.5},{"$f":"IF(KCITempAct[[#This Row],[KCIAve]]<65,(65-KCITempAct[[#This Row],[KCIAve]]),0)","v":0},{"$f":"IF(MONTH(KCITempAct[[#This Row],[Date]])=7,0,IF(MONTH(KCITempAct[[#This Row],[Date]])=8,0,KCITempAct[[#This Row],[KCIHDD]]))","v":0},{"$f":"SUMPRODUCT((KCINHDD[Month]=MONTH(KCITempAct[[#This Row],[Date]]))*(KCINHDD[Day]=DAY(KCITempAct[[#This Row],[Date]]))*KCINHDD[KCINHDD])","v":0},{"$f":"IF(MONTH(KCITempAct[[#This Row],[Date]])=7,0,IF(MONTH(KCITempAct[[#This Row],[Date]])=8,0,KCITempAct[[#This Row],[KCINHDD]]))","v":0},"Adj HDD and NDD =0 for July and August"]
["2020-07-10",93,63,{"$f":"AVERAGE(KCITempAct[[#This Row],[KCIHigh]:[KCILow]]\n)","v":78},{"$f":"IF(KCITempAct[[#This Row],[KCIAve]]<65,(65-KCITempAct[[#This Row],[KCIAve]]),0)","v":0},{"$f":"IF(MONTH(KCITempAct[[#This Row],[Date]])=7,0,IF(MONTH(KCITempAct[[#This Row],[Date]])=8,0,KCITempAct[[#This Row],[KCIHDD]]))","v":0},{"$f":"SUMPRODUCT((KCINHDD[Month]=MONTH(KCITempAct[[#This Row],[Date]]))*(KCINHDD[Day]=DAY(KCITempAct[[#This Row],[Date]]))*KCINHDD[KCINHDD])","v":0},{"$f":"IF(MONTH(KCITempAct[[#This Row],[Date]])=7,0,IF(MONTH(KCITempAct[[#This Row],[Date]])=8,0,KCITempAct[[#This Row],[KCINHDD]]))","v":0},"Adj HDD and NDD =0 for July and August"]
["2020-07-11",92,69,{"$f":"AVERAGE(KCITempAct[[#This Row],[KCIHigh]:[KCILow]]\n)","v":80.5},{"$f":"IF(KCITempAct[[#This Row],[KCIAve]]<65,(65-KCITempAct[[#This Row],[KCIAve]]),0)","v":0},{"$f":"IF(MONTH(KCITempAct[[#This Row],[Date]])=7,0,IF(MONTH(KCITempAct[[#This Row],[Date]])=8,0,KCITempAct[[#This Row],[KCIHDD]]))","v":0},{"$f":"SUMPRODUCT((KCINHDD[Month]=MONTH(KCITempAct[[#This Row],[Date]]))*(KCINHDD[Day]=DAY(KCITempAct[[#This Row],[Date]]))*KCINHDD[KCINHDD])","v":0},{"$f":"IF(MONTH(KCITempAct[[#This Row],[Date]])=7,0,IF(MONTH(KCITempAct[[#This Row],[Date]])=8,0,KCITempAct[[#This Row],[KCINHDD]]))","v":0},"Adj HDD and NDD =0 for July and August"]
["2020-07-12",87,60,{"$f":"AVERAGE(KCITempAct[[#This Row],[KCIHigh]:[KCILow]]\n)","v":73.5},{"$f":"IF(KCITempAct[[#This Row],[KCIAve]]<65,(65-KCITempAct[[#This Row],[KCIAve]]),0)","v":0},{"$f":"IF(MONTH(KCITempAct[[#This Row],[Date]])=7,0,IF(MONTH(KCITempAct[[#This Row],[Date]])=8,0,KCITempAct[[#This Row],[KCIHDD]]))","v":0},{"$f":"SUMPRODUCT((KCINHDD[Month]=MONTH(KCITempAct[[#This Row],[Date]]))*(KCINHDD[Day]=DAY(KCITempAct[[#This Row],[Date]]))*KCINHDD[KCINHDD])","v":0},{"$f":"IF(MONTH(KCITempAct[[#This Row],[Date]])=7,0,IF(MONTH(KCITempAct[[#This Row],[Date]])=8,0,KCITempAct[[#This Row],[KCINHDD]]))","v":0},"Adj HDD and NDD =0 for July and August"]
["2020-07-13",91,65,{"$f":"AVERAGE(KCITempAct[[#This Row],[KCIHigh]:[KCILow]]\n)","v":78},{"$f":"IF(KCITempAct[[#This Row],[KCIAve]]<65,(65-KCITempAct[[#This Row],[KCIAve]]),0)","v":0},{"$f":"IF(MONTH(KCITempAct[[#This Row],[Date]])=7,0,IF(MONTH(KCITempAct[[#This Row],[Date]])=8,0,KCITempAct[[#This Row],[KCIHDD]]))","v":0},{"$f":"SUMPRODUCT((KCINHDD[Month]=MONTH(KCITempAct[[#This Row],[Date]]))*(KCINHDD[Day]=DAY(KCITempAct[[#This Row],[Date]]))*KCINHDD[KCINHDD])","v":0},{"$f":"IF(MONTH(KCITempAct[[#This Row],[Date]])=7,0,IF(MONTH(KCITempAct[[#This Row],[Date]])=8,0,KCITempAct[[#This Row],[KCINHDD]]))","v":0},"Adj HDD and NDD =0 for July and August"]
["2020-07-14",92,69,{"$f":"AVERAGE(KCITempAct[[#This Row],[KCIHigh]:[KCILow]]\n)","v":80.5},{"$f":"IF(KCITempAct[[#This Row],[KCIAve]]<65,(65-KCITempAct[[#This Row],[KCIAve]]),0)","v":0},{"$f":"IF(MONTH(KCITempAct[[#This Row],[Date]])=7,0,IF(MONTH(KCITempAct[[#This Row],[Date]])=8,0,KCITempAct[[#This Row],[KCIHDD]]))","v":0},{"$f":"SUMPRODUCT((KCINHDD[Month]=MONTH(KCITempAct[[#This Row],[Date]]))*(KCINHDD[Day]=DAY(KCITempAct[[#This Row],[Date]]))*KCINHDD[KCINHDD])","v":0},{"$f":"IF(MONTH(KCITempAct[[#This Row],[Date]])=7,0,IF(MONTH(KCITempAct[[#This Row],[Date]])=8,0,KCITempAct[[#This Row],[KCINHDD]]))","v":0},"Adj HDD and NDD =0 for July and August"]
["2020-07-15",83,68,{"$f":"AVERAGE(KCITempAct[[#This Row],[KCIHigh]:[KCILow]]\n)","v":75.5},{"$f":"IF(KCITempAct[[#This Row],[KCIAve]]<65,(65-KCITempAct[[#This Row],[KCIAve]]),0)","v":0},{"$f":"IF(MONTH(KCITempAct[[#This Row],[Date]])=7,0,IF(MONTH(KCITempAct[[#This Row],[Date]])=8,0,KCITempAct[[#This Row],[KCIHDD]]))","v":0},{"$f":"SUMPRODUCT((KCINHDD[Month]=MONTH(KCITempAct[[#This Row],[Date]]))*(KCINHDD[Day]=DAY(KCITempAct[[#This Row],[Date]]))*KCINHDD[KCINHDD])","v":3.3333333333333333E-2},{"$f":"IF(MONTH(KCITempAct[[#This Row],[Date]])=7,0,IF(MONTH(KCITempAct[[#This Row],[Date]])=8,0,KCITempAct[[#This Row],[KCINHDD]]))","v":0},"Adj HDD and NDD =0 for July and August"]
["2020-07-16",84,65,{"$f":"AVERAGE(KCITempAct[[#This Row],[KCIHigh]:[KCILow]]\n)","v":74.5},{"$f":"IF(KCITempAct[[#This Row],[KCIAve]]<65,(65-KCITempAct[[#This Row],[KCIAve]]),0)","v":0},{"$f":"IF(MONTH(KCITempAct[[#This Row],[Date]])=7,0,IF(MONTH(KCITempAct[[#This Row],[Date]])=8,0,KCITempAct[[#This Row],[KCIHDD]]))","v":0},{"$f":"SUMPRODUCT((KCINHDD[Month]=MONTH(KCITempAct[[#This Row],[Date]]))*(KCINHDD[Day]=DAY(KCITempAct[[#This Row],[Date]]))*KCINHDD[KCINHDD])","v":0},{"$f":"IF(MONTH(KCITempAct[[#This Row],[Date]])=7,0,IF(MONTH(KCITempAct[[#This Row],[Date]])=8,0,KCITempAct[[#This Row],[KCINHDD]]))","v":0},"Adj HDD and NDD =0 for July and August"]
["2020-07-17",94,73,{"$f":"AVERAGE(KCITempAct[[#This Row],[KCIHigh]:[KCILow]]\n)","v":83.5},{"$f":"IF(KCITempAct[[#This Row],[KCIAve]]<65,(65-KCITempAct[[#This Row],[KCIAve]]),0)","v":0},{"$f":"IF(MONTH(KCITempAct[[#This Row],[Date]])=7,0,IF(MONTH(KCITempAct[[#This Row],[Date]])=8,0,KCITempAct[[#This Row],[KCIHDD]]))","v":0},{"$f":"SUMPRODUCT((KCINHDD[Month]=MONTH(KCITempAct[[#This Row],[Date]]))*(KCINHDD[Day]=DAY(KCITempAct[[#This Row],[Date]]))*KCINHDD[KCINHDD])","v":0},{"$f":"IF(MONTH(KCITempAct[[#This Row],[Date]])=7,0,IF(MONTH(KCITempAct[[#This Row],[Date]])=8,0,KCITempAct[[#This Row],[KCINHDD]]))","v":0},"Adj HDD and NDD =0 for July and August"]
["2020-07-18",94,79,{"$f":"AVERAGE(KCITempAct[[#This Row],[KCIHigh]:[KCILow]]\n)","v":86.5},{"$f":"IF(KCITempAct[[#This Row],[KCIAve]]<65,(65-KCITempAct[[#This Row],[KCIAve]]),0)","v":0},{"$f":"IF(MONTH(KCITempAct[[#This Row],[Date]])=7,0,IF(MONTH(KCITempAct[[#This Row],[Date]])=8,0,KCITempAct[[#This Row],[KCIHDD]]))","v":0},{"$f":"SUMPRODUCT((KCINHDD[Month]=MONTH(KCITempAct[[#This Row],[Date]]))*(KCINHDD[Day]=DAY(KCITempAct[[#This Row],[Date]]))*KCINHDD[KCINHDD])","v":0},{"$f":"IF(MONTH(KCITempAct[[#This Row],[Date]])=7,0,IF(MONTH(KCITempAct[[#This Row],[Date]])=8,0,KCITempAct[[#This Row],[KCINHDD]]))","v":0},"Adj HDD and NDD =0 for July and August"]
["2020-07-19",87,71,{"$f":"AVERAGE(KCITempAct[[#This Row],[KCIHigh]:[KCILow]]\n)","v":79},{"$f":"IF(KCITempAct[[#This Row],[KCIAve]]<65,(65-KCITempAct[[#This Row],[KCIAve]]),0)","v":0},{"$f":"IF(MONTH(KCITempAct[[#This Row],[Date]])=7,0,IF(MONTH(KCITempAct[[#This Row],[Date]])=8,0,KCITempAct[[#This Row],[KCIHDD]]))","v":0},{"$f":"SUMPRODUCT((KCINHDD[Month]=MONTH(KCITempAct[[#This Row],[Date]]))*(KCINHDD[Day]=DAY(KCITempAct[[#This Row],[Date]]))*KCINHDD[KCINHDD])","v":0},{"$f":"IF(MONTH(KCITempAct[[#This Row],[Date]])=7,0,IF(MONTH(KCITempAct[[#This Row],[Date]])=8,0,KCITempAct[[#This Row],[KCINHDD]]))","v":0},"Adj HDD and NDD =0 for July and August"]
["2020-07-20",83,67,{"$f":"AVERAGE(KCITempAct[[#This Row],[KCIHigh]:[KCILow]]\n)","v":75},{"$f":"IF(KCITempAct[[#This Row],[KCIAve]]<65,(65-KCITempAct[[#This Row],[KCIAve]]),0)","v":0},{"$f":"IF(MONTH(KCITempAct[[#This Row],[Date]])=7,0,IF(MONTH(KCITempAct[[#This Row],[Date]])=8,0,KCITempAct[[#This Row],[KCIHDD]]))","v":0},{"$f":"SUMPRODUCT((KCINHDD[Month]=MONTH(KCITempAct[[#This Row],[Date]]))*(KCINHDD[Day]=DAY(KCITempAct[[#This Row],[Date]]))*KCINHDD[KCINHDD])","v":0},{"$f":"IF(MONTH(KCITempAct[[#This Row],[Date]])=7,0,IF(MONTH(KCITempAct[[#This Row],[Date]])=8,0,KCITempAct[[#This Row],[KCINHDD]]))","v":0},"Adj HDD and NDD =0 for July and August"]
["2020-07-21",82,69,{"$f":"AVERAGE(KCITempAct[[#This Row],[KCIHigh]:[KCILow]]\n)","v":75.5},{"$f":"IF(KCITempAct[[#This Row],[KCIAve]]<65,(65-KCITempAct[[#This Row],[KCIAve]]),0)","v":0},{"$f":"IF(MONTH(KCITempAct[[#This Row],[Date]])=7,0,IF(MONTH(KCITempAct[[#This Row],[Date]])=8,0,KCITempAct[[#This Row],[KCIHDD]]))","v":0},{"$f":"SUMPRODUCT((KCINHDD[Month]=MONTH(KCITempAct[[#This Row],[Date]]))*(KCINHDD[Day]=DAY(KCITempAct[[#This Row],[Date]]))*KCINHDD[KCINHDD])","v":0},{"$f":"IF(MONTH(KCITempAct[[#This Row],[Date]])=7,0,IF(MONTH(KCITempAct[[#This Row],[Date]])=8,0,KCITempAct[[#This Row],[KCINHDD]]))","v":0},"Adj HDD and NDD =0 for July and August"]
["2020-07-22",90,66,{"$f":"AVERAGE(KCITempAct[[#This Row],[KCIHigh]:[KCILow]]\n)","v":78},{"$f":"IF(KCITempAct[[#This Row],[KCIAve]]<65,(65-KCITempAct[[#This Row],[KCIAve]]),0)","v":0},{"$f":"IF(MONTH(KCITempAct[[#This Row],[Date]])=7,0,IF(MONTH(KCITempAct[[#This Row],[Date]])=8,0,KCITempAct[[#This Row],[KCIHDD]]))","v":0},{"$f":"SUMPRODUCT((KCINHDD[Month]=MONTH(KCITempAct[[#This Row],[Date]]))*(KCINHDD[Day]=DAY(KCITempAct[[#This Row],[Date]]))*KCINHDD[KCINHDD])","v":0},{"$f":"IF(MONTH(KCITempAct[[#This Row],[Date]])=7,0,IF(MONTH(KCITempAct[[#This Row],[Date]])=8,0,KCITempAct[[#This Row],[KCINHDD]]))","v":0},"Adj HDD and NDD =0 for July and August"]
["2020-07-23",92,73,{"$f":"AVERAGE(KCITempAct[[#This Row],[KCIHigh]:[KCILow]]\n)","v":82.5},{"$f":"IF(KCITempAct[[#This Row],[KCIAve]]<65,(65-KCITempAct[[#This Row],[KCIAve]]),0)","v":0},{"$f":"IF(MONTH(KCITempAct[[#This Row],[Date]])=7,0,IF(MONTH(KCITempAct[[#This Row],[Date]])=8,0,KCITempAct[[#This Row],[KCIHDD]]))","v":0},{"$f":"SUMPRODUCT((KCINHDD[Month]=MONTH(KCITempAct[[#This Row],[Date]]))*(KCINHDD[Day]=DAY(KCITempAct[[#This Row],[Date]]))*KCINHDD[KCINHDD])","v":0},{"$f":"IF(MONTH(KCITempAct[[#This Row],[Date]])=7,0,IF(MONTH(KCITempAct[[#This Row],[Date]])=8,0,KCITempAct[[#This Row],[KCINHDD]]))","v":0},"Adj HDD and NDD =0 for July and August"]
["2020-07-24",92,74,{"$f":"AVERAGE(KCITempAct[[#This Row],[KCIHigh]:[KCILow]]\n)","v":83},{"$f":"IF(KCITempAct[[#This Row],[KCIAve]]<65,(65-KCITempAct[[#This Row],[KCIAve]]),0)","v":0},{"$f":"IF(MONTH(KCITempAct[[#This Row],[Date]])=7,0,IF(MONTH(KCITempAct[[#This Row],[Date]])=8,0,KCITempAct[[#This Row],[KCIHDD]]))","v":0},{"$f":"SUMPRODUCT((KCINHDD[Month]=MONTH(KCITempAct[[#This Row],[Date]]))*(KCINHDD[Day]=DAY(KCITempAct[[#This Row],[Date]]))*KCINHDD[KCINHDD])","v":1.6666666666666666E-2},{"$f":"IF(MONTH(KCITempAct[[#This Row],[Date]])=7,0,IF(MONTH(KCITempAct[[#This Row],[Date]])=8,0,KCITempAct[[#This Row],[KCINHDD]]))","v":0},"Adj HDD and NDD =0 for July and August"]
["2020-07-25",91,74,{"$f":"AVERAGE(KCITempAct[[#This Row],[KCIHigh]:[KCILow]]\n)","v":82.5},{"$f":"IF(KCITempAct[[#This Row],[KCIAve]]<65,(65-KCITempAct[[#This Row],[KCIAve]]),0)","v":0},{"$f":"IF(MONTH(KCITempAct[[#This Row],[Date]])=7,0,IF(MONTH(KCITempAct[[#This Row],[Date]])=8,0,KCITempAct[[#This Row],[KCIHDD]]))","v":0},{"$f":"SUMPRODUCT((KCINHDD[Month]=MONTH(KCITempAct[[#This Row],[Date]]))*(KCINHDD[Day]=DAY(KCITempAct[[#This Row],[Date]]))*KCINHDD[KCINHDD])","v":0},{"$f":"IF(MONTH(KCITempAct[[#This Row],[Date]])=7,0,IF(MONTH(KCITempAct[[#This Row],[Date]])=8,0,KCITempAct[[#This Row],[KCINHDD]]))","v":0},"Adj HDD and NDD =0 for July and August"]
["2020-07-26",92,73,{"$f":"AVERAGE(KCITempAct[[#This Row],[KCIHigh]:[KCILow]]\n)","v":82.5},{"$f":"IF(KCITempAct[[#This Row],[KCIAve]]<65,(65-KCITempAct[[#This Row],[KCIAve]]),0)","v":0},{"$f":"IF(MONTH(KCITempAct[[#This Row],[Date]])=7,0,IF(MONTH(KCITempAct[[#This Row],[Date]])=8,0,KCITempAct[[#This Row],[KCIHDD]]))","v":0},{"$f":"SUMPRODUCT((KCINHDD[Month]=MONTH(KCITempAct[[#This Row],[Date]]))*(KCINHDD[Day]=DAY(KCITempAct[[#This Row],[Date]]))*KCINHDD[KCINHDD])","v":0},{"$f":"IF(MONTH(KCITempAct[[#This Row],[Date]])=7,0,IF(MONTH(KCITempAct[[#This Row],[Date]])=8,0,KCITempAct[[#This Row],[KCINHDD]]))","v":0},"Adj HDD and NDD =0 for July and August"]
["2020-07-27",81,72,{"$f":"AVERAGE(KCITempAct[[#This Row],[KCIHigh]:[KCILow]]\n)","v":76.5},{"$f":"IF(KCITempAct[[#This Row],[KCIAve]]<65,(65-KCITempAct[[#This Row],[KCIAve]]),0)","v":0},{"$f":"IF(MONTH(KCITempAct[[#This Row],[Date]])=7,0,IF(MONTH(KCITempAct[[#This Row],[Date]])=8,0,KCITempAct[[#This Row],[KCIHDD]]))","v":0},{"$f":"SUMPRODUCT((KCINHDD[Month]=MONTH(KCITempAct[[#This Row],[Date]]))*(KCINHDD[Day]=DAY(KCITempAct[[#This Row],[Date]]))*KCINHDD[KCINHDD])","v":0},{"$f":"IF(MONTH(KCITempAct[[#This Row],[Date]])=7,0,IF(MONTH(KCITempAct[[#This Row],[Date]])=8,0,KCITempAct[[#This Row],[KCINHDD]]))","v":0},"Adj HDD and NDD =0 for July and August"]
["2020-07-28",87,70,{"$f":"AVERAGE(KCITempAct[[#This Row],[KCIHigh]:[KCILow]]\n)","v":78.5},{"$f":"IF(KCITempAct[[#This Row],[KCIAve]]<65,(65-KCITempAct[[#This Row],[KCIAve]]),0)","v":0},{"$f":"IF(MONTH(KCITempAct[[#This Row],[Date]])=7,0,IF(MONTH(KCITempAct[[#This Row],[Date]])=8,0,KCITempAct[[#This Row],[KCIHDD]]))","v":0},{"$f":"SUMPRODUCT((KCINHDD[Month]=MONTH(KCITempAct[[#This Row],[Date]]))*(KCINHDD[Day]=DAY(KCITempAct[[#This Row],[Date]]))*KCINHDD[KCINHDD])","v":0},{"$f":"IF(MONTH(KCITempAct[[#This Row],[Date]])=7,0,IF(MONTH(KCITempAct[[#This Row],[Date]])=8,0,KCITempAct[[#This Row],[KCINHDD]]))","v":0},"Adj HDD and NDD =0 for July and August"]
["2020-07-29",81,71,{"$f":"AVERAGE(KCITempAct[[#This Row],[KCIHigh]:[KCILow]]\n)","v":76},{"$f":"IF(KCITempAct[[#This Row],[KCIAve]]<65,(65-KCITempAct[[#This Row],[KCIAve]]),0)","v":0},{"$f":"IF(MONTH(KCITempAct[[#This Row],[Date]])=7,0,IF(MONTH(KCITempAct[[#This Row],[Date]])=8,0,KCITempAct[[#This Row],[KCIHDD]]))","v":0},{"$f":"SUMPRODUCT((KCINHDD[Month]=MONTH(KCITempAct[[#This Row],[Date]]))*(KCINHDD[Day]=DAY(KCITempAct[[#This Row],[Date]]))*KCINHDD[KCINHDD])","v":0},{"$f":"IF(MONTH(KCITempAct[[#This Row],[Date]])=7,0,IF(MONTH(KCITempAct[[#This Row],[Date]])=8,0,KCITempAct[[#This Row],[KCINHDD]]))","v":0},"Adj HDD and NDD =0 for July and August"]
["2020-07-30",80,71,{"$f":"AVERAGE(KCITempAct[[#This Row],[KCIHigh]:[KCILow]]\n)","v":75.5},{"$f":"IF(KCITempAct[[#This Row],[KCIAve]]<65,(65-KCITempAct[[#This Row],[KCIAve]]),0)","v":0},{"$f":"IF(MONTH(KCITempAct[[#This Row],[Date]])=7,0,IF(MONTH(KCITempAct[[#This Row],[Date]])=8,0,KCITempAct[[#This Row],[KCIHDD]]))","v":0},{"$f":"SUMPRODUCT((KCINHDD[Month]=MONTH(KCITempAct[[#This Row],[Date]]))*(KCINHDD[Day]=DAY(KCITempAct[[#This Row],[Date]]))*KCINHDD[KCINHDD])","v":0},{"$f":"IF(MONTH(KCITempAct[[#This Row],[Date]])=7,0,IF(MONTH(KCITempAct[[#This Row],[Date]])=8,0,KCITempAct[[#This Row],[KCINHDD]]))","v":0},"Adj HDD and NDD =0 for July and August"]
["2020-07-31",79,67,{"$f":"AVERAGE(KCITempAct[[#This Row],[KCIHigh]:[KCILow]]\n)","v":73},{"$f":"IF(KCITempAct[[#This Row],[KCIAve]]<65,(65-KCITempAct[[#This Row],[KCIAve]]),0)","v":0},{"$f":"IF(MONTH(KCITempAct[[#This Row],[Date]])=7,0,IF(MONTH(KCITempAct[[#This Row],[Date]])=8,0,KCITempAct[[#This Row],[KCIHDD]]))","v":0},{"$f":"SUMPRODUCT((KCINHDD[Month]=MONTH(KCITempAct[[#This Row],[Date]]))*(KCINHDD[Day]=DAY(KCITempAct[[#This Row],[Date]]))*KCINHDD[KCINHDD])","v":0},{"$f":"IF(MONTH(KCITempAct[[#This Row],[Date]])=7,0,IF(MONTH(KCITempAct[[#This Row],[Date]])=8,0,KCITempAct[[#This Row],[KCINHDD]]))","v":0},"Adj HDD and NDD =0 for July and August"]
["2020-08-01",82,64,{"$f":"AVERAGE(KCITempAct[[#This Row],[KCIHigh]:[KCILow]]\n)","v":73},{"$f":"IF(KCITempAct[[#This Row],[KCIAve]]<65,(65-KCITempAct[[#This Row],[KCIAve]]),0)","v":0},{"$f":"IF(MONTH(KCITempAct[[#This Row],[Date]])=7,0,IF(MONTH(KCITempAct[[#This Row],[Date]])=8,0,KCITempAct[[#This Row],[KCIHDD]]))","v":0},{"$f":"SUMPRODUCT((KCINHDD[Month]=MONTH(KCITempAct[[#This Row],[Date]]))*(KCINHDD[Day]=DAY(KCITempAct[[#This Row],[Date]]))*KCINHDD[KCINHDD])","v":0},{"$f":"IF(MONTH(KCITempAct[[#This Row],[Date]])=7,0,IF(MONTH(KCITempAct[[#This Row],[Date]])=8,0,KCITempAct[[#This Row],[KCINHDD]]))","v":0},"Adj HDD and NDD =0 for July and August"]
["2020-08-02",81,64,{"$f":"AVERAGE(KCITempAct[[#This Row],[KCIHigh]:[KCILow]]\n)","v":72.5},{"$f":"IF(KCITempAct[[#This Row],[KCIAve]]<65,(65-KCITempAct[[#This Row],[KCIAve]]),0)","v":0},{"$f":"IF(MONTH(KCITempAct[[#This Row],[Date]])=7,0,IF(MONTH(KCITempAct[[#This Row],[Date]])=8,0,KCITempAct[[#This Row],[KCIHDD]]))","v":0},{"$f":"SUMPRODUCT((KCINHDD[Month]=MONTH(KCITempAct[[#This Row],[Date]]))*(KCINHDD[Day]=DAY(KCITempAct[[#This Row],[Date]]))*KCINHDD[KCINHDD])","v":0},{"$f":"IF(MONTH(KCITempAct[[#This Row],[Date]])=7,0,IF(MONTH(KCITempAct[[#This Row],[Date]])=8,0,KCITempAct[[#This Row],[KCINHDD]]))","v":0},"Adj HDD and NDD =0 for July and August"]
["2020-08-03",76,58,{"$f":"AVERAGE(KCITempAct[[#This Row],[KCIHigh]:[KCILow]]\n)","v":67},{"$f":"IF(KCITempAct[[#This Row],[KCIAve]]<65,(65-KCITempAct[[#This Row],[KCIAve]]),0)","v":0},{"$f":"IF(MONTH(KCITempAct[[#This Row],[Date]])=7,0,IF(MONTH(KCITempAct[[#This Row],[Date]])=8,0,KCITempAct[[#This Row],[KCIHDD]]))","v":0},{"$f":"SUMPRODUCT((KCINHDD[Month]=MONTH(KCITempAct[[#This Row],[Date]]))*(KCINHDD[Day]=DAY(KCITempAct[[#This Row],[Date]]))*KCINHDD[KCINHDD])","v":0},{"$f":"IF(MONTH(KCITempAct[[#This Row],[Date]])=7,0,IF(MONTH(KCITempAct[[#This Row],[Date]])=8,0,KCITempAct[[#This Row],[KCINHDD]]))","v":0},"Adj HDD and NDD =0 for July and August"]
["2020-08-04",75,53,{"$f":"AVERAGE(KCITempAct[[#This Row],[KCIHigh]:[KCILow]]\n)","v":64},{"$f":"IF(KCITempAct[[#This Row],[KCIAve]]<65,(65-KCITempAct[[#This Row],[KCIAve]]),0)","v":1},{"$f":"IF(MONTH(KCITempAct[[#This Row],[Date]])=7,0,IF(MONTH(KCITempAct[[#This Row],[Date]])=8,0,KCITempAct[[#This Row],[KCIHDD]]))","v":0},{"$f":"SUMPRODUCT((KCINHDD[Month]=MONTH(KCITempAct[[#This Row],[Date]]))*(KCINHDD[Day]=DAY(KCITempAct[[#This Row],[Date]]))*KCINHDD[KCINHDD])","v":3.3333333333333333E-2},{"$f":"IF(MONTH(KCITempAct[[#This Row],[Date]])=7,0,IF(MONTH(KCITempAct[[#This Row],[Date]])=8,0,KCITempAct[[#This Row],[KCINHDD]]))","v":0},"Adj HDD and NDD =0 for July and August"]
["2020-08-05",79,54,{"$f":"AVERAGE(KCITempAct[[#This Row],[KCIHigh]:[KCILow]]\n)","v":66.5},{"$f":"IF(KCITempAct[[#This Row],[KCIAve]]<65,(65-KCITempAct[[#This Row],[KCIAve]]),0)","v":0},{"$f":"IF(MONTH(KCITempAct[[#This Row],[Date]])=7,0,IF(MONTH(KCITempAct[[#This Row],[Date]])=8,0,KCITempAct[[#This Row],[KCIHDD]]))","v":0},{"$f":"SUMPRODUCT((KCINHDD[Month]=MONTH(KCITempAct[[#This Row],[Date]]))*(KCINHDD[Day]=DAY(KCITempAct[[#This Row],[Date]]))*KCINHDD[KCINHDD])","v":0.2},{"$f":"IF(MONTH(KCITempAct[[#This Row],[Date]])=7,0,IF(MONTH(KCITempAct[[#This Row],[Date]])=8,0,KCITempAct[[#This Row],[KCINHDD]]))","v":0},"Adj HDD and NDD =0 for July and August"]
["2020-08-06",83,65,{"$f":"AVERAGE(KCITempAct[[#This Row],[KCIHigh]:[KCILow]]\n)","v":74},{"$f":"IF(KCITempAct[[#This Row],[KCIAve]]<65,(65-KCITempAct[[#This Row],[KCIAve]]),0)","v":0},{"$f":"IF(MONTH(KCITempAct[[#This Row],[Date]])=7,0,IF(MONTH(KCITempAct[[#This Row],[Date]])=8,0,KCITempAct[[#This Row],[KCIHDD]]))","v":0},{"$f":"SUMPRODUCT((KCINHDD[Month]=MONTH(KCITempAct[[#This Row],[Date]]))*(KCINHDD[Day]=DAY(KCITempAct[[#This Row],[Date]]))*KCINHDD[KCINHDD])","v":0},{"$f":"IF(MONTH(KCITempAct[[#This Row],[Date]])=7,0,IF(MONTH(KCITempAct[[#This Row],[Date]])=8,0,KCITempAct[[#This Row],[KCINHDD]]))","v":0},"Adj HDD and NDD =0 for July and August"]
["2020-08-07",87,68,{"$f":"AVERAGE(KCITempAct[[#This Row],[KCIHigh]:[KCILow]]\n)","v":77.5},{"$f":"IF(KCITempAct[[#This Row],[KCIAve]]<65,(65-KCITempAct[[#This Row],[KCIAve]]),0)","v":0},{"$f":"IF(MONTH(KCITempAct[[#This Row],[Date]])=7,0,IF(MONTH(KCITempAct[[#This Row],[Date]])=8,0,KCITempAct[[#This Row],[KCIHDD]]))","v":0},{"$f":"SUMPRODUCT((KCINHDD[Month]=MONTH(KCITempAct[[#This Row],[Date]]))*(KCINHDD[Day]=DAY(KCITempAct[[#This Row],[Date]]))*KCINHDD[KCINHDD])","v":0},{"$f":"IF(MONTH(KCITempAct[[#This Row],[Date]])=7,0,IF(MONTH(KCITempAct[[#This Row],[Date]])=8,0,KCITempAct[[#This Row],[KCINHDD]]))","v":0},"Adj HDD and NDD =0 for July and August"]
["2020-08-08",88,71,{"$f":"AVERAGE(KCITempAct[[#This Row],[KCIHigh]:[KCILow]]\n)","v":79.5},{"$f":"IF(KCITempAct[[#This Row],[KCIAve]]<65,(65-KCITempAct[[#This Row],[KCIAve]]),0)","v":0},{"$f":"IF(MONTH(KCITempAct[[#This Row],[Date]])=7,0,IF(MONTH(KCITempAct[[#This Row],[Date]])=8,0,KCITempAct[[#This Row],[KCIHDD]]))","v":0},{"$f":"SUMPRODUCT((KCINHDD[Month]=MONTH(KCITempAct[[#This Row],[Date]]))*(KCINHDD[Day]=DAY(KCITempAct[[#This Row],[Date]]))*KCINHDD[KCINHDD])","v":0},{"$f":"IF(MONTH(KCITempAct[[#This Row],[Date]])=7,0,IF(MONTH(KCITempAct[[#This Row],[Date]])=8,0,KCITempAct[[#This Row],[KCINHDD]]))","v":0},"Adj HDD and NDD =0 for July and August"]
["2020-08-09",86,71,{"$f":"AVERAGE(KCITempAct[[#This Row],[KCIHigh]:[KCILow]]\n)","v":78.5},{"$f":"IF(KCITempAct[[#This Row],[KCIAve]]<65,(65-KCITempAct[[#This Row],[KCIAve]]),0)","v":0},{"$f":"IF(MONTH(KCITempAct[[#This Row],[Date]])=7,0,IF(MONTH(KCITempAct[[#This Row],[Date]])=8,0,KCITempAct[[#This Row],[KCIHDD]]))","v":0},{"$f":"SUMPRODUCT((KCINHDD[Month]=MONTH(KCITempAct[[#This Row],[Date]]))*(KCINHDD[Day]=DAY(KCITempAct[[#This Row],[Date]]))*KCINHDD[KCINHDD])","v":0},{"$f":"IF(MONTH(KCITempAct[[#This Row],[Date]])=7,0,IF(MONTH(KCITempAct[[#This Row],[Date]])=8,0,KCITempAct[[#This Row],[KCINHDD]]))","v":0},"Adj HDD and NDD =0 for July and August"]
["2020-08-10",85,70,{"$f":"AVERAGE(KCITempAct[[#This Row],[KCIHigh]:[KCILow]]\n)","v":77.5},{"$f":"IF(KCITempAct[[#This Row],[KCIAve]]<65,(65-KCITempAct[[#This Row],[KCIAve]]),0)","v":0},{"$f":"IF(MONTH(KCITempAct[[#This Row],[Date]])=7,0,IF(MONTH(KCITempAct[[#This Row],[Date]])=8,0,KCITempAct[[#This Row],[KCIHDD]]))","v":0},{"$f":"SUMPRODUCT((KCINHDD[Month]=MONTH(KCITempAct[[#This Row],[Date]]))*(KCINHDD[Day]=DAY(KCITempAct[[#This Row],[Date]]))*KCINHDD[KCINHDD])","v":0},{"$f":"IF(MONTH(KCITempAct[[#This Row],[Date]])=7,0,IF(MONTH(KCITempAct[[#This Row],[Date]])=8,0,KCITempAct[[#This Row],[KCINHDD]]))","v":0},"Adj HDD and NDD =0 for July and August"]
["2020-08-11",85,69,{"$f":"AVERAGE(KCITempAct[[#This Row],[KCIHigh]:[KCILow]]\n)","v":77},{"$f":"IF(KCITempAct[[#This Row],[KCIAve]]<65,(65-KCITempAct[[#This Row],[KCIAve]]),0)","v":0},{"$f":"IF(MONTH(KCITempAct[[#This Row],[Date]])=7,0,IF(MONTH(KCITempAct[[#This Row],[Date]])=8,0,KCITempAct[[#This Row],[KCIHDD]]))","v":0},{"$f":"SUMPRODUCT((KCINHDD[Month]=MONTH(KCITempAct[[#This Row],[Date]]))*(KCINHDD[Day]=DAY(KCITempAct[[#This Row],[Date]]))*KCINHDD[KCINHDD])","v":0.05},{"$f":"IF(MONTH(KCITempAct[[#This Row],[Date]])=7,0,IF(MONTH(KCITempAct[[#This Row],[Date]])=8,0,KCITempAct[[#This Row],[KCINHDD]]))","v":0},"Adj HDD and NDD =0 for July and August"]
["2020-08-12",88,69,{"$f":"AVERAGE(KCITempAct[[#This Row],[KCIHigh]:[KCILow]]\n)","v":78.5},{"$f":"IF(KCITempAct[[#This Row],[KCIAve]]<65,(65-KCITempAct[[#This Row],[KCIAve]]),0)","v":0},{"$f":"IF(MONTH(KCITempAct[[#This Row],[Date]])=7,0,IF(MONTH(KCITempAct[[#This Row],[Date]])=8,0,KCITempAct[[#This Row],[KCIHDD]]))","v":0},{"$f":"SUMPRODUCT((KCINHDD[Month]=MONTH(KCITempAct[[#This Row],[Date]]))*(KCINHDD[Day]=DAY(KCITempAct[[#This Row],[Date]]))*KCINHDD[KCINHDD])","v":0.11666666666666667},{"$f":"IF(MONTH(KCITempAct[[#This Row],[Date]])=7,0,IF(MONTH(KCITempAct[[#This Row],[Date]])=8,0,KCITempAct[[#This Row],[KCINHDD]]))","v":0},"Adj HDD and NDD =0 for July and August"]
["2020-08-13",88,73,{"$f":"AVERAGE(KCITempAct[[#This Row],[KCIHigh]:[KCILow]]\n)","v":80.5},{"$f":"IF(KCITempAct[[#This Row],[KCIAve]]<65,(65-KCITempAct[[#This Row],[KCIAve]]),0)","v":0},{"$f":"IF(MONTH(KCITempAct[[#This Row],[Date]])=7,0,IF(MONTH(KCITempAct[[#This Row],[Date]])=8,0,KCITempAct[[#This Row],[KCIHDD]]))","v":0},{"$f":"SUMPRODUCT((KCINHDD[Month]=MONTH(KCITempAct[[#This Row],[Date]]))*(KCINHDD[Day]=DAY(KCITempAct[[#This Row],[Date]]))*KCINHDD[KCINHDD])","v":1.6666666666666666E-2},{"$f":"IF(MONTH(KCITempAct[[#This Row],[Date]])=7,0,IF(MONTH(KCITempAct[[#This Row],[Date]])=8,0,KCITempAct[[#This Row],[KCINHDD]]))","v":0},"Adj HDD and NDD =0 for July and August"]
["2020-08-14",90,72,{"$f":"AVERAGE(KCITempAct[[#This Row],[KCIHigh]:[KCILow]]\n)","v":81},{"$f":"IF(KCITempAct[[#This Row],[KCIAve]]<65,(65-KCITempAct[[#This Row],[KCIAve]]),0)","v":0},{"$f":"IF(MONTH(KCITempAct[[#This Row],[Date]])=7,0,IF(MONTH(KCITempAct[[#This Row],[Date]])=8,0,KCITempAct[[#This Row],[KCIHDD]]))","v":0},{"$f":"SUMPRODUCT((KCINHDD[Month]=MONTH(KCITempAct[[#This Row],[Date]]))*(KCINHDD[Day]=DAY(KCITempAct[[#This Row],[Date]]))*KCINHDD[KCINHDD])","v":0},{"$f":"IF(MONTH(KCITempAct[[#This Row],[Date]])=7,0,IF(MONTH(KCITempAct[[#This Row],[Date]])=8,0,KCITempAct[[#This Row],[KCINHDD]]))","v":0},"Adj HDD and NDD =0 for July and August"]
["2020-08-15",84,66,{"$f":"AVERAGE(KCITempAct[[#This Row],[KCIHigh]:[KCILow]]\n)","v":75},{"$f":"IF(KCITempAct[[#This Row],[KCIAve]]<65,(65-KCITempAct[[#This Row],[KCIAve]]),0)","v":0},{"$f":"IF(MONTH(KCITempAct[[#This Row],[Date]])=7,0,IF(MONTH(KCITempAct[[#This Row],[Date]])=8,0,KCITempAct[[#This Row],[KCIHDD]]))","v":0},{"$f":"SUMPRODUCT((KCINHDD[Month]=MONTH(KCITempAct[[#This Row],[Date]]))*(KCINHDD[Day]=DAY(KCITempAct[[#This Row],[Date]]))*KCINHDD[KCINHDD])","v":8.3333333333333329E-2},{"$f":"IF(MONTH(KCITempAct[[#This Row],[Date]])=7,0,IF(MONTH(KCITempAct[[#This Row],[Date]])=8,0,KCITempAct[[#This Row],[KCINHDD]]))","v":0},"Adj HDD and NDD =0 for July and August"]
["2020-08-16",82,60,{"$f":"AVERAGE(KCITempAct[[#This Row],[KCIHigh]:[KCILow]]\n)","v":71},{"$f":"IF(KCITempAct[[#This Row],[KCIAve]]<65,(65-KCITempAct[[#This Row],[KCIAve]]),0)","v":0},{"$f":"IF(MONTH(KCITempAct[[#This Row],[Date]])=7,0,IF(MONTH(KCITempAct[[#This Row],[Date]])=8,0,KCITempAct[[#This Row],[KCIHDD]]))","v":0},{"$f":"SUMPRODUCT((KCINHDD[Month]=MONTH(KCITempAct[[#This Row],[Date]]))*(KCINHDD[Day]=DAY(KCITempAct[[#This Row],[Date]]))*KCINHDD[KCINHDD])","v":1.6666666666666666E-2},{"$f":"IF(MONTH(KCITempAct[[#This Row],[Date]])=7,0,IF(MONTH(KCITempAct[[#This Row],[Date]])=8,0,KCITempAct[[#This Row],[KCINHDD]]))","v":0},"Adj HDD and NDD =0 for July and August"]
["2020-08-17",85,64,{"$f":"AVERAGE(KCITempAct[[#This Row],[KCIHigh]:[KCILow]]\n)","v":74.5},{"$f":"IF(KCITempAct[[#This Row],[KCIAve]]<65,(65-KCITempAct[[#This Row],[KCIAve]]),0)","v":0},{"$f":"IF(MONTH(KCITempAct[[#This Row],[Date]])=7,0,IF(MONTH(KCITempAct[[#This Row],[Date]])=8,0,KCITempAct[[#This Row],[KCIHDD]]))","v":0},{"$f":"SUMPRODUCT((KCINHDD[Month]=MONTH(KCITempAct[[#This Row],[Date]]))*(KCINHDD[Day]=DAY(KCITempAct[[#This Row],[Date]]))*KCINHDD[KCINHDD])","v":0},{"$f":"IF(MONTH(KCITempAct[[#This Row],[Date]])=7,0,IF(MONTH(KCITempAct[[#This Row],[Date]])=8,0,KCITempAct[[#This Row],[KCINHDD]]))","v":0},"Adj HDD and NDD =0 for July and August"]
["2020-08-18",80,56,{"$f":"AVERAGE(KCITempAct[[#This Row],[KCIHigh]:[KCILow]]\n)","v":68},{"$f":"IF(KCITempAct[[#This Row],[KCIAve]]<65,(65-KCITempAct[[#This Row],[KCIAve]]),0)","v":0},{"$f":"IF(MONTH(KCITempAct[[#This Row],[Date]])=7,0,IF(MONTH(KCITempAct[[#This Row],[Date]])=8,0,KCITempAct[[#This Row],[KCIHDD]]))","v":0},{"$f":"SUMPRODUCT((KCINHDD[Month]=MONTH(KCITempAct[[#This Row],[Date]]))*(KCINHDD[Day]=DAY(KCITempAct[[#This Row],[Date]]))*KCINHDD[KCINHDD])","v":0},{"$f":"IF(MONTH(KCITempAct[[#This Row],[Date]])=7,0,IF(MONTH(KCITempAct[[#This Row],[Date]])=8,0,KCITempAct[[#This Row],[KCINHDD]]))","v":0},"Adj HDD and NDD =0 for July and August"]
["2020-08-19",83,58,{"$f":"AVERAGE(KCITempAct[[#This Row],[KCIHigh]:[KCILow]]\n)","v":70.5},{"$f":"IF(KCITempAct[[#This Row],[KCIAve]]<65,(65-KCITempAct[[#This Row],[KCIAve]]),0)","v":0},{"$f":"IF(MONTH(KCITempAct[[#This Row],[Date]])=7,0,IF(MONTH(KCITempAct[[#This Row],[Date]])=8,0,KCITempAct[[#This Row],[KCIHDD]]))","v":0},{"$f":"SUMPRODUCT((KCINHDD[Month]=MONTH(KCITempAct[[#This Row],[Date]]))*(KCINHDD[Day]=DAY(KCITempAct[[#This Row],[Date]]))*KCINHDD[KCINHDD])","v":0.05},{"$f":"IF(MONTH(KCITempAct[[#This Row],[Date]])=7,0,IF(MONTH(KCITempAct[[#This Row],[Date]])=8,0,KCITempAct[[#This Row],[KCINHDD]]))","v":0},"Adj HDD and NDD =0 for July and August"]
["2020-08-20",86,58,{"$f":"AVERAGE(KCITempAct[[#This Row],[KCIHigh]:[KCILow]]\n)","v":72},{"$f":"IF(KCITempAct[[#This Row],[KCIAve]]<65,(65-KCITempAct[[#This Row],[KCIAve]]),0)","v":0},{"$f":"IF(MONTH(KCITempAct[[#This Row],[Date]])=7,0,IF(MONTH(KCITempAct[[#This Row],[Date]])=8,0,KCITempAct[[#This Row],[KCIHDD]]))","v":0},{"$f":"SUMPRODUCT((KCINHDD[Month]=MONTH(KCITempAct[[#This Row],[Date]]))*(KCINHDD[Day]=DAY(KCITempAct[[#This Row],[Date]]))*KCINHDD[KCINHDD])","v":0},{"$f":"IF(MONTH(KCITempAct[[#This Row],[Date]])=7,0,IF(MONTH(KCITempAct[[#This Row],[Date]])=8,0,KCITempAct[[#This Row],[KCINHDD]]))","v":0},"Adj HDD and NDD =0 for July and August"]
["2020-08-21",88,61,{"$f":"AVERAGE(KCITempAct[[#This Row],[KCIHigh]:[KCILow]]\n)","v":74.5},{"$f":"IF(KCITempAct[[#This Row],[KCIAve]]<65,(65-KCITempAct[[#This Row],[KCIAve]]),0)","v":0},{"$f":"IF(MONTH(KCITempAct[[#This Row],[Date]])=7,0,IF(MONTH(KCITempAct[[#This Row],[Date]])=8,0,KCITempAct[[#This Row],[KCIHDD]]))","v":0},{"$f":"SUMPRODUCT((KCINHDD[Month]=MONTH(KCITempAct[[#This Row],[Date]]))*(KCINHDD[Day]=DAY(KCITempAct[[#This Row],[Date]]))*KCINHDD[KCINHDD])","v":0},{"$f":"IF(MONTH(KCITempAct[[#This Row],[Date]])=7,0,IF(MONTH(KCITempAct[[#This Row],[Date]])=8,0,KCITempAct[[#This Row],[KCINHDD]]))","v":0},"Adj HDD and NDD =0 for July and August"]
["2020-08-22",90,64,{"$f":"AVERAGE(KCITempAct[[#This Row],[KCIHigh]:[KCILow]]\n)","v":77},{"$f":"IF(KCITempAct[[#This Row],[KCIAve]]<65,(65-KCITempAct[[#This Row],[KCIAve]]),0)","v":0},{"$f":"IF(MONTH(KCITempAct[[#This Row],[Date]])=7,0,IF(MONTH(KCITempAct[[#This Row],[Date]])=8,0,KCITempAct[[#This Row],[KCIHDD]]))","v":0},{"$f":"SUMPRODUCT((KCINHDD[Month]=MONTH(KCITempAct[[#This Row],[Date]]))*(KCINHDD[Day]=DAY(KCITempAct[[#This Row],[Date]]))*KCINHDD[KCINHDD])","v":0},{"$f":"IF(MONTH(KCITempAct[[#This Row],[Date]])=7,0,IF(MONTH(KCITempAct[[#This Row],[Date]])=8,0,KCITempAct[[#This Row],[KCINHDD]]))","v":0},"Adj HDD and NDD =0 for July and August"]
["2020-08-23",93,67,{"$f":"AVERAGE(KCITempAct[[#This Row],[KCIHigh]:[KCILow]]\n)","v":80},{"$f":"IF(KCITempAct[[#This Row],[KCIAve]]<65,(65-KCITempAct[[#This Row],[KCIAve]]),0)","v":0},{"$f":"IF(MONTH(KCITempAct[[#This Row],[Date]])=7,0,IF(MONTH(KCITempAct[[#This Row],[Date]])=8,0,KCITempAct[[#This Row],[KCIHDD]]))","v":0},{"$f":"SUMPRODUCT((KCINHDD[Month]=MONTH(KCITempAct[[#This Row],[Date]]))*(KCINHDD[Day]=DAY(KCITempAct[[#This Row],[Date]]))*KCINHDD[KCINHDD])","v":1.6666666666666666E-2},{"$f":"IF(MONTH(KCITempAct[[#This Row],[Date]])=7,0,IF(MONTH(KCITempAct[[#This Row],[Date]])=8,0,KCITempAct[[#This Row],[KCINHDD]]))","v":0},"Adj HDD and NDD =0 for July and August"]
["2020-08-24",93,66,{"$f":"AVERAGE(KCITempAct[[#This Row],[KCIHigh]:[KCILow]]\n)","v":79.5},{"$f":"IF(KCITempAct[[#This Row],[KCIAve]]<65,(65-KCITempAct[[#This Row],[KCIAve]]),0)","v":0},{"$f":"IF(MONTH(KCITempAct[[#This Row],[Date]])=7,0,IF(MONTH(KCITempAct[[#This Row],[Date]])=8,0,KCITempAct[[#This Row],[KCIHDD]]))","v":0},{"$f":"SUMPRODUCT((KCINHDD[Month]=MONTH(KCITempAct[[#This Row],[Date]]))*(KCINHDD[Day]=DAY(KCITempAct[[#This Row],[Date]]))*KCINHDD[KCINHDD])","v":0},{"$f":"IF(MONTH(KCITempAct[[#This Row],[Date]])=7,0,IF(MONTH(KCITempAct[[#This Row],[Date]])=8,0,KCITempAct[[#This Row],[KCINHDD]]))","v":0},"Adj HDD and NDD =0 for July and August"]
["2020-08-25",94,67,{"$f":"AVERAGE(KCITempAct[[#This Row],[KCIHigh]:[KCILow]]\n)","v":80.5},{"$f":"IF(KCITempAct[[#This Row],[KCIAve]]<65,(65-KCITempAct[[#This Row],[KCIAve]]),0)","v":0},{"$f":"IF(MONTH(KCITempAct[[#This Row],[Date]])=7,0,IF(MONTH(KCITempAct[[#This Row],[Date]])=8,0,KCITempAct[[#This Row],[KCIHDD]]))","v":0},{"$f":"SUMPRODUCT((KCINHDD[Month]=MONTH(KCITempAct[[#This Row],[Date]]))*(KCINHDD[Day]=DAY(KCITempAct[[#This Row],[Date]]))*KCINHDD[KCINHDD])","v":0},{"$f":"IF(MONTH(KCITempAct[[#This Row],[Date]])=7,0,IF(MONTH(KCITempAct[[#This Row],[Date]])=8,0,KCITempAct[[#This Row],[KCINHDD]]))","v":0},"Adj HDD and NDD =0 for July and August"]
["2020-08-26",94,68,{"$f":"AVERAGE(KCITempAct[[#This Row],[KCIHigh]:[KCILow]]\n)","v":81},{"$f":"IF(KCITempAct[[#This Row],[KCIAve]]<65,(65-KCITempAct[[#This Row],[KCIAve]]),0)","v":0},{"$f":"IF(MONTH(KCITempAct[[#This Row],[Date]])=7,0,IF(MONTH(KCITempAct[[#This Row],[Date]])=8,0,KCITempAct[[#This Row],[KCIHDD]]))","v":0},{"$f":"SUMPRODUCT((KCINHDD[Month]=MONTH(KCITempAct[[#This Row],[Date]]))*(KCINHDD[Day]=DAY(KCITempAct[[#This Row],[Date]]))*KCINHDD[KCINHDD])","v":0.13333333333333333},{"$f":"IF(MONTH(KCITempAct[[#This Row],[Date]])=7,0,IF(MONTH(KCITempAct[[#This Row],[Date]])=8,0,KCITempAct[[#This Row],[KCINHDD]]))","v":0},"Adj HDD and NDD =0 for July and August"]
["2020-08-27",93,68,{"$f":"AVERAGE(KCITempAct[[#This Row],[KCIHigh]:[KCILow]]\n)","v":80.5},{"$f":"IF(KCITempAct[[#This Row],[KCIAve]]<65,(65-KCITempAct[[#This Row],[KCIAve]]),0)","v":0},{"$f":"IF(MONTH(KCITempAct[[#This Row],[Date]])=7,0,IF(MONTH(KCITempAct[[#This Row],[Date]])=8,0,KCITempAct[[#This Row],[KCIHDD]]))","v":0},{"$f":"SUMPRODUCT((KCINHDD[Month]=MONTH(KCITempAct[[#This Row],[Date]]))*(KCINHDD[Day]=DAY(KCITempAct[[#This Row],[Date]]))*KCINHDD[KCINHDD])","v":0.05},{"$f":"IF(MONTH(KCITempAct[[#This Row],[Date]])=7,0,IF(MONTH(KCITempAct[[#This Row],[Date]])=8,0,KCITempAct[[#This Row],[KCINHDD]]))","v":0},"Adj HDD and NDD =0 for July and August"]
["2020-08-28",94,66,{"$f":"AVERAGE(KCITempAct[[#This Row],[KCIHigh]:[KCILow]]\n)","v":80},{"$f":"IF(KCITempAct[[#This Row],[KCIAve]]<65,(65-KCITempAct[[#This Row],[KCIAve]]),0)","v":0},{"$f":"IF(MONTH(KCITempAct[[#This Row],[Date]])=7,0,IF(MONTH(KCITempAct[[#This Row],[Date]])=8,0,KCITempAct[[#This Row],[KCIHDD]]))","v":0},{"$f":"SUMPRODUCT((KCINHDD[Month]=MONTH(KCITempAct[[#This Row],[Date]]))*(KCINHDD[Day]=DAY(KCITempAct[[#This Row],[Date]]))*KCINHDD[KCINHDD])","v":0},{"$f":"IF(MONTH(KCITempAct[[#This Row],[Date]])=7,0,IF(MONTH(KCITempAct[[#This Row],[Date]])=8,0,KCITempAct[[#This Row],[KCINHDD]]))","v":0},"Adj HDD and NDD =0 for July and August"]
["2020-08-29",79,65,{"$f":"AVERAGE(KCITempAct[[#This Row],[KCIHigh]:[KCILow]]\n)","v":72},{"$f":"IF(KCITempAct[[#This Row],[KCIAve]]<65,(65-KCITempAct[[#This Row],[KCIAve]]),0)","v":0},{"$f":"IF(MONTH(KCITempAct[[#This Row],[Date]])=7,0,IF(MONTH(KCITempAct[[#This Row],[Date]])=8,0,KCITempAct[[#This Row],[KCIHDD]]))","v":0},{"$f":"SUMPRODUCT((KCINHDD[Month]=MONTH(KCITempAct[[#This Row],[Date]]))*(KCINHDD[Day]=DAY(KCITempAct[[#This Row],[Date]]))*KCINHDD[KCINHDD])","v":0.13333333333333333},{"$f":"IF(MONTH(KCITempAct[[#This Row],[Date]])=7,0,IF(MONTH(KCITempAct[[#This Row],[Date]])=8,0,KCITempAct[[#This Row],[KCINHDD]]))","v":0},"Adj HDD and NDD =0 for July and August"]
["2020-08-30",83,60,{"$f":"AVERAGE(KCITempAct[[#This Row],[KCIHigh]:[KCILow]]\n)","v":71.5},{"$f":"IF(KCITempAct[[#This Row],[KCIAve]]<65,(65-KCITempAct[[#This Row],[KCIAve]]),0)","v":0},{"$f":"IF(MONTH(KCITempAct[[#This Row],[Date]])=7,0,IF(MONTH(KCITempAct[[#This Row],[Date]])=8,0,KCITempAct[[#This Row],[KCIHDD]]))","v":0},{"$f":"SUMPRODUCT((KCINHDD[Month]=MONTH(KCITempAct[[#This Row],[Date]]))*(KCINHDD[Day]=DAY(KCITempAct[[#This Row],[Date]]))*KCINHDD[KCINHDD])","v":0.15},{"$f":"IF(MONTH(KCITempAct[[#This Row],[Date]])=7,0,IF(MONTH(KCITempAct[[#This Row],[Date]])=8,0,KCITempAct[[#This Row],[KCINHDD]]))","v":0},"Adj HDD and NDD =0 for July and August"]
["2020-08-31",73,64,{"$f":"AVERAGE(KCITempAct[[#This Row],[KCIHigh]:[KCILow]]\n)","v":68.5},{"$f":"IF(KCITempAct[[#This Row],[KCIAve]]<65,(65-KCITempAct[[#This Row],[KCIAve]]),0)","v":0},{"$f":"IF(MONTH(KCITempAct[[#This Row],[Date]])=7,0,IF(MONTH(KCITempAct[[#This Row],[Date]])=8,0,KCITempAct[[#This Row],[KCIHDD]]))","v":0},{"$f":"SUMPRODUCT((KCINHDD[Month]=MONTH(KCITempAct[[#This Row],[Date]]))*(KCINHDD[Day]=DAY(KCITempAct[[#This Row],[Date]]))*KCINHDD[KCINHDD])","v":8.3333333333333329E-2},{"$f":"IF(MONTH(KCITempAct[[#This Row],[Date]])=7,0,IF(MONTH(KCITempAct[[#This Row],[Date]])=8,0,KCITempAct[[#This Row],[KCINHDD]]))","v":0},"Adj HDD and NDD =0 for July and August"]
["2020-09-01",82,68,{"$f":"AVERAGE(KCITempAct[[#This Row],[KCIHigh]:[KCILow]]\n)","v":75},{"$f":"IF(KCITempAct[[#This Row],[KCIAve]]<65,(65-KCITempAct[[#This Row],[KCIAve]]),0)","v":0},{"$f":"IF(MONTH(KCITempAct[[#This Row],[Date]])=7,0,IF(MONTH(KCITempAct[[#This Row],[Date]])=8,0,KCITempAct[[#This Row],[KCIHDD]]))","v":0},{"$f":"SUMPRODUCT((KCINHDD[Month]=MONTH(KCITempAct[[#This Row],[Date]]))*(KCINHDD[Day]=DAY(KCITempAct[[#This Row],[Date]]))*KCINHDD[KCINHDD])","v":0.05},{"$f":"IF(MONTH(KCITempAct[[#This Row],[Date]])=7,0,IF(MONTH(KCITempAct[[#This Row],[Date]])=8,0,KCITempAct[[#This Row],[KCINHDD]]))","v":0.05},"Adj HDD and NDD =0 for July and August"]
["2020-09-02",85,62,{"$f":"AVERAGE(KCITempAct[[#This Row],[KCIHigh]:[KCILow]]\n)","v":73.5},{"$f":"IF(KCITempAct[[#This Row],[KCIAve]]<65,(65-KCITempAct[[#This Row],[KCIAve]]),0)","v":0},{"$f":"IF(MONTH(KCITempAct[[#This Row],[Date]])=7,0,IF(MONTH(KCITempAct[[#This Row],[Date]])=8,0,KCITempAct[[#This Row],[KCIHDD]]))","v":0},{"$f":"SUMPRODUCT((KCINHDD[Month]=MONTH(KCITempAct[[#This Row],[Date]]))*(KCINHDD[Day]=DAY(KCITempAct[[#This Row],[Date]]))*KCINHDD[KCINHDD])","v":3.3333333333333333E-2},{"$f":"IF(MONTH(KCITempAct[[#This Row],[Date]])=7,0,IF(MONTH(KCITempAct[[#This Row],[Date]])=8,0,KCITempAct[[#This Row],[KCINHDD]]))","v":3.3333333333333333E-2},"Adj HDD and NDD =0 for July and August"]
["2020-09-03",82,59,{"$f":"AVERAGE(KCITempAct[[#This Row],[KCIHigh]:[KCILow]]\n)","v":70.5},{"$f":"IF(KCITempAct[[#This Row],[KCIAve]]<65,(65-KCITempAct[[#This Row],[KCIAve]]),0)","v":0},{"$f":"IF(MONTH(KCITempAct[[#This Row],[Date]])=7,0,IF(MONTH(KCITempAct[[#This Row],[Date]])=8,0,KCITempAct[[#This Row],[KCIHDD]]))","v":0},{"$f":"SUMPRODUCT((KCINHDD[Month]=MONTH(KCITempAct[[#This Row],[Date]]))*(KCINHDD[Day]=DAY(KCITempAct[[#This Row],[Date]]))*KCINHDD[KCINHDD])","v":0.16666666666666666},{"$f":"IF(MONTH(KCITempAct[[#This Row],[Date]])=7,0,IF(MONTH(KCITempAct[[#This Row],[Date]])=8,0,KCITempAct[[#This Row],[KCINHDD]]))","v":0.16666666666666666},"Adj HDD and NDD =0 for July and August"]
["2020-09-04",83,54,{"$f":"AVERAGE(KCITempAct[[#This Row],[KCIHigh]:[KCILow]]\n)","v":68.5},{"$f":"IF(KCITempAct[[#This Row],[KCIAve]]<65,(65-KCITempAct[[#This Row],[KCIAve]]),0)","v":0},{"$f":"IF(MONTH(KCITempAct[[#This Row],[Date]])=7,0,IF(MONTH(KCITempAct[[#This Row],[Date]])=8,0,KCITempAct[[#This Row],[KCIHDD]]))","v":0},{"$f":"SUMPRODUCT((KCINHDD[Month]=MONTH(KCITempAct[[#This Row],[Date]]))*(KCINHDD[Day]=DAY(KCITempAct[[#This Row],[Date]]))*KCINHDD[KCINHDD])","v":0.3},{"$f":"IF(MONTH(KCITempAct[[#This Row],[Date]])=7,0,IF(MONTH(KCITempAct[[#This Row],[Date]])=8,0,KCITempAct[[#This Row],[KCINHDD]]))","v":0.3},"Adj HDD and NDD =0 for July and August"]
["2020-09-05",89,64,{"$f":"AVERAGE(KCITempAct[[#This Row],[KCIHigh]:[KCILow]]\n)","v":76.5},{"$f":"IF(KCITempAct[[#This Row],[KCIAve]]<65,(65-KCITempAct[[#This Row],[KCIAve]]),0)","v":0},{"$f":"IF(MONTH(KCITempAct[[#This Row],[Date]])=7,0,IF(MONTH(KCITempAct[[#This Row],[Date]])=8,0,KCITempAct[[#This Row],[KCIHDD]]))","v":0},{"$f":"SUMPRODUCT((KCINHDD[Month]=MONTH(KCITempAct[[#This Row],[Date]]))*(KCINHDD[Day]=DAY(KCITempAct[[#This Row],[Date]]))*KCINHDD[KCINHDD])","v":0.45},{"$f":"IF(MONTH(KCITempAct[[#This Row],[Date]])=7,0,IF(MONTH(KCITempAct[[#This Row],[Date]])=8,0,KCITempAct[[#This Row],[KCINHDD]]))","v":0.45},"Adj HDD and NDD =0 for July and August"]
["2020-09-06",91,74,{"$f":"AVERAGE(KCITempAct[[#This Row],[KCIHigh]:[KCILow]]\n)","v":82.5},{"$f":"IF(KCITempAct[[#This Row],[KCIAve]]<65,(65-KCITempAct[[#This Row],[KCIAve]]),0)","v":0},{"$f":"IF(MONTH(KCITempAct[[#This Row],[Date]])=7,0,IF(MONTH(KCITempAct[[#This Row],[Date]])=8,0,KCITempAct[[#This Row],[KCIHDD]]))","v":0},{"$f":"SUMPRODUCT((KCINHDD[Month]=MONTH(KCITempAct[[#This Row],[Date]]))*(KCINHDD[Day]=DAY(KCITempAct[[#This Row],[Date]]))*KCINHDD[KCINHDD])","v":0.48333333333333334},{"$f":"IF(MONTH(KCITempAct[[#This Row],[Date]])=7,0,IF(MONTH(KCITempAct[[#This Row],[Date]])=8,0,KCITempAct[[#This Row],[KCINHDD]]))","v":0.48333333333333334},"Adj HDD and NDD =0 for July and August"]
["2020-09-07",88,66,{"$f":"AVERAGE(KCITempAct[[#This Row],[KCIHigh]:[KCILow]]\n)","v":77},{"$f":"IF(KCITempAct[[#This Row],[KCIAve]]<65,(65-KCITempAct[[#This Row],[KCIAve]]),0)","v":0},{"$f":"IF(MONTH(KCITempAct[[#This Row],[Date]])=7,0,IF(MONTH(KCITempAct[[#This Row],[Date]])=8,0,KCITempAct[[#This Row],[KCIHDD]]))","v":0},{"$f":"SUMPRODUCT((KCINHDD[Month]=MONTH(KCITempAct[[#This Row],[Date]]))*(KCINHDD[Day]=DAY(KCITempAct[[#This Row],[Date]]))*KCINHDD[KCINHDD])","v":0.38333333333333336},{"$f":"IF(MONTH(KCITempAct[[#This Row],[Date]])=7,0,IF(MONTH(KCITempAct[[#This Row],[Date]])=8,0,KCITempAct[[#This Row],[KCINHDD]]))","v":0.38333333333333336},"Adj HDD and NDD =0 for July and August"]
["2020-09-08",66,49,{"$f":"AVERAGE(KCITempAct[[#This Row],[KCIHigh]:[KCILow]]\n)","v":57.5},{"$f":"IF(KCITempAct[[#This Row],[KCIAve]]<65,(65-KCITempAct[[#This Row],[KCIAve]]),0)","v":7.5},{"$f":"IF(MONTH(KCITempAct[[#This Row],[Date]])=7,0,IF(MONTH(KCITempAct[[#This Row],[Date]])=8,0,KCITempAct[[#This Row],[KCIHDD]]))","v":7.5},{"$f":"SUMPRODUCT((KCINHDD[Month]=MONTH(KCITempAct[[#This Row],[Date]]))*(KCINHDD[Day]=DAY(KCITempAct[[#This Row],[Date]]))*KCINHDD[KCINHDD])","v":1.0666666666666667},{"$f":"IF(MONTH(KCITempAct[[#This Row],[Date]])=7,0,IF(MONTH(KCITempAct[[#This Row],[Date]])=8,0,KCITempAct[[#This Row],[KCINHDD]]))","v":1.0666666666666667},"Adj HDD and NDD =0 for July and August"]
["2020-09-09",54,49,{"$f":"AVERAGE(KCITempAct[[#This Row],[KCIHigh]:[KCILow]]\n)","v":51.5},{"$f":"IF(KCITempAct[[#This Row],[KCIAve]]<65,(65-KCITempAct[[#This Row],[KCIAve]]),0)","v":13.5},{"$f":"IF(MONTH(KCITempAct[[#This Row],[Date]])=7,0,IF(MONTH(KCITempAct[[#This Row],[Date]])=8,0,KCITempAct[[#This Row],[KCIHDD]]))","v":13.5},{"$f":"SUMPRODUCT((KCINHDD[Month]=MONTH(KCITempAct[[#This Row],[Date]]))*(KCINHDD[Day]=DAY(KCITempAct[[#This Row],[Date]]))*KCINHDD[KCINHDD])","v":0.96666666666666667},{"$f":"IF(MONTH(KCITempAct[[#This Row],[Date]])=7,0,IF(MONTH(KCITempAct[[#This Row],[Date]])=8,0,KCITempAct[[#This Row],[KCINHDD]]))","v":0.96666666666666667},"Adj HDD and NDD =0 for July and August"]
["2020-09-10",57,52,{"$f":"AVERAGE(KCITempAct[[#This Row],[KCIHigh]:[KCILow]]\n)","v":54.5},{"$f":"IF(KCITempAct[[#This Row],[KCIAve]]<65,(65-KCITempAct[[#This Row],[KCIAve]]),0)","v":10.5},{"$f":"IF(MONTH(KCITempAct[[#This Row],[Date]])=7,0,IF(MONTH(KCITempAct[[#This Row],[Date]])=8,0,KCITempAct[[#This Row],[KCIHDD]]))","v":10.5},{"$f":"SUMPRODUCT((KCINHDD[Month]=MONTH(KCITempAct[[#This Row],[Date]]))*(KCINHDD[Day]=DAY(KCITempAct[[#This Row],[Date]]))*KCINHDD[KCINHDD])","v":0.85},{"$f":"IF(MONTH(KCITempAct[[#This Row],[Date]])=7,0,IF(MONTH(KCITempAct[[#This Row],[Date]])=8,0,KCITempAct[[#This Row],[KCINHDD]]))","v":0.85},"Adj HDD and NDD =0 for July and August"]
["2020-09-11",63,54,{"$f":"AVERAGE(KCITempAct[[#This Row],[KCIHigh]:[KCILow]]\n)","v":58.5},{"$f":"IF(KCITempAct[[#This Row],[KCIAve]]<65,(65-KCITempAct[[#This Row],[KCIAve]]),0)","v":6.5},{"$f":"IF(MONTH(KCITempAct[[#This Row],[Date]])=7,0,IF(MONTH(KCITempAct[[#This Row],[Date]])=8,0,KCITempAct[[#This Row],[KCIHDD]]))","v":6.5},{"$f":"SUMPRODUCT((KCINHDD[Month]=MONTH(KCITempAct[[#This Row],[Date]]))*(KCINHDD[Day]=DAY(KCITempAct[[#This Row],[Date]]))*KCINHDD[KCINHDD])","v":0.8666666666666667},{"$f":"IF(MONTH(KCITempAct[[#This Row],[Date]])=7,0,IF(MONTH(KCITempAct[[#This Row],[Date]])=8,0,KCITempAct[[#This Row],[KCINHDD]]))","v":0.8666666666666667},"Adj HDD and NDD =0 for July and August"]
["2020-09-12",77,60,{"$f":"AVERAGE(KCITempAct[[#This Row],[KCIHigh]:[KCILow]]\n)","v":68.5},{"$f":"IF(KCITempAct[[#This Row],[KCIAve]]<65,(65-KCITempAct[[#This Row],[KCIAve]]),0)","v":0},{"$f":"IF(MONTH(KCITempAct[[#This Row],[Date]])=7,0,IF(MONTH(KCITempAct[[#This Row],[Date]])=8,0,KCITempAct[[#This Row],[KCIHDD]]))","v":0},{"$f":"SUMPRODUCT((KCINHDD[Month]=MONTH(KCITempAct[[#This Row],[Date]]))*(KCINHDD[Day]=DAY(KCITempAct[[#This Row],[Date]]))*KCINHDD[KCINHDD])","v":1.0166666666666666},{"$f":"IF(MONTH(KCITempAct[[#This Row],[Date]])=7,0,IF(MONTH(KCITempAct[[#This Row],[Date]])=8,0,KCITempAct[[#This Row],[KCINHDD]]))","v":1.0166666666666666},"Adj HDD and NDD =0 for July and August"]
["2020-09-13",78,52,{"$f":"AVERAGE(KCITempAct[[#This Row],[KCIHigh]:[KCILow]]\n)","v":65},{"$f":"IF(KCITempAct[[#This Row],[KCIAve]]<65,(65-KCITempAct[[#This Row],[KCIAve]]),0)","v":0},{"$f":"IF(MONTH(KCITempAct[[#This Row],[Date]])=7,0,IF(MONTH(KCITempAct[[#This Row],[Date]])=8,0,KCITempAct[[#This Row],[KCIHDD]]))","v":0},{"$f":"SUMPRODUCT((KCINHDD[Month]=MONTH(KCITempAct[[#This Row],[Date]]))*(KCINHDD[Day]=DAY(KCITempAct[[#This Row],[Date]]))*KCINHDD[KCINHDD])","v":1.1166666666666667},{"$f":"IF(MONTH(KCITempAct[[#This Row],[Date]])=7,0,IF(MONTH(KCITempAct[[#This Row],[Date]])=8,0,KCITempAct[[#This Row],[KCINHDD]]))","v":1.1166666666666667},"Adj HDD and NDD =0 for July and August"]
["2020-09-14",79,54,{"$f":"AVERAGE(KCITempAct[[#This Row],[KCIHigh]:[KCILow]]\n)","v":66.5},{"$f":"IF(KCITempAct[[#This Row],[KCIAve]]<65,(65-KCITempAct[[#This Row],[KCIAve]]),0)","v":0},{"$f":"IF(MONTH(KCITempAct[[#This Row],[Date]])=7,0,IF(MONTH(KCITempAct[[#This Row],[Date]])=8,0,KCITempAct[[#This Row],[KCIHDD]]))","v":0},{"$f":"SUMPRODUCT((KCINHDD[Month]=MONTH(KCITempAct[[#This Row],[Date]]))*(KCINHDD[Day]=DAY(KCITempAct[[#This Row],[Date]]))*KCINHDD[KCINHDD])","v":2.0333333333333332},{"$f":"IF(MONTH(KCITempAct[[#This Row],[Date]])=7,0,IF(MONTH(KCITempAct[[#This Row],[Date]])=8,0,KCITempAct[[#This Row],[KCINHDD]]))","v":2.0333333333333332},"Adj HDD and NDD =0 for July and August"]
["2020-09-15",78,58,{"$f":"AVERAGE(KCITempAct[[#This Row],[KCIHigh]:[KCILow]]\n)","v":68},{"$f":"IF(KCITempAct[[#This Row],[KCIAve]]<65,(65-KCITempAct[[#This Row],[KCIAve]]),0)","v":0},{"$f":"IF(MONTH(KCITempAct[[#This Row],[Date]])=7,0,IF(MONTH(KCITempAct[[#This Row],[Date]])=8,0,KCITempAct[[#This Row],[KCIHDD]]))","v":0},{"$f":"SUMPRODUCT((KCINHDD[Month]=MONTH(KCITempAct[[#This Row],[Date]]))*(KCINHDD[Day]=DAY(KCITempAct[[#This Row],[Date]]))*KCINHDD[KCINHDD])","v":2.5833333333333335},{"$f":"IF(MONTH(KCITempAct[[#This Row],[Date]])=7,0,IF(MONTH(KCITempAct[[#This Row],[Date]])=8,0,KCITempAct[[#This Row],[KCINHDD]]))","v":2.5833333333333335},"Adj HDD and NDD =0 for July and August"]
["2020-09-16",85,60,{"$f":"AVERAGE(KCITempAct[[#This Row],[KCIHigh]:[KCILow]]\n)","v":72.5},{"$f":"IF(KCITempAct[[#This Row],[KCIAve]]<65,(65-KCITempAct[[#This Row],[KCIAve]]),0)","v":0},{"$f":"IF(MONTH(KCITempAct[[#This Row],[Date]])=7,0,IF(MONTH(KCITempAct[[#This Row],[Date]])=8,0,KCITempAct[[#This Row],[KCIHDD]]))","v":0},{"$f":"SUMPRODUCT((KCINHDD[Month]=MONTH(KCITempAct[[#This Row],[Date]]))*(KCINHDD[Day]=DAY(KCITempAct[[#This Row],[Date]]))*KCINHDD[KCINHDD])","v":1.7166666666666666},{"$f":"IF(MONTH(KCITempAct[[#This Row],[Date]])=7,0,IF(MONTH(KCITempAct[[#This Row],[Date]])=8,0,KCITempAct[[#This Row],[KCINHDD]]))","v":1.7166666666666666},"Adj HDD and NDD =0 for July and August"]
["2020-09-17",73,54,{"$f":"AVERAGE(KCITempAct[[#This Row],[KCIHigh]:[KCILow]]\n)","v":63.5},{"$f":"IF(KCITempAct[[#This Row],[KCIAve]]<65,(65-KCITempAct[[#This Row],[KCIAve]]),0)","v":1.5},{"$f":"IF(MONTH(KCITempAct[[#This Row],[Date]])=7,0,IF(MONTH(KCITempAct[[#This Row],[Date]])=8,0,KCITempAct[[#This Row],[KCIHDD]]))","v":1.5},{"$f":"SUMPRODUCT((KCINHDD[Month]=MONTH(KCITempAct[[#This Row],[Date]]))*(KCINHDD[Day]=DAY(KCITempAct[[#This Row],[Date]]))*KCINHDD[KCINHDD])","v":0.96666666666666667},{"$f":"IF(MONTH(KCITempAct[[#This Row],[Date]])=7,0,IF(MONTH(KCITempAct[[#This Row],[Date]])=8,0,KCITempAct[[#This Row],[KCINHDD]]))","v":0.96666666666666667},"Adj HDD and NDD =0 for July and August"]
["2020-09-18",73,50,{"$f":"AVERAGE(KCITempAct[[#This Row],[KCIHigh]:[KCILow]]\n)","v":61.5},{"$f":"IF(KCITempAct[[#This Row],[KCIAve]]<65,(65-KCITempAct[[#This Row],[KCIAve]]),0)","v":3.5},{"$f":"IF(MONTH(KCITempAct[[#This Row],[Date]])=7,0,IF(MONTH(KCITempAct[[#This Row],[Date]])=8,0,KCITempAct[[#This Row],[KCIHDD]]))","v":3.5},{"$f":"SUMPRODUCT((KCINHDD[Month]=MONTH(KCITempAct[[#This Row],[Date]]))*(KCINHDD[Day]=DAY(KCITempAct[[#This Row],[Date]]))*KCINHDD[KCINHDD])","v":1.25},{"$f":"IF(MONTH(KCITempAct[[#This Row],[Date]])=7,0,IF(MONTH(KCITempAct[[#This Row],[Date]])=8,0,KCITempAct[[#This Row],[KCINHDD]]))","v":1.25},"Adj HDD and NDD =0 for July and August"]
["2020-09-19",71,52,{"$f":"AVERAGE(KCITempAct[[#This Row],[KCIHigh]:[KCILow]]\n)","v":61.5},{"$f":"IF(KCITempAct[[#This Row],[KCIAve]]<65,(65-KCITempAct[[#This Row],[KCIAve]]),0)","v":3.5},{"$f":"IF(MONTH(KCITempAct[[#This Row],[Date]])=7,0,IF(MONTH(KCITempAct[[#This Row],[Date]])=8,0,KCITempAct[[#This Row],[KCIHDD]]))","v":3.5},{"$f":"SUMPRODUCT((KCINHDD[Month]=MONTH(KCITempAct[[#This Row],[Date]]))*(KCINHDD[Day]=DAY(KCITempAct[[#This Row],[Date]]))*KCINHDD[KCINHDD])","v":1.6166666666666667},{"$f":"IF(MONTH(KCITempAct[[#This Row],[Date]])=7,0,IF(MONTH(KCITempAct[[#This Row],[Date]])=8,0,KCITempAct[[#This Row],[KCINHDD]]))","v":1.6166666666666667},"Adj HDD and NDD =0 for July and August"]
["2020-09-20",74,52,{"$f":"AVERAGE(KCITempAct[[#This Row],[KCIHigh]:[KCILow]]\n)","v":63},{"$f":"IF(KCITempAct[[#This Row],[KCIAve]]<65,(65-KCITempAct[[#This Row],[KCIAve]]),0)","v":2},{"$f":"IF(MONTH(KCITempAct[[#This Row],[Date]])=7,0,IF(MONTH(KCITempAct[[#This Row],[Date]])=8,0,KCITempAct[[#This Row],[KCIHDD]]))","v":2},{"$f":"SUMPRODUCT((KCINHDD[Month]=MONTH(KCITempAct[[#This Row],[Date]]))*(KCINHDD[Day]=DAY(KCITempAct[[#This Row],[Date]]))*KCINHDD[KCINHDD])","v":2.1},{"$f":"IF(MONTH(KCITempAct[[#This Row],[Date]])=7,0,IF(MONTH(KCITempAct[[#This Row],[Date]])=8,0,KCITempAct[[#This Row],[KCINHDD]]))","v":2.1},"Adj HDD and NDD =0 for July and August"]
["2020-09-21",78,54,{"$f":"AVERAGE(KCITempAct[[#This Row],[KCIHigh]:[KCILow]]\n)","v":66},{"$f":"IF(KCITempAct[[#This Row],[KCIAve]]<65,(65-KCITempAct[[#This Row],[KCIAve]]),0)","v":0},{"$f":"IF(MONTH(KCITempAct[[#This Row],[Date]])=7,0,IF(MONTH(KCITempAct[[#This Row],[Date]])=8,0,KCITempAct[[#This Row],[KCIHDD]]))","v":0},{"$f":"SUMPRODUCT((KCINHDD[Month]=MONTH(KCITempAct[[#This Row],[Date]]))*(KCINHDD[Day]=DAY(KCITempAct[[#This Row],[Date]]))*KCINHDD[KCINHDD])","v":2.4333333333333331},{"$f":"IF(MONTH(KCITempAct[[#This Row],[Date]])=7,0,IF(MONTH(KCITempAct[[#This Row],[Date]])=8,0,KCITempAct[[#This Row],[KCINHDD]]))","v":2.4333333333333331},"Adj HDD and NDD =0 for July and August"]
["2020-09-22",78,55,{"$f":"AVERAGE(KCITempAct[[#This Row],[KCIHigh]:[KCILow]]\n)","v":66.5},{"$f":"IF(KCITempAct[[#This Row],[KCIAve]]<65,(65-KCITempAct[[#This Row],[KCIAve]]),0)","v":0},{"$f":"IF(MONTH(KCITempAct[[#This Row],[Date]])=7,0,IF(MONTH(KCITempAct[[#This Row],[Date]])=8,0,KCITempAct[[#This Row],[KCIHDD]]))","v":0},{"$f":"SUMPRODUCT((KCINHDD[Month]=MONTH(KCITempAct[[#This Row],[Date]]))*(KCINHDD[Day]=DAY(KCITempAct[[#This Row],[Date]]))*KCINHDD[KCINHDD])","v":3.45},{"$f":"IF(MONTH(KCITempAct[[#This Row],[Date]])=7,0,IF(MONTH(KCITempAct[[#This Row],[Date]])=8,0,KCITempAct[[#This Row],[KCINHDD]]))","v":3.45},"Adj HDD and NDD =0 for July and August"]
["2020-09-23",77,61,{"$f":"AVERAGE(KCITempAct[[#This Row],[KCIHigh]:[KCILow]]\n)","v":69},{"$f":"IF(KCITempAct[[#This Row],[KCIAve]]<65,(65-KCITempAct[[#This Row],[KCIAve]]),0)","v":0},{"$f":"IF(MONTH(KCITempAct[[#This Row],[Date]])=7,0,IF(MONTH(KCITempAct[[#This Row],[Date]])=8,0,KCITempAct[[#This Row],[KCIHDD]]))","v":0},{"$f":"SUMPRODUCT((KCINHDD[Month]=MONTH(KCITempAct[[#This Row],[Date]]))*(KCINHDD[Day]=DAY(KCITempAct[[#This Row],[Date]]))*KCINHDD[KCINHDD])","v":3.3},{"$f":"IF(MONTH(KCITempAct[[#This Row],[Date]])=7,0,IF(MONTH(KCITempAct[[#This Row],[Date]])=8,0,KCITempAct[[#This Row],[KCINHDD]]))","v":3.3},"Adj HDD and NDD =0 for July and August"]
["2020-09-24",81,54,{"$f":"AVERAGE(KCITempAct[[#This Row],[KCIHigh]:[KCILow]]\n)","v":67.5},{"$f":"IF(KCITempAct[[#This Row],[KCIAve]]<65,(65-KCITempAct[[#This Row],[KCIAve]]),0)","v":0},{"$f":"IF(MONTH(KCITempAct[[#This Row],[Date]])=7,0,IF(MONTH(KCITempAct[[#This Row],[Date]])=8,0,KCITempAct[[#This Row],[KCIHDD]]))","v":0},{"$f":"SUMPRODUCT((KCINHDD[Month]=MONTH(KCITempAct[[#This Row],[Date]]))*(KCINHDD[Day]=DAY(KCITempAct[[#This Row],[Date]]))*KCINHDD[KCINHDD])","v":3.1833333333333331},{"$f":"IF(MONTH(KCITempAct[[#This Row],[Date]])=7,0,IF(MONTH(KCITempAct[[#This Row],[Date]])=8,0,KCITempAct[[#This Row],[KCINHDD]]))","v":3.1833333333333331},"Adj HDD and NDD =0 for July and August"]
["2020-09-25",87,60,{"$f":"AVERAGE(KCITempAct[[#This Row],[KCIHigh]:[KCILow]]\n)","v":73.5},{"$f":"IF(KCITempAct[[#This Row],[KCIAve]]<65,(65-KCITempAct[[#This Row],[KCIAve]]),0)","v":0},{"$f":"IF(MONTH(KCITempAct[[#This Row],[Date]])=7,0,IF(MONTH(KCITempAct[[#This Row],[Date]])=8,0,KCITempAct[[#This Row],[KCIHDD]]))","v":0},{"$f":"SUMPRODUCT((KCINHDD[Month]=MONTH(KCITempAct[[#This Row],[Date]]))*(KCINHDD[Day]=DAY(KCITempAct[[#This Row],[Date]]))*KCINHDD[KCINHDD])","v":2.95},{"$f":"IF(MONTH(KCITempAct[[#This Row],[Date]])=7,0,IF(MONTH(KCITempAct[[#This Row],[Date]])=8,0,KCITempAct[[#This Row],[KCINHDD]]))","v":2.95},"Adj HDD and NDD =0 for July and August"]
["2020-09-26",90,65,{"$f":"AVERAGE(KCITempAct[[#This Row],[KCIHigh]:[KCILow]]\n)","v":77.5},{"$f":"IF(KCITempAct[[#This Row],[KCIAve]]<65,(65-KCITempAct[[#This Row],[KCIAve]]),0)","v":0},{"$f":"IF(MONTH(KCITempAct[[#This Row],[Date]])=7,0,IF(MONTH(KCITempAct[[#This Row],[Date]])=8,0,KCITempAct[[#This Row],[KCIHDD]]))","v":0},{"$f":"SUMPRODUCT((KCINHDD[Month]=MONTH(KCITempAct[[#This Row],[Date]]))*(KCINHDD[Day]=DAY(KCITempAct[[#This Row],[Date]]))*KCINHDD[KCINHDD])","v":3.1333333333333333},{"$f":"IF(MONTH(KCITempAct[[#This Row],[Date]])=7,0,IF(MONTH(KCITempAct[[#This Row],[Date]])=8,0,KCITempAct[[#This Row],[KCINHDD]]))","v":3.1333333333333333},"Adj HDD and NDD =0 for July and August"]
["2020-09-27",72,51,{"$f":"AVERAGE(KCITempAct[[#This Row],[KCIHigh]:[KCILow]]\n)","v":61.5},{"$f":"IF(KCITempAct[[#This Row],[KCIAve]]<65,(65-KCITempAct[[#This Row],[KCIAve]]),0)","v":3.5},{"$f":"IF(MONTH(KCITempAct[[#This Row],[Date]])=7,0,IF(MONTH(KCITempAct[[#This Row],[Date]])=8,0,KCITempAct[[#This Row],[KCIHDD]]))","v":3.5},{"$f":"SUMPRODUCT((KCINHDD[Month]=MONTH(KCITempAct[[#This Row],[Date]]))*(KCINHDD[Day]=DAY(KCITempAct[[#This Row],[Date]]))*KCINHDD[KCINHDD])","v":3.0666666666666669},{"$f":"IF(MONTH(KCITempAct[[#This Row],[Date]])=7,0,IF(MONTH(KCITempAct[[#This Row],[Date]])=8,0,KCITempAct[[#This Row],[KCINHDD]]))","v":3.0666666666666669},"Adj HDD and NDD =0 for July and August"]
["2020-09-28",67,48,{"$f":"AVERAGE(KCITempAct[[#This Row],[KCIHigh]:[KCILow]]\n)","v":57.5},{"$f":"IF(KCITempAct[[#This Row],[KCIAve]]<65,(65-KCITempAct[[#This Row],[KCIAve]]),0)","v":7.5},{"$f":"IF(MONTH(KCITempAct[[#This Row],[Date]])=7,0,IF(MONTH(KCITempAct[[#This Row],[Date]])=8,0,KCITempAct[[#This Row],[KCIHDD]]))","v":7.5},{"$f":"SUMPRODUCT((KCINHDD[Month]=MONTH(KCITempAct[[#This Row],[Date]]))*(KCINHDD[Day]=DAY(KCITempAct[[#This Row],[Date]]))*KCINHDD[KCINHDD])","v":3.5666666666666669},{"$f":"IF(MONTH(KCITempAct[[#This Row],[Date]])=7,0,IF(MONTH(KCITempAct[[#This Row],[Date]])=8,0,KCITempAct[[#This Row],[KCINHDD]]))","v":3.5666666666666669},"Adj HDD and NDD =0 for July and August"]
["2020-09-29",72,43,{"$f":"AVERAGE(KCITempAct[[#This Row],[KCIHigh]:[KCILow]]\n)","v":57.5},{"$f":"IF(KCITempAct[[#This Row],[KCIAve]]<65,(65-KCITempAct[[#This Row],[KCIAve]]),0)","v":7.5},{"$f":"IF(MONTH(KCITempAct[[#This Row],[Date]])=7,0,IF(MONTH(KCITempAct[[#This Row],[Date]])=8,0,KCITempAct[[#This Row],[KCIHDD]]))","v":7.5},{"$f":"SUMPRODUCT((KCINHDD[Month]=MONTH(KCITempAct[[#This Row],[Date]]))*(KCINHDD[Day]=DAY(KCITempAct[[#This Row],[Date]]))*KCINHDD[KCINHDD])","v":4.2666666666666666},{"$f":"IF(MONTH(KCITempAct[[#This Row],[Date]])=7,0,IF(MONTH(KCITempAct[[#This Row],[Date]])=8,0,KCITempAct[[#This Row],[KCINHDD]]))","v":4.2666666666666666},"Adj HDD and NDD =0 for July and August"]
["2020-09-30",76,49,{"$f":"AVERAGE(KCITempAct[[#This Row],[KCIHigh]:[KCILow]]\n)","v":62.5},{"$f":"IF(KCITempAct[[#This Row],[KCIAve]]<65,(65-KCITempAct[[#This Row],[KCIAve]]),0)","v":2.5},{"$f":"IF(MONTH(KCITempAct[[#This Row],[Date]])=7,0,IF(MONTH(KCITempAct[[#This Row],[Date]])=8,0,KCITempAct[[#This Row],[KCIHDD]]))","v":2.5},{"$f":"SUMPRODUCT((KCINHDD[Month]=MONTH(KCITempAct[[#This Row],[Date]]))*(KCINHDD[Day]=DAY(KCITempAct[[#This Row],[Date]]))*KCINHDD[KCINHDD])","v":2.4166666666666665},{"$f":"IF(MONTH(KCITempAct[[#This Row],[Date]])=7,0,IF(MONTH(KCITempAct[[#This Row],[Date]])=8,0,KCITempAct[[#This Row],[KCINHDD]]))","v":2.4166666666666665},"Adj HDD and NDD =0 for July and August"]
["2020-10-01",65,43,{"$f":"AVERAGE(KCITempAct[[#This Row],[KCIHigh]:[KCILow]]\n)","v":54},{"$f":"IF(KCITempAct[[#This Row],[KCIAve]]<65,(65-KCITempAct[[#This Row],[KCIAve]]),0)","v":11},{"$f":"IF(MONTH(KCITempAct[[#This Row],[Date]])=7,0,IF(MONTH(KCITempAct[[#This Row],[Date]])=8,0,KCITempAct[[#This Row],[KCIHDD]]))","v":11},{"$f":"SUMPRODUCT((KCINHDD[Month]=MONTH(KCITempAct[[#This Row],[Date]]))*(KCINHDD[Day]=DAY(KCITempAct[[#This Row],[Date]]))*KCINHDD[KCINHDD])","v":2.95},{"$f":"IF(MONTH(KCITempAct[[#This Row],[Date]])=7,0,IF(MONTH(KCITempAct[[#This Row],[Date]])=8,0,KCITempAct[[#This Row],[KCINHDD]]))","v":2.95},"Adj HDD and NDD =0 for July and August"]
["2020-10-02",65,35,{"$f":"AVERAGE(KCITempAct[[#This Row],[KCIHigh]:[KCILow]]\n)","v":50},{"$f":"IF(KCITempAct[[#This Row],[KCIAve]]<65,(65-KCITempAct[[#This Row],[KCIAve]]),0)","v":15},{"$f":"IF(MONTH(KCITempAct[[#This Row],[Date]])=7,0,IF(MONTH(KCITempAct[[#This Row],[Date]])=8,0,KCITempAct[[#This Row],[KCIHDD]]))","v":15},{"$f":"SUMPRODUCT((KCINHDD[Month]=MONTH(KCITempAct[[#This Row],[Date]]))*(KCINHDD[Day]=DAY(KCITempAct[[#This Row],[Date]]))*KCINHDD[KCINHDD])","v":5.1833333333333336},{"$f":"IF(MONTH(KCITempAct[[#This Row],[Date]])=7,0,IF(MONTH(KCITempAct[[#This Row],[Date]])=8,0,KCITempAct[[#This Row],[KCINHDD]]))","v":5.1833333333333336},"Adj HDD and NDD =0 for July and August"]
["2020-10-03",65,43,{"$f":"AVERAGE(KCITempAct[[#This Row],[KCIHigh]:[KCILow]]\n)","v":54},{"$f":"IF(KCITempAct[[#This Row],[KCIAve]]<65,(65-KCITempAct[[#This Row],[KCIAve]]),0)","v":11},{"$f":"IF(MONTH(KCITempAct[[#This Row],[Date]])=7,0,IF(MONTH(KCITempAct[[#This Row],[Date]])=8,0,KCITempAct[[#This Row],[KCIHDD]]))","v":11},{"$f":"SUMPRODUCT((KCINHDD[Month]=MONTH(KCITempAct[[#This Row],[Date]]))*(KCINHDD[Day]=DAY(KCITempAct[[#This Row],[Date]]))*KCINHDD[KCINHDD])","v":5.2166666666666668},{"$f":"IF(MONTH(KCITempAct[[#This Row],[Date]])=7,0,IF(MONTH(KCITempAct[[#This Row],[Date]])=8,0,KCITempAct[[#This Row],[KCINHDD]]))","v":5.2166666666666668},"Adj HDD and NDD =0 for July and August"]
["2020-10-04",64,38,{"$f":"AVERAGE(KCITempAct[[#This Row],[KCIHigh]:[KCILow]]\n)","v":51},{"$f":"IF(KCITempAct[[#This Row],[KCIAve]]<65,(65-KCITempAct[[#This Row],[KCIAve]]),0)","v":14},{"$f":"IF(MONTH(KCITempAct[[#This Row],[Date]])=7,0,IF(MONTH(KCITempAct[[#This Row],[Date]])=8,0,KCITempAct[[#This Row],[KCIHDD]]))","v":14},{"$f":"SUMPRODUCT((KCINHDD[Month]=MONTH(KCITempAct[[#This Row],[Date]]))*(KCINHDD[Day]=DAY(KCITempAct[[#This Row],[Date]]))*KCINHDD[KCINHDD])","v":6.083333333333333},{"$f":"IF(MONTH(KCITempAct[[#This Row],[Date]])=7,0,IF(MONTH(KCITempAct[[#This Row],[Date]])=8,0,KCITempAct[[#This Row],[KCINHDD]]))","v":6.083333333333333},"Adj HDD and NDD =0 for July and August"]
["2020-10-05",77,47,{"$f":"AVERAGE(KCITempAct[[#This Row],[KCIHigh]:[KCILow]]\n)","v":62},{"$f":"IF(KCITempAct[[#This Row],[KCIAve]]<65,(65-KCITempAct[[#This Row],[KCIAve]]),0)","v":3},{"$f":"IF(MONTH(KCITempAct[[#This Row],[Date]])=7,0,IF(MONTH(KCITempAct[[#This Row],[Date]])=8,0,KCITempAct[[#This Row],[KCIHDD]]))","v":3},{"$f":"SUMPRODUCT((KCINHDD[Month]=MONTH(KCITempAct[[#This Row],[Date]]))*(KCINHDD[Day]=DAY(KCITempAct[[#This Row],[Date]]))*KCINHDD[KCINHDD])","v":5.9333333333333336},{"$f":"IF(MONTH(KCITempAct[[#This Row],[Date]])=7,0,IF(MONTH(KCITempAct[[#This Row],[Date]])=8,0,KCITempAct[[#This Row],[KCINHDD]]))","v":5.9333333333333336},"Adj HDD and NDD =0 for July and August"]
["2020-10-06",81,51,{"$f":"AVERAGE(KCITempAct[[#This Row],[KCIHigh]:[KCILow]]\n)","v":66},{"$f":"IF(KCITempAct[[#This Row],[KCIAve]]<65,(65-KCITempAct[[#This Row],[KCIAve]]),0)","v":0},{"$f":"IF(MONTH(KCITempAct[[#This Row],[Date]])=7,0,IF(MONTH(KCITempAct[[#This Row],[Date]])=8,0,KCITempAct[[#This Row],[KCIHDD]]))","v":0},{"$f":"SUMPRODUCT((KCINHDD[Month]=MONTH(KCITempAct[[#This Row],[Date]]))*(KCINHDD[Day]=DAY(KCITempAct[[#This Row],[Date]]))*KCINHDD[KCINHDD])","v":6.6833333333333336},{"$f":"IF(MONTH(KCITempAct[[#This Row],[Date]])=7,0,IF(MONTH(KCITempAct[[#This Row],[Date]])=8,0,KCITempAct[[#This Row],[KCINHDD]]))","v":6.6833333333333336},"Adj HDD and NDD =0 for July and August"]
["2020-10-07",90,57,{"$f":"AVERAGE(KCITempAct[[#This Row],[KCIHigh]:[KCILow]]\n)","v":73.5},{"$f":"IF(KCITempAct[[#This Row],[KCIAve]]<65,(65-KCITempAct[[#This Row],[KCIAve]]),0)","v":0},{"$f":"IF(MONTH(KCITempAct[[#This Row],[Date]])=7,0,IF(MONTH(KCITempAct[[#This Row],[Date]])=8,0,KCITempAct[[#This Row],[KCIHDD]]))","v":0},{"$f":"SUMPRODUCT((KCINHDD[Month]=MONTH(KCITempAct[[#This Row],[Date]]))*(KCINHDD[Day]=DAY(KCITempAct[[#This Row],[Date]]))*KCINHDD[KCINHDD])","v":6.95},{"$f":"IF(MONTH(KCITempAct[[#This Row],[Date]])=7,0,IF(MONTH(KCITempAct[[#This Row],[Date]])=8,0,KCITempAct[[#This Row],[KCINHDD]]))","v":6.95},"Adj HDD and NDD =0 for July and August"]
["2020-10-08",85,58,{"$f":"AVERAGE(KCITempAct[[#This Row],[KCIHigh]:[KCILow]]\n)","v":71.5},{"$f":"IF(KCITempAct[[#This Row],[KCIAve]]<65,(65-KCITempAct[[#This Row],[KCIAve]]),0)","v":0},{"$f":"IF(MONTH(KCITempAct[[#This Row],[Date]])=7,0,IF(MONTH(KCITempAct[[#This Row],[Date]])=8,0,KCITempAct[[#This Row],[KCIHDD]]))","v":0},{"$f":"SUMPRODUCT((KCINHDD[Month]=MONTH(KCITempAct[[#This Row],[Date]]))*(KCINHDD[Day]=DAY(KCITempAct[[#This Row],[Date]]))*KCINHDD[KCINHDD])","v":6.35},{"$f":"IF(MONTH(KCITempAct[[#This Row],[Date]])=7,0,IF(MONTH(KCITempAct[[#This Row],[Date]])=8,0,KCITempAct[[#This Row],[KCINHDD]]))","v":6.35},"Adj HDD and NDD =0 for July and August"]
["2020-10-09",84,60,{"$f":"AVERAGE(KCITempAct[[#This Row],[KCIHigh]:[KCILow]]\n)","v":72},{"$f":"IF(KCITempAct[[#This Row],[KCIAve]]<65,(65-KCITempAct[[#This Row],[KCIAve]]),0)","v":0},{"$f":"IF(MONTH(KCITempAct[[#This Row],[Date]])=7,0,IF(MONTH(KCITempAct[[#This Row],[Date]])=8,0,KCITempAct[[#This Row],[KCIHDD]]))","v":0},{"$f":"SUMPRODUCT((KCINHDD[Month]=MONTH(KCITempAct[[#This Row],[Date]]))*(KCINHDD[Day]=DAY(KCITempAct[[#This Row],[Date]]))*KCINHDD[KCINHDD])","v":6.2833333333333332},{"$f":"IF(MONTH(KCITempAct[[#This Row],[Date]])=7,0,IF(MONTH(KCITempAct[[#This Row],[Date]])=8,0,KCITempAct[[#This Row],[KCINHDD]]))","v":6.2833333333333332},"Adj HDD and NDD =0 for July and August"]
["2020-10-10",83,60,{"$f":"AVERAGE(KCITempAct[[#This Row],[KCIHigh]:[KCILow]]\n)","v":71.5},{"$f":"IF(KCITempAct[[#This Row],[KCIAve]]<65,(65-KCITempAct[[#This Row],[KCIAve]]),0)","v":0},{"$f":"IF(MONTH(KCITempAct[[#This Row],[Date]])=7,0,IF(MONTH(KCITempAct[[#This Row],[Date]])=8,0,KCITempAct[[#This Row],[KCIHDD]]))","v":0},{"$f":"SUMPRODUCT((KCINHDD[Month]=MONTH(KCITempAct[[#This Row],[Date]]))*(KCINHDD[Day]=DAY(KCITempAct[[#This Row],[Date]]))*KCINHDD[KCINHDD])","v":8.1666666666666661},{"$f":"IF(MONTH(KCITempAct[[#This Row],[Date]])=7,0,IF(MONTH(KCITempAct[[#This Row],[Date]])=8,0,KCITempAct[[#This Row],[KCINHDD]]))","v":8.1666666666666661},"Adj HDD and NDD =0 for July and August"]
["2020-10-11",86,62,{"$f":"AVERAGE(KCITempAct[[#This Row],[KCIHigh]:[KCILow]]\n)","v":74},{"$f":"IF(KCITempAct[[#This Row],[KCIAve]]<65,(65-KCITempAct[[#This Row],[KCIAve]]),0)","v":0},{"$f":"IF(MONTH(KCITempAct[[#This Row],[Date]])=7,0,IF(MONTH(KCITempAct[[#This Row],[Date]])=8,0,KCITempAct[[#This Row],[KCIHDD]]))","v":0},{"$f":"SUMPRODUCT((KCINHDD[Month]=MONTH(KCITempAct[[#This Row],[Date]]))*(KCINHDD[Day]=DAY(KCITempAct[[#This Row],[Date]]))*KCINHDD[KCINHDD])","v":8.1333333333333329},{"$f":"IF(MONTH(KCITempAct[[#This Row],[Date]])=7,0,IF(MONTH(KCITempAct[[#This Row],[Date]])=8,0,KCITempAct[[#This Row],[KCINHDD]]))","v":8.1333333333333329},"Adj HDD and NDD =0 for July and August"]
["2020-10-12",76,46,{"$f":"AVERAGE(KCITempAct[[#This Row],[KCIHigh]:[KCILow]]\n)","v":61},{"$f":"IF(KCITempAct[[#This Row],[KCIAve]]<65,(65-KCITempAct[[#This Row],[KCIAve]]),0)","v":4},{"$f":"IF(MONTH(KCITempAct[[#This Row],[Date]])=7,0,IF(MONTH(KCITempAct[[#This Row],[Date]])=8,0,KCITempAct[[#This Row],[KCIHDD]]))","v":4},{"$f":"SUMPRODUCT((KCINHDD[Month]=MONTH(KCITempAct[[#This Row],[Date]]))*(KCINHDD[Day]=DAY(KCITempAct[[#This Row],[Date]]))*KCINHDD[KCINHDD])","v":7.75},{"$f":"IF(MONTH(KCITempAct[[#This Row],[Date]])=7,0,IF(MONTH(KCITempAct[[#This Row],[Date]])=8,0,KCITempAct[[#This Row],[KCINHDD]]))","v":7.75},"Adj HDD and NDD =0 for July and August"]
["2020-10-13",78,46,{"$f":"AVERAGE(KCITempAct[[#This Row],[KCIHigh]:[KCILow]]\n)","v":62},{"$f":"IF(KCITempAct[[#This Row],[KCIAve]]<65,(65-KCITempAct[[#This Row],[KCIAve]]),0)","v":3},{"$f":"IF(MONTH(KCITempAct[[#This Row],[Date]])=7,0,IF(MONTH(KCITempAct[[#This Row],[Date]])=8,0,KCITempAct[[#This Row],[KCIHDD]]))","v":3},{"$f":"SUMPRODUCT((KCINHDD[Month]=MONTH(KCITempAct[[#This Row],[Date]]))*(KCINHDD[Day]=DAY(KCITempAct[[#This Row],[Date]]))*KCINHDD[KCINHDD])","v":8.3666666666666671},{"$f":"IF(MONTH(KCITempAct[[#This Row],[Date]])=7,0,IF(MONTH(KCITempAct[[#This Row],[Date]])=8,0,KCITempAct[[#This Row],[KCINHDD]]))","v":8.3666666666666671},"Adj HDD and NDD =0 for July and August"]
["2020-10-14",84,52,{"$f":"AVERAGE(KCITempAct[[#This Row],[KCIHigh]:[KCILow]]\n)","v":68},{"$f":"IF(KCITempAct[[#This Row],[KCIAve]]<65,(65-KCITempAct[[#This Row],[KCIAve]]),0)","v":0},{"$f":"IF(MONTH(KCITempAct[[#This Row],[Date]])=7,0,IF(MONTH(KCITempAct[[#This Row],[Date]])=8,0,KCITempAct[[#This Row],[KCIHDD]]))","v":0},{"$f":"SUMPRODUCT((KCINHDD[Month]=MONTH(KCITempAct[[#This Row],[Date]]))*(KCINHDD[Day]=DAY(KCITempAct[[#This Row],[Date]]))*KCINHDD[KCINHDD])","v":8.0500000000000007},{"$f":"IF(MONTH(KCITempAct[[#This Row],[Date]])=7,0,IF(MONTH(KCITempAct[[#This Row],[Date]])=8,0,KCITempAct[[#This Row],[KCINHDD]]))","v":8.0500000000000007},"Adj HDD and NDD =0 for July and August"]
["2020-10-15",63,42,{"$f":"AVERAGE(KCITempAct[[#This Row],[KCIHigh]:[KCILow]]\n)","v":52.5},{"$f":"IF(KCITempAct[[#This Row],[KCIAve]]<65,(65-KCITempAct[[#This Row],[KCIAve]]),0)","v":12.5},{"$f":"IF(MONTH(KCITempAct[[#This Row],[Date]])=7,0,IF(MONTH(KCITempAct[[#This Row],[Date]])=8,0,KCITempAct[[#This Row],[KCIHDD]]))","v":12.5},{"$f":"SUMPRODUCT((KCINHDD[Month]=MONTH(KCITempAct[[#This Row],[Date]]))*(KCINHDD[Day]=DAY(KCITempAct[[#This Row],[Date]]))*KCINHDD[KCINHDD])","v":9.6},{"$f":"IF(MONTH(KCITempAct[[#This Row],[Date]])=7,0,IF(MONTH(KCITempAct[[#This Row],[Date]])=8,0,KCITempAct[[#This Row],[KCINHDD]]))","v":9.6},"Adj HDD and NDD =0 for July and August"]
["2020-10-16",62,34,{"$f":"AVERAGE(KCITempAct[[#This Row],[KCIHigh]:[KCILow]]\n)","v":48},{"$f":"IF(KCITempAct[[#This Row],[KCIAve]]<65,(65-KCITempAct[[#This Row],[KCIAve]]),0)","v":17},{"$f":"IF(MONTH(KCITempAct[[#This Row],[Date]])=7,0,IF(MONTH(KCITempAct[[#This Row],[Date]])=8,0,KCITempAct[[#This Row],[KCIHDD]]))","v":17},{"$f":"SUMPRODUCT((KCINHDD[Month]=MONTH(KCITempAct[[#This Row],[Date]]))*(KCINHDD[Day]=DAY(KCITempAct[[#This Row],[Date]]))*KCINHDD[KCINHDD])","v":9.9499999999999993},{"$f":"IF(MONTH(KCITempAct[[#This Row],[Date]])=7,0,IF(MONTH(KCITempAct[[#This Row],[Date]])=8,0,KCITempAct[[#This Row],[KCINHDD]]))","v":9.9499999999999993},"Adj HDD and NDD =0 for July and August"]
["2020-10-17",72,50,{"$f":"AVERAGE(KCITempAct[[#This Row],[KCIHigh]:[KCILow]]\n)","v":61},{"$f":"IF(KCITempAct[[#This Row],[KCIAve]]<65,(65-KCITempAct[[#This Row],[KCIAve]]),0)","v":4},{"$f":"IF(MONTH(KCITempAct[[#This Row],[Date]])=7,0,IF(MONTH(KCITempAct[[#This Row],[Date]])=8,0,KCITempAct[[#This Row],[KCIHDD]]))","v":4},{"$f":"SUMPRODUCT((KCINHDD[Month]=MONTH(KCITempAct[[#This Row],[Date]]))*(KCINHDD[Day]=DAY(KCITempAct[[#This Row],[Date]]))*KCINHDD[KCINHDD])","v":9.4833333333333325},{"$f":"IF(MONTH(KCITempAct[[#This Row],[Date]])=7,0,IF(MONTH(KCITempAct[[#This Row],[Date]])=8,0,KCITempAct[[#This Row],[KCINHDD]]))","v":9.4833333333333325},"Adj HDD and NDD =0 for July and August"]
["2020-10-18",56,42,{"$f":"AVERAGE(KCITempAct[[#This Row],[KCIHigh]:[KCILow]]\n)","v":49},{"$f":"IF(KCITempAct[[#This Row],[KCIAve]]<65,(65-KCITempAct[[#This Row],[KCIAve]]),0)","v":16},{"$f":"IF(MONTH(KCITempAct[[#This Row],[Date]])=7,0,IF(MONTH(KCITempAct[[#This Row],[Date]])=8,0,KCITempAct[[#This Row],[KCIHDD]]))","v":16},{"$f":"SUMPRODUCT((KCINHDD[Month]=MONTH(KCITempAct[[#This Row],[Date]]))*(KCINHDD[Day]=DAY(KCITempAct[[#This Row],[Date]]))*KCINHDD[KCINHDD])","v":10.65},{"$f":"IF(MONTH(KCITempAct[[#This Row],[Date]])=7,0,IF(MONTH(KCITempAct[[#This Row],[Date]])=8,0,KCITempAct[[#This Row],[KCINHDD]]))","v":10.65},"Adj HDD and NDD =0 for July and August"]
["2020-10-19",46,40,{"$f":"AVERAGE(KCITempAct[[#This Row],[KCIHigh]:[KCILow]]\n)","v":43},{"$f":"IF(KCITempAct[[#This Row],[KCIAve]]<65,(65-KCITempAct[[#This Row],[KCIAve]]),0)","v":22},{"$f":"IF(MONTH(KCITempAct[[#This Row],[Date]])=7,0,IF(MONTH(KCITempAct[[#This Row],[Date]])=8,0,KCITempAct[[#This Row],[KCIHDD]]))","v":22},{"$f":"SUMPRODUCT((KCINHDD[Month]=MONTH(KCITempAct[[#This Row],[Date]]))*(KCINHDD[Day]=DAY(KCITempAct[[#This Row],[Date]]))*KCINHDD[KCINHDD])","v":10.8},{"$f":"IF(MONTH(KCITempAct[[#This Row],[Date]])=7,0,IF(MONTH(KCITempAct[[#This Row],[Date]])=8,0,KCITempAct[[#This Row],[KCINHDD]]))","v":10.8},"Adj HDD and NDD =0 for July and August"]
["2020-10-20",48,40,{"$f":"AVERAGE(KCITempAct[[#This Row],[KCIHigh]:[KCILow]]\n)","v":44},{"$f":"IF(KCITempAct[[#This Row],[KCIAve]]<65,(65-KCITempAct[[#This Row],[KCIAve]]),0)","v":21},{"$f":"IF(MONTH(KCITempAct[[#This Row],[Date]])=7,0,IF(MONTH(KCITempAct[[#This Row],[Date]])=8,0,KCITempAct[[#This Row],[KCIHDD]]))","v":21},{"$f":"SUMPRODUCT((KCINHDD[Month]=MONTH(KCITempAct[[#This Row],[Date]]))*(KCINHDD[Day]=DAY(KCITempAct[[#This Row],[Date]]))*KCINHDD[KCINHDD])","v":9.4666666666666668},{"$f":"IF(MONTH(KCITempAct[[#This Row],[Date]])=7,0,IF(MONTH(KCITempAct[[#This Row],[Date]])=8,0,KCITempAct[[#This Row],[KCINHDD]]))","v":9.4666666666666668},"Adj HDD and NDD =0 for July and August"]
["2020-10-21",50,36,{"$f":"AVERAGE(KCITempAct[[#This Row],[KCIHigh]:[KCILow]]\n)","v":43},{"$f":"IF(KCITempAct[[#This Row],[KCIAve]]<65,(65-KCITempAct[[#This Row],[KCIAve]]),0)","v":22},{"$f":"IF(MONTH(KCITempAct[[#This Row],[Date]])=7,0,IF(MONTH(KCITempAct[[#This Row],[Date]])=8,0,KCITempAct[[#This Row],[KCIHDD]]))","v":22},{"$f":"SUMPRODUCT((KCINHDD[Month]=MONTH(KCITempAct[[#This Row],[Date]]))*(KCINHDD[Day]=DAY(KCITempAct[[#This Row],[Date]]))*KCINHDD[KCINHDD])","v":9.7166666666666668},{"$f":"IF(MONTH(KCITempAct[[#This Row],[Date]])=7,0,IF(MONTH(KCITempAct[[#This Row],[Date]])=8,0,KCITempAct[[#This Row],[KCINHDD]]))","v":9.7166666666666668},"Adj HDD and NDD =0 for July and August"]
["2020-10-22",86,43,{"$f":"AVERAGE(KCITempAct[[#This Row],[KCIHigh]:[KCILow]]\n)","v":64.5},{"$f":"IF(KCITempAct[[#This Row],[KCIAve]]<65,(65-KCITempAct[[#This Row],[KCIAve]]),0)","v":0.5},{"$f":"IF(MONTH(KCITempAct[[#This Row],[Date]])=7,0,IF(MONTH(KCITempAct[[#This Row],[Date]])=8,0,KCITempAct[[#This Row],[KCIHDD]]))","v":0.5},{"$f":"SUMPRODUCT((KCINHDD[Month]=MONTH(KCITempAct[[#This Row],[Date]]))*(KCINHDD[Day]=DAY(KCITempAct[[#This Row],[Date]]))*KCINHDD[KCINHDD])","v":9.5},{"$f":"IF(MONTH(KCITempAct[[#This Row],[Date]])=7,0,IF(MONTH(KCITempAct[[#This Row],[Date]])=8,0,KCITempAct[[#This Row],[KCINHDD]]))","v":9.5},"Adj HDD and NDD =0 for July and August"]
["2020-10-23",44,37,{"$f":"AVERAGE(KCITempAct[[#This Row],[KCIHigh]:[KCILow]]\n)","v":40.5},{"$f":"IF(KCITempAct[[#This Row],[KCIAve]]<65,(65-KCITempAct[[#This Row],[KCIAve]]),0)","v":24.5},{"$f":"IF(MONTH(KCITempAct[[#This Row],[Date]])=7,0,IF(MONTH(KCITempAct[[#This Row],[Date]])=8,0,KCITempAct[[#This Row],[KCIHDD]]))","v":24.5},{"$f":"SUMPRODUCT((KCINHDD[Month]=MONTH(KCITempAct[[#This Row],[Date]]))*(KCINHDD[Day]=DAY(KCITempAct[[#This Row],[Date]]))*KCINHDD[KCINHDD])","v":11.066666666666666},{"$f":"IF(MONTH(KCITempAct[[#This Row],[Date]])=7,0,IF(MONTH(KCITempAct[[#This Row],[Date]])=8,0,KCITempAct[[#This Row],[KCINHDD]]))","v":11.066666666666666},"Adj HDD and NDD =0 for July and August"]
["2020-10-24",41,36,{"$f":"AVERAGE(KCITempAct[[#This Row],[KCIHigh]:[KCILow]]\n)","v":38.5},{"$f":"IF(KCITempAct[[#This Row],[KCIAve]]<65,(65-KCITempAct[[#This Row],[KCIAve]]),0)","v":26.5},{"$f":"IF(MONTH(KCITempAct[[#This Row],[Date]])=7,0,IF(MONTH(KCITempAct[[#This Row],[Date]])=8,0,KCITempAct[[#This Row],[KCIHDD]]))","v":26.5},{"$f":"SUMPRODUCT((KCINHDD[Month]=MONTH(KCITempAct[[#This Row],[Date]]))*(KCINHDD[Day]=DAY(KCITempAct[[#This Row],[Date]]))*KCINHDD[KCINHDD])","v":12.433333333333334},{"$f":"IF(MONTH(KCITempAct[[#This Row],[Date]])=7,0,IF(MONTH(KCITempAct[[#This Row],[Date]])=8,0,KCITempAct[[#This Row],[KCINHDD]]))","v":12.433333333333334},"Adj HDD and NDD =0 for July and August"]
["2020-10-25",41,34,{"$f":"AVERAGE(KCITempAct[[#This Row],[KCIHigh]:[KCILow]]\n)","v":37.5},{"$f":"IF(KCITempAct[[#This Row],[KCIAve]]<65,(65-KCITempAct[[#This Row],[KCIAve]]),0)","v":27.5},{"$f":"IF(MONTH(KCITempAct[[#This Row],[Date]])=7,0,IF(MONTH(KCITempAct[[#This Row],[Date]])=8,0,KCITempAct[[#This Row],[KCIHDD]]))","v":27.5},{"$f":"SUMPRODUCT((KCINHDD[Month]=MONTH(KCITempAct[[#This Row],[Date]]))*(KCINHDD[Day]=DAY(KCITempAct[[#This Row],[Date]]))*KCINHDD[KCINHDD])","v":12.15},{"$f":"IF(MONTH(KCITempAct[[#This Row],[Date]])=7,0,IF(MONTH(KCITempAct[[#This Row],[Date]])=8,0,KCITempAct[[#This Row],[KCINHDD]]))","v":12.15},"Adj HDD and NDD =0 for July and August"]
["2020-10-26",34,28,{"$f":"AVERAGE(KCITempAct[[#This Row],[KCIHigh]:[KCILow]]\n)","v":31},{"$f":"IF(KCITempAct[[#This Row],[KCIAve]]<65,(65-KCITempAct[[#This Row],[KCIAve]]),0)","v":34},{"$f":"IF(MONTH(KCITempAct[[#This Row],[Date]])=7,0,IF(MONTH(KCITempAct[[#This Row],[Date]])=8,0,KCITempAct[[#This Row],[KCIHDD]]))","v":34},{"$f":"SUMPRODUCT((KCINHDD[Month]=MONTH(KCITempAct[[#This Row],[Date]]))*(KCINHDD[Day]=DAY(KCITempAct[[#This Row],[Date]]))*KCINHDD[KCINHDD])","v":13.983333333333333},{"$f":"IF(MONTH(KCITempAct[[#This Row],[Date]])=7,0,IF(MONTH(KCITempAct[[#This Row],[Date]])=8,0,KCITempAct[[#This Row],[KCINHDD]]))","v":13.983333333333333},"Adj HDD and NDD =0 for July and August"]
["2020-10-27",35,30,{"$f":"AVERAGE(KCITempAct[[#This Row],[KCIHigh]:[KCILow]]\n)","v":32.5},{"$f":"IF(KCITempAct[[#This Row],[KCIAve]]<65,(65-KCITempAct[[#This Row],[KCIAve]]),0)","v":32.5},{"$f":"IF(MONTH(KCITempAct[[#This Row],[Date]])=7,0,IF(MONTH(KCITempAct[[#This Row],[Date]])=8,0,KCITempAct[[#This Row],[KCIHDD]]))","v":32.5},{"$f":"SUMPRODUCT((KCINHDD[Month]=MONTH(KCITempAct[[#This Row],[Date]]))*(KCINHDD[Day]=DAY(KCITempAct[[#This Row],[Date]]))*KCINHDD[KCINHDD])","v":15.2},{"$f":"IF(MONTH(KCITempAct[[#This Row],[Date]])=7,0,IF(MONTH(KCITempAct[[#This Row],[Date]])=8,0,KCITempAct[[#This Row],[KCINHDD]]))","v":15.2},"Adj HDD and NDD =0 for July and August"]
["2020-10-28",50,31,{"$f":"AVERAGE(KCITempAct[[#This Row],[KCIHigh]:[KCILow]]\n)","v":40.5},{"$f":"IF(KCITempAct[[#This Row],[KCIAve]]<65,(65-KCITempAct[[#This Row],[KCIAve]]),0)","v":24.5},{"$f":"IF(MONTH(KCITempAct[[#This Row],[Date]])=7,0,IF(MONTH(KCITempAct[[#This Row],[Date]])=8,0,KCITempAct[[#This Row],[KCIHDD]]))","v":24.5},{"$f":"SUMPRODUCT((KCINHDD[Month]=MONTH(KCITempAct[[#This Row],[Date]]))*(KCINHDD[Day]=DAY(KCITempAct[[#This Row],[Date]]))*KCINHDD[KCINHDD])","v":13.066666666666666},{"$f":"IF(MONTH(KCITempAct[[#This Row],[Date]])=7,0,IF(MONTH(KCITempAct[[#This Row],[Date]])=8,0,KCITempAct[[#This Row],[KCINHDD]]))","v":13.066666666666666},"Adj HDD and NDD =0 for July and August"]
["2020-10-29",52,32,{"$f":"AVERAGE(KCITempAct[[#This Row],[KCIHigh]:[KCILow]]\n)","v":42},{"$f":"IF(KCITempAct[[#This Row],[KCIAve]]<65,(65-KCITempAct[[#This Row],[KCIAve]]),0)","v":23},{"$f":"IF(MONTH(KCITempAct[[#This Row],[Date]])=7,0,IF(MONTH(KCITempAct[[#This Row],[Date]])=8,0,KCITempAct[[#This Row],[KCIHDD]]))","v":23},{"$f":"SUMPRODUCT((KCINHDD[Month]=MONTH(KCITempAct[[#This Row],[Date]]))*(KCINHDD[Day]=DAY(KCITempAct[[#This Row],[Date]]))*KCINHDD[KCINHDD])","v":12.483333333333333},{"$f":"IF(MONTH(KCITempAct[[#This Row],[Date]])=7,0,IF(MONTH(KCITempAct[[#This Row],[Date]])=8,0,KCITempAct[[#This Row],[KCINHDD]]))","v":12.483333333333333},"Adj HDD and NDD =0 for July and August"]
["2020-10-30",63,30,{"$f":"AVERAGE(KCITempAct[[#This Row],[KCIHigh]:[KCILow]]\n)","v":46.5},{"$f":"IF(KCITempAct[[#This Row],[KCIAve]]<65,(65-KCITempAct[[#This Row],[KCIAve]]),0)","v":18.5},{"$f":"IF(MONTH(KCITempAct[[#This Row],[Date]])=7,0,IF(MONTH(KCITempAct[[#This Row],[Date]])=8,0,KCITempAct[[#This Row],[KCIHDD]]))","v":18.5},{"$f":"SUMPRODUCT((KCINHDD[Month]=MONTH(KCITempAct[[#This Row],[Date]]))*(KCINHDD[Day]=DAY(KCITempAct[[#This Row],[Date]]))*KCINHDD[KCINHDD])","v":13.8},{"$f":"IF(MONTH(KCITempAct[[#This Row],[Date]])=7,0,IF(MONTH(KCITempAct[[#This Row],[Date]])=8,0,KCITempAct[[#This Row],[KCINHDD]]))","v":13.8},"Adj HDD and NDD =0 for July and August"]
["2020-10-31",68,44,{"$f":"AVERAGE(KCITempAct[[#This Row],[KCIHigh]:[KCILow]]\n)","v":56},{"$f":"IF(KCITempAct[[#This Row],[KCIAve]]<65,(65-KCITempAct[[#This Row],[KCIAve]]),0)","v":9},{"$f":"IF(MONTH(KCITempAct[[#This Row],[Date]])=7,0,IF(MONTH(KCITempAct[[#This Row],[Date]])=8,0,KCITempAct[[#This Row],[KCIHDD]]))","v":9},{"$f":"SUMPRODUCT((KCINHDD[Month]=MONTH(KCITempAct[[#This Row],[Date]]))*(KCINHDD[Day]=DAY(KCITempAct[[#This Row],[Date]]))*KCINHDD[KCINHDD])","v":16.666666666666668},{"$f":"IF(MONTH(KCITempAct[[#This Row],[Date]])=7,0,IF(MONTH(KCITempAct[[#This Row],[Date]])=8,0,KCITempAct[[#This Row],[KCINHDD]]))","v":16.666666666666668},"Adj HDD and NDD =0 for July and August"]
["2020-11-01",53,36,{"$f":"AVERAGE(KCITempAct[[#This Row],[KCIHigh]:[KCILow]]\n)","v":44.5},{"$f":"IF(KCITempAct[[#This Row],[KCIAve]]<65,(65-KCITempAct[[#This Row],[KCIAve]]),0)","v":20.5},{"$f":"IF(MONTH(KCITempAct[[#This Row],[Date]])=7,0,IF(MONTH(KCITempAct[[#This Row],[Date]])=8,0,KCITempAct[[#This Row],[KCIHDD]]))","v":20.5},{"$f":"SUMPRODUCT((KCINHDD[Month]=MONTH(KCITempAct[[#This Row],[Date]]))*(KCINHDD[Day]=DAY(KCITempAct[[#This Row],[Date]]))*KCINHDD[KCINHDD])","v":15.466666666666667},{"$f":"IF(MONTH(KCITempAct[[#This Row],[Date]])=7,0,IF(MONTH(KCITempAct[[#This Row],[Date]])=8,0,KCITempAct[[#This Row],[KCINHDD]]))","v":15.466666666666667},"Adj HDD and NDD =0 for July and August"]
["2020-11-02",67,30,{"$f":"AVERAGE(KCITempAct[[#This Row],[KCIHigh]:[KCILow]]\n)","v":48.5},{"$f":"IF(KCITempAct[[#This Row],[KCIAve]]<65,(65-KCITempAct[[#This Row],[KCIAve]]),0)","v":16.5},{"$f":"IF(MONTH(KCITempAct[[#This Row],[Date]])=7,0,IF(MONTH(KCITempAct[[#This Row],[Date]])=8,0,KCITempAct[[#This Row],[KCIHDD]]))","v":16.5},{"$f":"SUMPRODUCT((KCINHDD[Month]=MONTH(KCITempAct[[#This Row],[Date]]))*(KCINHDD[Day]=DAY(KCITempAct[[#This Row],[Date]]))*KCINHDD[KCINHDD])","v":17.433333333333334},{"$f":"IF(MONTH(KCITempAct[[#This Row],[Date]])=7,0,IF(MONTH(KCITempAct[[#This Row],[Date]])=8,0,KCITempAct[[#This Row],[KCINHDD]]))","v":17.433333333333334},"Adj HDD and NDD =0 for July and August"]
["2020-11-03",76,40,{"$f":"AVERAGE(KCITempAct[[#This Row],[KCIHigh]:[KCILow]]\n)","v":58},{"$f":"IF(KCITempAct[[#This Row],[KCIAve]]<65,(65-KCITempAct[[#This Row],[KCIAve]]),0)","v":7},{"$f":"IF(MONTH(KCITempAct[[#This Row],[Date]])=7,0,IF(MONTH(KCITempAct[[#This Row],[Date]])=8,0,KCITempAct[[#This Row],[KCIHDD]]))","v":7},{"$f":"SUMPRODUCT((KCINHDD[Month]=MONTH(KCITempAct[[#This Row],[Date]]))*(KCINHDD[Day]=DAY(KCITempAct[[#This Row],[Date]]))*KCINHDD[KCINHDD])","v":16.816666666666666},{"$f":"IF(MONTH(KCITempAct[[#This Row],[Date]])=7,0,IF(MONTH(KCITempAct[[#This Row],[Date]])=8,0,KCITempAct[[#This Row],[KCINHDD]]))","v":16.816666666666666},"Adj HDD and NDD =0 for July and August"]
["2020-11-04",71,54,{"$f":"AVERAGE(KCITempAct[[#This Row],[KCIHigh]:[KCILow]]\n)","v":62.5},{"$f":"IF(KCITempAct[[#This Row],[KCIAve]]<65,(65-KCITempAct[[#This Row],[KCIAve]]),0)","v":2.5},{"$f":"IF(MONTH(KCITempAct[[#This Row],[Date]])=7,0,IF(MONTH(KCITempAct[[#This Row],[Date]])=8,0,KCITempAct[[#This Row],[KCIHDD]]))","v":2.5},{"$f":"SUMPRODUCT((KCINHDD[Month]=MONTH(KCITempAct[[#This Row],[Date]]))*(KCINHDD[Day]=DAY(KCITempAct[[#This Row],[Date]]))*KCINHDD[KCINHDD])","v":17.166666666666668},{"$f":"IF(MONTH(KCITempAct[[#This Row],[Date]])=7,0,IF(MONTH(KCITempAct[[#This Row],[Date]])=8,0,KCITempAct[[#This Row],[KCINHDD]]))","v":17.166666666666668},"Adj HDD and NDD =0 for July and August"]
["2020-11-05",75,52,{"$f":"AVERAGE(KCITempAct[[#This Row],[KCIHigh]:[KCILow]]\n)","v":63.5},{"$f":"IF(KCITempAct[[#This Row],[KCIAve]]<65,(65-KCITempAct[[#This Row],[KCIAve]]),0)","v":1.5},{"$f":"IF(MONTH(KCITempAct[[#This Row],[Date]])=7,0,IF(MONTH(KCITempAct[[#This Row],[Date]])=8,0,KCITempAct[[#This Row],[KCIHDD]]))","v":1.5},{"$f":"SUMPRODUCT((KCINHDD[Month]=MONTH(KCITempAct[[#This Row],[Date]]))*(KCINHDD[Day]=DAY(KCITempAct[[#This Row],[Date]]))*KCINHDD[KCINHDD])","v":17.383333333333333},{"$f":"IF(MONTH(KCITempAct[[#This Row],[Date]])=7,0,IF(MONTH(KCITempAct[[#This Row],[Date]])=8,0,KCITempAct[[#This Row],[KCINHDD]]))","v":17.383333333333333},"Adj HDD and NDD =0 for July and August"]
["2020-11-06",71,48,{"$f":"AVERAGE(KCITempAct[[#This Row],[KCIHigh]:[KCILow]]\n)","v":59.5},{"$f":"IF(KCITempAct[[#This Row],[KCIAve]]<65,(65-KCITempAct[[#This Row],[KCIAve]]),0)","v":5.5},{"$f":"IF(MONTH(KCITempAct[[#This Row],[Date]])=7,0,IF(MONTH(KCITempAct[[#This Row],[Date]])=8,0,KCITempAct[[#This Row],[KCIHDD]]))","v":5.5},{"$f":"SUMPRODUCT((KCINHDD[Month]=MONTH(KCITempAct[[#This Row],[Date]]))*(KCINHDD[Day]=DAY(KCITempAct[[#This Row],[Date]]))*KCINHDD[KCINHDD])","v":18.55},{"$f":"IF(MONTH(KCITempAct[[#This Row],[Date]])=7,0,IF(MONTH(KCITempAct[[#This Row],[Date]])=8,0,KCITempAct[[#This Row],[KCINHDD]]))","v":18.55},"Adj HDD and NDD =0 for July and August"]
["2020-11-07",74,55,{"$f":"AVERAGE(KCITempAct[[#This Row],[KCIHigh]:[KCILow]]\n)","v":64.5},{"$f":"IF(KCITempAct[[#This Row],[KCIAve]]<65,(65-KCITempAct[[#This Row],[KCIAve]]),0)","v":0.5},{"$f":"IF(MONTH(KCITempAct[[#This Row],[Date]])=7,0,IF(MONTH(KCITempAct[[#This Row],[Date]])=8,0,KCITempAct[[#This Row],[KCIHDD]]))","v":0.5},{"$f":"SUMPRODUCT((KCINHDD[Month]=MONTH(KCITempAct[[#This Row],[Date]]))*(KCINHDD[Day]=DAY(KCITempAct[[#This Row],[Date]]))*KCINHDD[KCINHDD])","v":18.600000000000001},{"$f":"IF(MONTH(KCITempAct[[#This Row],[Date]])=7,0,IF(MONTH(KCITempAct[[#This Row],[Date]])=8,0,KCITempAct[[#This Row],[KCINHDD]]))","v":18.600000000000001},"Adj HDD and NDD =0 for July and August"]
["2020-11-08",78,60,{"$f":"AVERAGE(KCITempAct[[#This Row],[KCIHigh]:[KCILow]]\n)","v":69},{"$f":"IF(KCITempAct[[#This Row],[KCIAve]]<65,(65-KCITempAct[[#This Row],[KCIAve]]),0)","v":0},{"$f":"IF(MONTH(KCITempAct[[#This Row],[Date]])=7,0,IF(MONTH(KCITempAct[[#This Row],[Date]])=8,0,KCITempAct[[#This Row],[KCIHDD]]))","v":0},{"$f":"SUMPRODUCT((KCINHDD[Month]=MONTH(KCITempAct[[#This Row],[Date]]))*(KCINHDD[Day]=DAY(KCITempAct[[#This Row],[Date]]))*KCINHDD[KCINHDD])","v":18.333333333333332},{"$f":"IF(MONTH(KCITempAct[[#This Row],[Date]])=7,0,IF(MONTH(KCITempAct[[#This Row],[Date]])=8,0,KCITempAct[[#This Row],[KCINHDD]]))","v":18.333333333333332},"Adj HDD and NDD =0 for July and August"]
["2020-11-09",73,65,{"$f":"AVERAGE(KCITempAct[[#This Row],[KCIHigh]:[KCILow]]\n)","v":69},{"$f":"IF(KCITempAct[[#This Row],[KCIAve]]<65,(65-KCITempAct[[#This Row],[KCIAve]]),0)","v":0},{"$f":"IF(MONTH(KCITempAct[[#This Row],[Date]])=7,0,IF(MONTH(KCITempAct[[#This Row],[Date]])=8,0,KCITempAct[[#This Row],[KCIHDD]]))","v":0},{"$f":"SUMPRODUCT((KCINHDD[Month]=MONTH(KCITempAct[[#This Row],[Date]]))*(KCINHDD[Day]=DAY(KCITempAct[[#This Row],[Date]]))*KCINHDD[KCINHDD])","v":16.733333333333334},{"$f":"IF(MONTH(KCITempAct[[#This Row],[Date]])=7,0,IF(MONTH(KCITempAct[[#This Row],[Date]])=8,0,KCITempAct[[#This Row],[KCINHDD]]))","v":16.733333333333334},"Adj HDD and NDD =0 for July and August"]
["2020-11-10",68,28,{"$f":"AVERAGE(KCITempAct[[#This Row],[KCIHigh]:[KCILow]]\n)","v":48},{"$f":"IF(KCITempAct[[#This Row],[KCIAve]]<65,(65-KCITempAct[[#This Row],[KCIAve]]),0)","v":17},{"$f":"IF(MONTH(KCITempAct[[#This Row],[Date]])=7,0,IF(MONTH(KCITempAct[[#This Row],[Date]])=8,0,KCITempAct[[#This Row],[KCIHDD]]))","v":17},{"$f":"SUMPRODUCT((KCINHDD[Month]=MONTH(KCITempAct[[#This Row],[Date]]))*(KCINHDD[Day]=DAY(KCITempAct[[#This Row],[Date]]))*KCINHDD[KCINHDD])","v":19.783333333333335},{"$f":"IF(MONTH(KCITempAct[[#This Row],[Date]])=7,0,IF(MONTH(KCITempAct[[#This Row],[Date]])=8,0,KCITempAct[[#This Row],[KCINHDD]]))","v":19.783333333333335},"Adj HDD and NDD =0 for July and August"]
["2020-11-11",56,24,{"$f":"AVERAGE(KCITempAct[[#This Row],[KCIHigh]:[KCILow]]\n)","v":40},{"$f":"IF(KCITempAct[[#This Row],[KCIAve]]<65,(65-KCITempAct[[#This Row],[KCIAve]]),0)","v":25},{"$f":"IF(MONTH(KCITempAct[[#This Row],[Date]])=7,0,IF(MONTH(KCITempAct[[#This Row],[Date]])=8,0,KCITempAct[[#This Row],[KCIHDD]]))","v":25},{"$f":"SUMPRODUCT((KCINHDD[Month]=MONTH(KCITempAct[[#This Row],[Date]]))*(KCINHDD[Day]=DAY(KCITempAct[[#This Row],[Date]]))*KCINHDD[KCINHDD])","v":22.15},{"$f":"IF(MONTH(KCITempAct[[#This Row],[Date]])=7,0,IF(MONTH(KCITempAct[[#This Row],[Date]])=8,0,KCITempAct[[#This Row],[KCINHDD]]))","v":22.15},"Adj HDD and NDD =0 for July and August"]
["2020-11-12",58,28,{"$f":"AVERAGE(KCITempAct[[#This Row],[KCIHigh]:[KCILow]]\n)","v":43},{"$f":"IF(KCITempAct[[#This Row],[KCIAve]]<65,(65-KCITempAct[[#This Row],[KCIAve]]),0)","v":22},{"$f":"IF(MONTH(KCITempAct[[#This Row],[Date]])=7,0,IF(MONTH(KCITempAct[[#This Row],[Date]])=8,0,KCITempAct[[#This Row],[KCIHDD]]))","v":22},{"$f":"SUMPRODUCT((KCINHDD[Month]=MONTH(KCITempAct[[#This Row],[Date]]))*(KCINHDD[Day]=DAY(KCITempAct[[#This Row],[Date]]))*KCINHDD[KCINHDD])","v":22.6},{"$f":"IF(MONTH(KCITempAct[[#This Row],[Date]])=7,0,IF(MONTH(KCITempAct[[#This Row],[Date]])=8,0,KCITempAct[[#This Row],[KCINHDD]]))","v":22.6},"Adj HDD and NDD =0 for July and August"]
["2020-11-13",48,21,{"$f":"AVERAGE(KCITempAct[[#This Row],[KCIHigh]:[KCILow]]\n)","v":34.5},{"$f":"IF(KCITempAct[[#This Row],[KCIAve]]<65,(65-KCITempAct[[#This Row],[KCIAve]]),0)","v":30.5},{"$f":"IF(MONTH(KCITempAct[[#This Row],[Date]])=7,0,IF(MONTH(KCITempAct[[#This Row],[Date]])=8,0,KCITempAct[[#This Row],[KCIHDD]]))","v":30.5},{"$f":"SUMPRODUCT((KCINHDD[Month]=MONTH(KCITempAct[[#This Row],[Date]]))*(KCINHDD[Day]=DAY(KCITempAct[[#This Row],[Date]]))*KCINHDD[KCINHDD])","v":21.8},{"$f":"IF(MONTH(KCITempAct[[#This Row],[Date]])=7,0,IF(MONTH(KCITempAct[[#This Row],[Date]])=8,0,KCITempAct[[#This Row],[KCINHDD]]))","v":21.8},"Adj HDD and NDD =0 for July and August"]
["2020-11-14",66,42,{"$f":"AVERAGE(KCITempAct[[#This Row],[KCIHigh]:[KCILow]]\n)","v":54},{"$f":"IF(KCITempAct[[#This Row],[KCIAve]]<65,(65-KCITempAct[[#This Row],[KCIAve]]),0)","v":11},{"$f":"IF(MONTH(KCITempAct[[#This Row],[Date]])=7,0,IF(MONTH(KCITempAct[[#This Row],[Date]])=8,0,KCITempAct[[#This Row],[KCIHDD]]))","v":11},{"$f":"SUMPRODUCT((KCINHDD[Month]=MONTH(KCITempAct[[#This Row],[Date]]))*(KCINHDD[Day]=DAY(KCITempAct[[#This Row],[Date]]))*KCINHDD[KCINHDD])","v":20.316666666666666},{"$f":"IF(MONTH(KCITempAct[[#This Row],[Date]])=7,0,IF(MONTH(KCITempAct[[#This Row],[Date]])=8,0,KCITempAct[[#This Row],[KCINHDD]]))","v":20.316666666666666},"Adj HDD and NDD =0 for July and August"]
["2020-11-15",55,33,{"$f":"AVERAGE(KCITempAct[[#This Row],[KCIHigh]:[KCILow]]\n)","v":44},{"$f":"IF(KCITempAct[[#This Row],[KCIAve]]<65,(65-KCITempAct[[#This Row],[KCIAve]]),0)","v":21},{"$f":"IF(MONTH(KCITempAct[[#This Row],[Date]])=7,0,IF(MONTH(KCITempAct[[#This Row],[Date]])=8,0,KCITempAct[[#This Row],[KCIHDD]]))","v":21},{"$f":"SUMPRODUCT((KCINHDD[Month]=MONTH(KCITempAct[[#This Row],[Date]]))*(KCINHDD[Day]=DAY(KCITempAct[[#This Row],[Date]]))*KCINHDD[KCINHDD])","v":21.883333333333333},{"$f":"IF(MONTH(KCITempAct[[#This Row],[Date]])=7,0,IF(MONTH(KCITempAct[[#This Row],[Date]])=8,0,KCITempAct[[#This Row],[KCINHDD]]))","v":21.883333333333333},"Adj HDD and NDD =0 for July and August"]
["2020-11-16",65,33,{"$f":"AVERAGE(KCITempAct[[#This Row],[KCIHigh]:[KCILow]]\n)","v":49},{"$f":"IF(KCITempAct[[#This Row],[KCIAve]]<65,(65-KCITempAct[[#This Row],[KCIAve]]),0)","v":16},{"$f":"IF(MONTH(KCITempAct[[#This Row],[Date]])=7,0,IF(MONTH(KCITempAct[[#This Row],[Date]])=8,0,KCITempAct[[#This Row],[KCIHDD]]))","v":16},{"$f":"SUMPRODUCT((KCINHDD[Month]=MONTH(KCITempAct[[#This Row],[Date]]))*(KCINHDD[Day]=DAY(KCITempAct[[#This Row],[Date]]))*KCINHDD[KCINHDD])","v":20.916666666666668},{"$f":"IF(MONTH(KCITempAct[[#This Row],[Date]])=7,0,IF(MONTH(KCITempAct[[#This Row],[Date]])=8,0,KCITempAct[[#This Row],[KCINHDD]]))","v":20.916666666666668},"Adj HDD and NDD =0 for July and August"]
["2020-11-17",58,33,{"$f":"AVERAGE(KCITempAct[[#This Row],[KCIHigh]:[KCILow]]\n)","v":45.5},{"$f":"IF(KCITempAct[[#This Row],[KCIAve]]<65,(65-KCITempAct[[#This Row],[KCIAve]]),0)","v":19.5},{"$f":"IF(MONTH(KCITempAct[[#This Row],[Date]])=7,0,IF(MONTH(KCITempAct[[#This Row],[Date]])=8,0,KCITempAct[[#This Row],[KCIHDD]]))","v":19.5},{"$f":"SUMPRODUCT((KCINHDD[Month]=MONTH(KCITempAct[[#This Row],[Date]]))*(KCINHDD[Day]=DAY(KCITempAct[[#This Row],[Date]]))*KCINHDD[KCINHDD])","v":20.066666666666666},{"$f":"IF(MONTH(KCITempAct[[#This Row],[Date]])=7,0,IF(MONTH(KCITempAct[[#This Row],[Date]])=8,0,KCITempAct[[#This Row],[KCINHDD]]))","v":20.066666666666666},"Adj HDD and NDD =0 for July and August"]
["2020-11-18",69,42,{"$f":"AVERAGE(KCITempAct[[#This Row],[KCIHigh]:[KCILow]]\n)","v":55.5},{"$f":"IF(KCITempAct[[#This Row],[KCIAve]]<65,(65-KCITempAct[[#This Row],[KCIAve]]),0)","v":9.5},{"$f":"IF(MONTH(KCITempAct[[#This Row],[Date]])=7,0,IF(MONTH(KCITempAct[[#This Row],[Date]])=8,0,KCITempAct[[#This Row],[KCIHDD]]))","v":9.5},{"$f":"SUMPRODUCT((KCINHDD[Month]=MONTH(KCITempAct[[#This Row],[Date]]))*(KCINHDD[Day]=DAY(KCITempAct[[#This Row],[Date]]))*KCINHDD[KCINHDD])","v":20.8},{"$f":"IF(MONTH(KCITempAct[[#This Row],[Date]])=7,0,IF(MONTH(KCITempAct[[#This Row],[Date]])=8,0,KCITempAct[[#This Row],[KCINHDD]]))","v":20.8},"Adj HDD and NDD =0 for July and August"]
["2020-11-19",73,57,{"$f":"AVERAGE(KCITempAct[[#This Row],[KCIHigh]:[KCILow]]\n)","v":65},{"$f":"IF(KCITempAct[[#This Row],[KCIAve]]<65,(65-KCITempAct[[#This Row],[KCIAve]]),0)","v":0},{"$f":"IF(MONTH(KCITempAct[[#This Row],[Date]])=7,0,IF(MONTH(KCITempAct[[#This Row],[Date]])=8,0,KCITempAct[[#This Row],[KCIHDD]]))","v":0},{"$f":"SUMPRODUCT((KCINHDD[Month]=MONTH(KCITempAct[[#This Row],[Date]]))*(KCINHDD[Day]=DAY(KCITempAct[[#This Row],[Date]]))*KCINHDD[KCINHDD])","v":19.616666666666667},{"$f":"IF(MONTH(KCITempAct[[#This Row],[Date]])=7,0,IF(MONTH(KCITempAct[[#This Row],[Date]])=8,0,KCITempAct[[#This Row],[KCINHDD]]))","v":19.616666666666667},"Adj HDD and NDD =0 for July and August"]
["2020-11-20",61,41,{"$f":"AVERAGE(KCITempAct[[#This Row],[KCIHigh]:[KCILow]]\n)","v":51},{"$f":"IF(KCITempAct[[#This Row],[KCIAve]]<65,(65-KCITempAct[[#This Row],[KCIAve]]),0)","v":14},{"$f":"IF(MONTH(KCITempAct[[#This Row],[Date]])=7,0,IF(MONTH(KCITempAct[[#This Row],[Date]])=8,0,KCITempAct[[#This Row],[KCIHDD]]))","v":14},{"$f":"SUMPRODUCT((KCINHDD[Month]=MONTH(KCITempAct[[#This Row],[Date]]))*(KCINHDD[Day]=DAY(KCITempAct[[#This Row],[Date]]))*KCINHDD[KCINHDD])","v":21.8},{"$f":"IF(MONTH(KCITempAct[[#This Row],[Date]])=7,0,IF(MONTH(KCITempAct[[#This Row],[Date]])=8,0,KCITempAct[[#This Row],[KCINHDD]]))","v":21.8},"Adj HDD and NDD =0 for July and August"]
["2020-11-21",50,40,{"$f":"AVERAGE(KCITempAct[[#This Row],[KCIHigh]:[KCILow]]\n)","v":45},{"$f":"IF(KCITempAct[[#This Row],[KCIAve]]<65,(65-KCITempAct[[#This Row],[KCIAve]]),0)","v":20},{"$f":"IF(MONTH(KCITempAct[[#This Row],[Date]])=7,0,IF(MONTH(KCITempAct[[#This Row],[Date]])=8,0,KCITempAct[[#This Row],[KCIHDD]]))","v":20},{"$f":"SUMPRODUCT((KCINHDD[Month]=MONTH(KCITempAct[[#This Row],[Date]]))*(KCINHDD[Day]=DAY(KCITempAct[[#This Row],[Date]]))*KCINHDD[KCINHDD])","v":22.783333333333335},{"$f":"IF(MONTH(KCITempAct[[#This Row],[Date]])=7,0,IF(MONTH(KCITempAct[[#This Row],[Date]])=8,0,KCITempAct[[#This Row],[KCINHDD]]))","v":22.783333333333335},"Adj HDD and NDD =0 for July and August"]
["2020-11-22",56,39,{"$f":"AVERAGE(KCITempAct[[#This Row],[KCIHigh]:[KCILow]]\n)","v":47.5},{"$f":"IF(KCITempAct[[#This Row],[KCIAve]]<65,(65-KCITempAct[[#This Row],[KCIAve]]),0)","v":17.5},{"$f":"IF(MONTH(KCITempAct[[#This Row],[Date]])=7,0,IF(MONTH(KCITempAct[[#This Row],[Date]])=8,0,KCITempAct[[#This Row],[KCIHDD]]))","v":17.5},{"$f":"SUMPRODUCT((KCINHDD[Month]=MONTH(KCITempAct[[#This Row],[Date]]))*(KCINHDD[Day]=DAY(KCITempAct[[#This Row],[Date]]))*KCINHDD[KCINHDD])","v":22.95},{"$f":"IF(MONTH(KCITempAct[[#This Row],[Date]])=7,0,IF(MONTH(KCITempAct[[#This Row],[Date]])=8,0,KCITempAct[[#This Row],[KCINHDD]]))","v":22.95},"Adj HDD and NDD =0 for July and August"]
["2020-11-23",42,27,{"$f":"AVERAGE(KCITempAct[[#This Row],[KCIHigh]:[KCILow]]\n)","v":34.5},{"$f":"IF(KCITempAct[[#This Row],[KCIAve]]<65,(65-KCITempAct[[#This Row],[KCIAve]]),0)","v":30.5},{"$f":"IF(MONTH(KCITempAct[[#This Row],[Date]])=7,0,IF(MONTH(KCITempAct[[#This Row],[Date]])=8,0,KCITempAct[[#This Row],[KCIHDD]]))","v":30.5},{"$f":"SUMPRODUCT((KCINHDD[Month]=MONTH(KCITempAct[[#This Row],[Date]]))*(KCINHDD[Day]=DAY(KCITempAct[[#This Row],[Date]]))*KCINHDD[KCINHDD])","v":23.95},{"$f":"IF(MONTH(KCITempAct[[#This Row],[Date]])=7,0,IF(MONTH(KCITempAct[[#This Row],[Date]])=8,0,KCITempAct[[#This Row],[KCINHDD]]))","v":23.95},"Adj HDD and NDD =0 for July and August"]
["2020-11-24",53,42,{"$f":"AVERAGE(KCITempAct[[#This Row],[KCIHigh]:[KCILow]]\n)","v":47.5},{"$f":"IF(KCITempAct[[#This Row],[KCIAve]]<65,(65-KCITempAct[[#This Row],[KCIAve]]),0)","v":17.5},{"$f":"IF(MONTH(KCITempAct[[#This Row],[Date]])=7,0,IF(MONTH(KCITempAct[[#This Row],[Date]])=8,0,KCITempAct[[#This Row],[KCIHDD]]))","v":17.5},{"$f":"SUMPRODUCT((KCINHDD[Month]=MONTH(KCITempAct[[#This Row],[Date]]))*(KCINHDD[Day]=DAY(KCITempAct[[#This Row],[Date]]))*KCINHDD[KCINHDD])","v":25},{"$f":"IF(MONTH(KCITempAct[[#This Row],[Date]])=7,0,IF(MONTH(KCITempAct[[#This Row],[Date]])=8,0,KCITempAct[[#This Row],[KCINHDD]]))","v":25},"Adj HDD and NDD =0 for July and August"]
["2020-11-25",51,31,{"$f":"AVERAGE(KCITempAct[[#This Row],[KCIHigh]:[KCILow]]\n)","v":41},{"$f":"IF(KCITempAct[[#This Row],[KCIAve]]<65,(65-KCITempAct[[#This Row],[KCIAve]]),0)","v":24},{"$f":"IF(MONTH(KCITempAct[[#This Row],[Date]])=7,0,IF(MONTH(KCITempAct[[#This Row],[Date]])=8,0,KCITempAct[[#This Row],[KCIHDD]]))","v":24},{"$f":"SUMPRODUCT((KCINHDD[Month]=MONTH(KCITempAct[[#This Row],[Date]]))*(KCINHDD[Day]=DAY(KCITempAct[[#This Row],[Date]]))*KCINHDD[KCINHDD])","v":25.85},{"$f":"IF(MONTH(KCITempAct[[#This Row],[Date]])=7,0,IF(MONTH(KCITempAct[[#This Row],[Date]])=8,0,KCITempAct[[#This Row],[KCINHDD]]))","v":25.85},"Adj HDD and NDD =0 for July and August"]
["2020-11-26",56,26,{"$f":"AVERAGE(KCITempAct[[#This Row],[KCIHigh]:[KCILow]]\n)","v":41},{"$f":"IF(KCITempAct[[#This Row],[KCIAve]]<65,(65-KCITempAct[[#This Row],[KCIAve]]),0)","v":24},{"$f":"IF(MONTH(KCITempAct[[#This Row],[Date]])=7,0,IF(MONTH(KCITempAct[[#This Row],[Date]])=8,0,KCITempAct[[#This Row],[KCIHDD]]))","v":24},{"$f":"SUMPRODUCT((KCINHDD[Month]=MONTH(KCITempAct[[#This Row],[Date]]))*(KCINHDD[Day]=DAY(KCITempAct[[#This Row],[Date]]))*KCINHDD[KCINHDD])","v":24.583333333333332},{"$f":"IF(MONTH(KCITempAct[[#This Row],[Date]])=7,0,IF(MONTH(KCITempAct[[#This Row],[Date]])=8,0,KCITempAct[[#This Row],[KCINHDD]]))","v":24.583333333333332},"Adj HDD and NDD =0 for July and August"]
["2020-11-27",53,33,{"$f":"AVERAGE(KCITempAct[[#This Row],[KCIHigh]:[KCILow]]\n)","v":43},{"$f":"IF(KCITempAct[[#This Row],[KCIAve]]<65,(65-KCITempAct[[#This Row],[KCIAve]]),0)","v":22},{"$f":"IF(MONTH(KCITempAct[[#This Row],[Date]])=7,0,IF(MONTH(KCITempAct[[#This Row],[Date]])=8,0,KCITempAct[[#This Row],[KCIHDD]]))","v":22},{"$f":"SUMPRODUCT((KCINHDD[Month]=MONTH(KCITempAct[[#This Row],[Date]]))*(KCINHDD[Day]=DAY(KCITempAct[[#This Row],[Date]]))*KCINHDD[KCINHDD])","v":26.733333333333334},{"$f":"IF(MONTH(KCITempAct[[#This Row],[Date]])=7,0,IF(MONTH(KCITempAct[[#This Row],[Date]])=8,0,KCITempAct[[#This Row],[KCINHDD]]))","v":26.733333333333334},"Adj HDD and NDD =0 for July and August"]
["2020-11-28",56,30,{"$f":"AVERAGE(KCITempAct[[#This Row],[KCIHigh]:[KCILow]]\n)","v":43},{"$f":"IF(KCITempAct[[#This Row],[KCIAve]]<65,(65-KCITempAct[[#This Row],[KCIAve]]),0)","v":22},{"$f":"IF(MONTH(KCITempAct[[#This Row],[Date]])=7,0,IF(MONTH(KCITempAct[[#This Row],[Date]])=8,0,KCITempAct[[#This Row],[KCIHDD]]))","v":22},{"$f":"SUMPRODUCT((KCINHDD[Month]=MONTH(KCITempAct[[#This Row],[Date]]))*(KCINHDD[Day]=DAY(KCITempAct[[#This Row],[Date]]))*KCINHDD[KCINHDD])","v":24.916666666666668},{"$f":"IF(MONTH(KCITempAct[[#This Row],[Date]])=7,0,IF(MONTH(KCITempAct[[#This Row],[Date]])=8,0,KCITempAct[[#This Row],[KCINHDD]]))","v":24.916666666666668},"Adj HDD and NDD =0 for July and August"]
["2020-11-29",46,29,{"$f":"AVERAGE(KCITempAct[[#This Row],[KCIHigh]:[KCILow]]\n)","v":37.5},{"$f":"IF(KCITempAct[[#This Row],[KCIAve]]<65,(65-KCITempAct[[#This Row],[KCIAve]]),0)","v":27.5},{"$f":"IF(MONTH(KCITempAct[[#This Row],[Date]])=7,0,IF(MONTH(KCITempAct[[#This Row],[Date]])=8,0,KCITempAct[[#This Row],[KCIHDD]]))","v":27.5},{"$f":"SUMPRODUCT((KCINHDD[Month]=MONTH(KCITempAct[[#This Row],[Date]]))*(KCINHDD[Day]=DAY(KCITempAct[[#This Row],[Date]]))*KCINHDD[KCINHDD])","v":25},{"$f":"IF(MONTH(KCITempAct[[#This Row],[Date]])=7,0,IF(MONTH(KCITempAct[[#This Row],[Date]])=8,0,KCITempAct[[#This Row],[KCINHDD]]))","v":25},"Adj HDD and NDD =0 for July and August"]
["2020-11-30",41,21,{"$f":"AVERAGE(KCITempAct[[#This Row],[KCIHigh]:[KCILow]]\n)","v":31},{"$f":"IF(KCITempAct[[#This Row],[KCIAve]]<65,(65-KCITempAct[[#This Row],[KCIAve]]),0)","v":34},{"$f":"IF(MONTH(KCITempAct[[#This Row],[Date]])=7,0,IF(MONTH(KCITempAct[[#This Row],[Date]])=8,0,KCITempAct[[#This Row],[KCIHDD]]))","v":34},{"$f":"SUMPRODUCT((KCINHDD[Month]=MONTH(KCITempAct[[#This Row],[Date]]))*(KCINHDD[Day]=DAY(KCITempAct[[#This Row],[Date]]))*KCINHDD[KCINHDD])","v":27.8},{"$f":"IF(MONTH(KCITempAct[[#This Row],[Date]])=7,0,IF(MONTH(KCITempAct[[#This Row],[Date]])=8,0,KCITempAct[[#This Row],[KCINHDD]]))","v":27.8},"Adj HDD and NDD =0 for July and August"]
["2020-12-01",51,19,{"$f":"AVERAGE(KCITempAct[[#This Row],[KCIHigh]:[KCILow]]\n)","v":35},{"$f":"IF(KCITempAct[[#This Row],[KCIAve]]<65,(65-KCITempAct[[#This Row],[KCIAve]]),0)","v":30},{"$f":"IF(MONTH(KCITempAct[[#This Row],[Date]])=7,0,IF(MONTH(KCITempAct[[#This Row],[Date]])=8,0,KCITempAct[[#This Row],[KCIHDD]]))","v":30},{"$f":"SUMPRODUCT((KCINHDD[Month]=MONTH(KCITempAct[[#This Row],[Date]]))*(KCINHDD[Day]=DAY(KCITempAct[[#This Row],[Date]]))*KCINHDD[KCINHDD])","v":26.983333333333334},{"$f":"IF(MONTH(KCITempAct[[#This Row],[Date]])=7,0,IF(MONTH(KCITempAct[[#This Row],[Date]])=8,0,KCITempAct[[#This Row],[KCINHDD]]))","v":26.983333333333334},"Adj HDD and NDD =0 for July and August"]
["2020-12-02",52,28,{"$f":"AVERAGE(KCITempAct[[#This Row],[KCIHigh]:[KCILow]]\n)","v":40},{"$f":"IF(KCITempAct[[#This Row],[KCIAve]]<65,(65-KCITempAct[[#This Row],[KCIAve]]),0)","v":25},{"$f":"IF(MONTH(KCITempAct[[#This Row],[Date]])=7,0,IF(MONTH(KCITempAct[[#This Row],[Date]])=8,0,KCITempAct[[#This Row],[KCIHDD]]))","v":25},{"$f":"SUMPRODUCT((KCINHDD[Month]=MONTH(KCITempAct[[#This Row],[Date]]))*(KCINHDD[Day]=DAY(KCITempAct[[#This Row],[Date]]))*KCINHDD[KCINHDD])","v":25.366666666666667},{"$f":"IF(MONTH(KCITempAct[[#This Row],[Date]])=7,0,IF(MONTH(KCITempAct[[#This Row],[Date]])=8,0,KCITempAct[[#This Row],[KCINHDD]]))","v":25.366666666666667},"Adj HDD and NDD =0 for July and August"]
["2020-12-03",46,27,{"$f":"AVERAGE(KCITempAct[[#This Row],[KCIHigh]:[KCILow]]\n)","v":36.5},{"$f":"IF(KCITempAct[[#This Row],[KCIAve]]<65,(65-KCITempAct[[#This Row],[KCIAve]]),0)","v":28.5},{"$f":"IF(MONTH(KCITempAct[[#This Row],[Date]])=7,0,IF(MONTH(KCITempAct[[#This Row],[Date]])=8,0,KCITempAct[[#This Row],[KCIHDD]]))","v":28.5},{"$f":"SUMPRODUCT((KCINHDD[Month]=MONTH(KCITempAct[[#This Row],[Date]]))*(KCINHDD[Day]=DAY(KCITempAct[[#This Row],[Date]]))*KCINHDD[KCINHDD])","v":26.733333333333334},{"$f":"IF(MONTH(KCITempAct[[#This Row],[Date]])=7,0,IF(MONTH(KCITempAct[[#This Row],[Date]])=8,0,KCITempAct[[#This Row],[KCINHDD]]))","v":26.733333333333334},"Adj HDD and NDD =0 for July and August"]
["2020-12-04",54,25,{"$f":"AVERAGE(KCITempAct[[#This Row],[KCIHigh]:[KCILow]]\n)","v":39.5},{"$f":"IF(KCITempAct[[#This Row],[KCIAve]]<65,(65-KCITempAct[[#This Row],[KCIAve]]),0)","v":25.5},{"$f":"IF(MONTH(KCITempAct[[#This Row],[Date]])=7,0,IF(MONTH(KCITempAct[[#This Row],[Date]])=8,0,KCITempAct[[#This Row],[KCIHDD]]))","v":25.5},{"$f":"SUMPRODUCT((KCINHDD[Month]=MONTH(KCITempAct[[#This Row],[Date]]))*(KCINHDD[Day]=DAY(KCITempAct[[#This Row],[Date]]))*KCINHDD[KCINHDD])","v":28.15},{"$f":"IF(MONTH(KCITempAct[[#This Row],[Date]])=7,0,IF(MONTH(KCITempAct[[#This Row],[Date]])=8,0,KCITempAct[[#This Row],[KCINHDD]]))","v":28.15},"Adj HDD and NDD =0 for July and August"]
["2020-12-05",52,31,{"$f":"AVERAGE(KCITempAct[[#This Row],[KCIHigh]:[KCILow]]\n)","v":41.5},{"$f":"IF(KCITempAct[[#This Row],[KCIAve]]<65,(65-KCITempAct[[#This Row],[KCIAve]]),0)","v":23.5},{"$f":"IF(MONTH(KCITempAct[[#This Row],[Date]])=7,0,IF(MONTH(KCITempAct[[#This Row],[Date]])=8,0,KCITempAct[[#This Row],[KCIHDD]]))","v":23.5},{"$f":"SUMPRODUCT((KCINHDD[Month]=MONTH(KCITempAct[[#This Row],[Date]]))*(KCINHDD[Day]=DAY(KCITempAct[[#This Row],[Date]]))*KCINHDD[KCINHDD])","v":30.233333333333334},{"$f":"IF(MONTH(KCITempAct[[#This Row],[Date]])=7,0,IF(MONTH(KCITempAct[[#This Row],[Date]])=8,0,KCITempAct[[#This Row],[KCINHDD]]))","v":30.233333333333334},"Adj HDD and NDD =0 for July and August"]
["2020-12-06",49,29,{"$f":"AVERAGE(KCITempAct[[#This Row],[KCIHigh]:[KCILow]]\n)","v":39},{"$f":"IF(KCITempAct[[#This Row],[KCIAve]]<65,(65-KCITempAct[[#This Row],[KCIAve]]),0)","v":26},{"$f":"IF(MONTH(KCITempAct[[#This Row],[Date]])=7,0,IF(MONTH(KCITempAct[[#This Row],[Date]])=8,0,KCITempAct[[#This Row],[KCIHDD]]))","v":26},{"$f":"SUMPRODUCT((KCINHDD[Month]=MONTH(KCITempAct[[#This Row],[Date]]))*(KCINHDD[Day]=DAY(KCITempAct[[#This Row],[Date]]))*KCINHDD[KCINHDD])","v":31.733333333333334},{"$f":"IF(MONTH(KCITempAct[[#This Row],[Date]])=7,0,IF(MONTH(KCITempAct[[#This Row],[Date]])=8,0,KCITempAct[[#This Row],[KCINHDD]]))","v":31.733333333333334},"Adj HDD and NDD =0 for July and August"]
["2020-12-07",55,30,{"$f":"AVERAGE(KCITempAct[[#This Row],[KCIHigh]:[KCILow]]\n)","v":42.5},{"$f":"IF(KCITempAct[[#This Row],[KCIAve]]<65,(65-KCITempAct[[#This Row],[KCIAve]]),0)","v":22.5},{"$f":"IF(MONTH(KCITempAct[[#This Row],[Date]])=7,0,IF(MONTH(KCITempAct[[#This Row],[Date]])=8,0,KCITempAct[[#This Row],[KCIHDD]]))","v":22.5},{"$f":"SUMPRODUCT((KCINHDD[Month]=MONTH(KCITempAct[[#This Row],[Date]]))*(KCINHDD[Day]=DAY(KCITempAct[[#This Row],[Date]]))*KCINHDD[KCINHDD])","v":32.200000000000003},{"$f":"IF(MONTH(KCITempAct[[#This Row],[Date]])=7,0,IF(MONTH(KCITempAct[[#This Row],[Date]])=8,0,KCITempAct[[#This Row],[KCINHDD]]))","v":32.200000000000003},"Adj HDD and NDD =0 for July and August"]
["2020-12-08",57,22,{"$f":"AVERAGE(KCITempAct[[#This Row],[KCIHigh]:[KCILow]]\n)","v":39.5},{"$f":"IF(KCITempAct[[#This Row],[KCIAve]]<65,(65-KCITempAct[[#This Row],[KCIAve]]),0)","v":25.5},{"$f":"IF(MONTH(KCITempAct[[#This Row],[Date]])=7,0,IF(MONTH(KCITempAct[[#This Row],[Date]])=8,0,KCITempAct[[#This Row],[KCIHDD]]))","v":25.5},{"$f":"SUMPRODUCT((KCINHDD[Month]=MONTH(KCITempAct[[#This Row],[Date]]))*(KCINHDD[Day]=DAY(KCITempAct[[#This Row],[Date]]))*KCINHDD[KCINHDD])","v":31.333333333333332},{"$f":"IF(MONTH(KCITempAct[[#This Row],[Date]])=7,0,IF(MONTH(KCITempAct[[#This Row],[Date]])=8,0,KCITempAct[[#This Row],[KCINHDD]]))","v":31.333333333333332},"Adj HDD and NDD =0 for July and August"]
["2020-12-09",68,38,{"$f":"AVERAGE(KCITempAct[[#This Row],[KCIHigh]:[KCILow]]\n)","v":53},{"$f":"IF(KCITempAct[[#This Row],[KCIAve]]<65,(65-KCITempAct[[#This Row],[KCIAve]]),0)","v":12},{"$f":"IF(MONTH(KCITempAct[[#This Row],[Date]])=7,0,IF(MONTH(KCITempAct[[#This Row],[Date]])=8,0,KCITempAct[[#This Row],[KCIHDD]]))","v":12},{"$f":"SUMPRODUCT((KCINHDD[Month]=MONTH(KCITempAct[[#This Row],[Date]]))*(KCINHDD[Day]=DAY(KCITempAct[[#This Row],[Date]]))*KCINHDD[KCINHDD])","v":32.866666666666667},{"$f":"IF(MONTH(KCITempAct[[#This Row],[Date]])=7,0,IF(MONTH(KCITempAct[[#This Row],[Date]])=8,0,KCITempAct[[#This Row],[KCINHDD]]))","v":32.866666666666667},"Adj HDD and NDD =0 for July and August"]
["2020-12-10",68,38,{"$f":"AVERAGE(KCITempAct[[#This Row],[KCIHigh]:[KCILow]]\n)","v":53},{"$f":"IF(KCITempAct[[#This Row],[KCIAve]]<65,(65-KCITempAct[[#This Row],[KCIAve]]),0)","v":12},{"$f":"IF(MONTH(KCITempAct[[#This Row],[Date]])=7,0,IF(MONTH(KCITempAct[[#This Row],[Date]])=8,0,KCITempAct[[#This Row],[KCIHDD]]))","v":12},{"$f":"SUMPRODUCT((KCINHDD[Month]=MONTH(KCITempAct[[#This Row],[Date]]))*(KCINHDD[Day]=DAY(KCITempAct[[#This Row],[Date]]))*KCINHDD[KCINHDD])","v":32.266666666666666},{"$f":"IF(MONTH(KCITempAct[[#This Row],[Date]])=7,0,IF(MONTH(KCITempAct[[#This Row],[Date]])=8,0,KCITempAct[[#This Row],[KCINHDD]]))","v":32.266666666666666},"Adj HDD and NDD =0 for July and August"]
["2020-12-11",46,39,{"$f":"AVERAGE(KCITempAct[[#This Row],[KCIHigh]:[KCILow]]\n)","v":42.5},{"$f":"IF(KCITempAct[[#This Row],[KCIAve]]<65,(65-KCITempAct[[#This Row],[KCIAve]]),0)","v":22.5},{"$f":"IF(MONTH(KCITempAct[[#This Row],[Date]])=7,0,IF(MONTH(KCITempAct[[#This Row],[Date]])=8,0,KCITempAct[[#This Row],[KCIHDD]]))","v":22.5},{"$f":"SUMPRODUCT((KCINHDD[Month]=MONTH(KCITempAct[[#This Row],[Date]]))*(KCINHDD[Day]=DAY(KCITempAct[[#This Row],[Date]]))*KCINHDD[KCINHDD])","v":31.366666666666667},{"$f":"IF(MONTH(KCITempAct[[#This Row],[Date]])=7,0,IF(MONTH(KCITempAct[[#This Row],[Date]])=8,0,KCITempAct[[#This Row],[KCINHDD]]))","v":31.366666666666667},"Adj HDD and NDD =0 for July and August"]
["2020-12-12",39,32,{"$f":"AVERAGE(KCITempAct[[#This Row],[KCIHigh]:[KCILow]]\n)","v":35.5},{"$f":"IF(KCITempAct[[#This Row],[KCIAve]]<65,(65-KCITempAct[[#This Row],[KCIAve]]),0)","v":29.5},{"$f":"IF(MONTH(KCITempAct[[#This Row],[Date]])=7,0,IF(MONTH(KCITempAct[[#This Row],[Date]])=8,0,KCITempAct[[#This Row],[KCIHDD]]))","v":29.5},{"$f":"SUMPRODUCT((KCINHDD[Month]=MONTH(KCITempAct[[#This Row],[Date]]))*(KCINHDD[Day]=DAY(KCITempAct[[#This Row],[Date]]))*KCINHDD[KCINHDD])","v":30.233333333333334},{"$f":"IF(MONTH(KCITempAct[[#This Row],[Date]])=7,0,IF(MONTH(KCITempAct[[#This Row],[Date]])=8,0,KCITempAct[[#This Row],[KCINHDD]]))","v":30.233333333333334},"Adj HDD and NDD =0 for July and August"]
["2020-12-13",35,22,{"$f":"AVERAGE(KCITempAct[[#This Row],[KCIHigh]:[KCILow]]\n)","v":28.5},{"$f":"IF(KCITempAct[[#This Row],[KCIAve]]<65,(65-KCITempAct[[#This Row],[KCIAve]]),0)","v":36.5},{"$f":"IF(MONTH(KCITempAct[[#This Row],[Date]])=7,0,IF(MONTH(KCITempAct[[#This Row],[Date]])=8,0,KCITempAct[[#This Row],[KCIHDD]]))","v":36.5},{"$f":"SUMPRODUCT((KCINHDD[Month]=MONTH(KCITempAct[[#This Row],[Date]]))*(KCINHDD[Day]=DAY(KCITempAct[[#This Row],[Date]]))*KCINHDD[KCINHDD])","v":28.566666666666666},{"$f":"IF(MONTH(KCITempAct[[#This Row],[Date]])=7,0,IF(MONTH(KCITempAct[[#This Row],[Date]])=8,0,KCITempAct[[#This Row],[KCINHDD]]))","v":28.566666666666666},"Adj HDD and NDD =0 for July and August"]
["2020-12-14",36,16,{"$f":"AVERAGE(KCITempAct[[#This Row],[KCIHigh]:[KCILow]]\n)","v":26},{"$f":"IF(KCITempAct[[#This Row],[KCIAve]]<65,(65-KCITempAct[[#This Row],[KCIAve]]),0)","v":39},{"$f":"IF(MONTH(KCITempAct[[#This Row],[Date]])=7,0,IF(MONTH(KCITempAct[[#This Row],[Date]])=8,0,KCITempAct[[#This Row],[KCIHDD]]))","v":39},{"$f":"SUMPRODUCT((KCINHDD[Month]=MONTH(KCITempAct[[#This Row],[Date]]))*(KCINHDD[Day]=DAY(KCITempAct[[#This Row],[Date]]))*KCINHDD[KCINHDD])","v":30.1},{"$f":"IF(MONTH(KCITempAct[[#This Row],[Date]])=7,0,IF(MONTH(KCITempAct[[#This Row],[Date]])=8,0,KCITempAct[[#This Row],[KCINHDD]]))","v":30.1},"Adj HDD and NDD =0 for July and August"]
["2020-12-15",30,22,{"$f":"AVERAGE(KCITempAct[[#This Row],[KCIHigh]:[KCILow]]\n)","v":26},{"$f":"IF(KCITempAct[[#This Row],[KCIAve]]<65,(65-KCITempAct[[#This Row],[KCIAve]]),0)","v":39},{"$f":"IF(MONTH(KCITempAct[[#This Row],[Date]])=7,0,IF(MONTH(KCITempAct[[#This Row],[Date]])=8,0,KCITempAct[[#This Row],[KCIHDD]]))","v":39},{"$f":"SUMPRODUCT((KCINHDD[Month]=MONTH(KCITempAct[[#This Row],[Date]]))*(KCINHDD[Day]=DAY(KCITempAct[[#This Row],[Date]]))*KCINHDD[KCINHDD])","v":31.4},{"$f":"IF(MONTH(KCITempAct[[#This Row],[Date]])=7,0,IF(MONTH(KCITempAct[[#This Row],[Date]])=8,0,KCITempAct[[#This Row],[KCINHDD]]))","v":31.4},"Adj HDD and NDD =0 for July and August"]
["2020-12-16",32,22,{"$f":"AVERAGE(KCITempAct[[#This Row],[KCIHigh]:[KCILow]]\n)","v":27},{"$f":"IF(KCITempAct[[#This Row],[KCIAve]]<65,(65-KCITempAct[[#This Row],[KCIAve]]),0)","v":38},{"$f":"IF(MONTH(KCITempAct[[#This Row],[Date]])=7,0,IF(MONTH(KCITempAct[[#This Row],[Date]])=8,0,KCITempAct[[#This Row],[KCIHDD]]))","v":38},{"$f":"SUMPRODUCT((KCINHDD[Month]=MONTH(KCITempAct[[#This Row],[Date]]))*(KCINHDD[Day]=DAY(KCITempAct[[#This Row],[Date]]))*KCINHDD[KCINHDD])","v":31.716666666666665},{"$f":"IF(MONTH(KCITempAct[[#This Row],[Date]])=7,0,IF(MONTH(KCITempAct[[#This Row],[Date]])=8,0,KCITempAct[[#This Row],[KCINHDD]]))","v":31.716666666666665},"Adj HDD and NDD =0 for July and August"]
["2020-12-17",48,23,{"$f":"AVERAGE(KCITempAct[[#This Row],[KCIHigh]:[KCILow]]\n)","v":35.5},{"$f":"IF(KCITempAct[[#This Row],[KCIAve]]<65,(65-KCITempAct[[#This Row],[KCIAve]]),0)","v":29.5},{"$f":"IF(MONTH(KCITempAct[[#This Row],[Date]])=7,0,IF(MONTH(KCITempAct[[#This Row],[Date]])=8,0,KCITempAct[[#This Row],[KCIHDD]]))","v":29.5},{"$f":"SUMPRODUCT((KCINHDD[Month]=MONTH(KCITempAct[[#This Row],[Date]]))*(KCINHDD[Day]=DAY(KCITempAct[[#This Row],[Date]]))*KCINHDD[KCINHDD])","v":32.716666666666669},{"$f":"IF(MONTH(KCITempAct[[#This Row],[Date]])=7,0,IF(MONTH(KCITempAct[[#This Row],[Date]])=8,0,KCITempAct[[#This Row],[KCINHDD]]))","v":32.716666666666669},"Adj HDD and NDD =0 for July and August"]
["2020-12-18",56,33,{"$f":"AVERAGE(KCITempAct[[#This Row],[KCIHigh]:[KCILow]]\n)","v":44.5},{"$f":"IF(KCITempAct[[#This Row],[KCIAve]]<65,(65-KCITempAct[[#This Row],[KCIAve]]),0)","v":20.5},{"$f":"IF(MONTH(KCITempAct[[#This Row],[Date]])=7,0,IF(MONTH(KCITempAct[[#This Row],[Date]])=8,0,KCITempAct[[#This Row],[KCIHDD]]))","v":20.5},{"$f":"SUMPRODUCT((KCINHDD[Month]=MONTH(KCITempAct[[#This Row],[Date]]))*(KCINHDD[Day]=DAY(KCITempAct[[#This Row],[Date]]))*KCINHDD[KCINHDD])","v":31.9},{"$f":"IF(MONTH(KCITempAct[[#This Row],[Date]])=7,0,IF(MONTH(KCITempAct[[#This Row],[Date]])=8,0,KCITempAct[[#This Row],[KCINHDD]]))","v":31.9},"Adj HDD and NDD =0 for July and August"]
["2020-12-19",42,26,{"$f":"AVERAGE(KCITempAct[[#This Row],[KCIHigh]:[KCILow]]\n)","v":34},{"$f":"IF(KCITempAct[[#This Row],[KCIAve]]<65,(65-KCITempAct[[#This Row],[KCIAve]]),0)","v":31},{"$f":"IF(MONTH(KCITempAct[[#This Row],[Date]])=7,0,IF(MONTH(KCITempAct[[#This Row],[Date]])=8,0,KCITempAct[[#This Row],[KCIHDD]]))","v":31},{"$f":"SUMPRODUCT((KCINHDD[Month]=MONTH(KCITempAct[[#This Row],[Date]]))*(KCINHDD[Day]=DAY(KCITempAct[[#This Row],[Date]]))*KCINHDD[KCINHDD])","v":32.983333333333334},{"$f":"IF(MONTH(KCITempAct[[#This Row],[Date]])=7,0,IF(MONTH(KCITempAct[[#This Row],[Date]])=8,0,KCITempAct[[#This Row],[KCINHDD]]))","v":32.983333333333334},"Adj HDD and NDD =0 for July and August"]
["2020-12-20",53,24,{"$f":"AVERAGE(KCITempAct[[#This Row],[KCIHigh]:[KCILow]]\n)","v":38.5},{"$f":"IF(KCITempAct[[#This Row],[KCIAve]]<65,(65-KCITempAct[[#This Row],[KCIAve]]),0)","v":26.5},{"$f":"IF(MONTH(KCITempAct[[#This Row],[Date]])=7,0,IF(MONTH(KCITempAct[[#This Row],[Date]])=8,0,KCITempAct[[#This Row],[KCIHDD]]))","v":26.5},{"$f":"SUMPRODUCT((KCINHDD[Month]=MONTH(KCITempAct[[#This Row],[Date]]))*(KCINHDD[Day]=DAY(KCITempAct[[#This Row],[Date]]))*KCINHDD[KCINHDD])","v":32.43333333333333},{"$f":"IF(MONTH(KCITempAct[[#This Row],[Date]])=7,0,IF(MONTH(KCITempAct[[#This Row],[Date]])=8,0,KCITempAct[[#This Row],[KCINHDD]]))","v":32.43333333333333},"Adj HDD and NDD =0 for July and August"]
["2020-12-21",60,37,{"$f":"AVERAGE(KCITempAct[[#This Row],[KCIHigh]:[KCILow]]\n)","v":48.5},{"$f":"IF(KCITempAct[[#This Row],[KCIAve]]<65,(65-KCITempAct[[#This Row],[KCIAve]]),0)","v":16.5},{"$f":"IF(MONTH(KCITempAct[[#This Row],[Date]])=7,0,IF(MONTH(KCITempAct[[#This Row],[Date]])=8,0,KCITempAct[[#This Row],[KCIHDD]]))","v":16.5},{"$f":"SUMPRODUCT((KCINHDD[Month]=MONTH(KCITempAct[[#This Row],[Date]]))*(KCINHDD[Day]=DAY(KCITempAct[[#This Row],[Date]]))*KCINHDD[KCINHDD])","v":31.933333333333334},{"$f":"IF(MONTH(KCITempAct[[#This Row],[Date]])=7,0,IF(MONTH(KCITempAct[[#This Row],[Date]])=8,0,KCITempAct[[#This Row],[KCINHDD]]))","v":31.933333333333334},"Adj HDD and NDD =0 for July and August"]
["2020-12-22",64,31,{"$f":"AVERAGE(KCITempAct[[#This Row],[KCIHigh]:[KCILow]]\n)","v":47.5},{"$f":"IF(KCITempAct[[#This Row],[KCIAve]]<65,(65-KCITempAct[[#This Row],[KCIAve]]),0)","v":17.5},{"$f":"IF(MONTH(KCITempAct[[#This Row],[Date]])=7,0,IF(MONTH(KCITempAct[[#This Row],[Date]])=8,0,KCITempAct[[#This Row],[KCIHDD]]))","v":17.5},{"$f":"SUMPRODUCT((KCINHDD[Month]=MONTH(KCITempAct[[#This Row],[Date]]))*(KCINHDD[Day]=DAY(KCITempAct[[#This Row],[Date]]))*KCINHDD[KCINHDD])","v":34.25},{"$f":"IF(MONTH(KCITempAct[[#This Row],[Date]])=7,0,IF(MONTH(KCITempAct[[#This Row],[Date]])=8,0,KCITempAct[[#This Row],[KCINHDD]]))","v":34.25},"Adj HDD and NDD =0 for July and August"]
["2020-12-23",58,22,{"$f":"AVERAGE(KCITempAct[[#This Row],[KCIHigh]:[KCILow]]\n)","v":40},{"$f":"IF(KCITempAct[[#This Row],[KCIAve]]<65,(65-KCITempAct[[#This Row],[KCIAve]]),0)","v":25},{"$f":"IF(MONTH(KCITempAct[[#This Row],[Date]])=7,0,IF(MONTH(KCITempAct[[#This Row],[Date]])=8,0,KCITempAct[[#This Row],[KCIHDD]]))","v":25},{"$f":"SUMPRODUCT((KCINHDD[Month]=MONTH(KCITempAct[[#This Row],[Date]]))*(KCINHDD[Day]=DAY(KCITempAct[[#This Row],[Date]]))*KCINHDD[KCINHDD])","v":35.56666666666667},{"$f":"IF(MONTH(KCITempAct[[#This Row],[Date]])=7,0,IF(MONTH(KCITempAct[[#This Row],[Date]])=8,0,KCITempAct[[#This Row],[KCINHDD]]))","v":35.56666666666667},"Adj HDD and NDD =0 for July and August"]
["2020-12-24",26,10,{"$f":"AVERAGE(KCITempAct[[#This Row],[KCIHigh]:[KCILow]]\n)","v":18},{"$f":"IF(KCITempAct[[#This Row],[KCIAve]]<65,(65-KCITempAct[[#This Row],[KCIAve]]),0)","v":47},{"$f":"IF(MONTH(KCITempAct[[#This Row],[Date]])=7,0,IF(MONTH(KCITempAct[[#This Row],[Date]])=8,0,KCITempAct[[#This Row],[KCIHDD]]))","v":47},{"$f":"SUMPRODUCT((KCINHDD[Month]=MONTH(KCITempAct[[#This Row],[Date]]))*(KCINHDD[Day]=DAY(KCITempAct[[#This Row],[Date]]))*KCINHDD[KCINHDD])","v":38.18333333333333},{"$f":"IF(MONTH(KCITempAct[[#This Row],[Date]])=7,0,IF(MONTH(KCITempAct[[#This Row],[Date]])=8,0,KCITempAct[[#This Row],[KCINHDD]]))","v":38.18333333333333},"Adj HDD and NDD =0 for July and August"]
["2020-12-25",37,6,{"$f":"AVERAGE(KCITempAct[[#This Row],[KCIHigh]:[KCILow]]\n)","v":21.5},{"$f":"IF(KCITempAct[[#This Row],[KCIAve]]<65,(65-KCITempAct[[#This Row],[KCIAve]]),0)","v":43.5},{"$f":"IF(MONTH(KCITempAct[[#This Row],[Date]])=7,0,IF(MONTH(KCITempAct[[#This Row],[Date]])=8,0,KCITempAct[[#This Row],[KCIHDD]]))","v":43.5},{"$f":"SUMPRODUCT((KCINHDD[Month]=MONTH(KCITempAct[[#This Row],[Date]]))*(KCINHDD[Day]=DAY(KCITempAct[[#This Row],[Date]]))*KCINHDD[KCINHDD])","v":34.833333333333336},{"$f":"IF(MONTH(KCITempAct[[#This Row],[Date]])=7,0,IF(MONTH(KCITempAct[[#This Row],[Date]])=8,0,KCITempAct[[#This Row],[KCINHDD]]))","v":34.833333333333336},"Adj HDD and NDD =0 for July and August"]
["2020-12-26",57,24,{"$f":"AVERAGE(KCITempAct[[#This Row],[KCIHigh]:[KCILow]]\n)","v":40.5},{"$f":"IF(KCITempAct[[#This Row],[KCIAve]]<65,(65-KCITempAct[[#This Row],[KCIAve]]),0)","v":24.5},{"$f":"IF(MONTH(KCITempAct[[#This Row],[Date]])=7,0,IF(MONTH(KCITempAct[[#This Row],[Date]])=8,0,KCITempAct[[#This Row],[KCIHDD]]))","v":24.5},{"$f":"SUMPRODUCT((KCINHDD[Month]=MONTH(KCITempAct[[#This Row],[Date]]))*(KCINHDD[Day]=DAY(KCITempAct[[#This Row],[Date]]))*KCINHDD[KCINHDD])","v":32.5},{"$f":"IF(MONTH(KCITempAct[[#This Row],[Date]])=7,0,IF(MONTH(KCITempAct[[#This Row],[Date]])=8,0,KCITempAct[[#This Row],[KCINHDD]]))","v":32.5},"Adj HDD and NDD =0 for July and August"]
["2020-12-27",53,34,{"$f":"AVERAGE(KCITempAct[[#This Row],[KCIHigh]:[KCILow]]\n)","v":43.5},{"$f":"IF(KCITempAct[[#This Row],[KCIAve]]<65,(65-KCITempAct[[#This Row],[KCIAve]]),0)","v":21.5},{"$f":"IF(MONTH(KCITempAct[[#This Row],[Date]])=7,0,IF(MONTH(KCITempAct[[#This Row],[Date]])=8,0,KCITempAct[[#This Row],[KCIHDD]]))","v":21.5},{"$f":"SUMPRODUCT((KCINHDD[Month]=MONTH(KCITempAct[[#This Row],[Date]]))*(KCINHDD[Day]=DAY(KCITempAct[[#This Row],[Date]]))*KCINHDD[KCINHDD])","v":31.9},{"$f":"IF(MONTH(KCITempAct[[#This Row],[Date]])=7,0,IF(MONTH(KCITempAct[[#This Row],[Date]])=8,0,KCITempAct[[#This Row],[KCINHDD]]))","v":31.9},"Adj HDD and NDD =0 for July and August"]
["2020-12-28",39,26,{"$f":"AVERAGE(KCITempAct[[#This Row],[KCIHigh]:[KCILow]]\n)","v":32.5},{"$f":"IF(KCITempAct[[#This Row],[KCIAve]]<65,(65-KCITempAct[[#This Row],[KCIAve]]),0)","v":32.5},{"$f":"IF(MONTH(KCITempAct[[#This Row],[Date]])=7,0,IF(MONTH(KCITempAct[[#This Row],[Date]])=8,0,KCITempAct[[#This Row],[KCIHDD]]))","v":32.5},{"$f":"SUMPRODUCT((KCINHDD[Month]=MONTH(KCITempAct[[#This Row],[Date]]))*(KCINHDD[Day]=DAY(KCITempAct[[#This Row],[Date]]))*KCINHDD[KCINHDD])","v":32.266666666666666},{"$f":"IF(MONTH(KCITempAct[[#This Row],[Date]])=7,0,IF(MONTH(KCITempAct[[#This Row],[Date]])=8,0,KCITempAct[[#This Row],[KCINHDD]]))","v":32.266666666666666},"Adj HDD and NDD =0 for July and August"]
["2020-12-29",34,28,{"$f":"AVERAGE(KCITempAct[[#This Row],[KCIHigh]:[KCILow]]\n)","v":31},{"$f":"IF(KCITempAct[[#This Row],[KCIAve]]<65,(65-KCITempAct[[#This Row],[KCIAve]]),0)","v":34},{"$f":"IF(MONTH(KCITempAct[[#This Row],[Date]])=7,0,IF(MONTH(KCITempAct[[#This Row],[Date]])=8,0,KCITempAct[[#This Row],[KCIHDD]]))","v":34},{"$f":"SUMPRODUCT((KCINHDD[Month]=MONTH(KCITempAct[[#This Row],[Date]]))*(KCINHDD[Day]=DAY(KCITempAct[[#This Row],[Date]]))*KCINHDD[KCINHDD])","v":33.083333333333336},{"$f":"IF(MONTH(KCITempAct[[#This Row],[Date]])=7,0,IF(MONTH(KCITempAct[[#This Row],[Date]])=8,0,KCITempAct[[#This Row],[KCINHDD]]))","v":33.083333333333336},"Adj HDD and NDD =0 for July and August"]
["2020-12-30",36,22,{"$f":"AVERAGE(KCITempAct[[#This Row],[KCIHigh]:[KCILow]]\n)","v":29},{"$f":"IF(KCITempAct[[#This Row],[KCIAve]]<65,(65-KCITempAct[[#This Row],[KCIAve]]),0)","v":36},{"$f":"IF(MONTH(KCITempAct[[#This Row],[Date]])=7,0,IF(MONTH(KCITempAct[[#This Row],[Date]])=8,0,KCITempAct[[#This Row],[KCIHDD]]))","v":36},{"$f":"SUMPRODUCT((KCINHDD[Month]=MONTH(KCITempAct[[#This Row],[Date]]))*(KCINHDD[Day]=DAY(KCITempAct[[#This Row],[Date]]))*KCINHDD[KCINHDD])","v":32.366666666666667},{"$f":"IF(MONTH(KCITempAct[[#This Row],[Date]])=7,0,IF(MONTH(KCITempAct[[#This Row],[Date]])=8,0,KCITempAct[[#This Row],[KCINHDD]]))","v":32.366666666666667},"Adj HDD and NDD =0 for July and August"]
["2020-12-31",36,17,{"$f":"AVERAGE(KCITempAct[[#This Row],[KCIHigh]:[KCILow]]\n)","v":26.5},{"$f":"IF(KCITempAct[[#This Row],[KCIAve]]<65,(65-KCITempAct[[#This Row],[KCIAve]]),0)","v":38.5},{"$f":"IF(MONTH(KCITempAct[[#This Row],[Date]])=7,0,IF(MONTH(KCITempAct[[#This Row],[Date]])=8,0,KCITempAct[[#This Row],[KCIHDD]]))","v":38.5},{"$f":"SUMPRODUCT((KCINHDD[Month]=MONTH(KCITempAct[[#This Row],[Date]]))*(KCINHDD[Day]=DAY(KCITempAct[[#This Row],[Date]]))*KCINHDD[KCINHDD])","v":36.033333333333331},{"$f":"IF(MONTH(KCITempAct[[#This Row],[Date]])=7,0,IF(MONTH(KCITempAct[[#This Row],[Date]])=8,0,KCITempAct[[#This Row],[KCINHDD]]))","v":36.033333333333331},"Adj HDD and NDD =0 for July and August"]
["2021-01-01",33,23,{"$f":"AVERAGE(KCITempAct[[#This Row],[KCIHigh]:[KCILow]]\n)","v":28},{"$f":"IF(KCITempAct[[#This Row],[KCIAve]]<65,(65-KCITempAct[[#This Row],[KCIAve]]),0)","v":37},{"$f":"IF(MONTH(KCITempAct[[#This Row],[Date]])=7,0,IF(MONTH(KCITempAct[[#This Row],[Date]])=8,0,KCITempAct[[#This Row],[KCIHDD]]))","v":37},{"$f":"SUMPRODUCT((KCINHDD[Month]=MONTH(KCITempAct[[#This Row],[Date]]))*(KCINHDD[Day]=DAY(KCITempAct[[#This Row],[Date]]))*KCINHDD[KCINHDD])","v":36.4},{"$f":"IF(MONTH(KCITempAct[[#This Row],[Date]])=7,0,IF(MONTH(KCITempAct[[#This Row],[Date]])=8,0,KCITempAct[[#This Row],[KCINHDD]]))","v":36.4},"Adj HDD and NDD =0 for July and August"]
["2021-01-02",34,20,{"$f":"AVERAGE(KCITempAct[[#This Row],[KCIHigh]:[KCILow]]\n)","v":27},{"$f":"IF(KCITempAct[[#This Row],[KCIAve]]<65,(65-KCITempAct[[#This Row],[KCIAve]]),0)","v":38},{"$f":"IF(MONTH(KCITempAct[[#This Row],[Date]])=7,0,IF(MONTH(KCITempAct[[#This Row],[Date]])=8,0,KCITempAct[[#This Row],[KCIHDD]]))","v":38},{"$f":"SUMPRODUCT((KCINHDD[Month]=MONTH(KCITempAct[[#This Row],[Date]]))*(KCINHDD[Day]=DAY(KCITempAct[[#This Row],[Date]]))*KCINHDD[KCINHDD])","v":35.583333333333336},{"$f":"IF(MONTH(KCITempAct[[#This Row],[Date]])=7,0,IF(MONTH(KCITempAct[[#This Row],[Date]])=8,0,KCITempAct[[#This Row],[KCINHDD]]))","v":35.583333333333336},"Adj HDD and NDD =0 for July and August"]
["2021-01-03",38,19,{"$f":"AVERAGE(KCITempAct[[#This Row],[KCIHigh]:[KCILow]]\n)","v":28.5},{"$f":"IF(KCITempAct[[#This Row],[KCIAve]]<65,(65-KCITempAct[[#This Row],[KCIAve]]),0)","v":36.5},{"$f":"IF(MONTH(KCITempAct[[#This Row],[Date]])=7,0,IF(MONTH(KCITempAct[[#This Row],[Date]])=8,0,KCITempAct[[#This Row],[KCIHDD]]))","v":36.5},{"$f":"SUMPRODUCT((KCINHDD[Month]=MONTH(KCITempAct[[#This Row],[Date]]))*(KCINHDD[Day]=DAY(KCITempAct[[#This Row],[Date]]))*KCINHDD[KCINHDD])","v":35.616666666666667},{"$f":"IF(MONTH(KCITempAct[[#This Row],[Date]])=7,0,IF(MONTH(KCITempAct[[#This Row],[Date]])=8,0,KCITempAct[[#This Row],[KCINHDD]]))","v":35.616666666666667},"Adj HDD and NDD =0 for July and August"]
["2021-01-04",45,29,{"$f":"AVERAGE(KCITempAct[[#This Row],[KCIHigh]:[KCILow]]\n)","v":37},{"$f":"IF(KCITempAct[[#This Row],[KCIAve]]<65,(65-KCITempAct[[#This Row],[KCIAve]]),0)","v":28},{"$f":"IF(MONTH(KCITempAct[[#This Row],[Date]])=7,0,IF(MONTH(KCITempAct[[#This Row],[Date]])=8,0,KCITempAct[[#This Row],[KCIHDD]]))","v":28},{"$f":"SUMPRODUCT((KCINHDD[Month]=MONTH(KCITempAct[[#This Row],[Date]]))*(KCINHDD[Day]=DAY(KCITempAct[[#This Row],[Date]]))*KCINHDD[KCINHDD])","v":37.56666666666667},{"$f":"IF(MONTH(KCITempAct[[#This Row],[Date]])=7,0,IF(MONTH(KCITempAct[[#This Row],[Date]])=8,0,KCITempAct[[#This Row],[KCINHDD]]))","v":37.56666666666667},"Adj HDD and NDD =0 for July and August"]
["2021-01-05",52,24,{"$f":"AVERAGE(KCITempAct[[#This Row],[KCIHigh]:[KCILow]]\n)","v":38},{"$f":"IF(KCITempAct[[#This Row],[KCIAve]]<65,(65-KCITempAct[[#This Row],[KCIAve]]),0)","v":27},{"$f":"IF(MONTH(KCITempAct[[#This Row],[Date]])=7,0,IF(MONTH(KCITempAct[[#This Row],[Date]])=8,0,KCITempAct[[#This Row],[KCIHDD]]))","v":27},{"$f":"SUMPRODUCT((KCINHDD[Month]=MONTH(KCITempAct[[#This Row],[Date]]))*(KCINHDD[Day]=DAY(KCITempAct[[#This Row],[Date]]))*KCINHDD[KCINHDD])","v":36.75},{"$f":"IF(MONTH(KCITempAct[[#This Row],[Date]])=7,0,IF(MONTH(KCITempAct[[#This Row],[Date]])=8,0,KCITempAct[[#This Row],[KCINHDD]]))","v":36.75},"Adj HDD and NDD =0 for July and August"]
["2021-01-06",41,38,{"$f":"AVERAGE(KCITempAct[[#This Row],[KCIHigh]:[KCILow]]\n)","v":39.5},{"$f":"IF(KCITempAct[[#This Row],[KCIAve]]<65,(65-KCITempAct[[#This Row],[KCIAve]]),0)","v":25.5},{"$f":"IF(MONTH(KCITempAct[[#This Row],[Date]])=7,0,IF(MONTH(KCITempAct[[#This Row],[Date]])=8,0,KCITempAct[[#This Row],[KCIHDD]]))","v":25.5},{"$f":"SUMPRODUCT((KCINHDD[Month]=MONTH(KCITempAct[[#This Row],[Date]]))*(KCINHDD[Day]=DAY(KCITempAct[[#This Row],[Date]]))*KCINHDD[KCINHDD])","v":37.416666666666664},{"$f":"IF(MONTH(KCITempAct[[#This Row],[Date]])=7,0,IF(MONTH(KCITempAct[[#This Row],[Date]])=8,0,KCITempAct[[#This Row],[KCINHDD]]))","v":37.416666666666664},"Adj HDD and NDD =0 for July and August"]
["2021-01-07",39,27,{"$f":"AVERAGE(KCITempAct[[#This Row],[KCIHigh]:[KCILow]]\n)","v":33},{"$f":"IF(KCITempAct[[#This Row],[KCIAve]]<65,(65-KCITempAct[[#This Row],[KCIAve]]),0)","v":32},{"$f":"IF(MONTH(KCITempAct[[#This Row],[Date]])=7,0,IF(MONTH(KCITempAct[[#This Row],[Date]])=8,0,KCITempAct[[#This Row],[KCIHDD]]))","v":32},{"$f":"SUMPRODUCT((KCINHDD[Month]=MONTH(KCITempAct[[#This Row],[Date]]))*(KCINHDD[Day]=DAY(KCITempAct[[#This Row],[Date]]))*KCINHDD[KCINHDD])","v":37.016666666666666},{"$f":"IF(MONTH(KCITempAct[[#This Row],[Date]])=7,0,IF(MONTH(KCITempAct[[#This Row],[Date]])=8,0,KCITempAct[[#This Row],[KCINHDD]]))","v":37.016666666666666},"Adj HDD and NDD =0 for July and August"]
["2021-01-08",39,26,{"$f":"AVERAGE(KCITempAct[[#This Row],[KCIHigh]:[KCILow]]\n)","v":32.5},{"$f":"IF(KCITempAct[[#This Row],[KCIAve]]<65,(65-KCITempAct[[#This Row],[KCIAve]]),0)","v":32.5},{"$f":"IF(MONTH(KCITempAct[[#This Row],[Date]])=7,0,IF(MONTH(KCITempAct[[#This Row],[Date]])=8,0,KCITempAct[[#This Row],[KCIHDD]]))","v":32.5},{"$f":"SUMPRODUCT((KCINHDD[Month]=MONTH(KCITempAct[[#This Row],[Date]]))*(KCINHDD[Day]=DAY(KCITempAct[[#This Row],[Date]]))*KCINHDD[KCINHDD])","v":34.483333333333334},{"$f":"IF(MONTH(KCITempAct[[#This Row],[Date]])=7,0,IF(MONTH(KCITempAct[[#This Row],[Date]])=8,0,KCITempAct[[#This Row],[KCINHDD]]))","v":34.483333333333334},"Adj HDD and NDD =0 for July and August"]
["2021-01-09",36,25,{"$f":"AVERAGE(KCITempAct[[#This Row],[KCIHigh]:[KCILow]]\n)","v":30.5},{"$f":"IF(KCITempAct[[#This Row],[KCIAve]]<65,(65-KCITempAct[[#This Row],[KCIAve]]),0)","v":34.5},{"$f":"IF(MONTH(KCITempAct[[#This Row],[Date]])=7,0,IF(MONTH(KCITempAct[[#This Row],[Date]])=8,0,KCITempAct[[#This Row],[KCIHDD]]))","v":34.5},{"$f":"SUMPRODUCT((KCINHDD[Month]=MONTH(KCITempAct[[#This Row],[Date]]))*(KCINHDD[Day]=DAY(KCITempAct[[#This Row],[Date]]))*KCINHDD[KCINHDD])","v":35.333333333333336},{"$f":"IF(MONTH(KCITempAct[[#This Row],[Date]])=7,0,IF(MONTH(KCITempAct[[#This Row],[Date]])=8,0,KCITempAct[[#This Row],[KCINHDD]]))","v":35.333333333333336},"Adj HDD and NDD =0 for July and August"]
["2021-01-10",34,24,{"$f":"AVERAGE(KCITempAct[[#This Row],[KCIHigh]:[KCILow]]\n)","v":29},{"$f":"IF(KCITempAct[[#This Row],[KCIAve]]<65,(65-KCITempAct[[#This Row],[KCIAve]]),0)","v":36},{"$f":"IF(MONTH(KCITempAct[[#This Row],[Date]])=7,0,IF(MONTH(KCITempAct[[#This Row],[Date]])=8,0,KCITempAct[[#This Row],[KCIHDD]]))","v":36},{"$f":"SUMPRODUCT((KCINHDD[Month]=MONTH(KCITempAct[[#This Row],[Date]]))*(KCINHDD[Day]=DAY(KCITempAct[[#This Row],[Date]]))*KCINHDD[KCINHDD])","v":35.466666666666669},{"$f":"IF(MONTH(KCITempAct[[#This Row],[Date]])=7,0,IF(MONTH(KCITempAct[[#This Row],[Date]])=8,0,KCITempAct[[#This Row],[KCINHDD]]))","v":35.466666666666669},"Adj HDD and NDD =0 for July and August"]
["2021-01-11",46,24,{"$f":"AVERAGE(KCITempAct[[#This Row],[KCIHigh]:[KCILow]]\n)","v":35},{"$f":"IF(KCITempAct[[#This Row],[KCIAve]]<65,(65-KCITempAct[[#This Row],[KCIAve]]),0)","v":30},{"$f":"IF(MONTH(KCITempAct[[#This Row],[Date]])=7,0,IF(MONTH(KCITempAct[[#This Row],[Date]])=8,0,KCITempAct[[#This Row],[KCIHDD]]))","v":30},{"$f":"SUMPRODUCT((KCINHDD[Month]=MONTH(KCITempAct[[#This Row],[Date]]))*(KCINHDD[Day]=DAY(KCITempAct[[#This Row],[Date]]))*KCINHDD[KCINHDD])","v":33.033333333333331},{"$f":"IF(MONTH(KCITempAct[[#This Row],[Date]])=7,0,IF(MONTH(KCITempAct[[#This Row],[Date]])=8,0,KCITempAct[[#This Row],[KCINHDD]]))","v":33.033333333333331},"Adj HDD and NDD =0 for July and August"]
["2021-01-12",55,28,{"$f":"AVERAGE(KCITempAct[[#This Row],[KCIHigh]:[KCILow]]\n)","v":41.5},{"$f":"IF(KCITempAct[[#This Row],[KCIAve]]<65,(65-KCITempAct[[#This Row],[KCIAve]]),0)","v":23.5},{"$f":"IF(MONTH(KCITempAct[[#This Row],[Date]])=7,0,IF(MONTH(KCITempAct[[#This Row],[Date]])=8,0,KCITempAct[[#This Row],[KCIHDD]]))","v":23.5},{"$f":"SUMPRODUCT((KCINHDD[Month]=MONTH(KCITempAct[[#This Row],[Date]]))*(KCINHDD[Day]=DAY(KCITempAct[[#This Row],[Date]]))*KCINHDD[KCINHDD])","v":35.31666666666667},{"$f":"IF(MONTH(KCITempAct[[#This Row],[Date]])=7,0,IF(MONTH(KCITempAct[[#This Row],[Date]])=8,0,KCITempAct[[#This Row],[KCINHDD]]))","v":35.31666666666667},"Adj HDD and NDD =0 for July and August"]
["2021-01-13",56,32,{"$f":"AVERAGE(KCITempAct[[#This Row],[KCIHigh]:[KCILow]]\n)","v":44},{"$f":"IF(KCITempAct[[#This Row],[KCIAve]]<65,(65-KCITempAct[[#This Row],[KCIAve]]),0)","v":21},{"$f":"IF(MONTH(KCITempAct[[#This Row],[Date]])=7,0,IF(MONTH(KCITempAct[[#This Row],[Date]])=8,0,KCITempAct[[#This Row],[KCIHDD]]))","v":21},{"$f":"SUMPRODUCT((KCINHDD[Month]=MONTH(KCITempAct[[#This Row],[Date]]))*(KCINHDD[Day]=DAY(KCITempAct[[#This Row],[Date]]))*KCINHDD[KCINHDD])","v":38.450000000000003},{"$f":"IF(MONTH(KCITempAct[[#This Row],[Date]])=7,0,IF(MONTH(KCITempAct[[#This Row],[Date]])=8,0,KCITempAct[[#This Row],[KCINHDD]]))","v":38.450000000000003},"Adj HDD and NDD =0 for July and August"]
["2021-01-14",49,36,{"$f":"AVERAGE(KCITempAct[[#This Row],[KCIHigh]:[KCILow]]\n)","v":42.5},{"$f":"IF(KCITempAct[[#This Row],[KCIAve]]<65,(65-KCITempAct[[#This Row],[KCIAve]]),0)","v":22.5},{"$f":"IF(MONTH(KCITempAct[[#This Row],[Date]])=7,0,IF(MONTH(KCITempAct[[#This Row],[Date]])=8,0,KCITempAct[[#This Row],[KCIHDD]]))","v":22.5},{"$f":"SUMPRODUCT((KCINHDD[Month]=MONTH(KCITempAct[[#This Row],[Date]]))*(KCINHDD[Day]=DAY(KCITempAct[[#This Row],[Date]]))*KCINHDD[KCINHDD])","v":36.016666666666666},{"$f":"IF(MONTH(KCITempAct[[#This Row],[Date]])=7,0,IF(MONTH(KCITempAct[[#This Row],[Date]])=8,0,KCITempAct[[#This Row],[KCINHDD]]))","v":36.016666666666666},"Adj HDD and NDD =0 for July and August"]
["2021-01-15",37,31,{"$f":"AVERAGE(KCITempAct[[#This Row],[KCIHigh]:[KCILow]]\n)","v":34},{"$f":"IF(KCITempAct[[#This Row],[KCIAve]]<65,(65-KCITempAct[[#This Row],[KCIAve]]),0)","v":31},{"$f":"IF(MONTH(KCITempAct[[#This Row],[Date]])=7,0,IF(MONTH(KCITempAct[[#This Row],[Date]])=8,0,KCITempAct[[#This Row],[KCIHDD]]))","v":31},{"$f":"SUMPRODUCT((KCINHDD[Month]=MONTH(KCITempAct[[#This Row],[Date]]))*(KCINHDD[Day]=DAY(KCITempAct[[#This Row],[Date]]))*KCINHDD[KCINHDD])","v":37.25},{"$f":"IF(MONTH(KCITempAct[[#This Row],[Date]])=7,0,IF(MONTH(KCITempAct[[#This Row],[Date]])=8,0,KCITempAct[[#This Row],[KCINHDD]]))","v":37.25},"Adj HDD and NDD =0 for July and August"]
["2021-01-16",35,27,{"$f":"AVERAGE(KCITempAct[[#This Row],[KCIHigh]:[KCILow]]\n)","v":31},{"$f":"IF(KCITempAct[[#This Row],[KCIAve]]<65,(65-KCITempAct[[#This Row],[KCIAve]]),0)","v":34},{"$f":"IF(MONTH(KCITempAct[[#This Row],[Date]])=7,0,IF(MONTH(KCITempAct[[#This Row],[Date]])=8,0,KCITempAct[[#This Row],[KCIHDD]]))","v":34},{"$f":"SUMPRODUCT((KCINHDD[Month]=MONTH(KCITempAct[[#This Row],[Date]]))*(KCINHDD[Day]=DAY(KCITempAct[[#This Row],[Date]]))*KCINHDD[KCINHDD])","v":36.733333333333334},{"$f":"IF(MONTH(KCITempAct[[#This Row],[Date]])=7,0,IF(MONTH(KCITempAct[[#This Row],[Date]])=8,0,KCITempAct[[#This Row],[KCINHDD]]))","v":36.733333333333334},"Adj HDD and NDD =0 for July and August"]
["2021-01-17",44,23,{"$f":"AVERAGE(KCITempAct[[#This Row],[KCIHigh]:[KCILow]]\n)","v":33.5},{"$f":"IF(KCITempAct[[#This Row],[KCIAve]]<65,(65-KCITempAct[[#This Row],[KCIAve]]),0)","v":31.5},{"$f":"IF(MONTH(KCITempAct[[#This Row],[Date]])=7,0,IF(MONTH(KCITempAct[[#This Row],[Date]])=8,0,KCITempAct[[#This Row],[KCIHDD]]))","v":31.5},{"$f":"SUMPRODUCT((KCINHDD[Month]=MONTH(KCITempAct[[#This Row],[Date]]))*(KCINHDD[Day]=DAY(KCITempAct[[#This Row],[Date]]))*KCINHDD[KCINHDD])","v":37.75},{"$f":"IF(MONTH(KCITempAct[[#This Row],[Date]])=7,0,IF(MONTH(KCITempAct[[#This Row],[Date]])=8,0,KCITempAct[[#This Row],[KCINHDD]]))","v":37.75},"Adj HDD and NDD =0 for July and August"]
["2021-01-18",40,26,{"$f":"AVERAGE(KCITempAct[[#This Row],[KCIHigh]:[KCILow]]\n)","v":33},{"$f":"IF(KCITempAct[[#This Row],[KCIAve]]<65,(65-KCITempAct[[#This Row],[KCIAve]]),0)","v":32},{"$f":"IF(MONTH(KCITempAct[[#This Row],[Date]])=7,0,IF(MONTH(KCITempAct[[#This Row],[Date]])=8,0,KCITempAct[[#This Row],[KCIHDD]]))","v":32},{"$f":"SUMPRODUCT((KCINHDD[Month]=MONTH(KCITempAct[[#This Row],[Date]]))*(KCINHDD[Day]=DAY(KCITempAct[[#This Row],[Date]]))*KCINHDD[KCINHDD])","v":37.166666666666664},{"$f":"IF(MONTH(KCITempAct[[#This Row],[Date]])=7,0,IF(MONTH(KCITempAct[[#This Row],[Date]])=8,0,KCITempAct[[#This Row],[KCINHDD]]))","v":37.166666666666664},"Adj HDD and NDD =0 for July and August"]
["2021-01-19",48,26,{"$f":"AVERAGE(KCITempAct[[#This Row],[KCIHigh]:[KCILow]]\n)","v":37},{"$f":"IF(KCITempAct[[#This Row],[KCIAve]]<65,(65-KCITempAct[[#This Row],[KCIAve]]),0)","v":28},{"$f":"IF(MONTH(KCITempAct[[#This Row],[Date]])=7,0,IF(MONTH(KCITempAct[[#This Row],[Date]])=8,0,KCITempAct[[#This Row],[KCIHDD]]))","v":28},{"$f":"SUMPRODUCT((KCINHDD[Month]=MONTH(KCITempAct[[#This Row],[Date]]))*(KCINHDD[Day]=DAY(KCITempAct[[#This Row],[Date]]))*KCINHDD[KCINHDD])","v":35.983333333333334},{"$f":"IF(MONTH(KCITempAct[[#This Row],[Date]])=7,0,IF(MONTH(KCITempAct[[#This Row],[Date]])=8,0,KCITempAct[[#This Row],[KCINHDD]]))","v":35.983333333333334},"Adj HDD and NDD =0 for July and August"]
["2021-01-20",55,21,{"$f":"AVERAGE(KCITempAct[[#This Row],[KCIHigh]:[KCILow]]\n)","v":38},{"$f":"IF(KCITempAct[[#This Row],[KCIAve]]<65,(65-KCITempAct[[#This Row],[KCIAve]]),0)","v":27},{"$f":"IF(MONTH(KCITempAct[[#This Row],[Date]])=7,0,IF(MONTH(KCITempAct[[#This Row],[Date]])=8,0,KCITempAct[[#This Row],[KCIHDD]]))","v":27},{"$f":"SUMPRODUCT((KCINHDD[Month]=MONTH(KCITempAct[[#This Row],[Date]]))*(KCINHDD[Day]=DAY(KCITempAct[[#This Row],[Date]]))*KCINHDD[KCINHDD])","v":35.93333333333333},{"$f":"IF(MONTH(KCITempAct[[#This Row],[Date]])=7,0,IF(MONTH(KCITempAct[[#This Row],[Date]])=8,0,KCITempAct[[#This Row],[KCINHDD]]))","v":35.93333333333333},"Adj HDD and NDD =0 for July and August"]
["2021-01-21",60,24,{"$f":"AVERAGE(KCITempAct[[#This Row],[KCIHigh]:[KCILow]]\n)","v":42},{"$f":"IF(KCITempAct[[#This Row],[KCIAve]]<65,(65-KCITempAct[[#This Row],[KCIAve]]),0)","v":23},{"$f":"IF(MONTH(KCITempAct[[#This Row],[Date]])=7,0,IF(MONTH(KCITempAct[[#This Row],[Date]])=8,0,KCITempAct[[#This Row],[KCIHDD]]))","v":23},{"$f":"SUMPRODUCT((KCINHDD[Month]=MONTH(KCITempAct[[#This Row],[Date]]))*(KCINHDD[Day]=DAY(KCITempAct[[#This Row],[Date]]))*KCINHDD[KCINHDD])","v":33.799999999999997},{"$f":"IF(MONTH(KCITempAct[[#This Row],[Date]])=7,0,IF(MONTH(KCITempAct[[#This Row],[Date]])=8,0,KCITempAct[[#This Row],[KCINHDD]]))","v":33.799999999999997},"Adj HDD and NDD =0 for July and August"]
["2021-01-22",36,24,{"$f":"AVERAGE(KCITempAct[[#This Row],[KCIHigh]:[KCILow]]\n)","v":30},{"$f":"IF(KCITempAct[[#This Row],[KCIAve]]<65,(65-KCITempAct[[#This Row],[KCIAve]]),0)","v":35},{"$f":"IF(MONTH(KCITempAct[[#This Row],[Date]])=7,0,IF(MONTH(KCITempAct[[#This Row],[Date]])=8,0,KCITempAct[[#This Row],[KCIHDD]]))","v":35},{"$f":"SUMPRODUCT((KCINHDD[Month]=MONTH(KCITempAct[[#This Row],[Date]]))*(KCINHDD[Day]=DAY(KCITempAct[[#This Row],[Date]]))*KCINHDD[KCINHDD])","v":33.43333333333333},{"$f":"IF(MONTH(KCITempAct[[#This Row],[Date]])=7,0,IF(MONTH(KCITempAct[[#This Row],[Date]])=8,0,KCITempAct[[#This Row],[KCINHDD]]))","v":33.43333333333333},"Adj HDD and NDD =0 for July and August"]
["2021-01-23",42,21,{"$f":"AVERAGE(KCITempAct[[#This Row],[KCIHigh]:[KCILow]]\n)","v":31.5},{"$f":"IF(KCITempAct[[#This Row],[KCIAve]]<65,(65-KCITempAct[[#This Row],[KCIAve]]),0)","v":33.5},{"$f":"IF(MONTH(KCITempAct[[#This Row],[Date]])=7,0,IF(MONTH(KCITempAct[[#This Row],[Date]])=8,0,KCITempAct[[#This Row],[KCIHDD]]))","v":33.5},{"$f":"SUMPRODUCT((KCINHDD[Month]=MONTH(KCITempAct[[#This Row],[Date]]))*(KCINHDD[Day]=DAY(KCITempAct[[#This Row],[Date]]))*KCINHDD[KCINHDD])","v":36.416666666666664},{"$f":"IF(MONTH(KCITempAct[[#This Row],[Date]])=7,0,IF(MONTH(KCITempAct[[#This Row],[Date]])=8,0,KCITempAct[[#This Row],[KCINHDD]]))","v":36.416666666666664},"Adj HDD and NDD =0 for July and August"]
["2021-01-24",40,36,{"$f":"AVERAGE(KCITempAct[[#This Row],[KCIHigh]:[KCILow]]\n)","v":38},{"$f":"IF(KCITempAct[[#This Row],[KCIAve]]<65,(65-KCITempAct[[#This Row],[KCIAve]]),0)","v":27},{"$f":"IF(MONTH(KCITempAct[[#This Row],[Date]])=7,0,IF(MONTH(KCITempAct[[#This Row],[Date]])=8,0,KCITempAct[[#This Row],[KCIHDD]]))","v":27},{"$f":"SUMPRODUCT((KCINHDD[Month]=MONTH(KCITempAct[[#This Row],[Date]]))*(KCINHDD[Day]=DAY(KCITempAct[[#This Row],[Date]]))*KCINHDD[KCINHDD])","v":35.799999999999997},{"$f":"IF(MONTH(KCITempAct[[#This Row],[Date]])=7,0,IF(MONTH(KCITempAct[[#This Row],[Date]])=8,0,KCITempAct[[#This Row],[KCINHDD]]))","v":35.799999999999997},"Adj HDD and NDD =0 for July and August"]
["2021-01-25",38,29,{"$f":"AVERAGE(KCITempAct[[#This Row],[KCIHigh]:[KCILow]]\n)","v":33.5},{"$f":"IF(KCITempAct[[#This Row],[KCIAve]]<65,(65-KCITempAct[[#This Row],[KCIAve]]),0)","v":31.5},{"$f":"IF(MONTH(KCITempAct[[#This Row],[Date]])=7,0,IF(MONTH(KCITempAct[[#This Row],[Date]])=8,0,KCITempAct[[#This Row],[KCIHDD]]))","v":31.5},{"$f":"SUMPRODUCT((KCINHDD[Month]=MONTH(KCITempAct[[#This Row],[Date]]))*(KCINHDD[Day]=DAY(KCITempAct[[#This Row],[Date]]))*KCINHDD[KCINHDD])","v":34.06666666666667},{"$f":"IF(MONTH(KCITempAct[[#This Row],[Date]])=7,0,IF(MONTH(KCITempAct[[#This Row],[Date]])=8,0,KCITempAct[[#This Row],[KCINHDD]]))","v":34.06666666666667},"Adj HDD and NDD =0 for July and August"]
["2021-01-26",29,23,{"$f":"AVERAGE(KCITempAct[[#This Row],[KCIHigh]:[KCILow]]\n)","v":26},{"$f":"IF(KCITempAct[[#This Row],[KCIAve]]<65,(65-KCITempAct[[#This Row],[KCIAve]]),0)","v":39},{"$f":"IF(MONTH(KCITempAct[[#This Row],[Date]])=7,0,IF(MONTH(KCITempAct[[#This Row],[Date]])=8,0,KCITempAct[[#This Row],[KCIHDD]]))","v":39},{"$f":"SUMPRODUCT((KCINHDD[Month]=MONTH(KCITempAct[[#This Row],[Date]]))*(KCINHDD[Day]=DAY(KCITempAct[[#This Row],[Date]]))*KCINHDD[KCINHDD])","v":33.049999999999997},{"$f":"IF(MONTH(KCITempAct[[#This Row],[Date]])=7,0,IF(MONTH(KCITempAct[[#This Row],[Date]])=8,0,KCITempAct[[#This Row],[KCINHDD]]))","v":33.049999999999997},"Adj HDD and NDD =0 for July and August"]
["2021-01-27",28,22,{"$f":"AVERAGE(KCITempAct[[#This Row],[KCIHigh]:[KCILow]]\n)","v":25},{"$f":"IF(KCITempAct[[#This Row],[KCIAve]]<65,(65-KCITempAct[[#This Row],[KCIAve]]),0)","v":40},{"$f":"IF(MONTH(KCITempAct[[#This Row],[Date]])=7,0,IF(MONTH(KCITempAct[[#This Row],[Date]])=8,0,KCITempAct[[#This Row],[KCIHDD]]))","v":40},{"$f":"SUMPRODUCT((KCINHDD[Month]=MONTH(KCITempAct[[#This Row],[Date]]))*(KCINHDD[Day]=DAY(KCITempAct[[#This Row],[Date]]))*KCINHDD[KCINHDD])","v":33.5},{"$f":"IF(MONTH(KCITempAct[[#This Row],[Date]])=7,0,IF(MONTH(KCITempAct[[#This Row],[Date]])=8,0,KCITempAct[[#This Row],[KCINHDD]]))","v":33.5},"Adj HDD and NDD =0 for July and August"]
["2021-01-28",34,18,{"$f":"AVERAGE(KCITempAct[[#This Row],[KCIHigh]:[KCILow]]\n)","v":26},{"$f":"IF(KCITempAct[[#This Row],[KCIAve]]<65,(65-KCITempAct[[#This Row],[KCIAve]]),0)","v":39},{"$f":"IF(MONTH(KCITempAct[[#This Row],[Date]])=7,0,IF(MONTH(KCITempAct[[#This Row],[Date]])=8,0,KCITempAct[[#This Row],[KCIHDD]]))","v":39},{"$f":"SUMPRODUCT((KCINHDD[Month]=MONTH(KCITempAct[[#This Row],[Date]]))*(KCINHDD[Day]=DAY(KCITempAct[[#This Row],[Date]]))*KCINHDD[KCINHDD])","v":33.06666666666667},{"$f":"IF(MONTH(KCITempAct[[#This Row],[Date]])=7,0,IF(MONTH(KCITempAct[[#This Row],[Date]])=8,0,KCITempAct[[#This Row],[KCINHDD]]))","v":33.06666666666667},"Adj HDD and NDD =0 for July and August"]
["2021-01-29",50,26,{"$f":"AVERAGE(KCITempAct[[#This Row],[KCIHigh]:[KCILow]]\n)","v":38},{"$f":"IF(KCITempAct[[#This Row],[KCIAve]]<65,(65-KCITempAct[[#This Row],[KCIAve]]),0)","v":27},{"$f":"IF(MONTH(KCITempAct[[#This Row],[Date]])=7,0,IF(MONTH(KCITempAct[[#This Row],[Date]])=8,0,KCITempAct[[#This Row],[KCIHDD]]))","v":27},{"$f":"SUMPRODUCT((KCINHDD[Month]=MONTH(KCITempAct[[#This Row],[Date]]))*(KCINHDD[Day]=DAY(KCITempAct[[#This Row],[Date]]))*KCINHDD[KCINHDD])","v":34.866666666666667},{"$f":"IF(MONTH(KCITempAct[[#This Row],[Date]])=7,0,IF(MONTH(KCITempAct[[#This Row],[Date]])=8,0,KCITempAct[[#This Row],[KCINHDD]]))","v":34.866666666666667},"Adj HDD and NDD =0 for July and August"]
["2021-01-30",51,32,{"$f":"AVERAGE(KCITempAct[[#This Row],[KCIHigh]:[KCILow]]\n)","v":41.5},{"$f":"IF(KCITempAct[[#This Row],[KCIAve]]<65,(65-KCITempAct[[#This Row],[KCIAve]]),0)","v":23.5},{"$f":"IF(MONTH(KCITempAct[[#This Row],[Date]])=7,0,IF(MONTH(KCITempAct[[#This Row],[Date]])=8,0,KCITempAct[[#This Row],[KCIHDD]]))","v":23.5},{"$f":"SUMPRODUCT((KCINHDD[Month]=MONTH(KCITempAct[[#This Row],[Date]]))*(KCINHDD[Day]=DAY(KCITempAct[[#This Row],[Date]]))*KCINHDD[KCINHDD])","v":36.31666666666667},{"$f":"IF(MONTH(KCITempAct[[#This Row],[Date]])=7,0,IF(MONTH(KCITempAct[[#This Row],[Date]])=8,0,KCITempAct[[#This Row],[KCINHDD]]))","v":36.31666666666667},"Adj HDD and NDD =0 for July and August"]
["2021-01-31",35,30,{"$f":"AVERAGE(KCITempAct[[#This Row],[KCIHigh]:[KCILow]]\n)","v":32.5},{"$f":"IF(KCITempAct[[#This Row],[KCIAve]]<65,(65-KCITempAct[[#This Row],[KCIAve]]),0)","v":32.5},{"$f":"IF(MONTH(KCITempAct[[#This Row],[Date]])=7,0,IF(MONTH(KCITempAct[[#This Row],[Date]])=8,0,KCITempAct[[#This Row],[KCIHDD]]))","v":32.5},{"$f":"SUMPRODUCT((KCINHDD[Month]=MONTH(KCITempAct[[#This Row],[Date]]))*(KCINHDD[Day]=DAY(KCITempAct[[#This Row],[Date]]))*KCINHDD[KCINHDD])","v":32.700000000000003},{"$f":"IF(MONTH(KCITempAct[[#This Row],[Date]])=7,0,IF(MONTH(KCITempAct[[#This Row],[Date]])=8,0,KCITempAct[[#This Row],[KCINHDD]]))","v":32.700000000000003},"Adj HDD and NDD =0 for July and August"]
["2021-02-01",36,25,{"$f":"AVERAGE(KCITempAct[[#This Row],[KCIHigh]:[KCILow]]\n)","v":30.5},{"$f":"IF(KCITempAct[[#This Row],[KCIAve]]<65,(65-KCITempAct[[#This Row],[KCIAve]]),0)","v":34.5},{"$f":"IF(MONTH(KCITempAct[[#This Row],[Date]])=7,0,IF(MONTH(KCITempAct[[#This Row],[Date]])=8,0,KCITempAct[[#This Row],[KCIHDD]]))","v":34.5},{"$f":"SUMPRODUCT((KCINHDD[Month]=MONTH(KCITempAct[[#This Row],[Date]]))*(KCINHDD[Day]=DAY(KCITempAct[[#This Row],[Date]]))*KCINHDD[KCINHDD])","v":33.266666666666666},{"$f":"IF(MONTH(KCITempAct[[#This Row],[Date]])=7,0,IF(MONTH(KCITempAct[[#This Row],[Date]])=8,0,KCITempAct[[#This Row],[KCINHDD]]))","v":33.266666666666666},"Adj HDD and NDD =0 for July and August"]
["2021-02-02",42,24,{"$f":"AVERAGE(KCITempAct[[#This Row],[KCIHigh]:[KCILow]]\n)","v":33},{"$f":"IF(KCITempAct[[#This Row],[KCIAve]]<65,(65-KCITempAct[[#This Row],[KCIAve]]),0)","v":32},{"$f":"IF(MONTH(KCITempAct[[#This Row],[Date]])=7,0,IF(MONTH(KCITempAct[[#This Row],[Date]])=8,0,KCITempAct[[#This Row],[KCIHDD]]))","v":32},{"$f":"SUMPRODUCT((KCINHDD[Month]=MONTH(KCITempAct[[#This Row],[Date]]))*(KCINHDD[Day]=DAY(KCITempAct[[#This Row],[Date]]))*KCINHDD[KCINHDD])","v":33.700000000000003},{"$f":"IF(MONTH(KCITempAct[[#This Row],[Date]])=7,0,IF(MONTH(KCITempAct[[#This Row],[Date]])=8,0,KCITempAct[[#This Row],[KCINHDD]]))","v":33.700000000000003},"Adj HDD and NDD =0 for July and August"]
["2021-02-03",59,28,{"$f":"AVERAGE(KCITempAct[[#This Row],[KCIHigh]:[KCILow]]\n)","v":43.5},{"$f":"IF(KCITempAct[[#This Row],[KCIAve]]<65,(65-KCITempAct[[#This Row],[KCIAve]]),0)","v":21.5},{"$f":"IF(MONTH(KCITempAct[[#This Row],[Date]])=7,0,IF(MONTH(KCITempAct[[#This Row],[Date]])=8,0,KCITempAct[[#This Row],[KCIHDD]]))","v":21.5},{"$f":"SUMPRODUCT((KCINHDD[Month]=MONTH(KCITempAct[[#This Row],[Date]]))*(KCINHDD[Day]=DAY(KCITempAct[[#This Row],[Date]]))*KCINHDD[KCINHDD])","v":32.666666666666664},{"$f":"IF(MONTH(KCITempAct[[#This Row],[Date]])=7,0,IF(MONTH(KCITempAct[[#This Row],[Date]])=8,0,KCITempAct[[#This Row],[KCINHDD]]))","v":32.666666666666664},"Adj HDD and NDD =0 for July and August"]
["2021-02-04",50,21,{"$f":"AVERAGE(KCITempAct[[#This Row],[KCIHigh]:[KCILow]]\n)","v":35.5},{"$f":"IF(KCITempAct[[#This Row],[KCIAve]]<65,(65-KCITempAct[[#This Row],[KCIAve]]),0)","v":29.5},{"$f":"IF(MONTH(KCITempAct[[#This Row],[Date]])=7,0,IF(MONTH(KCITempAct[[#This Row],[Date]])=8,0,KCITempAct[[#This Row],[KCIHDD]]))","v":29.5},{"$f":"SUMPRODUCT((KCINHDD[Month]=MONTH(KCITempAct[[#This Row],[Date]]))*(KCINHDD[Day]=DAY(KCITempAct[[#This Row],[Date]]))*KCINHDD[KCINHDD])","v":35.5},{"$f":"IF(MONTH(KCITempAct[[#This Row],[Date]])=7,0,IF(MONTH(KCITempAct[[#This Row],[Date]])=8,0,KCITempAct[[#This Row],[KCINHDD]]))","v":35.5},"Adj HDD and NDD =0 for July and August"]
["2021-02-05",38,22,{"$f":"AVERAGE(KCITempAct[[#This Row],[KCIHigh]:[KCILow]]\n)","v":30},{"$f":"IF(KCITempAct[[#This Row],[KCIAve]]<65,(65-KCITempAct[[#This Row],[KCIAve]]),0)","v":35},{"$f":"IF(MONTH(KCITempAct[[#This Row],[Date]])=7,0,IF(MONTH(KCITempAct[[#This Row],[Date]])=8,0,KCITempAct[[#This Row],[KCIHDD]]))","v":35},{"$f":"SUMPRODUCT((KCINHDD[Month]=MONTH(KCITempAct[[#This Row],[Date]]))*(KCINHDD[Day]=DAY(KCITempAct[[#This Row],[Date]]))*KCINHDD[KCINHDD])","v":35.616666666666667},{"$f":"IF(MONTH(KCITempAct[[#This Row],[Date]])=7,0,IF(MONTH(KCITempAct[[#This Row],[Date]])=8,0,KCITempAct[[#This Row],[KCINHDD]]))","v":35.616666666666667},"Adj HDD and NDD =0 for July and August"]
["2021-02-06",24,4,{"$f":"AVERAGE(KCITempAct[[#This Row],[KCIHigh]:[KCILow]]\n)","v":14},{"$f":"IF(KCITempAct[[#This Row],[KCIAve]]<65,(65-KCITempAct[[#This Row],[KCIAve]]),0)","v":51},{"$f":"IF(MONTH(KCITempAct[[#This Row],[Date]])=7,0,IF(MONTH(KCITempAct[[#This Row],[Date]])=8,0,KCITempAct[[#This Row],[KCIHDD]]))","v":51},{"$f":"SUMPRODUCT((KCINHDD[Month]=MONTH(KCITempAct[[#This Row],[Date]]))*(KCINHDD[Day]=DAY(KCITempAct[[#This Row],[Date]]))*KCINHDD[KCINHDD])","v":32.716666666666669},{"$f":"IF(MONTH(KCITempAct[[#This Row],[Date]])=7,0,IF(MONTH(KCITempAct[[#This Row],[Date]])=8,0,KCITempAct[[#This Row],[KCINHDD]]))","v":32.716666666666669},"Adj HDD and NDD =0 for July and August"]
["2021-02-07",8,4,{"$f":"AVERAGE(KCITempAct[[#This Row],[KCIHigh]:[KCILow]]\n)","v":6},{"$f":"IF(KCITempAct[[#This Row],[KCIAve]]<65,(65-KCITempAct[[#This Row],[KCIAve]]),0)","v":59},{"$f":"IF(MONTH(KCITempAct[[#This Row],[Date]])=7,0,IF(MONTH(KCITempAct[[#This Row],[Date]])=8,0,KCITempAct[[#This Row],[KCIHDD]]))","v":59},{"$f":"SUMPRODUCT((KCINHDD[Month]=MONTH(KCITempAct[[#This Row],[Date]]))*(KCINHDD[Day]=DAY(KCITempAct[[#This Row],[Date]]))*KCINHDD[KCINHDD])","v":34.333333333333336},{"$f":"IF(MONTH(KCITempAct[[#This Row],[Date]])=7,0,IF(MONTH(KCITempAct[[#This Row],[Date]])=8,0,KCITempAct[[#This Row],[KCINHDD]]))","v":34.333333333333336},"Adj HDD and NDD =0 for July and August"]
["2021-02-08",8,5,{"$f":"AVERAGE(KCITempAct[[#This Row],[KCIHigh]:[KCILow]]\n)","v":6.5},{"$f":"IF(KCITempAct[[#This Row],[KCIAve]]<65,(65-KCITempAct[[#This Row],[KCIAve]]),0)","v":58.5},{"$f":"IF(MONTH(KCITempAct[[#This Row],[Date]])=7,0,IF(MONTH(KCITempAct[[#This Row],[Date]])=8,0,KCITempAct[[#This Row],[KCIHDD]]))","v":58.5},{"$f":"SUMPRODUCT((KCINHDD[Month]=MONTH(KCITempAct[[#This Row],[Date]]))*(KCINHDD[Day]=DAY(KCITempAct[[#This Row],[Date]]))*KCINHDD[KCINHDD])","v":36.266666666666666},{"$f":"IF(MONTH(KCITempAct[[#This Row],[Date]])=7,0,IF(MONTH(KCITempAct[[#This Row],[Date]])=8,0,KCITempAct[[#This Row],[KCINHDD]]))","v":36.266666666666666},"Adj HDD and NDD =0 for July and August"]
["2021-02-09",14,8,{"$f":"AVERAGE(KCITempAct[[#This Row],[KCIHigh]:[KCILow]]\n)","v":11},{"$f":"IF(KCITempAct[[#This Row],[KCIAve]]<65,(65-KCITempAct[[#This Row],[KCIAve]]),0)","v":54},{"$f":"IF(MONTH(KCITempAct[[#This Row],[Date]])=7,0,IF(MONTH(KCITempAct[[#This Row],[Date]])=8,0,KCITempAct[[#This Row],[KCIHDD]]))","v":54},{"$f":"SUMPRODUCT((KCINHDD[Month]=MONTH(KCITempAct[[#This Row],[Date]]))*(KCINHDD[Day]=DAY(KCITempAct[[#This Row],[Date]]))*KCINHDD[KCINHDD])","v":34.516666666666666},{"$f":"IF(MONTH(KCITempAct[[#This Row],[Date]])=7,0,IF(MONTH(KCITempAct[[#This Row],[Date]])=8,0,KCITempAct[[#This Row],[KCINHDD]]))","v":34.516666666666666},"Adj HDD and NDD =0 for July and August"]
["2021-02-10",15,10,{"$f":"AVERAGE(KCITempAct[[#This Row],[KCIHigh]:[KCILow]]\n)","v":12.5},{"$f":"IF(KCITempAct[[#This Row],[KCIAve]]<65,(65-KCITempAct[[#This Row],[KCIAve]]),0)","v":52.5},{"$f":"IF(MONTH(KCITempAct[[#This Row],[Date]])=7,0,IF(MONTH(KCITempAct[[#This Row],[Date]])=8,0,KCITempAct[[#This Row],[KCIHDD]]))","v":52.5},{"$f":"SUMPRODUCT((KCINHDD[Month]=MONTH(KCITempAct[[#This Row],[Date]]))*(KCINHDD[Day]=DAY(KCITempAct[[#This Row],[Date]]))*KCINHDD[KCINHDD])","v":33.883333333333333},{"$f":"IF(MONTH(KCITempAct[[#This Row],[Date]])=7,0,IF(MONTH(KCITempAct[[#This Row],[Date]])=8,0,KCITempAct[[#This Row],[KCINHDD]]))","v":33.883333333333333},"Adj HDD and NDD =0 for July and August"]
["2021-02-11",15,8,{"$f":"AVERAGE(KCITempAct[[#This Row],[KCIHigh]:[KCILow]]\n)","v":11.5},{"$f":"IF(KCITempAct[[#This Row],[KCIAve]]<65,(65-KCITempAct[[#This Row],[KCIAve]]),0)","v":53.5},{"$f":"IF(MONTH(KCITempAct[[#This Row],[Date]])=7,0,IF(MONTH(KCITempAct[[#This Row],[Date]])=8,0,KCITempAct[[#This Row],[KCIHDD]]))","v":53.5},{"$f":"SUMPRODUCT((KCINHDD[Month]=MONTH(KCITempAct[[#This Row],[Date]]))*(KCINHDD[Day]=DAY(KCITempAct[[#This Row],[Date]]))*KCINHDD[KCINHDD])","v":35.083333333333336},{"$f":"IF(MONTH(KCITempAct[[#This Row],[Date]])=7,0,IF(MONTH(KCITempAct[[#This Row],[Date]])=8,0,KCITempAct[[#This Row],[KCINHDD]]))","v":35.083333333333336},"Adj HDD and NDD =0 for July and August"]
["2021-02-12",8,0,{"$f":"AVERAGE(KCITempAct[[#This Row],[KCIHigh]:[KCILow]]\n)","v":4},{"$f":"IF(KCITempAct[[#This Row],[KCIAve]]<65,(65-KCITempAct[[#This Row],[KCIAve]]),0)","v":61},{"$f":"IF(MONTH(KCITempAct[[#This Row],[Date]])=7,0,IF(MONTH(KCITempAct[[#This Row],[Date]])=8,0,KCITempAct[[#This Row],[KCIHDD]]))","v":61},{"$f":"SUMPRODUCT((KCINHDD[Month]=MONTH(KCITempAct[[#This Row],[Date]]))*(KCINHDD[Day]=DAY(KCITempAct[[#This Row],[Date]]))*KCINHDD[KCINHDD])","v":36.6},{"$f":"IF(MONTH(KCITempAct[[#This Row],[Date]])=7,0,IF(MONTH(KCITempAct[[#This Row],[Date]])=8,0,KCITempAct[[#This Row],[KCINHDD]]))","v":36.6},"Adj HDD and NDD =0 for July and August"]
["2021-02-13",9,-1,{"$f":"AVERAGE(KCITempAct[[#This Row],[KCIHigh]:[KCILow]]\n)","v":4},{"$f":"IF(KCITempAct[[#This Row],[KCIAve]]<65,(65-KCITempAct[[#This Row],[KCIAve]]),0)","v":61},{"$f":"IF(MONTH(KCITempAct[[#This Row],[Date]])=7,0,IF(MONTH(KCITempAct[[#This Row],[Date]])=8,0,KCITempAct[[#This Row],[KCIHDD]]))","v":61},{"$f":"SUMPRODUCT((KCINHDD[Month]=MONTH(KCITempAct[[#This Row],[Date]]))*(KCINHDD[Day]=DAY(KCITempAct[[#This Row],[Date]]))*KCINHDD[KCINHDD])","v":33.266666666666666},{"$f":"IF(MONTH(KCITempAct[[#This Row],[Date]])=7,0,IF(MONTH(KCITempAct[[#This Row],[Date]])=8,0,KCITempAct[[#This Row],[KCINHDD]]))","v":33.266666666666666},"Adj HDD and NDD =0 for July and August"]
["2021-02-14",4,-6,{"$f":"AVERAGE(KCITempAct[[#This Row],[KCIHigh]:[KCILow]]\n)","v":-1},{"$f":"IF(KCITempAct[[#This Row],[KCIAve]]<65,(65-KCITempAct[[#This Row],[KCIAve]]),0)","v":66},{"$f":"IF(MONTH(KCITempAct[[#This Row],[Date]])=7,0,IF(MONTH(KCITempAct[[#This Row],[Date]])=8,0,KCITempAct[[#This Row],[KCIHDD]]))","v":66},{"$f":"SUMPRODUCT((KCINHDD[Month]=MONTH(KCITempAct[[#This Row],[Date]]))*(KCINHDD[Day]=DAY(KCITempAct[[#This Row],[Date]]))*KCINHDD[KCINHDD])","v":30.716666666666665},{"$f":"IF(MONTH(KCITempAct[[#This Row],[Date]])=7,0,IF(MONTH(KCITempAct[[#This Row],[Date]])=8,0,KCITempAct[[#This Row],[KCINHDD]]))","v":30.716666666666665},"Adj HDD and NDD =0 for July and August"]
["2021-02-15",-1,-10,{"$f":"AVERAGE(KCITempAct[[#This Row],[KCIHigh]:[KCILow]]\n)","v":-5.5},{"$f":"IF(KCITempAct[[#This Row],[KCIAve]]<65,(65-KCITempAct[[#This Row],[KCIAve]]),0)","v":70.5},{"$f":"IF(MONTH(KCITempAct[[#This Row],[Date]])=7,0,IF(MONTH(KCITempAct[[#This Row],[Date]])=8,0,KCITempAct[[#This Row],[KCIHDD]]))","v":70.5},{"$f":"SUMPRODUCT((KCINHDD[Month]=MONTH(KCITempAct[[#This Row],[Date]]))*(KCINHDD[Day]=DAY(KCITempAct[[#This Row],[Date]]))*KCINHDD[KCINHDD])","v":33.766666666666666},{"$f":"IF(MONTH(KCITempAct[[#This Row],[Date]])=7,0,IF(MONTH(KCITempAct[[#This Row],[Date]])=8,0,KCITempAct[[#This Row],[KCINHDD]]))","v":33.766666666666666},"Adj HDD and NDD =0 for July and August"]
["2021-02-16",12,-13,{"$f":"AVERAGE(KCITempAct[[#This Row],[KCIHigh]:[KCILow]]\n)","v":-0.5},{"$f":"IF(KCITempAct[[#This Row],[KCIAve]]<65,(65-KCITempAct[[#This Row],[KCIAve]]),0)","v":65.5},{"$f":"IF(MONTH(KCITempAct[[#This Row],[Date]])=7,0,IF(MONTH(KCITempAct[[#This Row],[Date]])=8,0,KCITempAct[[#This Row],[KCIHDD]]))","v":65.5},{"$f":"SUMPRODUCT((KCINHDD[Month]=MONTH(KCITempAct[[#This Row],[Date]]))*(KCINHDD[Day]=DAY(KCITempAct[[#This Row],[Date]]))*KCINHDD[KCINHDD])","v":34.56666666666667},{"$f":"IF(MONTH(KCITempAct[[#This Row],[Date]])=7,0,IF(MONTH(KCITempAct[[#This Row],[Date]])=8,0,KCITempAct[[#This Row],[KCINHDD]]))","v":34.56666666666667},"Adj HDD and NDD =0 for July and August"]
["2021-02-17",23,4,{"$f":"AVERAGE(KCITempAct[[#This Row],[KCIHigh]:[KCILow]]\n)","v":13.5},{"$f":"IF(KCITempAct[[#This Row],[KCIAve]]<65,(65-KCITempAct[[#This Row],[KCIAve]]),0)","v":51.5},{"$f":"IF(MONTH(KCITempAct[[#This Row],[Date]])=7,0,IF(MONTH(KCITempAct[[#This Row],[Date]])=8,0,KCITempAct[[#This Row],[KCIHDD]]))","v":51.5},{"$f":"SUMPRODUCT((KCINHDD[Month]=MONTH(KCITempAct[[#This Row],[Date]]))*(KCINHDD[Day]=DAY(KCITempAct[[#This Row],[Date]]))*KCINHDD[KCINHDD])","v":29.55},{"$f":"IF(MONTH(KCITempAct[[#This Row],[Date]])=7,0,IF(MONTH(KCITempAct[[#This Row],[Date]])=8,0,KCITempAct[[#This Row],[KCINHDD]]))","v":29.55},"Adj HDD and NDD =0 for July and August"]
["2021-02-18",27,4,{"$f":"AVERAGE(KCITempAct[[#This Row],[KCIHigh]:[KCILow]]\n)","v":15.5},{"$f":"IF(KCITempAct[[#This Row],[KCIAve]]<65,(65-KCITempAct[[#This Row],[KCIAve]]),0)","v":49.5},{"$f":"IF(MONTH(KCITempAct[[#This Row],[Date]])=7,0,IF(MONTH(KCITempAct[[#This Row],[Date]])=8,0,KCITempAct[[#This Row],[KCIHDD]]))","v":49.5},{"$f":"SUMPRODUCT((KCINHDD[Month]=MONTH(KCITempAct[[#This Row],[Date]]))*(KCINHDD[Day]=DAY(KCITempAct[[#This Row],[Date]]))*KCINHDD[KCINHDD])","v":28.05},{"$f":"IF(MONTH(KCITempAct[[#This Row],[Date]])=7,0,IF(MONTH(KCITempAct[[#This Row],[Date]])=8,0,KCITempAct[[#This Row],[KCINHDD]]))","v":28.05},"Adj HDD and NDD =0 for July and August"]
["2021-02-19",33,8,{"$f":"AVERAGE(KCITempAct[[#This Row],[KCIHigh]:[KCILow]]\n)","v":20.5},{"$f":"IF(KCITempAct[[#This Row],[KCIAve]]<65,(65-KCITempAct[[#This Row],[KCIAve]]),0)","v":44.5},{"$f":"IF(MONTH(KCITempAct[[#This Row],[Date]])=7,0,IF(MONTH(KCITempAct[[#This Row],[Date]])=8,0,KCITempAct[[#This Row],[KCIHDD]]))","v":44.5},{"$f":"SUMPRODUCT((KCINHDD[Month]=MONTH(KCITempAct[[#This Row],[Date]]))*(KCINHDD[Day]=DAY(KCITempAct[[#This Row],[Date]]))*KCINHDD[KCINHDD])","v":27.25},{"$f":"IF(MONTH(KCITempAct[[#This Row],[Date]])=7,0,IF(MONTH(KCITempAct[[#This Row],[Date]])=8,0,KCITempAct[[#This Row],[KCINHDD]]))","v":27.25},"Adj HDD and NDD =0 for July and August"]
["2021-02-20",43,18,{"$f":"AVERAGE(KCITempAct[[#This Row],[KCIHigh]:[KCILow]]\n)","v":30.5},{"$f":"IF(KCITempAct[[#This Row],[KCIAve]]<65,(65-KCITempAct[[#This Row],[KCIAve]]),0)","v":34.5},{"$f":"IF(MONTH(KCITempAct[[#This Row],[Date]])=7,0,IF(MONTH(KCITempAct[[#This Row],[Date]])=8,0,KCITempAct[[#This Row],[KCIHDD]]))","v":34.5},{"$f":"SUMPRODUCT((KCINHDD[Month]=MONTH(KCITempAct[[#This Row],[Date]]))*(KCINHDD[Day]=DAY(KCITempAct[[#This Row],[Date]]))*KCINHDD[KCINHDD])","v":26.1},{"$f":"IF(MONTH(KCITempAct[[#This Row],[Date]])=7,0,IF(MONTH(KCITempAct[[#This Row],[Date]])=8,0,KCITempAct[[#This Row],[KCINHDD]]))","v":26.1},"Adj HDD and NDD =0 for July and August"]
["2021-02-21",42,31,{"$f":"AVERAGE(KCITempAct[[#This Row],[KCIHigh]:[KCILow]]\n)","v":36.5},{"$f":"IF(KCITempAct[[#This Row],[KCIAve]]<65,(65-KCITempAct[[#This Row],[KCIAve]]),0)","v":28.5},{"$f":"IF(MONTH(KCITempAct[[#This Row],[Date]])=7,0,IF(MONTH(KCITempAct[[#This Row],[Date]])=8,0,KCITempAct[[#This Row],[KCIHDD]]))","v":28.5},{"$f":"SUMPRODUCT((KCINHDD[Month]=MONTH(KCITempAct[[#This Row],[Date]]))*(KCINHDD[Day]=DAY(KCITempAct[[#This Row],[Date]]))*KCINHDD[KCINHDD])","v":29.15},{"$f":"IF(MONTH(KCITempAct[[#This Row],[Date]])=7,0,IF(MONTH(KCITempAct[[#This Row],[Date]])=8,0,KCITempAct[[#This Row],[KCINHDD]]))","v":29.15},"Adj HDD and NDD =0 for July and August"]
["2021-02-22",60,25,{"$f":"AVERAGE(KCITempAct[[#This Row],[KCIHigh]:[KCILow]]\n)","v":42.5},{"$f":"IF(KCITempAct[[#This Row],[KCIAve]]<65,(65-KCITempAct[[#This Row],[KCIAve]]),0)","v":22.5},{"$f":"IF(MONTH(KCITempAct[[#This Row],[Date]])=7,0,IF(MONTH(KCITempAct[[#This Row],[Date]])=8,0,KCITempAct[[#This Row],[KCIHDD]]))","v":22.5},{"$f":"SUMPRODUCT((KCINHDD[Month]=MONTH(KCITempAct[[#This Row],[Date]]))*(KCINHDD[Day]=DAY(KCITempAct[[#This Row],[Date]]))*KCINHDD[KCINHDD])","v":27.783333333333335},{"$f":"IF(MONTH(KCITempAct[[#This Row],[Date]])=7,0,IF(MONTH(KCITempAct[[#This Row],[Date]])=8,0,KCITempAct[[#This Row],[KCINHDD]]))","v":27.783333333333335},"Adj HDD and NDD =0 for July and August"]
["2021-02-23",69,29,{"$f":"AVERAGE(KCITempAct[[#This Row],[KCIHigh]:[KCILow]]\n)","v":49},{"$f":"IF(KCITempAct[[#This Row],[KCIAve]]<65,(65-KCITempAct[[#This Row],[KCIAve]]),0)","v":16},{"$f":"IF(MONTH(KCITempAct[[#This Row],[Date]])=7,0,IF(MONTH(KCITempAct[[#This Row],[Date]])=8,0,KCITempAct[[#This Row],[KCIHDD]]))","v":16},{"$f":"SUMPRODUCT((KCINHDD[Month]=MONTH(KCITempAct[[#This Row],[Date]]))*(KCINHDD[Day]=DAY(KCITempAct[[#This Row],[Date]]))*KCINHDD[KCINHDD])","v":27.9},{"$f":"IF(MONTH(KCITempAct[[#This Row],[Date]])=7,0,IF(MONTH(KCITempAct[[#This Row],[Date]])=8,0,KCITempAct[[#This Row],[KCINHDD]]))","v":27.9},"Adj HDD and NDD =0 for July and August"]
["2021-02-24",49,28,{"$f":"AVERAGE(KCITempAct[[#This Row],[KCIHigh]:[KCILow]]\n)","v":38.5},{"$f":"IF(KCITempAct[[#This Row],[KCIAve]]<65,(65-KCITempAct[[#This Row],[KCIAve]]),0)","v":26.5},{"$f":"IF(MONTH(KCITempAct[[#This Row],[Date]])=7,0,IF(MONTH(KCITempAct[[#This Row],[Date]])=8,0,KCITempAct[[#This Row],[KCIHDD]]))","v":26.5},{"$f":"SUMPRODUCT((KCINHDD[Month]=MONTH(KCITempAct[[#This Row],[Date]]))*(KCINHDD[Day]=DAY(KCITempAct[[#This Row],[Date]]))*KCINHDD[KCINHDD])","v":29.4},{"$f":"IF(MONTH(KCITempAct[[#This Row],[Date]])=7,0,IF(MONTH(KCITempAct[[#This Row],[Date]])=8,0,KCITempAct[[#This Row],[KCINHDD]]))","v":29.4},"Adj HDD and NDD =0 for July and August"]
["2021-02-25",47,26,{"$f":"AVERAGE(KCITempAct[[#This Row],[KCIHigh]:[KCILow]]\n)","v":36.5},{"$f":"IF(KCITempAct[[#This Row],[KCIAve]]<65,(65-KCITempAct[[#This Row],[KCIAve]]),0)","v":28.5},{"$f":"IF(MONTH(KCITempAct[[#This Row],[Date]])=7,0,IF(MONTH(KCITempAct[[#This Row],[Date]])=8,0,KCITempAct[[#This Row],[KCIHDD]]))","v":28.5},{"$f":"SUMPRODUCT((KCINHDD[Month]=MONTH(KCITempAct[[#This Row],[Date]]))*(KCINHDD[Day]=DAY(KCITempAct[[#This Row],[Date]]))*KCINHDD[KCINHDD])","v":29.683333333333334},{"$f":"IF(MONTH(KCITempAct[[#This Row],[Date]])=7,0,IF(MONTH(KCITempAct[[#This Row],[Date]])=8,0,KCITempAct[[#This Row],[KCINHDD]]))","v":29.683333333333334},"Adj HDD and NDD =0 for July and August"]
["2021-02-26",53,30,{"$f":"AVERAGE(KCITempAct[[#This Row],[KCIHigh]:[KCILow]]\n)","v":41.5},{"$f":"IF(KCITempAct[[#This Row],[KCIAve]]<65,(65-KCITempAct[[#This Row],[KCIAve]]),0)","v":23.5},{"$f":"IF(MONTH(KCITempAct[[#This Row],[Date]])=7,0,IF(MONTH(KCITempAct[[#This Row],[Date]])=8,0,KCITempAct[[#This Row],[KCIHDD]]))","v":23.5},{"$f":"SUMPRODUCT((KCINHDD[Month]=MONTH(KCITempAct[[#This Row],[Date]]))*(KCINHDD[Day]=DAY(KCITempAct[[#This Row],[Date]]))*KCINHDD[KCINHDD])","v":30.3},{"$f":"IF(MONTH(KCITempAct[[#This Row],[Date]])=7,0,IF(MONTH(KCITempAct[[#This Row],[Date]])=8,0,KCITempAct[[#This Row],[KCINHDD]]))","v":30.3},"Adj HDD and NDD =0 for July and August"]
["2021-02-27",64,33,{"$f":"AVERAGE(KCITempAct[[#This Row],[KCIHigh]:[KCILow]]\n)","v":48.5},{"$f":"IF(KCITempAct[[#This Row],[KCIAve]]<65,(65-KCITempAct[[#This Row],[KCIAve]]),0)","v":16.5},{"$f":"IF(MONTH(KCITempAct[[#This Row],[Date]])=7,0,IF(MONTH(KCITempAct[[#This Row],[Date]])=8,0,KCITempAct[[#This Row],[KCIHDD]]))","v":16.5},{"$f":"SUMPRODUCT((KCINHDD[Month]=MONTH(KCITempAct[[#This Row],[Date]]))*(KCINHDD[Day]=DAY(KCITempAct[[#This Row],[Date]]))*KCINHDD[KCINHDD])","v":30.65},{"$f":"IF(MONTH(KCITempAct[[#This Row],[Date]])=7,0,IF(MONTH(KCITempAct[[#This Row],[Date]])=8,0,KCITempAct[[#This Row],[KCINHDD]]))","v":30.65},"Adj HDD and NDD =0 for July and August"]
["2021-02-28",53,30,{"$f":"AVERAGE(KCITempAct[[#This Row],[KCIHigh]:[KCILow]]\n)","v":41.5},{"$f":"IF(KCITempAct[[#This Row],[KCIAve]]<65,(65-KCITempAct[[#This Row],[KCIAve]]),0)","v":23.5},{"$f":"IF(MONTH(KCITempAct[[#This Row],[Date]])=7,0,IF(MONTH(KCITempAct[[#This Row],[Date]])=8,0,KCITempAct[[#This Row],[KCIHDD]]))","v":23.5},{"$f":"SUMPRODUCT((KCINHDD[Month]=MONTH(KCITempAct[[#This Row],[Date]]))*(KCINHDD[Day]=DAY(KCITempAct[[#This Row],[Date]]))*KCINHDD[KCINHDD])","v":27.9},{"$f":"IF(MONTH(KCITempAct[[#This Row],[Date]])=7,0,IF(MONTH(KCITempAct[[#This Row],[Date]])=8,0,KCITempAct[[#This Row],[KCINHDD]]))","v":27.9},"Adj HDD and NDD =0 for July and August"]
["2021-03-01",55,20,{"$f":"AVERAGE(KCITempAct[[#This Row],[KCIHigh]:[KCILow]]\n)","v":37.5},{"$f":"IF(KCITempAct[[#This Row],[KCIAve]]<65,(65-KCITempAct[[#This Row],[KCIAve]]),0)","v":27.5},{"$f":"IF(MONTH(KCITempAct[[#This Row],[Date]])=7,0,IF(MONTH(KCITempAct[[#This Row],[Date]])=8,0,KCITempAct[[#This Row],[KCIHDD]]))","v":27.5},{"$f":"SUMPRODUCT((KCINHDD[Month]=MONTH(KCITempAct[[#This Row],[Date]]))*(KCINHDD[Day]=DAY(KCITempAct[[#This Row],[Date]]))*KCINHDD[KCINHDD])","v":27.533333333333335},{"$f":"IF(MONTH(KCITempAct[[#This Row],[Date]])=7,0,IF(MONTH(KCITempAct[[#This Row],[Date]])=8,0,KCITempAct[[#This Row],[KCINHDD]]))","v":27.533333333333335},"Adj HDD and NDD =0 for July and August"]
["2021-03-02",63,24,{"$f":"AVERAGE(KCITempAct[[#This Row],[KCIHigh]:[KCILow]]\n)","v":43.5},{"$f":"IF(KCITempAct[[#This Row],[KCIAve]]<65,(65-KCITempAct[[#This Row],[KCIAve]]),0)","v":21.5},{"$f":"IF(MONTH(KCITempAct[[#This Row],[Date]])=7,0,IF(MONTH(KCITempAct[[#This Row],[Date]])=8,0,KCITempAct[[#This Row],[KCIHDD]]))","v":21.5},{"$f":"SUMPRODUCT((KCINHDD[Month]=MONTH(KCITempAct[[#This Row],[Date]]))*(KCINHDD[Day]=DAY(KCITempAct[[#This Row],[Date]]))*KCINHDD[KCINHDD])","v":30.35},{"$f":"IF(MONTH(KCITempAct[[#This Row],[Date]])=7,0,IF(MONTH(KCITempAct[[#This Row],[Date]])=8,0,KCITempAct[[#This Row],[KCINHDD]]))","v":30.35},"Adj HDD and NDD =0 for July and August"]
["2021-03-03",71,33,{"$f":"AVERAGE(KCITempAct[[#This Row],[KCIHigh]:[KCILow]]\n)","v":52},{"$f":"IF(KCITempAct[[#This Row],[KCIAve]]<65,(65-KCITempAct[[#This Row],[KCIAve]]),0)","v":13},{"$f":"IF(MONTH(KCITempAct[[#This Row],[Date]])=7,0,IF(MONTH(KCITempAct[[#This Row],[Date]])=8,0,KCITempAct[[#This Row],[KCIHDD]]))","v":13},{"$f":"SUMPRODUCT((KCINHDD[Month]=MONTH(KCITempAct[[#This Row],[Date]]))*(KCINHDD[Day]=DAY(KCITempAct[[#This Row],[Date]]))*KCINHDD[KCINHDD])","v":28.8},{"$f":"IF(MONTH(KCITempAct[[#This Row],[Date]])=7,0,IF(MONTH(KCITempAct[[#This Row],[Date]])=8,0,KCITempAct[[#This Row],[KCINHDD]]))","v":28.8},"Adj HDD and NDD =0 for July and August"]
["2021-03-04",72,39,{"$f":"AVERAGE(KCITempAct[[#This Row],[KCIHigh]:[KCILow]]\n)","v":55.5},{"$f":"IF(KCITempAct[[#This Row],[KCIAve]]<65,(65-KCITempAct[[#This Row],[KCIAve]]),0)","v":9.5},{"$f":"IF(MONTH(KCITempAct[[#This Row],[Date]])=7,0,IF(MONTH(KCITempAct[[#This Row],[Date]])=8,0,KCITempAct[[#This Row],[KCIHDD]]))","v":9.5},{"$f":"SUMPRODUCT((KCINHDD[Month]=MONTH(KCITempAct[[#This Row],[Date]]))*(KCINHDD[Day]=DAY(KCITempAct[[#This Row],[Date]]))*KCINHDD[KCINHDD])","v":25.116666666666667},{"$f":"IF(MONTH(KCITempAct[[#This Row],[Date]])=7,0,IF(MONTH(KCITempAct[[#This Row],[Date]])=8,0,KCITempAct[[#This Row],[KCINHDD]]))","v":25.116666666666667},"Adj HDD and NDD =0 for July and August"]
["2021-03-05",57,38,{"$f":"AVERAGE(KCITempAct[[#This Row],[KCIHigh]:[KCILow]]\n)","v":47.5},{"$f":"IF(KCITempAct[[#This Row],[KCIAve]]<65,(65-KCITempAct[[#This Row],[KCIAve]]),0)","v":17.5},{"$f":"IF(MONTH(KCITempAct[[#This Row],[Date]])=7,0,IF(MONTH(KCITempAct[[#This Row],[Date]])=8,0,KCITempAct[[#This Row],[KCIHDD]]))","v":17.5},{"$f":"SUMPRODUCT((KCINHDD[Month]=MONTH(KCITempAct[[#This Row],[Date]]))*(KCINHDD[Day]=DAY(KCITempAct[[#This Row],[Date]]))*KCINHDD[KCINHDD])","v":23.933333333333334},{"$f":"IF(MONTH(KCITempAct[[#This Row],[Date]])=7,0,IF(MONTH(KCITempAct[[#This Row],[Date]])=8,0,KCITempAct[[#This Row],[KCINHDD]]))","v":23.933333333333334},"Adj HDD and NDD =0 for July and August"]
["2021-03-06",67,31,{"$f":"AVERAGE(KCITempAct[[#This Row],[KCIHigh]:[KCILow]]\n)","v":49},{"$f":"IF(KCITempAct[[#This Row],[KCIAve]]<65,(65-KCITempAct[[#This Row],[KCIAve]]),0)","v":16},{"$f":"IF(MONTH(KCITempAct[[#This Row],[Date]])=7,0,IF(MONTH(KCITempAct[[#This Row],[Date]])=8,0,KCITempAct[[#This Row],[KCIHDD]]))","v":16},{"$f":"SUMPRODUCT((KCINHDD[Month]=MONTH(KCITempAct[[#This Row],[Date]]))*(KCINHDD[Day]=DAY(KCITempAct[[#This Row],[Date]]))*KCINHDD[KCINHDD])","v":22.666666666666668},{"$f":"IF(MONTH(KCITempAct[[#This Row],[Date]])=7,0,IF(MONTH(KCITempAct[[#This Row],[Date]])=8,0,KCITempAct[[#This Row],[KCINHDD]]))","v":22.666666666666668},"Adj HDD and NDD =0 for July and August"]
["2021-03-07",70,44,{"$f":"AVERAGE(KCITempAct[[#This Row],[KCIHigh]:[KCILow]]\n)","v":57},{"$f":"IF(KCITempAct[[#This Row],[KCIAve]]<65,(65-KCITempAct[[#This Row],[KCIAve]]),0)","v":8},{"$f":"IF(MONTH(KCITempAct[[#This Row],[Date]])=7,0,IF(MONTH(KCITempAct[[#This Row],[Date]])=8,0,KCITempAct[[#This Row],[KCIHDD]]))","v":8},{"$f":"SUMPRODUCT((KCINHDD[Month]=MONTH(KCITempAct[[#This Row],[Date]]))*(KCINHDD[Day]=DAY(KCITempAct[[#This Row],[Date]]))*KCINHDD[KCINHDD])","v":22.05},{"$f":"IF(MONTH(KCITempAct[[#This Row],[Date]])=7,0,IF(MONTH(KCITempAct[[#This Row],[Date]])=8,0,KCITempAct[[#This Row],[KCINHDD]]))","v":22.05},"Adj HDD and NDD =0 for July and August"]
["2021-03-08",73,48,{"$f":"AVERAGE(KCITempAct[[#This Row],[KCIHigh]:[KCILow]]\n)","v":60.5},{"$f":"IF(KCITempAct[[#This Row],[KCIAve]]<65,(65-KCITempAct[[#This Row],[KCIAve]]),0)","v":4.5},{"$f":"IF(MONTH(KCITempAct[[#This Row],[Date]])=7,0,IF(MONTH(KCITempAct[[#This Row],[Date]])=8,0,KCITempAct[[#This Row],[KCIHDD]]))","v":4.5},{"$f":"SUMPRODUCT((KCINHDD[Month]=MONTH(KCITempAct[[#This Row],[Date]]))*(KCINHDD[Day]=DAY(KCITempAct[[#This Row],[Date]]))*KCINHDD[KCINHDD])","v":22.65},{"$f":"IF(MONTH(KCITempAct[[#This Row],[Date]])=7,0,IF(MONTH(KCITempAct[[#This Row],[Date]])=8,0,KCITempAct[[#This Row],[KCINHDD]]))","v":22.65},"Adj HDD and NDD =0 for July and August"]
["2021-03-09",77,53,{"$f":"AVERAGE(KCITempAct[[#This Row],[KCIHigh]:[KCILow]]\n)","v":65},{"$f":"IF(KCITempAct[[#This Row],[KCIAve]]<65,(65-KCITempAct[[#This Row],[KCIAve]]),0)","v":0},{"$f":"IF(MONTH(KCITempAct[[#This Row],[Date]])=7,0,IF(MONTH(KCITempAct[[#This Row],[Date]])=8,0,KCITempAct[[#This Row],[KCIHDD]]))","v":0},{"$f":"SUMPRODUCT((KCINHDD[Month]=MONTH(KCITempAct[[#This Row],[Date]]))*(KCINHDD[Day]=DAY(KCITempAct[[#This Row],[Date]]))*KCINHDD[KCINHDD])","v":24.183333333333334},{"$f":"IF(MONTH(KCITempAct[[#This Row],[Date]])=7,0,IF(MONTH(KCITempAct[[#This Row],[Date]])=8,0,KCITempAct[[#This Row],[KCINHDD]]))","v":24.183333333333334},"Adj HDD and NDD =0 for July and August"]
["2021-03-10",76,46,{"$f":"AVERAGE(KCITempAct[[#This Row],[KCIHigh]:[KCILow]]\n)","v":61},{"$f":"IF(KCITempAct[[#This Row],[KCIAve]]<65,(65-KCITempAct[[#This Row],[KCIAve]]),0)","v":4},{"$f":"IF(MONTH(KCITempAct[[#This Row],[Date]])=7,0,IF(MONTH(KCITempAct[[#This Row],[Date]])=8,0,KCITempAct[[#This Row],[KCIHDD]]))","v":4},{"$f":"SUMPRODUCT((KCINHDD[Month]=MONTH(KCITempAct[[#This Row],[Date]]))*(KCINHDD[Day]=DAY(KCITempAct[[#This Row],[Date]]))*KCINHDD[KCINHDD])","v":23.583333333333332},{"$f":"IF(MONTH(KCITempAct[[#This Row],[Date]])=7,0,IF(MONTH(KCITempAct[[#This Row],[Date]])=8,0,KCITempAct[[#This Row],[KCINHDD]]))","v":23.583333333333332},"Adj HDD and NDD =0 for July and August"]
["2021-03-11",61,35,{"$f":"AVERAGE(KCITempAct[[#This Row],[KCIHigh]:[KCILow]]\n)","v":48},{"$f":"IF(KCITempAct[[#This Row],[KCIAve]]<65,(65-KCITempAct[[#This Row],[KCIAve]]),0)","v":17},{"$f":"IF(MONTH(KCITempAct[[#This Row],[Date]])=7,0,IF(MONTH(KCITempAct[[#This Row],[Date]])=8,0,KCITempAct[[#This Row],[KCIHDD]]))","v":17},{"$f":"SUMPRODUCT((KCINHDD[Month]=MONTH(KCITempAct[[#This Row],[Date]]))*(KCINHDD[Day]=DAY(KCITempAct[[#This Row],[Date]]))*KCINHDD[KCINHDD])","v":22.616666666666667},{"$f":"IF(MONTH(KCITempAct[[#This Row],[Date]])=7,0,IF(MONTH(KCITempAct[[#This Row],[Date]])=8,0,KCITempAct[[#This Row],[KCINHDD]]))","v":22.616666666666667},"Adj HDD and NDD =0 for July and August"]
["2021-03-12",50,42,{"$f":"AVERAGE(KCITempAct[[#This Row],[KCIHigh]:[KCILow]]\n)","v":46},{"$f":"IF(KCITempAct[[#This Row],[KCIAve]]<65,(65-KCITempAct[[#This Row],[KCIAve]]),0)","v":19},{"$f":"IF(MONTH(KCITempAct[[#This Row],[Date]])=7,0,IF(MONTH(KCITempAct[[#This Row],[Date]])=8,0,KCITempAct[[#This Row],[KCIHDD]]))","v":19},{"$f":"SUMPRODUCT((KCINHDD[Month]=MONTH(KCITempAct[[#This Row],[Date]]))*(KCINHDD[Day]=DAY(KCITempAct[[#This Row],[Date]]))*KCINHDD[KCINHDD])","v":20.350000000000001},{"$f":"IF(MONTH(KCITempAct[[#This Row],[Date]])=7,0,IF(MONTH(KCITempAct[[#This Row],[Date]])=8,0,KCITempAct[[#This Row],[KCINHDD]]))","v":20.350000000000001},"Adj HDD and NDD =0 for July and August"]
["2021-03-13",51,43,{"$f":"AVERAGE(KCITempAct[[#This Row],[KCIHigh]:[KCILow]]\n)","v":47},{"$f":"IF(KCITempAct[[#This Row],[KCIAve]]<65,(65-KCITempAct[[#This Row],[KCIAve]]),0)","v":18},{"$f":"IF(MONTH(KCITempAct[[#This Row],[Date]])=7,0,IF(MONTH(KCITempAct[[#This Row],[Date]])=8,0,KCITempAct[[#This Row],[KCIHDD]]))","v":18},{"$f":"SUMPRODUCT((KCINHDD[Month]=MONTH(KCITempAct[[#This Row],[Date]]))*(KCINHDD[Day]=DAY(KCITempAct[[#This Row],[Date]]))*KCINHDD[KCINHDD])","v":19.5},{"$f":"IF(MONTH(KCITempAct[[#This Row],[Date]])=7,0,IF(MONTH(KCITempAct[[#This Row],[Date]])=8,0,KCITempAct[[#This Row],[KCINHDD]]))","v":19.5},"Adj HDD and NDD =0 for July and August"]
["2021-03-14",51,44,{"$f":"AVERAGE(KCITempAct[[#This Row],[KCIHigh]:[KCILow]]\n)","v":47.5},{"$f":"IF(KCITempAct[[#This Row],[KCIAve]]<65,(65-KCITempAct[[#This Row],[KCIAve]]),0)","v":17.5},{"$f":"IF(MONTH(KCITempAct[[#This Row],[Date]])=7,0,IF(MONTH(KCITempAct[[#This Row],[Date]])=8,0,KCITempAct[[#This Row],[KCIHDD]]))","v":17.5},{"$f":"SUMPRODUCT((KCINHDD[Month]=MONTH(KCITempAct[[#This Row],[Date]]))*(KCINHDD[Day]=DAY(KCITempAct[[#This Row],[Date]]))*KCINHDD[KCINHDD])","v":18.45},{"$f":"IF(MONTH(KCITempAct[[#This Row],[Date]])=7,0,IF(MONTH(KCITempAct[[#This Row],[Date]])=8,0,KCITempAct[[#This Row],[KCINHDD]]))","v":18.45},"Adj HDD and NDD =0 for July and August"]
["2021-03-15",52,44,{"$f":"AVERAGE(KCITempAct[[#This Row],[KCIHigh]:[KCILow]]\n)","v":48},{"$f":"IF(KCITempAct[[#This Row],[KCIAve]]<65,(65-KCITempAct[[#This Row],[KCIAve]]),0)","v":17},{"$f":"IF(MONTH(KCITempAct[[#This Row],[Date]])=7,0,IF(MONTH(KCITempAct[[#This Row],[Date]])=8,0,KCITempAct[[#This Row],[KCIHDD]]))","v":17},{"$f":"SUMPRODUCT((KCINHDD[Month]=MONTH(KCITempAct[[#This Row],[Date]]))*(KCINHDD[Day]=DAY(KCITempAct[[#This Row],[Date]]))*KCINHDD[KCINHDD])","v":19.149999999999999},{"$f":"IF(MONTH(KCITempAct[[#This Row],[Date]])=7,0,IF(MONTH(KCITempAct[[#This Row],[Date]])=8,0,KCITempAct[[#This Row],[KCINHDD]]))","v":19.149999999999999},"Adj HDD and NDD =0 for July and August"]
["2021-03-16",50,42,{"$f":"AVERAGE(KCITempAct[[#This Row],[KCIHigh]:[KCILow]]\n)","v":46},{"$f":"IF(KCITempAct[[#This Row],[KCIAve]]<65,(65-KCITempAct[[#This Row],[KCIAve]]),0)","v":19},{"$f":"IF(MONTH(KCITempAct[[#This Row],[Date]])=7,0,IF(MONTH(KCITempAct[[#This Row],[Date]])=8,0,KCITempAct[[#This Row],[KCIHDD]]))","v":19},{"$f":"SUMPRODUCT((KCINHDD[Month]=MONTH(KCITempAct[[#This Row],[Date]]))*(KCINHDD[Day]=DAY(KCITempAct[[#This Row],[Date]]))*KCINHDD[KCINHDD])","v":19.316666666666666},{"$f":"IF(MONTH(KCITempAct[[#This Row],[Date]])=7,0,IF(MONTH(KCITempAct[[#This Row],[Date]])=8,0,KCITempAct[[#This Row],[KCINHDD]]))","v":19.316666666666666},"Adj HDD and NDD =0 for July and August"]
["2021-03-17",44,38,{"$f":"AVERAGE(KCITempAct[[#This Row],[KCIHigh]:[KCILow]]\n)","v":41},{"$f":"IF(KCITempAct[[#This Row],[KCIAve]]<65,(65-KCITempAct[[#This Row],[KCIAve]]),0)","v":24},{"$f":"IF(MONTH(KCITempAct[[#This Row],[Date]])=7,0,IF(MONTH(KCITempAct[[#This Row],[Date]])=8,0,KCITempAct[[#This Row],[KCIHDD]]))","v":24},{"$f":"SUMPRODUCT((KCINHDD[Month]=MONTH(KCITempAct[[#This Row],[Date]]))*(KCINHDD[Day]=DAY(KCITempAct[[#This Row],[Date]]))*KCINHDD[KCINHDD])","v":17.983333333333334},{"$f":"IF(MONTH(KCITempAct[[#This Row],[Date]])=7,0,IF(MONTH(KCITempAct[[#This Row],[Date]])=8,0,KCITempAct[[#This Row],[KCINHDD]]))","v":17.983333333333334},"Adj HDD and NDD =0 for July and August"]
["2021-03-18",49,36,{"$f":"AVERAGE(KCITempAct[[#This Row],[KCIHigh]:[KCILow]]\n)","v":42.5},{"$f":"IF(KCITempAct[[#This Row],[KCIAve]]<65,(65-KCITempAct[[#This Row],[KCIAve]]),0)","v":22.5},{"$f":"IF(MONTH(KCITempAct[[#This Row],[Date]])=7,0,IF(MONTH(KCITempAct[[#This Row],[Date]])=8,0,KCITempAct[[#This Row],[KCIHDD]]))","v":22.5},{"$f":"SUMPRODUCT((KCINHDD[Month]=MONTH(KCITempAct[[#This Row],[Date]]))*(KCINHDD[Day]=DAY(KCITempAct[[#This Row],[Date]]))*KCINHDD[KCINHDD])","v":18.883333333333333},{"$f":"IF(MONTH(KCITempAct[[#This Row],[Date]])=7,0,IF(MONTH(KCITempAct[[#This Row],[Date]])=8,0,KCITempAct[[#This Row],[KCINHDD]]))","v":18.883333333333333},"Adj HDD and NDD =0 for July and August"]
["2021-03-19",58,28,{"$f":"AVERAGE(KCITempAct[[#This Row],[KCIHigh]:[KCILow]]\n)","v":43},{"$f":"IF(KCITempAct[[#This Row],[KCIAve]]<65,(65-KCITempAct[[#This Row],[KCIAve]]),0)","v":22},{"$f":"IF(MONTH(KCITempAct[[#This Row],[Date]])=7,0,IF(MONTH(KCITempAct[[#This Row],[Date]])=8,0,KCITempAct[[#This Row],[KCIHDD]]))","v":22},{"$f":"SUMPRODUCT((KCINHDD[Month]=MONTH(KCITempAct[[#This Row],[Date]]))*(KCINHDD[Day]=DAY(KCITempAct[[#This Row],[Date]]))*KCINHDD[KCINHDD])","v":19.166666666666668},{"$f":"IF(MONTH(KCITempAct[[#This Row],[Date]])=7,0,IF(MONTH(KCITempAct[[#This Row],[Date]])=8,0,KCITempAct[[#This Row],[KCINHDD]]))","v":19.166666666666668},"Adj HDD and NDD =0 for July and August"]
["2021-03-20",63,32,{"$f":"AVERAGE(KCITempAct[[#This Row],[KCIHigh]:[KCILow]]\n)","v":47.5},{"$f":"IF(KCITempAct[[#This Row],[KCIAve]]<65,(65-KCITempAct[[#This Row],[KCIAve]]),0)","v":17.5},{"$f":"IF(MONTH(KCITempAct[[#This Row],[Date]])=7,0,IF(MONTH(KCITempAct[[#This Row],[Date]])=8,0,KCITempAct[[#This Row],[KCIHDD]]))","v":17.5},{"$f":"SUMPRODUCT((KCINHDD[Month]=MONTH(KCITempAct[[#This Row],[Date]]))*(KCINHDD[Day]=DAY(KCITempAct[[#This Row],[Date]]))*KCINHDD[KCINHDD])","v":18.8},{"$f":"IF(MONTH(KCITempAct[[#This Row],[Date]])=7,0,IF(MONTH(KCITempAct[[#This Row],[Date]])=8,0,KCITempAct[[#This Row],[KCINHDD]]))","v":18.8},"Adj HDD and NDD =0 for July and August"]
["2021-03-21",69,47,{"$f":"AVERAGE(KCITempAct[[#This Row],[KCIHigh]:[KCILow]]\n)","v":58},{"$f":"IF(KCITempAct[[#This Row],[KCIAve]]<65,(65-KCITempAct[[#This Row],[KCIAve]]),0)","v":7},{"$f":"IF(MONTH(KCITempAct[[#This Row],[Date]])=7,0,IF(MONTH(KCITempAct[[#This Row],[Date]])=8,0,KCITempAct[[#This Row],[KCIHDD]]))","v":7},{"$f":"SUMPRODUCT((KCINHDD[Month]=MONTH(KCITempAct[[#This Row],[Date]]))*(KCINHDD[Day]=DAY(KCITempAct[[#This Row],[Date]]))*KCINHDD[KCINHDD])","v":18.649999999999999},{"$f":"IF(MONTH(KCITempAct[[#This Row],[Date]])=7,0,IF(MONTH(KCITempAct[[#This Row],[Date]])=8,0,KCITempAct[[#This Row],[KCINHDD]]))","v":18.649999999999999},"Adj HDD and NDD =0 for July and August"]
["2021-03-22",66,52,{"$f":"AVERAGE(KCITempAct[[#This Row],[KCIHigh]:[KCILow]]\n)","v":59},{"$f":"IF(KCITempAct[[#This Row],[KCIAve]]<65,(65-KCITempAct[[#This Row],[KCIAve]]),0)","v":6},{"$f":"IF(MONTH(KCITempAct[[#This Row],[Date]])=7,0,IF(MONTH(KCITempAct[[#This Row],[Date]])=8,0,KCITempAct[[#This Row],[KCIHDD]]))","v":6},{"$f":"SUMPRODUCT((KCINHDD[Month]=MONTH(KCITempAct[[#This Row],[Date]]))*(KCINHDD[Day]=DAY(KCITempAct[[#This Row],[Date]]))*KCINHDD[KCINHDD])","v":17.616666666666667},{"$f":"IF(MONTH(KCITempAct[[#This Row],[Date]])=7,0,IF(MONTH(KCITempAct[[#This Row],[Date]])=8,0,KCITempAct[[#This Row],[KCINHDD]]))","v":17.616666666666667},"Adj HDD and NDD =0 for July and August"]
["2021-03-23",61,51,{"$f":"AVERAGE(KCITempAct[[#This Row],[KCIHigh]:[KCILow]]\n)","v":56},{"$f":"IF(KCITempAct[[#This Row],[KCIAve]]<65,(65-KCITempAct[[#This Row],[KCIAve]]),0)","v":9},{"$f":"IF(MONTH(KCITempAct[[#This Row],[Date]])=7,0,IF(MONTH(KCITempAct[[#This Row],[Date]])=8,0,KCITempAct[[#This Row],[KCIHDD]]))","v":9},{"$f":"SUMPRODUCT((KCINHDD[Month]=MONTH(KCITempAct[[#This Row],[Date]]))*(KCINHDD[Day]=DAY(KCITempAct[[#This Row],[Date]]))*KCINHDD[KCINHDD])","v":15.4},{"$f":"IF(MONTH(KCITempAct[[#This Row],[Date]])=7,0,IF(MONTH(KCITempAct[[#This Row],[Date]])=8,0,KCITempAct[[#This Row],[KCINHDD]]))","v":15.4},"Adj HDD and NDD =0 for July and August"]
["2021-03-24",52,44,{"$f":"AVERAGE(KCITempAct[[#This Row],[KCIHigh]:[KCILow]]\n)","v":48},{"$f":"IF(KCITempAct[[#This Row],[KCIAve]]<65,(65-KCITempAct[[#This Row],[KCIAve]]),0)","v":17},{"$f":"IF(MONTH(KCITempAct[[#This Row],[Date]])=7,0,IF(MONTH(KCITempAct[[#This Row],[Date]])=8,0,KCITempAct[[#This Row],[KCIHDD]]))","v":17},{"$f":"SUMPRODUCT((KCINHDD[Month]=MONTH(KCITempAct[[#This Row],[Date]]))*(KCINHDD[Day]=DAY(KCITempAct[[#This Row],[Date]]))*KCINHDD[KCINHDD])","v":18.216666666666665},{"$f":"IF(MONTH(KCITempAct[[#This Row],[Date]])=7,0,IF(MONTH(KCITempAct[[#This Row],[Date]])=8,0,KCITempAct[[#This Row],[KCINHDD]]))","v":18.216666666666665},"Adj HDD and NDD =0 for July and August"]
["2021-03-25",46,41,{"$f":"AVERAGE(KCITempAct[[#This Row],[KCIHigh]:[KCILow]]\n)","v":43.5},{"$f":"IF(KCITempAct[[#This Row],[KCIAve]]<65,(65-KCITempAct[[#This Row],[KCIAve]]),0)","v":21.5},{"$f":"IF(MONTH(KCITempAct[[#This Row],[Date]])=7,0,IF(MONTH(KCITempAct[[#This Row],[Date]])=8,0,KCITempAct[[#This Row],[KCIHDD]]))","v":21.5},{"$f":"SUMPRODUCT((KCINHDD[Month]=MONTH(KCITempAct[[#This Row],[Date]]))*(KCINHDD[Day]=DAY(KCITempAct[[#This Row],[Date]]))*KCINHDD[KCINHDD])","v":19.916666666666668},{"$f":"IF(MONTH(KCITempAct[[#This Row],[Date]])=7,0,IF(MONTH(KCITempAct[[#This Row],[Date]])=8,0,KCITempAct[[#This Row],[KCINHDD]]))","v":19.916666666666668},"Adj HDD and NDD =0 for July and August"]
["2021-03-26",63,35,{"$f":"AVERAGE(KCITempAct[[#This Row],[KCIHigh]:[KCILow]]\n)","v":49},{"$f":"IF(KCITempAct[[#This Row],[KCIAve]]<65,(65-KCITempAct[[#This Row],[KCIAve]]),0)","v":16},{"$f":"IF(MONTH(KCITempAct[[#This Row],[Date]])=7,0,IF(MONTH(KCITempAct[[#This Row],[Date]])=8,0,KCITempAct[[#This Row],[KCIHDD]]))","v":16},{"$f":"SUMPRODUCT((KCINHDD[Month]=MONTH(KCITempAct[[#This Row],[Date]]))*(KCINHDD[Day]=DAY(KCITempAct[[#This Row],[Date]]))*KCINHDD[KCINHDD])","v":17.866666666666667},{"$f":"IF(MONTH(KCITempAct[[#This Row],[Date]])=7,0,IF(MONTH(KCITempAct[[#This Row],[Date]])=8,0,KCITempAct[[#This Row],[KCINHDD]]))","v":17.866666666666667},"Adj HDD and NDD =0 for July and August"]
["2021-03-27",60,45,{"$f":"AVERAGE(KCITempAct[[#This Row],[KCIHigh]:[KCILow]]\n)","v":52.5},{"$f":"IF(KCITempAct[[#This Row],[KCIAve]]<65,(65-KCITempAct[[#This Row],[KCIAve]]),0)","v":12.5},{"$f":"IF(MONTH(KCITempAct[[#This Row],[Date]])=7,0,IF(MONTH(KCITempAct[[#This Row],[Date]])=8,0,KCITempAct[[#This Row],[KCIHDD]]))","v":12.5},{"$f":"SUMPRODUCT((KCINHDD[Month]=MONTH(KCITempAct[[#This Row],[Date]]))*(KCINHDD[Day]=DAY(KCITempAct[[#This Row],[Date]]))*KCINHDD[KCINHDD])","v":17.266666666666666},{"$f":"IF(MONTH(KCITempAct[[#This Row],[Date]])=7,0,IF(MONTH(KCITempAct[[#This Row],[Date]])=8,0,KCITempAct[[#This Row],[KCINHDD]]))","v":17.266666666666666},"Adj HDD and NDD =0 for July and August"]
["2021-03-28",60,35,{"$f":"AVERAGE(KCITempAct[[#This Row],[KCIHigh]:[KCILow]]\n)","v":47.5},{"$f":"IF(KCITempAct[[#This Row],[KCIAve]]<65,(65-KCITempAct[[#This Row],[KCIAve]]),0)","v":17.5},{"$f":"IF(MONTH(KCITempAct[[#This Row],[Date]])=7,0,IF(MONTH(KCITempAct[[#This Row],[Date]])=8,0,KCITempAct[[#This Row],[KCIHDD]]))","v":17.5},{"$f":"SUMPRODUCT((KCINHDD[Month]=MONTH(KCITempAct[[#This Row],[Date]]))*(KCINHDD[Day]=DAY(KCITempAct[[#This Row],[Date]]))*KCINHDD[KCINHDD])","v":16.716666666666665},{"$f":"IF(MONTH(KCITempAct[[#This Row],[Date]])=7,0,IF(MONTH(KCITempAct[[#This Row],[Date]])=8,0,KCITempAct[[#This Row],[KCINHDD]]))","v":16.716666666666665},"Adj HDD and NDD =0 for July and August"]
["2021-03-29",77,48,{"$f":"AVERAGE(KCITempAct[[#This Row],[KCIHigh]:[KCILow]]\n)","v":62.5},{"$f":"IF(KCITempAct[[#This Row],[KCIAve]]<65,(65-KCITempAct[[#This Row],[KCIAve]]),0)","v":2.5},{"$f":"IF(MONTH(KCITempAct[[#This Row],[Date]])=7,0,IF(MONTH(KCITempAct[[#This Row],[Date]])=8,0,KCITempAct[[#This Row],[KCIHDD]]))","v":2.5},{"$f":"SUMPRODUCT((KCINHDD[Month]=MONTH(KCITempAct[[#This Row],[Date]]))*(KCINHDD[Day]=DAY(KCITempAct[[#This Row],[Date]]))*KCINHDD[KCINHDD])","v":14.566666666666666},{"$f":"IF(MONTH(KCITempAct[[#This Row],[Date]])=7,0,IF(MONTH(KCITempAct[[#This Row],[Date]])=8,0,KCITempAct[[#This Row],[KCINHDD]]))","v":14.566666666666666},"Adj HDD and NDD =0 for July and August"]
["2021-03-30",63,41,{"$f":"AVERAGE(KCITempAct[[#This Row],[KCIHigh]:[KCILow]]\n)","v":52},{"$f":"IF(KCITempAct[[#This Row],[KCIAve]]<65,(65-KCITempAct[[#This Row],[KCIAve]]),0)","v":13},{"$f":"IF(MONTH(KCITempAct[[#This Row],[Date]])=7,0,IF(MONTH(KCITempAct[[#This Row],[Date]])=8,0,KCITempAct[[#This Row],[KCIHDD]]))","v":13},{"$f":"SUMPRODUCT((KCINHDD[Month]=MONTH(KCITempAct[[#This Row],[Date]]))*(KCINHDD[Day]=DAY(KCITempAct[[#This Row],[Date]]))*KCINHDD[KCINHDD])","v":13.9},{"$f":"IF(MONTH(KCITempAct[[#This Row],[Date]])=7,0,IF(MONTH(KCITempAct[[#This Row],[Date]])=8,0,KCITempAct[[#This Row],[KCINHDD]]))","v":13.9},"Adj HDD and NDD =0 for July and August"]
["2021-03-31",53,31,{"$f":"AVERAGE(KCITempAct[[#This Row],[KCIHigh]:[KCILow]]\n)","v":42},{"$f":"IF(KCITempAct[[#This Row],[KCIAve]]<65,(65-KCITempAct[[#This Row],[KCIAve]]),0)","v":23},{"$f":"IF(MONTH(KCITempAct[[#This Row],[Date]])=7,0,IF(MONTH(KCITempAct[[#This Row],[Date]])=8,0,KCITempAct[[#This Row],[KCIHDD]]))","v":23},{"$f":"SUMPRODUCT((KCINHDD[Month]=MONTH(KCITempAct[[#This Row],[Date]]))*(KCINHDD[Day]=DAY(KCITempAct[[#This Row],[Date]]))*KCINHDD[KCINHDD])","v":15.366666666666667},{"$f":"IF(MONTH(KCITempAct[[#This Row],[Date]])=7,0,IF(MONTH(KCITempAct[[#This Row],[Date]])=8,0,KCITempAct[[#This Row],[KCINHDD]]))","v":15.366666666666667},"Adj HDD and NDD =0 for July and August"]
["2021-04-01",53,26,{"$f":"AVERAGE(KCITempAct[[#This Row],[KCIHigh]:[KCILow]]\n)","v":39.5},{"$f":"IF(KCITempAct[[#This Row],[KCIAve]]<65,(65-KCITempAct[[#This Row],[KCIAve]]),0)","v":25.5},{"$f":"IF(MONTH(KCITempAct[[#This Row],[Date]])=7,0,IF(MONTH(KCITempAct[[#This Row],[Date]])=8,0,KCITempAct[[#This Row],[KCIHDD]]))","v":25.5},{"$f":"SUMPRODUCT((KCINHDD[Month]=MONTH(KCITempAct[[#This Row],[Date]]))*(KCINHDD[Day]=DAY(KCITempAct[[#This Row],[Date]]))*KCINHDD[KCINHDD])","v":16.066666666666666},{"$f":"IF(MONTH(KCITempAct[[#This Row],[Date]])=7,0,IF(MONTH(KCITempAct[[#This Row],[Date]])=8,0,KCITempAct[[#This Row],[KCINHDD]]))","v":16.066666666666666},"Adj HDD and NDD =0 for July and August"]
["2021-04-02",70,37,{"$f":"AVERAGE(KCITempAct[[#This Row],[KCIHigh]:[KCILow]]\n)","v":53.5},{"$f":"IF(KCITempAct[[#This Row],[KCIAve]]<65,(65-KCITempAct[[#This Row],[KCIAve]]),0)","v":11.5},{"$f":"IF(MONTH(KCITempAct[[#This Row],[Date]])=7,0,IF(MONTH(KCITempAct[[#This Row],[Date]])=8,0,KCITempAct[[#This Row],[KCIHDD]]))","v":11.5},{"$f":"SUMPRODUCT((KCINHDD[Month]=MONTH(KCITempAct[[#This Row],[Date]]))*(KCINHDD[Day]=DAY(KCITempAct[[#This Row],[Date]]))*KCINHDD[KCINHDD])","v":13.633333333333333},{"$f":"IF(MONTH(KCITempAct[[#This Row],[Date]])=7,0,IF(MONTH(KCITempAct[[#This Row],[Date]])=8,0,KCITempAct[[#This Row],[KCINHDD]]))","v":13.633333333333333},"Adj HDD and NDD =0 for July and August"]
["2021-04-03",75,48,{"$f":"AVERAGE(KCITempAct[[#This Row],[KCIHigh]:[KCILow]]\n)","v":61.5},{"$f":"IF(KCITempAct[[#This Row],[KCIAve]]<65,(65-KCITempAct[[#This Row],[KCIAve]]),0)","v":3.5},{"$f":"IF(MONTH(KCITempAct[[#This Row],[Date]])=7,0,IF(MONTH(KCITempAct[[#This Row],[Date]])=8,0,KCITempAct[[#This Row],[KCIHDD]]))","v":3.5},{"$f":"SUMPRODUCT((KCINHDD[Month]=MONTH(KCITempAct[[#This Row],[Date]]))*(KCINHDD[Day]=DAY(KCITempAct[[#This Row],[Date]]))*KCINHDD[KCINHDD])","v":14},{"$f":"IF(MONTH(KCITempAct[[#This Row],[Date]])=7,0,IF(MONTH(KCITempAct[[#This Row],[Date]])=8,0,KCITempAct[[#This Row],[KCINHDD]]))","v":14},"Adj HDD and NDD =0 for July and August"]
["2021-04-04",82,48,{"$f":"AVERAGE(KCITempAct[[#This Row],[KCIHigh]:[KCILow]]\n)","v":65},{"$f":"IF(KCITempAct[[#This Row],[KCIAve]]<65,(65-KCITempAct[[#This Row],[KCIAve]]),0)","v":0},{"$f":"IF(MONTH(KCITempAct[[#This Row],[Date]])=7,0,IF(MONTH(KCITempAct[[#This Row],[Date]])=8,0,KCITempAct[[#This Row],[KCIHDD]]))","v":0},{"$f":"SUMPRODUCT((KCINHDD[Month]=MONTH(KCITempAct[[#This Row],[Date]]))*(KCINHDD[Day]=DAY(KCITempAct[[#This Row],[Date]]))*KCINHDD[KCINHDD])","v":15.95},{"$f":"IF(MONTH(KCITempAct[[#This Row],[Date]])=7,0,IF(MONTH(KCITempAct[[#This Row],[Date]])=8,0,KCITempAct[[#This Row],[KCINHDD]]))","v":15.95},"Adj HDD and NDD =0 for July and August"]
["2021-04-05",80,55,{"$f":"AVERAGE(KCITempAct[[#This Row],[KCIHigh]:[KCILow]]\n)","v":67.5},{"$f":"IF(KCITempAct[[#This Row],[KCIAve]]<65,(65-KCITempAct[[#This Row],[KCIAve]]),0)","v":0},{"$f":"IF(MONTH(KCITempAct[[#This Row],[Date]])=7,0,IF(MONTH(KCITempAct[[#This Row],[Date]])=8,0,KCITempAct[[#This Row],[KCIHDD]]))","v":0},{"$f":"SUMPRODUCT((KCINHDD[Month]=MONTH(KCITempAct[[#This Row],[Date]]))*(KCINHDD[Day]=DAY(KCITempAct[[#This Row],[Date]]))*KCINHDD[KCINHDD])","v":13.583333333333334},{"$f":"IF(MONTH(KCITempAct[[#This Row],[Date]])=7,0,IF(MONTH(KCITempAct[[#This Row],[Date]])=8,0,KCITempAct[[#This Row],[KCINHDD]]))","v":13.583333333333334},"Adj HDD and NDD =0 for July and August"]
["2021-04-06",79,62,{"$f":"AVERAGE(KCITempAct[[#This Row],[KCIHigh]:[KCILow]]\n)","v":70.5},{"$f":"IF(KCITempAct[[#This Row],[KCIAve]]<65,(65-KCITempAct[[#This Row],[KCIAve]]),0)","v":0},{"$f":"IF(MONTH(KCITempAct[[#This Row],[Date]])=7,0,IF(MONTH(KCITempAct[[#This Row],[Date]])=8,0,KCITempAct[[#This Row],[KCIHDD]]))","v":0},{"$f":"SUMPRODUCT((KCINHDD[Month]=MONTH(KCITempAct[[#This Row],[Date]]))*(KCINHDD[Day]=DAY(KCITempAct[[#This Row],[Date]]))*KCINHDD[KCINHDD])","v":11.633333333333333},{"$f":"IF(MONTH(KCITempAct[[#This Row],[Date]])=7,0,IF(MONTH(KCITempAct[[#This Row],[Date]])=8,0,KCITempAct[[#This Row],[KCINHDD]]))","v":11.633333333333333},"Adj HDD and NDD =0 for July and August"]
["2021-04-07",71,48,{"$f":"AVERAGE(KCITempAct[[#This Row],[KCIHigh]:[KCILow]]\n)","v":59.5},{"$f":"IF(KCITempAct[[#This Row],[KCIAve]]<65,(65-KCITempAct[[#This Row],[KCIAve]]),0)","v":5.5},{"$f":"IF(MONTH(KCITempAct[[#This Row],[Date]])=7,0,IF(MONTH(KCITempAct[[#This Row],[Date]])=8,0,KCITempAct[[#This Row],[KCIHDD]]))","v":5.5},{"$f":"SUMPRODUCT((KCINHDD[Month]=MONTH(KCITempAct[[#This Row],[Date]]))*(KCINHDD[Day]=DAY(KCITempAct[[#This Row],[Date]]))*KCINHDD[KCINHDD])","v":13.083333333333334},{"$f":"IF(MONTH(KCITempAct[[#This Row],[Date]])=7,0,IF(MONTH(KCITempAct[[#This Row],[Date]])=8,0,KCITempAct[[#This Row],[KCINHDD]]))","v":13.083333333333334},"Adj HDD and NDD =0 for July and August"]
["2021-04-08",53,47,{"$f":"AVERAGE(KCITempAct[[#This Row],[KCIHigh]:[KCILow]]\n)","v":50},{"$f":"IF(KCITempAct[[#This Row],[KCIAve]]<65,(65-KCITempAct[[#This Row],[KCIAve]]),0)","v":15},{"$f":"IF(MONTH(KCITempAct[[#This Row],[Date]])=7,0,IF(MONTH(KCITempAct[[#This Row],[Date]])=8,0,KCITempAct[[#This Row],[KCIHDD]]))","v":15},{"$f":"SUMPRODUCT((KCINHDD[Month]=MONTH(KCITempAct[[#This Row],[Date]]))*(KCINHDD[Day]=DAY(KCITempAct[[#This Row],[Date]]))*KCINHDD[KCINHDD])","v":13.666666666666666},{"$f":"IF(MONTH(KCITempAct[[#This Row],[Date]])=7,0,IF(MONTH(KCITempAct[[#This Row],[Date]])=8,0,KCITempAct[[#This Row],[KCINHDD]]))","v":13.666666666666666},"Adj HDD and NDD =0 for July and August"]
["2021-04-09",73,41,{"$f":"AVERAGE(KCITempAct[[#This Row],[KCIHigh]:[KCILow]]\n)","v":57},{"$f":"IF(KCITempAct[[#This Row],[KCIAve]]<65,(65-KCITempAct[[#This Row],[KCIAve]]),0)","v":8},{"$f":"IF(MONTH(KCITempAct[[#This Row],[Date]])=7,0,IF(MONTH(KCITempAct[[#This Row],[Date]])=8,0,KCITempAct[[#This Row],[KCIHDD]]))","v":8},{"$f":"SUMPRODUCT((KCINHDD[Month]=MONTH(KCITempAct[[#This Row],[Date]]))*(KCINHDD[Day]=DAY(KCITempAct[[#This Row],[Date]]))*KCINHDD[KCINHDD])","v":13.05},{"$f":"IF(MONTH(KCITempAct[[#This Row],[Date]])=7,0,IF(MONTH(KCITempAct[[#This Row],[Date]])=8,0,KCITempAct[[#This Row],[KCINHDD]]))","v":13.05},"Adj HDD and NDD =0 for July and August"]
["2021-04-10",60,45,{"$f":"AVERAGE(KCITempAct[[#This Row],[KCIHigh]:[KCILow]]\n)","v":52.5},{"$f":"IF(KCITempAct[[#This Row],[KCIAve]]<65,(65-KCITempAct[[#This Row],[KCIAve]]),0)","v":12.5},{"$f":"IF(MONTH(KCITempAct[[#This Row],[Date]])=7,0,IF(MONTH(KCITempAct[[#This Row],[Date]])=8,0,KCITempAct[[#This Row],[KCIHDD]]))","v":12.5},{"$f":"SUMPRODUCT((KCINHDD[Month]=MONTH(KCITempAct[[#This Row],[Date]]))*(KCINHDD[Day]=DAY(KCITempAct[[#This Row],[Date]]))*KCINHDD[KCINHDD])","v":11.066666666666666},{"$f":"IF(MONTH(KCITempAct[[#This Row],[Date]])=7,0,IF(MONTH(KCITempAct[[#This Row],[Date]])=8,0,KCITempAct[[#This Row],[KCINHDD]]))","v":11.066666666666666},"Adj HDD and NDD =0 for July and August"]
["2021-04-11",76,40,{"$f":"AVERAGE(KCITempAct[[#This Row],[KCIHigh]:[KCILow]]\n)","v":58},{"$f":"IF(KCITempAct[[#This Row],[KCIAve]]<65,(65-KCITempAct[[#This Row],[KCIAve]]),0)","v":7},{"$f":"IF(MONTH(KCITempAct[[#This Row],[Date]])=7,0,IF(MONTH(KCITempAct[[#This Row],[Date]])=8,0,KCITempAct[[#This Row],[KCIHDD]]))","v":7},{"$f":"SUMPRODUCT((KCINHDD[Month]=MONTH(KCITempAct[[#This Row],[Date]]))*(KCINHDD[Day]=DAY(KCITempAct[[#This Row],[Date]]))*KCINHDD[KCINHDD])","v":12.016666666666667},{"$f":"IF(MONTH(KCITempAct[[#This Row],[Date]])=7,0,IF(MONTH(KCITempAct[[#This Row],[Date]])=8,0,KCITempAct[[#This Row],[KCINHDD]]))","v":12.016666666666667},"Adj HDD and NDD =0 for July and August"]
["2021-04-12",62,45,{"$f":"AVERAGE(KCITempAct[[#This Row],[KCIHigh]:[KCILow]]\n)","v":53.5},{"$f":"IF(KCITempAct[[#This Row],[KCIAve]]<65,(65-KCITempAct[[#This Row],[KCIAve]]),0)","v":11.5},{"$f":"IF(MONTH(KCITempAct[[#This Row],[Date]])=7,0,IF(MONTH(KCITempAct[[#This Row],[Date]])=8,0,KCITempAct[[#This Row],[KCIHDD]]))","v":11.5},{"$f":"SUMPRODUCT((KCINHDD[Month]=MONTH(KCITempAct[[#This Row],[Date]]))*(KCINHDD[Day]=DAY(KCITempAct[[#This Row],[Date]]))*KCINHDD[KCINHDD])","v":13.85},{"$f":"IF(MONTH(KCITempAct[[#This Row],[Date]])=7,0,IF(MONTH(KCITempAct[[#This Row],[Date]])=8,0,KCITempAct[[#This Row],[KCINHDD]]))","v":13.85},"Adj HDD and NDD =0 for July and August"]
["2021-04-13",62,39,{"$f":"AVERAGE(KCITempAct[[#This Row],[KCIHigh]:[KCILow]]\n)","v":50.5},{"$f":"IF(KCITempAct[[#This Row],[KCIAve]]<65,(65-KCITempAct[[#This Row],[KCIAve]]),0)","v":14.5},{"$f":"IF(MONTH(KCITempAct[[#This Row],[Date]])=7,0,IF(MONTH(KCITempAct[[#This Row],[Date]])=8,0,KCITempAct[[#This Row],[KCIHDD]]))","v":14.5},{"$f":"SUMPRODUCT((KCINHDD[Month]=MONTH(KCITempAct[[#This Row],[Date]]))*(KCINHDD[Day]=DAY(KCITempAct[[#This Row],[Date]]))*KCINHDD[KCINHDD])","v":12.1},{"$f":"IF(MONTH(KCITempAct[[#This Row],[Date]])=7,0,IF(MONTH(KCITempAct[[#This Row],[Date]])=8,0,KCITempAct[[#This Row],[KCINHDD]]))","v":12.1},"Adj HDD and NDD =0 for July and August"]
["2021-04-14",59,36,{"$f":"AVERAGE(KCITempAct[[#This Row],[KCIHigh]:[KCILow]]\n)","v":47.5},{"$f":"IF(KCITempAct[[#This Row],[KCIAve]]<65,(65-KCITempAct[[#This Row],[KCIAve]]),0)","v":17.5},{"$f":"IF(MONTH(KCITempAct[[#This Row],[Date]])=7,0,IF(MONTH(KCITempAct[[#This Row],[Date]])=8,0,KCITempAct[[#This Row],[KCIHDD]]))","v":17.5},{"$f":"SUMPRODUCT((KCINHDD[Month]=MONTH(KCITempAct[[#This Row],[Date]]))*(KCINHDD[Day]=DAY(KCITempAct[[#This Row],[Date]]))*KCINHDD[KCINHDD])","v":10.199999999999999},{"$f":"IF(MONTH(KCITempAct[[#This Row],[Date]])=7,0,IF(MONTH(KCITempAct[[#This Row],[Date]])=8,0,KCITempAct[[#This Row],[KCINHDD]]))","v":10.199999999999999},"Adj HDD and NDD =0 for July and August"]
["2021-04-15",60,33,{"$f":"AVERAGE(KCITempAct[[#This Row],[KCIHigh]:[KCILow]]\n)","v":46.5},{"$f":"IF(KCITempAct[[#This Row],[KCIAve]]<65,(65-KCITempAct[[#This Row],[KCIAve]]),0)","v":18.5},{"$f":"IF(MONTH(KCITempAct[[#This Row],[Date]])=7,0,IF(MONTH(KCITempAct[[#This Row],[Date]])=8,0,KCITempAct[[#This Row],[KCIHDD]]))","v":18.5},{"$f":"SUMPRODUCT((KCINHDD[Month]=MONTH(KCITempAct[[#This Row],[Date]]))*(KCINHDD[Day]=DAY(KCITempAct[[#This Row],[Date]]))*KCINHDD[KCINHDD])","v":10.533333333333333},{"$f":"IF(MONTH(KCITempAct[[#This Row],[Date]])=7,0,IF(MONTH(KCITempAct[[#This Row],[Date]])=8,0,KCITempAct[[#This Row],[KCINHDD]]))","v":10.533333333333333},"Adj HDD and NDD =0 for July and August"]
["2021-04-16",52,43,{"$f":"AVERAGE(KCITempAct[[#This Row],[KCIHigh]:[KCILow]]\n)","v":47.5},{"$f":"IF(KCITempAct[[#This Row],[KCIAve]]<65,(65-KCITempAct[[#This Row],[KCIAve]]),0)","v":17.5},{"$f":"IF(MONTH(KCITempAct[[#This Row],[Date]])=7,0,IF(MONTH(KCITempAct[[#This Row],[Date]])=8,0,KCITempAct[[#This Row],[KCIHDD]]))","v":17.5},{"$f":"SUMPRODUCT((KCINHDD[Month]=MONTH(KCITempAct[[#This Row],[Date]]))*(KCINHDD[Day]=DAY(KCITempAct[[#This Row],[Date]]))*KCINHDD[KCINHDD])","v":10.483333333333333},{"$f":"IF(MONTH(KCITempAct[[#This Row],[Date]])=7,0,IF(MONTH(KCITempAct[[#This Row],[Date]])=8,0,KCITempAct[[#This Row],[KCINHDD]]))","v":10.483333333333333},"Adj HDD and NDD =0 for July and August"]
["2021-04-17",60,42,{"$f":"AVERAGE(KCITempAct[[#This Row],[KCIHigh]:[KCILow]]\n)","v":51},{"$f":"IF(KCITempAct[[#This Row],[KCIAve]]<65,(65-KCITempAct[[#This Row],[KCIAve]]),0)","v":14},{"$f":"IF(MONTH(KCITempAct[[#This Row],[Date]])=7,0,IF(MONTH(KCITempAct[[#This Row],[Date]])=8,0,KCITempAct[[#This Row],[KCIHDD]]))","v":14},{"$f":"SUMPRODUCT((KCINHDD[Month]=MONTH(KCITempAct[[#This Row],[Date]]))*(KCINHDD[Day]=DAY(KCITempAct[[#This Row],[Date]]))*KCINHDD[KCINHDD])","v":10.5},{"$f":"IF(MONTH(KCITempAct[[#This Row],[Date]])=7,0,IF(MONTH(KCITempAct[[#This Row],[Date]])=8,0,KCITempAct[[#This Row],[KCINHDD]]))","v":10.5},"Adj HDD and NDD =0 for July and August"]
["2021-04-18",62,41,{"$f":"AVERAGE(KCITempAct[[#This Row],[KCIHigh]:[KCILow]]\n)","v":51.5},{"$f":"IF(KCITempAct[[#This Row],[KCIAve]]<65,(65-KCITempAct[[#This Row],[KCIAve]]),0)","v":13.5},{"$f":"IF(MONTH(KCITempAct[[#This Row],[Date]])=7,0,IF(MONTH(KCITempAct[[#This Row],[Date]])=8,0,KCITempAct[[#This Row],[KCIHDD]]))","v":13.5},{"$f":"SUMPRODUCT((KCINHDD[Month]=MONTH(KCITempAct[[#This Row],[Date]]))*(KCINHDD[Day]=DAY(KCITempAct[[#This Row],[Date]]))*KCINHDD[KCINHDD])","v":7.9833333333333334},{"$f":"IF(MONTH(KCITempAct[[#This Row],[Date]])=7,0,IF(MONTH(KCITempAct[[#This Row],[Date]])=8,0,KCITempAct[[#This Row],[KCINHDD]]))","v":7.9833333333333334},"Adj HDD and NDD =0 for July and August"]
["2021-04-19",54,33,{"$f":"AVERAGE(KCITempAct[[#This Row],[KCIHigh]:[KCILow]]\n)","v":43.5},{"$f":"IF(KCITempAct[[#This Row],[KCIAve]]<65,(65-KCITempAct[[#This Row],[KCIAve]]),0)","v":21.5},{"$f":"IF(MONTH(KCITempAct[[#This Row],[Date]])=7,0,IF(MONTH(KCITempAct[[#This Row],[Date]])=8,0,KCITempAct[[#This Row],[KCIHDD]]))","v":21.5},{"$f":"SUMPRODUCT((KCINHDD[Month]=MONTH(KCITempAct[[#This Row],[Date]]))*(KCINHDD[Day]=DAY(KCITempAct[[#This Row],[Date]]))*KCINHDD[KCINHDD])","v":8.1166666666666671},{"$f":"IF(MONTH(KCITempAct[[#This Row],[Date]])=7,0,IF(MONTH(KCITempAct[[#This Row],[Date]])=8,0,KCITempAct[[#This Row],[KCINHDD]]))","v":8.1166666666666671},"Adj HDD and NDD =0 for July and August"]
["2021-04-20",46,33,{"$f":"AVERAGE(KCITempAct[[#This Row],[KCIHigh]:[KCILow]]\n)","v":39.5},{"$f":"IF(KCITempAct[[#This Row],[KCIAve]]<65,(65-KCITempAct[[#This Row],[KCIAve]]),0)","v":25.5},{"$f":"IF(MONTH(KCITempAct[[#This Row],[Date]])=7,0,IF(MONTH(KCITempAct[[#This Row],[Date]])=8,0,KCITempAct[[#This Row],[KCIHDD]]))","v":25.5},{"$f":"SUMPRODUCT((KCINHDD[Month]=MONTH(KCITempAct[[#This Row],[Date]]))*(KCINHDD[Day]=DAY(KCITempAct[[#This Row],[Date]]))*KCINHDD[KCINHDD])","v":9.6999999999999993},{"$f":"IF(MONTH(KCITempAct[[#This Row],[Date]])=7,0,IF(MONTH(KCITempAct[[#This Row],[Date]])=8,0,KCITempAct[[#This Row],[KCINHDD]]))","v":9.6999999999999993},"Adj HDD and NDD =0 for July and August"]
["2021-04-21",49,32,{"$f":"AVERAGE(KCITempAct[[#This Row],[KCIHigh]:[KCILow]]\n)","v":40.5},{"$f":"IF(KCITempAct[[#This Row],[KCIAve]]<65,(65-KCITempAct[[#This Row],[KCIAve]]),0)","v":24.5},{"$f":"IF(MONTH(KCITempAct[[#This Row],[Date]])=7,0,IF(MONTH(KCITempAct[[#This Row],[Date]])=8,0,KCITempAct[[#This Row],[KCIHDD]]))","v":24.5},{"$f":"SUMPRODUCT((KCINHDD[Month]=MONTH(KCITempAct[[#This Row],[Date]]))*(KCINHDD[Day]=DAY(KCITempAct[[#This Row],[Date]]))*KCINHDD[KCINHDD])","v":9.3666666666666671},{"$f":"IF(MONTH(KCITempAct[[#This Row],[Date]])=7,0,IF(MONTH(KCITempAct[[#This Row],[Date]])=8,0,KCITempAct[[#This Row],[KCINHDD]]))","v":9.3666666666666671},"Adj HDD and NDD =0 for July and August"]
["2021-04-22",60,30,{"$f":"AVERAGE(KCITempAct[[#This Row],[KCIHigh]:[KCILow]]\n)","v":45},{"$f":"IF(KCITempAct[[#This Row],[KCIAve]]<65,(65-KCITempAct[[#This Row],[KCIAve]]),0)","v":20},{"$f":"IF(MONTH(KCITempAct[[#This Row],[Date]])=7,0,IF(MONTH(KCITempAct[[#This Row],[Date]])=8,0,KCITempAct[[#This Row],[KCIHDD]]))","v":20},{"$f":"SUMPRODUCT((KCINHDD[Month]=MONTH(KCITempAct[[#This Row],[Date]]))*(KCINHDD[Day]=DAY(KCITempAct[[#This Row],[Date]]))*KCINHDD[KCINHDD])","v":9.4},{"$f":"IF(MONTH(KCITempAct[[#This Row],[Date]])=7,0,IF(MONTH(KCITempAct[[#This Row],[Date]])=8,0,KCITempAct[[#This Row],[KCINHDD]]))","v":9.4},"Adj HDD and NDD =0 for July and August"]
["2021-04-23",58,45,{"$f":"AVERAGE(KCITempAct[[#This Row],[KCIHigh]:[KCILow]]\n)","v":51.5},{"$f":"IF(KCITempAct[[#This Row],[KCIAve]]<65,(65-KCITempAct[[#This Row],[KCIAve]]),0)","v":13.5},{"$f":"IF(MONTH(KCITempAct[[#This Row],[Date]])=7,0,IF(MONTH(KCITempAct[[#This Row],[Date]])=8,0,KCITempAct[[#This Row],[KCIHDD]]))","v":13.5},{"$f":"SUMPRODUCT((KCINHDD[Month]=MONTH(KCITempAct[[#This Row],[Date]]))*(KCINHDD[Day]=DAY(KCITempAct[[#This Row],[Date]]))*KCINHDD[KCINHDD])","v":8.15},{"$f":"IF(MONTH(KCITempAct[[#This Row],[Date]])=7,0,IF(MONTH(KCITempAct[[#This Row],[Date]])=8,0,KCITempAct[[#This Row],[KCINHDD]]))","v":8.15},"Adj HDD and NDD =0 for July and August"]
["2021-04-24",68,43,{"$f":"AVERAGE(KCITempAct[[#This Row],[KCIHigh]:[KCILow]]\n)","v":55.5},{"$f":"IF(KCITempAct[[#This Row],[KCIAve]]<65,(65-KCITempAct[[#This Row],[KCIAve]]),0)","v":9.5},{"$f":"IF(MONTH(KCITempAct[[#This Row],[Date]])=7,0,IF(MONTH(KCITempAct[[#This Row],[Date]])=8,0,KCITempAct[[#This Row],[KCIHDD]]))","v":9.5},{"$f":"SUMPRODUCT((KCINHDD[Month]=MONTH(KCITempAct[[#This Row],[Date]]))*(KCINHDD[Day]=DAY(KCITempAct[[#This Row],[Date]]))*KCINHDD[KCINHDD])","v":7.4},{"$f":"IF(MONTH(KCITempAct[[#This Row],[Date]])=7,0,IF(MONTH(KCITempAct[[#This Row],[Date]])=8,0,KCITempAct[[#This Row],[KCINHDD]]))","v":7.4},"Adj HDD and NDD =0 for July and August"]
["2021-04-25",76,49,{"$f":"AVERAGE(KCITempAct[[#This Row],[KCIHigh]:[KCILow]]\n)","v":62.5},{"$f":"IF(KCITempAct[[#This Row],[KCIAve]]<65,(65-KCITempAct[[#This Row],[KCIAve]]),0)","v":2.5},{"$f":"IF(MONTH(KCITempAct[[#This Row],[Date]])=7,0,IF(MONTH(KCITempAct[[#This Row],[Date]])=8,0,KCITempAct[[#This Row],[KCIHDD]]))","v":2.5},{"$f":"SUMPRODUCT((KCINHDD[Month]=MONTH(KCITempAct[[#This Row],[Date]]))*(KCINHDD[Day]=DAY(KCITempAct[[#This Row],[Date]]))*KCINHDD[KCINHDD])","v":8.2833333333333332},{"$f":"IF(MONTH(KCITempAct[[#This Row],[Date]])=7,0,IF(MONTH(KCITempAct[[#This Row],[Date]])=8,0,KCITempAct[[#This Row],[KCINHDD]]))","v":8.2833333333333332},"Adj HDD and NDD =0 for July and August"]
["2021-04-26",86,62,{"$f":"AVERAGE(KCITempAct[[#This Row],[KCIHigh]:[KCILow]]\n)","v":74},{"$f":"IF(KCITempAct[[#This Row],[KCIAve]]<65,(65-KCITempAct[[#This Row],[KCIAve]]),0)","v":0},{"$f":"IF(MONTH(KCITempAct[[#This Row],[Date]])=7,0,IF(MONTH(KCITempAct[[#This Row],[Date]])=8,0,KCITempAct[[#This Row],[KCIHDD]]))","v":0},{"$f":"SUMPRODUCT((KCINHDD[Month]=MONTH(KCITempAct[[#This Row],[Date]]))*(KCINHDD[Day]=DAY(KCITempAct[[#This Row],[Date]]))*KCINHDD[KCINHDD])","v":9.4833333333333325},{"$f":"IF(MONTH(KCITempAct[[#This Row],[Date]])=7,0,IF(MONTH(KCITempAct[[#This Row],[Date]])=8,0,KCITempAct[[#This Row],[KCINHDD]]))","v":9.4833333333333325},"Adj HDD and NDD =0 for July and August"]
["2021-04-27",80,67,{"$f":"AVERAGE(KCITempAct[[#This Row],[KCIHigh]:[KCILow]]\n)","v":73.5},{"$f":"IF(KCITempAct[[#This Row],[KCIAve]]<65,(65-KCITempAct[[#This Row],[KCIAve]]),0)","v":0},{"$f":"IF(MONTH(KCITempAct[[#This Row],[Date]])=7,0,IF(MONTH(KCITempAct[[#This Row],[Date]])=8,0,KCITempAct[[#This Row],[KCIHDD]]))","v":0},{"$f":"SUMPRODUCT((KCINHDD[Month]=MONTH(KCITempAct[[#This Row],[Date]]))*(KCINHDD[Day]=DAY(KCITempAct[[#This Row],[Date]]))*KCINHDD[KCINHDD])","v":9.5666666666666664},{"$f":"IF(MONTH(KCITempAct[[#This Row],[Date]])=7,0,IF(MONTH(KCITempAct[[#This Row],[Date]])=8,0,KCITempAct[[#This Row],[KCINHDD]]))","v":9.5666666666666664},"Adj HDD and NDD =0 for July and August"]
["2021-04-28",80,60,{"$f":"AVERAGE(KCITempAct[[#This Row],[KCIHigh]:[KCILow]]\n)","v":70},{"$f":"IF(KCITempAct[[#This Row],[KCIAve]]<65,(65-KCITempAct[[#This Row],[KCIAve]]),0)","v":0},{"$f":"IF(MONTH(KCITempAct[[#This Row],[Date]])=7,0,IF(MONTH(KCITempAct[[#This Row],[Date]])=8,0,KCITempAct[[#This Row],[KCIHDD]]))","v":0},{"$f":"SUMPRODUCT((KCINHDD[Month]=MONTH(KCITempAct[[#This Row],[Date]]))*(KCINHDD[Day]=DAY(KCITempAct[[#This Row],[Date]]))*KCINHDD[KCINHDD])","v":9.25},{"$f":"IF(MONTH(KCITempAct[[#This Row],[Date]])=7,0,IF(MONTH(KCITempAct[[#This Row],[Date]])=8,0,KCITempAct[[#This Row],[KCINHDD]]))","v":9.25},"Adj HDD and NDD =0 for July and August"]
["2021-04-29",78,55,{"$f":"AVERAGE(KCITempAct[[#This Row],[KCIHigh]:[KCILow]]\n)","v":66.5},{"$f":"IF(KCITempAct[[#This Row],[KCIAve]]<65,(65-KCITempAct[[#This Row],[KCIAve]]),0)","v":0},{"$f":"IF(MONTH(KCITempAct[[#This Row],[Date]])=7,0,IF(MONTH(KCITempAct[[#This Row],[Date]])=8,0,KCITempAct[[#This Row],[KCIHDD]]))","v":0},{"$f":"SUMPRODUCT((KCINHDD[Month]=MONTH(KCITempAct[[#This Row],[Date]]))*(KCINHDD[Day]=DAY(KCITempAct[[#This Row],[Date]]))*KCINHDD[KCINHDD])","v":7.916666666666667},{"$f":"IF(MONTH(KCITempAct[[#This Row],[Date]])=7,0,IF(MONTH(KCITempAct[[#This Row],[Date]])=8,0,KCITempAct[[#This Row],[KCINHDD]]))","v":7.916666666666667},"Adj HDD and NDD =0 for July and August"]
["2021-04-30",80,45,{"$f":"AVERAGE(KCITempAct[[#This Row],[KCIHigh]:[KCILow]]\n)","v":62.5},{"$f":"IF(KCITempAct[[#This Row],[KCIAve]]<65,(65-KCITempAct[[#This Row],[KCIAve]]),0)","v":2.5},{"$f":"IF(MONTH(KCITempAct[[#This Row],[Date]])=7,0,IF(MONTH(KCITempAct[[#This Row],[Date]])=8,0,KCITempAct[[#This Row],[KCIHDD]]))","v":2.5},{"$f":"SUMPRODUCT((KCINHDD[Month]=MONTH(KCITempAct[[#This Row],[Date]]))*(KCINHDD[Day]=DAY(KCITempAct[[#This Row],[Date]]))*KCINHDD[KCINHDD])","v":6.4833333333333334},{"$f":"IF(MONTH(KCITempAct[[#This Row],[Date]])=7,0,IF(MONTH(KCITempAct[[#This Row],[Date]])=8,0,KCITempAct[[#This Row],[KCINHDD]]))","v":6.4833333333333334},"Adj HDD and NDD =0 for July and August"]
["2021-05-01",82,60,{"$f":"AVERAGE(KCITempAct[[#This Row],[KCIHigh]:[KCILow]]\n)","v":71},{"$f":"IF(KCITempAct[[#This Row],[KCIAve]]<65,(65-KCITempAct[[#This Row],[KCIAve]]),0)","v":0},{"$f":"IF(MONTH(KCITempAct[[#This Row],[Date]])=7,0,IF(MONTH(KCITempAct[[#This Row],[Date]])=8,0,KCITempAct[[#This Row],[KCIHDD]]))","v":0},{"$f":"SUMPRODUCT((KCINHDD[Month]=MONTH(KCITempAct[[#This Row],[Date]]))*(KCINHDD[Day]=DAY(KCITempAct[[#This Row],[Date]]))*KCINHDD[KCINHDD])","v":7.5666666666666664},{"$f":"IF(MONTH(KCITempAct[[#This Row],[Date]])=7,0,IF(MONTH(KCITempAct[[#This Row],[Date]])=8,0,KCITempAct[[#This Row],[KCINHDD]]))","v":7.5666666666666664},"Adj HDD and NDD =0 for July and August"]
["2021-05-02",77,59,{"$f":"AVERAGE(KCITempAct[[#This Row],[KCIHigh]:[KCILow]]\n)","v":68},{"$f":"IF(KCITempAct[[#This Row],[KCIAve]]<65,(65-KCITempAct[[#This Row],[KCIAve]]),0)","v":0},{"$f":"IF(MONTH(KCITempAct[[#This Row],[Date]])=7,0,IF(MONTH(KCITempAct[[#This Row],[Date]])=8,0,KCITempAct[[#This Row],[KCIHDD]]))","v":0},{"$f":"SUMPRODUCT((KCINHDD[Month]=MONTH(KCITempAct[[#This Row],[Date]]))*(KCINHDD[Day]=DAY(KCITempAct[[#This Row],[Date]]))*KCINHDD[KCINHDD])","v":8.0500000000000007},{"$f":"IF(MONTH(KCITempAct[[#This Row],[Date]])=7,0,IF(MONTH(KCITempAct[[#This Row],[Date]])=8,0,KCITempAct[[#This Row],[KCINHDD]]))","v":8.0500000000000007},"Adj HDD and NDD =0 for July and August"]
["2021-05-03",69,59,{"$f":"AVERAGE(KCITempAct[[#This Row],[KCIHigh]:[KCILow]]\n)","v":64},{"$f":"IF(KCITempAct[[#This Row],[KCIAve]]<65,(65-KCITempAct[[#This Row],[KCIAve]]),0)","v":1},{"$f":"IF(MONTH(KCITempAct[[#This Row],[Date]])=7,0,IF(MONTH(KCITempAct[[#This Row],[Date]])=8,0,KCITempAct[[#This Row],[KCIHDD]]))","v":1},{"$f":"SUMPRODUCT((KCINHDD[Month]=MONTH(KCITempAct[[#This Row],[Date]]))*(KCINHDD[Day]=DAY(KCITempAct[[#This Row],[Date]]))*KCINHDD[KCINHDD])","v":7.0166666666666666},{"$f":"IF(MONTH(KCITempAct[[#This Row],[Date]])=7,0,IF(MONTH(KCITempAct[[#This Row],[Date]])=8,0,KCITempAct[[#This Row],[KCINHDD]]))","v":7.0166666666666666},"Adj HDD and NDD =0 for July and August"]
["2021-05-04",66,48,{"$f":"AVERAGE(KCITempAct[[#This Row],[KCIHigh]:[KCILow]]\n)","v":57},{"$f":"IF(KCITempAct[[#This Row],[KCIAve]]<65,(65-KCITempAct[[#This Row],[KCIAve]]),0)","v":8},{"$f":"IF(MONTH(KCITempAct[[#This Row],[Date]])=7,0,IF(MONTH(KCITempAct[[#This Row],[Date]])=8,0,KCITempAct[[#This Row],[KCIHDD]]))","v":8},{"$f":"SUMPRODUCT((KCINHDD[Month]=MONTH(KCITempAct[[#This Row],[Date]]))*(KCINHDD[Day]=DAY(KCITempAct[[#This Row],[Date]]))*KCINHDD[KCINHDD])","v":5.0333333333333332},{"$f":"IF(MONTH(KCITempAct[[#This Row],[Date]])=7,0,IF(MONTH(KCITempAct[[#This Row],[Date]])=8,0,KCITempAct[[#This Row],[KCINHDD]]))","v":5.0333333333333332},"Adj HDD and NDD =0 for July and August"]
["2021-05-05",70,38,{"$f":"AVERAGE(KCITempAct[[#This Row],[KCIHigh]:[KCILow]]\n)","v":54},{"$f":"IF(KCITempAct[[#This Row],[KCIAve]]<65,(65-KCITempAct[[#This Row],[KCIAve]]),0)","v":11},{"$f":"IF(MONTH(KCITempAct[[#This Row],[Date]])=7,0,IF(MONTH(KCITempAct[[#This Row],[Date]])=8,0,KCITempAct[[#This Row],[KCIHDD]]))","v":11},{"$f":"SUMPRODUCT((KCINHDD[Month]=MONTH(KCITempAct[[#This Row],[Date]]))*(KCINHDD[Day]=DAY(KCITempAct[[#This Row],[Date]]))*KCINHDD[KCINHDD])","v":4.25},{"$f":"IF(MONTH(KCITempAct[[#This Row],[Date]])=7,0,IF(MONTH(KCITempAct[[#This Row],[Date]])=8,0,KCITempAct[[#This Row],[KCINHDD]]))","v":4.25},"Adj HDD and NDD =0 for July and August"]
["2021-05-06",66,47,{"$f":"AVERAGE(KCITempAct[[#This Row],[KCIHigh]:[KCILow]]\n)","v":56.5},{"$f":"IF(KCITempAct[[#This Row],[KCIAve]]<65,(65-KCITempAct[[#This Row],[KCIAve]]),0)","v":8.5},{"$f":"IF(MONTH(KCITempAct[[#This Row],[Date]])=7,0,IF(MONTH(KCITempAct[[#This Row],[Date]])=8,0,KCITempAct[[#This Row],[KCIHDD]]))","v":8.5},{"$f":"SUMPRODUCT((KCINHDD[Month]=MONTH(KCITempAct[[#This Row],[Date]]))*(KCINHDD[Day]=DAY(KCITempAct[[#This Row],[Date]]))*KCINHDD[KCINHDD])","v":3.3833333333333333},{"$f":"IF(MONTH(KCITempAct[[#This Row],[Date]])=7,0,IF(MONTH(KCITempAct[[#This Row],[Date]])=8,0,KCITempAct[[#This Row],[KCINHDD]]))","v":3.3833333333333333},"Adj HDD and NDD =0 for July and August"]
["2021-05-07",73,43,{"$f":"AVERAGE(KCITempAct[[#This Row],[KCIHigh]:[KCILow]]\n)","v":58},{"$f":"IF(KCITempAct[[#This Row],[KCIAve]]<65,(65-KCITempAct[[#This Row],[KCIAve]]),0)","v":7},{"$f":"IF(MONTH(KCITempAct[[#This Row],[Date]])=7,0,IF(MONTH(KCITempAct[[#This Row],[Date]])=8,0,KCITempAct[[#This Row],[KCIHDD]]))","v":7},{"$f":"SUMPRODUCT((KCINHDD[Month]=MONTH(KCITempAct[[#This Row],[Date]]))*(KCINHDD[Day]=DAY(KCITempAct[[#This Row],[Date]]))*KCINHDD[KCINHDD])","v":3.4833333333333334},{"$f":"IF(MONTH(KCITempAct[[#This Row],[Date]])=7,0,IF(MONTH(KCITempAct[[#This Row],[Date]])=8,0,KCITempAct[[#This Row],[KCINHDD]]))","v":3.4833333333333334},"Adj HDD and NDD =0 for July and August"]
["2021-05-08",74,51,{"$f":"AVERAGE(KCITempAct[[#This Row],[KCIHigh]:[KCILow]]\n)","v":62.5},{"$f":"IF(KCITempAct[[#This Row],[KCIAve]]<65,(65-KCITempAct[[#This Row],[KCIAve]]),0)","v":2.5},{"$f":"IF(MONTH(KCITempAct[[#This Row],[Date]])=7,0,IF(MONTH(KCITempAct[[#This Row],[Date]])=8,0,KCITempAct[[#This Row],[KCIHDD]]))","v":2.5},{"$f":"SUMPRODUCT((KCINHDD[Month]=MONTH(KCITempAct[[#This Row],[Date]]))*(KCINHDD[Day]=DAY(KCITempAct[[#This Row],[Date]]))*KCINHDD[KCINHDD])","v":2.4333333333333331},{"$f":"IF(MONTH(KCITempAct[[#This Row],[Date]])=7,0,IF(MONTH(KCITempAct[[#This Row],[Date]])=8,0,KCITempAct[[#This Row],[KCINHDD]]))","v":2.4333333333333331},"Adj HDD and NDD =0 for July and August"]
["2021-05-09",55,44,{"$f":"AVERAGE(KCITempAct[[#This Row],[KCIHigh]:[KCILow]]\n)","v":49.5},{"$f":"IF(KCITempAct[[#This Row],[KCIAve]]<65,(65-KCITempAct[[#This Row],[KCIAve]]),0)","v":15.5},{"$f":"IF(MONTH(KCITempAct[[#This Row],[Date]])=7,0,IF(MONTH(KCITempAct[[#This Row],[Date]])=8,0,KCITempAct[[#This Row],[KCIHDD]]))","v":15.5},{"$f":"SUMPRODUCT((KCINHDD[Month]=MONTH(KCITempAct[[#This Row],[Date]]))*(KCINHDD[Day]=DAY(KCITempAct[[#This Row],[Date]]))*KCINHDD[KCINHDD])","v":4.2166666666666668},{"$f":"IF(MONTH(KCITempAct[[#This Row],[Date]])=7,0,IF(MONTH(KCITempAct[[#This Row],[Date]])=8,0,KCITempAct[[#This Row],[KCINHDD]]))","v":4.2166666666666668},"Adj HDD and NDD =0 for July and August"]
["2021-05-10",65,39,{"$f":"AVERAGE(KCITempAct[[#This Row],[KCIHigh]:[KCILow]]\n)","v":52},{"$f":"IF(KCITempAct[[#This Row],[KCIAve]]<65,(65-KCITempAct[[#This Row],[KCIAve]]),0)","v":13},{"$f":"IF(MONTH(KCITempAct[[#This Row],[Date]])=7,0,IF(MONTH(KCITempAct[[#This Row],[Date]])=8,0,KCITempAct[[#This Row],[KCIHDD]]))","v":13},{"$f":"SUMPRODUCT((KCINHDD[Month]=MONTH(KCITempAct[[#This Row],[Date]]))*(KCINHDD[Day]=DAY(KCITempAct[[#This Row],[Date]]))*KCINHDD[KCINHDD])","v":4.2833333333333332},{"$f":"IF(MONTH(KCITempAct[[#This Row],[Date]])=7,0,IF(MONTH(KCITempAct[[#This Row],[Date]])=8,0,KCITempAct[[#This Row],[KCINHDD]]))","v":4.2833333333333332},"Adj HDD and NDD =0 for July and August"]
["2021-05-11",62,49,{"$f":"AVERAGE(KCITempAct[[#This Row],[KCIHigh]:[KCILow]]\n)","v":55.5},{"$f":"IF(KCITempAct[[#This Row],[KCIAve]]<65,(65-KCITempAct[[#This Row],[KCIAve]]),0)","v":9.5},{"$f":"IF(MONTH(KCITempAct[[#This Row],[Date]])=7,0,IF(MONTH(KCITempAct[[#This Row],[Date]])=8,0,KCITempAct[[#This Row],[KCIHDD]]))","v":9.5},{"$f":"SUMPRODUCT((KCINHDD[Month]=MONTH(KCITempAct[[#This Row],[Date]]))*(KCINHDD[Day]=DAY(KCITempAct[[#This Row],[Date]]))*KCINHDD[KCINHDD])","v":4.7333333333333334},{"$f":"IF(MONTH(KCITempAct[[#This Row],[Date]])=7,0,IF(MONTH(KCITempAct[[#This Row],[Date]])=8,0,KCITempAct[[#This Row],[KCINHDD]]))","v":4.7333333333333334},"Adj HDD and NDD =0 for July and August"]
["2021-05-12",65,49,{"$f":"AVERAGE(KCITempAct[[#This Row],[KCIHigh]:[KCILow]]\n)","v":57},{"$f":"IF(KCITempAct[[#This Row],[KCIAve]]<65,(65-KCITempAct[[#This Row],[KCIAve]]),0)","v":8},{"$f":"IF(MONTH(KCITempAct[[#This Row],[Date]])=7,0,IF(MONTH(KCITempAct[[#This Row],[Date]])=8,0,KCITempAct[[#This Row],[KCIHDD]]))","v":8},{"$f":"SUMPRODUCT((KCINHDD[Month]=MONTH(KCITempAct[[#This Row],[Date]]))*(KCINHDD[Day]=DAY(KCITempAct[[#This Row],[Date]]))*KCINHDD[KCINHDD])","v":5.5333333333333332},{"$f":"IF(MONTH(KCITempAct[[#This Row],[Date]])=7,0,IF(MONTH(KCITempAct[[#This Row],[Date]])=8,0,KCITempAct[[#This Row],[KCINHDD]]))","v":5.5333333333333332},"Adj HDD and NDD =0 for July and August"]
["2021-05-13",70,46,{"$f":"AVERAGE(KCITempAct[[#This Row],[KCIHigh]:[KCILow]]\n)","v":58},{"$f":"IF(KCITempAct[[#This Row],[KCIAve]]<65,(65-KCITempAct[[#This Row],[KCIAve]]),0)","v":7},{"$f":"IF(MONTH(KCITempAct[[#This Row],[Date]])=7,0,IF(MONTH(KCITempAct[[#This Row],[Date]])=8,0,KCITempAct[[#This Row],[KCIHDD]]))","v":7},{"$f":"SUMPRODUCT((KCINHDD[Month]=MONTH(KCITempAct[[#This Row],[Date]]))*(KCINHDD[Day]=DAY(KCITempAct[[#This Row],[Date]]))*KCINHDD[KCINHDD])","v":4.8166666666666664},{"$f":"IF(MONTH(KCITempAct[[#This Row],[Date]])=7,0,IF(MONTH(KCITempAct[[#This Row],[Date]])=8,0,KCITempAct[[#This Row],[KCINHDD]]))","v":4.8166666666666664},"Adj HDD and NDD =0 for July and August"]
["2021-05-14",76,53,{"$f":"AVERAGE(KCITempAct[[#This Row],[KCIHigh]:[KCILow]]\n)","v":64.5},{"$f":"IF(KCITempAct[[#This Row],[KCIAve]]<65,(65-KCITempAct[[#This Row],[KCIAve]]),0)","v":0.5},{"$f":"IF(MONTH(KCITempAct[[#This Row],[Date]])=7,0,IF(MONTH(KCITempAct[[#This Row],[Date]])=8,0,KCITempAct[[#This Row],[KCIHDD]]))","v":0.5},{"$f":"SUMPRODUCT((KCINHDD[Month]=MONTH(KCITempAct[[#This Row],[Date]]))*(KCINHDD[Day]=DAY(KCITempAct[[#This Row],[Date]]))*KCINHDD[KCINHDD])","v":5.05},{"$f":"IF(MONTH(KCITempAct[[#This Row],[Date]])=7,0,IF(MONTH(KCITempAct[[#This Row],[Date]])=8,0,KCITempAct[[#This Row],[KCINHDD]]))","v":5.05},"Adj HDD and NDD =0 for July and August"]
["2021-05-15",71,58,{"$f":"AVERAGE(KCITempAct[[#This Row],[KCIHigh]:[KCILow]]\n)","v":64.5},{"$f":"IF(KCITempAct[[#This Row],[KCIAve]]<65,(65-KCITempAct[[#This Row],[KCIAve]]),0)","v":0.5},{"$f":"IF(MONTH(KCITempAct[[#This Row],[Date]])=7,0,IF(MONTH(KCITempAct[[#This Row],[Date]])=8,0,KCITempAct[[#This Row],[KCIHDD]]))","v":0.5},{"$f":"SUMPRODUCT((KCINHDD[Month]=MONTH(KCITempAct[[#This Row],[Date]]))*(KCINHDD[Day]=DAY(KCITempAct[[#This Row],[Date]]))*KCINHDD[KCINHDD])","v":3.6},{"$f":"IF(MONTH(KCITempAct[[#This Row],[Date]])=7,0,IF(MONTH(KCITempAct[[#This Row],[Date]])=8,0,KCITempAct[[#This Row],[KCINHDD]]))","v":3.6},"Adj HDD and NDD =0 for July and August"]
["2021-05-16",67,56,{"$f":"AVERAGE(KCITempAct[[#This Row],[KCIHigh]:[KCILow]]\n)","v":61.5},{"$f":"IF(KCITempAct[[#This Row],[KCIAve]]<65,(65-KCITempAct[[#This Row],[KCIAve]]),0)","v":3.5},{"$f":"IF(MONTH(KCITempAct[[#This Row],[Date]])=7,0,IF(MONTH(KCITempAct[[#This Row],[Date]])=8,0,KCITempAct[[#This Row],[KCIHDD]]))","v":3.5},{"$f":"SUMPRODUCT((KCINHDD[Month]=MONTH(KCITempAct[[#This Row],[Date]]))*(KCINHDD[Day]=DAY(KCITempAct[[#This Row],[Date]]))*KCINHDD[KCINHDD])","v":3.35},{"$f":"IF(MONTH(KCITempAct[[#This Row],[Date]])=7,0,IF(MONTH(KCITempAct[[#This Row],[Date]])=8,0,KCITempAct[[#This Row],[KCINHDD]]))","v":3.35},"Adj HDD and NDD =0 for July and August"]
["2021-05-17",70,62,{"$f":"AVERAGE(KCITempAct[[#This Row],[KCIHigh]:[KCILow]]\n)","v":66},{"$f":"IF(KCITempAct[[#This Row],[KCIAve]]<65,(65-KCITempAct[[#This Row],[KCIAve]]),0)","v":0},{"$f":"IF(MONTH(KCITempAct[[#This Row],[Date]])=7,0,IF(MONTH(KCITempAct[[#This Row],[Date]])=8,0,KCITempAct[[#This Row],[KCIHDD]]))","v":0},{"$f":"SUMPRODUCT((KCINHDD[Month]=MONTH(KCITempAct[[#This Row],[Date]]))*(KCINHDD[Day]=DAY(KCITempAct[[#This Row],[Date]]))*KCINHDD[KCINHDD])","v":2.8},{"$f":"IF(MONTH(KCITempAct[[#This Row],[Date]])=7,0,IF(MONTH(KCITempAct[[#This Row],[Date]])=8,0,KCITempAct[[#This Row],[KCINHDD]]))","v":2.8},"Adj HDD and NDD =0 for July and August"]
["2021-05-18",80,63,{"$f":"AVERAGE(KCITempAct[[#This Row],[KCIHigh]:[KCILow]]\n)","v":71.5},{"$f":"IF(KCITempAct[[#This Row],[KCIAve]]<65,(65-KCITempAct[[#This Row],[KCIAve]]),0)","v":0},{"$f":"IF(MONTH(KCITempAct[[#This Row],[Date]])=7,0,IF(MONTH(KCITempAct[[#This Row],[Date]])=8,0,KCITempAct[[#This Row],[KCIHDD]]))","v":0},{"$f":"SUMPRODUCT((KCINHDD[Month]=MONTH(KCITempAct[[#This Row],[Date]]))*(KCINHDD[Day]=DAY(KCITempAct[[#This Row],[Date]]))*KCINHDD[KCINHDD])","v":2.7},{"$f":"IF(MONTH(KCITempAct[[#This Row],[Date]])=7,0,IF(MONTH(KCITempAct[[#This Row],[Date]])=8,0,KCITempAct[[#This Row],[KCINHDD]]))","v":2.7},"Adj HDD and NDD =0 for July and August"]
["2021-05-19",77,67,{"$f":"AVERAGE(KCITempAct[[#This Row],[KCIHigh]:[KCILow]]\n)","v":72},{"$f":"IF(KCITempAct[[#This Row],[KCIAve]]<65,(65-KCITempAct[[#This Row],[KCIAve]]),0)","v":0},{"$f":"IF(MONTH(KCITempAct[[#This Row],[Date]])=7,0,IF(MONTH(KCITempAct[[#This Row],[Date]])=8,0,KCITempAct[[#This Row],[KCIHDD]]))","v":0},{"$f":"SUMPRODUCT((KCINHDD[Month]=MONTH(KCITempAct[[#This Row],[Date]]))*(KCINHDD[Day]=DAY(KCITempAct[[#This Row],[Date]]))*KCINHDD[KCINHDD])","v":3.35},{"$f":"IF(MONTH(KCITempAct[[#This Row],[Date]])=7,0,IF(MONTH(KCITempAct[[#This Row],[Date]])=8,0,KCITempAct[[#This Row],[KCINHDD]]))","v":3.35},"Adj HDD and NDD =0 for July and August"]
["2021-05-20",75,64,{"$f":"AVERAGE(KCITempAct[[#This Row],[KCIHigh]:[KCILow]]\n)","v":69.5},{"$f":"IF(KCITempAct[[#This Row],[KCIAve]]<65,(65-KCITempAct[[#This Row],[KCIAve]]),0)","v":0},{"$f":"IF(MONTH(KCITempAct[[#This Row],[Date]])=7,0,IF(MONTH(KCITempAct[[#This Row],[Date]])=8,0,KCITempAct[[#This Row],[KCIHDD]]))","v":0},{"$f":"SUMPRODUCT((KCINHDD[Month]=MONTH(KCITempAct[[#This Row],[Date]]))*(KCINHDD[Day]=DAY(KCITempAct[[#This Row],[Date]]))*KCINHDD[KCINHDD])","v":3.1333333333333333},{"$f":"IF(MONTH(KCITempAct[[#This Row],[Date]])=7,0,IF(MONTH(KCITempAct[[#This Row],[Date]])=8,0,KCITempAct[[#This Row],[KCINHDD]]))","v":3.1333333333333333},"Adj HDD and NDD =0 for July and August"]
["2021-05-21",77,69,{"$f":"AVERAGE(KCITempAct[[#This Row],[KCIHigh]:[KCILow]]\n)","v":73},{"$f":"IF(KCITempAct[[#This Row],[KCIAve]]<65,(65-KCITempAct[[#This Row],[KCIAve]]),0)","v":0},{"$f":"IF(MONTH(KCITempAct[[#This Row],[Date]])=7,0,IF(MONTH(KCITempAct[[#This Row],[Date]])=8,0,KCITempAct[[#This Row],[KCIHDD]]))","v":0},{"$f":"SUMPRODUCT((KCINHDD[Month]=MONTH(KCITempAct[[#This Row],[Date]]))*(KCINHDD[Day]=DAY(KCITempAct[[#This Row],[Date]]))*KCINHDD[KCINHDD])","v":2.6166666666666667},{"$f":"IF(MONTH(KCITempAct[[#This Row],[Date]])=7,0,IF(MONTH(KCITempAct[[#This Row],[Date]])=8,0,KCITempAct[[#This Row],[KCINHDD]]))","v":2.6166666666666667},"Adj HDD and NDD =0 for July and August"]
["2021-05-22",73,64,{"$f":"AVERAGE(KCITempAct[[#This Row],[KCIHigh]:[KCILow]]\n)","v":68.5},{"$f":"IF(KCITempAct[[#This Row],[KCIAve]]<65,(65-KCITempAct[[#This Row],[KCIAve]]),0)","v":0},{"$f":"IF(MONTH(KCITempAct[[#This Row],[Date]])=7,0,IF(MONTH(KCITempAct[[#This Row],[Date]])=8,0,KCITempAct[[#This Row],[KCIHDD]]))","v":0},{"$f":"SUMPRODUCT((KCINHDD[Month]=MONTH(KCITempAct[[#This Row],[Date]]))*(KCINHDD[Day]=DAY(KCITempAct[[#This Row],[Date]]))*KCINHDD[KCINHDD])","v":1.4333333333333333},{"$f":"IF(MONTH(KCITempAct[[#This Row],[Date]])=7,0,IF(MONTH(KCITempAct[[#This Row],[Date]])=8,0,KCITempAct[[#This Row],[KCINHDD]]))","v":1.4333333333333333},"Adj HDD and NDD =0 for July and August"]
["2021-05-23",81,65,{"$f":"AVERAGE(KCITempAct[[#This Row],[KCIHigh]:[KCILow]]\n)","v":73},{"$f":"IF(KCITempAct[[#This Row],[KCIAve]]<65,(65-KCITempAct[[#This Row],[KCIAve]]),0)","v":0},{"$f":"IF(MONTH(KCITempAct[[#This Row],[Date]])=7,0,IF(MONTH(KCITempAct[[#This Row],[Date]])=8,0,KCITempAct[[#This Row],[KCIHDD]]))","v":0},{"$f":"SUMPRODUCT((KCINHDD[Month]=MONTH(KCITempAct[[#This Row],[Date]]))*(KCINHDD[Day]=DAY(KCITempAct[[#This Row],[Date]]))*KCINHDD[KCINHDD])","v":1.5666666666666667},{"$f":"IF(MONTH(KCITempAct[[#This Row],[Date]])=7,0,IF(MONTH(KCITempAct[[#This Row],[Date]])=8,0,KCITempAct[[#This Row],[KCINHDD]]))","v":1.5666666666666667},"Adj HDD and NDD =0 for July and August"]
["2021-05-24",83,65,{"$f":"AVERAGE(KCITempAct[[#This Row],[KCIHigh]:[KCILow]]\n)","v":74},{"$f":"IF(KCITempAct[[#This Row],[KCIAve]]<65,(65-KCITempAct[[#This Row],[KCIAve]]),0)","v":0},{"$f":"IF(MONTH(KCITempAct[[#This Row],[Date]])=7,0,IF(MONTH(KCITempAct[[#This Row],[Date]])=8,0,KCITempAct[[#This Row],[KCIHDD]]))","v":0},{"$f":"SUMPRODUCT((KCINHDD[Month]=MONTH(KCITempAct[[#This Row],[Date]]))*(KCINHDD[Day]=DAY(KCITempAct[[#This Row],[Date]]))*KCINHDD[KCINHDD])","v":2.2999999999999998},{"$f":"IF(MONTH(KCITempAct[[#This Row],[Date]])=7,0,IF(MONTH(KCITempAct[[#This Row],[Date]])=8,0,KCITempAct[[#This Row],[KCINHDD]]))","v":2.2999999999999998},"Adj HDD and NDD =0 for July and August"]
["2021-05-25",82,65,{"$f":"AVERAGE(KCITempAct[[#This Row],[KCIHigh]:[KCILow]]\n)","v":73.5},{"$f":"IF(KCITempAct[[#This Row],[KCIAve]]<65,(65-KCITempAct[[#This Row],[KCIAve]]),0)","v":0},{"$f":"IF(MONTH(KCITempAct[[#This Row],[Date]])=7,0,IF(MONTH(KCITempAct[[#This Row],[Date]])=8,0,KCITempAct[[#This Row],[KCIHDD]]))","v":0},{"$f":"SUMPRODUCT((KCINHDD[Month]=MONTH(KCITempAct[[#This Row],[Date]]))*(KCINHDD[Day]=DAY(KCITempAct[[#This Row],[Date]]))*KCINHDD[KCINHDD])","v":1.8833333333333333},{"$f":"IF(MONTH(KCITempAct[[#This Row],[Date]])=7,0,IF(MONTH(KCITempAct[[#This Row],[Date]])=8,0,KCITempAct[[#This Row],[KCINHDD]]))","v":1.8833333333333333},"Adj HDD and NDD =0 for July and August"]
["2021-05-26",88,64,{"$f":"AVERAGE(KCITempAct[[#This Row],[KCIHigh]:[KCILow]]\n)","v":76},{"$f":"IF(KCITempAct[[#This Row],[KCIAve]]<65,(65-KCITempAct[[#This Row],[KCIAve]]),0)","v":0},{"$f":"IF(MONTH(KCITempAct[[#This Row],[Date]])=7,0,IF(MONTH(KCITempAct[[#This Row],[Date]])=8,0,KCITempAct[[#This Row],[KCIHDD]]))","v":0},{"$f":"SUMPRODUCT((KCINHDD[Month]=MONTH(KCITempAct[[#This Row],[Date]]))*(KCINHDD[Day]=DAY(KCITempAct[[#This Row],[Date]]))*KCINHDD[KCINHDD])","v":2.0333333333333332},{"$f":"IF(MONTH(KCITempAct[[#This Row],[Date]])=7,0,IF(MONTH(KCITempAct[[#This Row],[Date]])=8,0,KCITempAct[[#This Row],[KCINHDD]]))","v":2.0333333333333332},"Adj HDD and NDD =0 for July and August"]
["2021-05-27",77,60,{"$f":"AVERAGE(KCITempAct[[#This Row],[KCIHigh]:[KCILow]]\n)","v":68.5},{"$f":"IF(KCITempAct[[#This Row],[KCIAve]]<65,(65-KCITempAct[[#This Row],[KCIAve]]),0)","v":0},{"$f":"IF(MONTH(KCITempAct[[#This Row],[Date]])=7,0,IF(MONTH(KCITempAct[[#This Row],[Date]])=8,0,KCITempAct[[#This Row],[KCIHDD]]))","v":0},{"$f":"SUMPRODUCT((KCINHDD[Month]=MONTH(KCITempAct[[#This Row],[Date]]))*(KCINHDD[Day]=DAY(KCITempAct[[#This Row],[Date]]))*KCINHDD[KCINHDD])","v":1.7333333333333334},{"$f":"IF(MONTH(KCITempAct[[#This Row],[Date]])=7,0,IF(MONTH(KCITempAct[[#This Row],[Date]])=8,0,KCITempAct[[#This Row],[KCINHDD]]))","v":1.7333333333333334},"Adj HDD and NDD =0 for July and August"]
["2021-05-28",60,51,{"$f":"AVERAGE(KCITempAct[[#This Row],[KCIHigh]:[KCILow]]\n)","v":55.5},{"$f":"IF(KCITempAct[[#This Row],[KCIAve]]<65,(65-KCITempAct[[#This Row],[KCIAve]]),0)","v":9.5},{"$f":"IF(MONTH(KCITempAct[[#This Row],[Date]])=7,0,IF(MONTH(KCITempAct[[#This Row],[Date]])=8,0,KCITempAct[[#This Row],[KCIHDD]]))","v":9.5},{"$f":"SUMPRODUCT((KCINHDD[Month]=MONTH(KCITempAct[[#This Row],[Date]]))*(KCINHDD[Day]=DAY(KCITempAct[[#This Row],[Date]]))*KCINHDD[KCINHDD])","v":1.85},{"$f":"IF(MONTH(KCITempAct[[#This Row],[Date]])=7,0,IF(MONTH(KCITempAct[[#This Row],[Date]])=8,0,KCITempAct[[#This Row],[KCINHDD]]))","v":1.85},"Adj HDD and NDD =0 for July and August"]
["2021-05-29",68,49,{"$f":"AVERAGE(KCITempAct[[#This Row],[KCIHigh]:[KCILow]]\n)","v":58.5},{"$f":"IF(KCITempAct[[#This Row],[KCIAve]]<65,(65-KCITempAct[[#This Row],[KCIAve]]),0)","v":6.5},{"$f":"IF(MONTH(KCITempAct[[#This Row],[Date]])=7,0,IF(MONTH(KCITempAct[[#This Row],[Date]])=8,0,KCITempAct[[#This Row],[KCIHDD]]))","v":6.5},{"$f":"SUMPRODUCT((KCINHDD[Month]=MONTH(KCITempAct[[#This Row],[Date]]))*(KCINHDD[Day]=DAY(KCITempAct[[#This Row],[Date]]))*KCINHDD[KCINHDD])","v":1.1666666666666667},{"$f":"IF(MONTH(KCITempAct[[#This Row],[Date]])=7,0,IF(MONTH(KCITempAct[[#This Row],[Date]])=8,0,KCITempAct[[#This Row],[KCINHDD]]))","v":1.1666666666666667},"Adj HDD and NDD =0 for July and August"]
["2021-05-30",68,47,{"$f":"AVERAGE(KCITempAct[[#This Row],[KCIHigh]:[KCILow]]\n)","v":57.5},{"$f":"IF(KCITempAct[[#This Row],[KCIAve]]<65,(65-KCITempAct[[#This Row],[KCIAve]]),0)","v":7.5},{"$f":"IF(MONTH(KCITempAct[[#This Row],[Date]])=7,0,IF(MONTH(KCITempAct[[#This Row],[Date]])=8,0,KCITempAct[[#This Row],[KCIHDD]]))","v":7.5},{"$f":"SUMPRODUCT((KCINHDD[Month]=MONTH(KCITempAct[[#This Row],[Date]]))*(KCINHDD[Day]=DAY(KCITempAct[[#This Row],[Date]]))*KCINHDD[KCINHDD])","v":0.8},{"$f":"IF(MONTH(KCITempAct[[#This Row],[Date]])=7,0,IF(MONTH(KCITempAct[[#This Row],[Date]])=8,0,KCITempAct[[#This Row],[KCINHDD]]))","v":0.8},"Adj HDD and NDD =0 for July and August"]
["2021-05-31",64,59,{"$f":"AVERAGE(KCITempAct[[#This Row],[KCIHigh]:[KCILow]]\n)","v":61.5},{"$f":"IF(KCITempAct[[#This Row],[KCIAve]]<65,(65-KCITempAct[[#This Row],[KCIAve]]),0)","v":3.5},{"$f":"IF(MONTH(KCITempAct[[#This Row],[Date]])=7,0,IF(MONTH(KCITempAct[[#This Row],[Date]])=8,0,KCITempAct[[#This Row],[KCIHDD]]))","v":3.5},{"$f":"SUMPRODUCT((KCINHDD[Month]=MONTH(KCITempAct[[#This Row],[Date]]))*(KCINHDD[Day]=DAY(KCITempAct[[#This Row],[Date]]))*KCINHDD[KCINHDD])","v":1.2},{"$f":"IF(MONTH(KCITempAct[[#This Row],[Date]])=7,0,IF(MONTH(KCITempAct[[#This Row],[Date]])=8,0,KCITempAct[[#This Row],[KCINHDD]]))","v":1.2},"Adj HDD and NDD =0 for July and August"]
["2021-06-01",76,59,{"$f":"AVERAGE(KCITempAct[[#This Row],[KCIHigh]:[KCILow]]\n)","v":67.5},{"$f":"IF(KCITempAct[[#This Row],[KCIAve]]<65,(65-KCITempAct[[#This Row],[KCIAve]]),0)","v":0},{"$f":"IF(MONTH(KCITempAct[[#This Row],[Date]])=7,0,IF(MONTH(KCITempAct[[#This Row],[Date]])=8,0,KCITempAct[[#This Row],[KCIHDD]]))","v":0},{"$f":"SUMPRODUCT((KCINHDD[Month]=MONTH(KCITempAct[[#This Row],[Date]]))*(KCINHDD[Day]=DAY(KCITempAct[[#This Row],[Date]]))*KCINHDD[KCINHDD])","v":0.8833333333333333},{"$f":"IF(MONTH(KCITempAct[[#This Row],[Date]])=7,0,IF(MONTH(KCITempAct[[#This Row],[Date]])=8,0,KCITempAct[[#This Row],[KCINHDD]]))","v":0.8833333333333333},"Adj HDD and NDD =0 for July and August"]
["2021-06-02",78,55,{"$f":"AVERAGE(KCITempAct[[#This Row],[KCIHigh]:[KCILow]]\n)","v":66.5},{"$f":"IF(KCITempAct[[#This Row],[KCIAve]]<65,(65-KCITempAct[[#This Row],[KCIAve]]),0)","v":0},{"$f":"IF(MONTH(KCITempAct[[#This Row],[Date]])=7,0,IF(MONTH(KCITempAct[[#This Row],[Date]])=8,0,KCITempAct[[#This Row],[KCIHDD]]))","v":0},{"$f":"SUMPRODUCT((KCINHDD[Month]=MONTH(KCITempAct[[#This Row],[Date]]))*(KCINHDD[Day]=DAY(KCITempAct[[#This Row],[Date]]))*KCINHDD[KCINHDD])","v":0.65},{"$f":"IF(MONTH(KCITempAct[[#This Row],[Date]])=7,0,IF(MONTH(KCITempAct[[#This Row],[Date]])=8,0,KCITempAct[[#This Row],[KCINHDD]]))","v":0.65},"Adj HDD and NDD =0 for July and August"]
["2021-06-03",84,57,{"$f":"AVERAGE(KCITempAct[[#This Row],[KCIHigh]:[KCILow]]\n)","v":70.5},{"$f":"IF(KCITempAct[[#This Row],[KCIAve]]<65,(65-KCITempAct[[#This Row],[KCIAve]]),0)","v":0},{"$f":"IF(MONTH(KCITempAct[[#This Row],[Date]])=7,0,IF(MONTH(KCITempAct[[#This Row],[Date]])=8,0,KCITempAct[[#This Row],[KCIHDD]]))","v":0},{"$f":"SUMPRODUCT((KCINHDD[Month]=MONTH(KCITempAct[[#This Row],[Date]]))*(KCINHDD[Day]=DAY(KCITempAct[[#This Row],[Date]]))*KCINHDD[KCINHDD])","v":0.91666666666666663},{"$f":"IF(MONTH(KCITempAct[[#This Row],[Date]])=7,0,IF(MONTH(KCITempAct[[#This Row],[Date]])=8,0,KCITempAct[[#This Row],[KCINHDD]]))","v":0.91666666666666663},"Adj HDD and NDD =0 for July and August"]
["2021-06-04",87,58,{"$f":"AVERAGE(KCITempAct[[#This Row],[KCIHigh]:[KCILow]]\n)","v":72.5},{"$f":"IF(KCITempAct[[#This Row],[KCIAve]]<65,(65-KCITempAct[[#This Row],[KCIAve]]),0)","v":0},{"$f":"IF(MONTH(KCITempAct[[#This Row],[Date]])=7,0,IF(MONTH(KCITempAct[[#This Row],[Date]])=8,0,KCITempAct[[#This Row],[KCIHDD]]))","v":0},{"$f":"SUMPRODUCT((KCINHDD[Month]=MONTH(KCITempAct[[#This Row],[Date]]))*(KCINHDD[Day]=DAY(KCITempAct[[#This Row],[Date]]))*KCINHDD[KCINHDD])","v":1.2},{"$f":"IF(MONTH(KCITempAct[[#This Row],[Date]])=7,0,IF(MONTH(KCITempAct[[#This Row],[Date]])=8,0,KCITempAct[[#This Row],[KCINHDD]]))","v":1.2},"Adj HDD and NDD =0 for July and August"]
["2021-06-05",87,64,{"$f":"AVERAGE(KCITempAct[[#This Row],[KCIHigh]:[KCILow]]\n)","v":75.5},{"$f":"IF(KCITempAct[[#This Row],[KCIAve]]<65,(65-KCITempAct[[#This Row],[KCIAve]]),0)","v":0},{"$f":"IF(MONTH(KCITempAct[[#This Row],[Date]])=7,0,IF(MONTH(KCITempAct[[#This Row],[Date]])=8,0,KCITempAct[[#This Row],[KCIHDD]]))","v":0},{"$f":"SUMPRODUCT((KCINHDD[Month]=MONTH(KCITempAct[[#This Row],[Date]]))*(KCINHDD[Day]=DAY(KCITempAct[[#This Row],[Date]]))*KCINHDD[KCINHDD])","v":0.68333333333333335},{"$f":"IF(MONTH(KCITempAct[[#This Row],[Date]])=7,0,IF(MONTH(KCITempAct[[#This Row],[Date]])=8,0,KCITempAct[[#This Row],[KCINHDD]]))","v":0.68333333333333335},"Adj HDD and NDD =0 for July and August"]
["2021-06-06",85,65,{"$f":"AVERAGE(KCITempAct[[#This Row],[KCIHigh]:[KCILow]]\n)","v":75},{"$f":"IF(KCITempAct[[#This Row],[KCIAve]]<65,(65-KCITempAct[[#This Row],[KCIAve]]),0)","v":0},{"$f":"IF(MONTH(KCITempAct[[#This Row],[Date]])=7,0,IF(MONTH(KCITempAct[[#This Row],[Date]])=8,0,KCITempAct[[#This Row],[KCIHDD]]))","v":0},{"$f":"SUMPRODUCT((KCINHDD[Month]=MONTH(KCITempAct[[#This Row],[Date]]))*(KCINHDD[Day]=DAY(KCITempAct[[#This Row],[Date]]))*KCINHDD[KCINHDD])","v":0.31666666666666665},{"$f":"IF(MONTH(KCITempAct[[#This Row],[Date]])=7,0,IF(MONTH(KCITempAct[[#This Row],[Date]])=8,0,KCITempAct[[#This Row],[KCINHDD]]))","v":0.31666666666666665},"Adj HDD and NDD =0 for July and August"]
["2021-06-07",88,65,{"$f":"AVERAGE(KCITempAct[[#This Row],[KCIHigh]:[KCILow]]\n)","v":76.5},{"$f":"IF(KCITempAct[[#This Row],[KCIAve]]<65,(65-KCITempAct[[#This Row],[KCIAve]]),0)","v":0},{"$f":"IF(MONTH(KCITempAct[[#This Row],[Date]])=7,0,IF(MONTH(KCITempAct[[#This Row],[Date]])=8,0,KCITempAct[[#This Row],[KCIHDD]]))","v":0},{"$f":"SUMPRODUCT((KCINHDD[Month]=MONTH(KCITempAct[[#This Row],[Date]]))*(KCINHDD[Day]=DAY(KCITempAct[[#This Row],[Date]]))*KCINHDD[KCINHDD])","v":0.3},{"$f":"IF(MONTH(KCITempAct[[#This Row],[Date]])=7,0,IF(MONTH(KCITempAct[[#This Row],[Date]])=8,0,KCITempAct[[#This Row],[KCINHDD]]))","v":0.3},"Adj HDD and NDD =0 for July and August"]
["2021-06-08",89,68,{"$f":"AVERAGE(KCITempAct[[#This Row],[KCIHigh]:[KCILow]]\n)","v":78.5},{"$f":"IF(KCITempAct[[#This Row],[KCIAve]]<65,(65-KCITempAct[[#This Row],[KCIAve]]),0)","v":0},{"$f":"IF(MONTH(KCITempAct[[#This Row],[Date]])=7,0,IF(MONTH(KCITempAct[[#This Row],[Date]])=8,0,KCITempAct[[#This Row],[KCIHDD]]))","v":0},{"$f":"SUMPRODUCT((KCINHDD[Month]=MONTH(KCITempAct[[#This Row],[Date]]))*(KCINHDD[Day]=DAY(KCITempAct[[#This Row],[Date]]))*KCINHDD[KCINHDD])","v":0.21666666666666667},{"$f":"IF(MONTH(KCITempAct[[#This Row],[Date]])=7,0,IF(MONTH(KCITempAct[[#This Row],[Date]])=8,0,KCITempAct[[#This Row],[KCINHDD]]))","v":0.21666666666666667},"Adj HDD and NDD =0 for July and August"]
["2021-06-09",91,71,{"$f":"AVERAGE(KCITempAct[[#This Row],[KCIHigh]:[KCILow]]\n)","v":81},{"$f":"IF(KCITempAct[[#This Row],[KCIAve]]<65,(65-KCITempAct[[#This Row],[KCIAve]]),0)","v":0},{"$f":"IF(MONTH(KCITempAct[[#This Row],[Date]])=7,0,IF(MONTH(KCITempAct[[#This Row],[Date]])=8,0,KCITempAct[[#This Row],[KCIHDD]]))","v":0},{"$f":"SUMPRODUCT((KCINHDD[Month]=MONTH(KCITempAct[[#This Row],[Date]]))*(KCINHDD[Day]=DAY(KCITempAct[[#This Row],[Date]]))*KCINHDD[KCINHDD])","v":0.16666666666666666},{"$f":"IF(MONTH(KCITempAct[[#This Row],[Date]])=7,0,IF(MONTH(KCITempAct[[#This Row],[Date]])=8,0,KCITempAct[[#This Row],[KCINHDD]]))","v":0.16666666666666666},"Adj HDD and NDD =0 for July and August"]
["2021-06-10",93,73,{"$f":"AVERAGE(KCITempAct[[#This Row],[KCIHigh]:[KCILow]]\n)","v":83},{"$f":"IF(KCITempAct[[#This Row],[KCIAve]]<65,(65-KCITempAct[[#This Row],[KCIAve]]),0)","v":0},{"$f":"IF(MONTH(KCITempAct[[#This Row],[Date]])=7,0,IF(MONTH(KCITempAct[[#This Row],[Date]])=8,0,KCITempAct[[#This Row],[KCIHDD]]))","v":0},{"$f":"SUMPRODUCT((KCINHDD[Month]=MONTH(KCITempAct[[#This Row],[Date]]))*(KCINHDD[Day]=DAY(KCITempAct[[#This Row],[Date]]))*KCINHDD[KCINHDD])","v":3.3333333333333333E-2},{"$f":"IF(MONTH(KCITempAct[[#This Row],[Date]])=7,0,IF(MONTH(KCITempAct[[#This Row],[Date]])=8,0,KCITempAct[[#This Row],[KCINHDD]]))","v":3.3333333333333333E-2},"Adj HDD and NDD =0 for July and August"]
["2021-06-11",92,70,{"$f":"AVERAGE(KCITempAct[[#This Row],[KCIHigh]:[KCILow]]\n)","v":81},{"$f":"IF(KCITempAct[[#This Row],[KCIAve]]<65,(65-KCITempAct[[#This Row],[KCIAve]]),0)","v":0},{"$f":"IF(MONTH(KCITempAct[[#This Row],[Date]])=7,0,IF(MONTH(KCITempAct[[#This Row],[Date]])=8,0,KCITempAct[[#This Row],[KCIHDD]]))","v":0},{"$f":"SUMPRODUCT((KCINHDD[Month]=MONTH(KCITempAct[[#This Row],[Date]]))*(KCINHDD[Day]=DAY(KCITempAct[[#This Row],[Date]]))*KCINHDD[KCINHDD])","v":0.05},{"$f":"IF(MONTH(KCITempAct[[#This Row],[Date]])=7,0,IF(MONTH(KCITempAct[[#This Row],[Date]])=8,0,KCITempAct[[#This Row],[KCINHDD]]))","v":0.05},"Adj HDD and NDD =0 for July and August"]
["2021-06-12",88,70,{"$f":"AVERAGE(KCITempAct[[#This Row],[KCIHigh]:[KCILow]]\n)","v":79},{"$f":"IF(KCITempAct[[#This Row],[KCIAve]]<65,(65-KCITempAct[[#This Row],[KCIAve]]),0)","v":0},{"$f":"IF(MONTH(KCITempAct[[#This Row],[Date]])=7,0,IF(MONTH(KCITempAct[[#This Row],[Date]])=8,0,KCITempAct[[#This Row],[KCIHDD]]))","v":0},{"$f":"SUMPRODUCT((KCINHDD[Month]=MONTH(KCITempAct[[#This Row],[Date]]))*(KCINHDD[Day]=DAY(KCITempAct[[#This Row],[Date]]))*KCINHDD[KCINHDD])","v":3.3333333333333333E-2},{"$f":"IF(MONTH(KCITempAct[[#This Row],[Date]])=7,0,IF(MONTH(KCITempAct[[#This Row],[Date]])=8,0,KCITempAct[[#This Row],[KCINHDD]]))","v":3.3333333333333333E-2},"Adj HDD and NDD =0 for July and August"]
["2021-06-13",91,64,{"$f":"AVERAGE(KCITempAct[[#This Row],[KCIHigh]:[KCILow]]\n)","v":77.5},{"$f":"IF(KCITempAct[[#This Row],[KCIAve]]<65,(65-KCITempAct[[#This Row],[KCIAve]]),0)","v":0},{"$f":"IF(MONTH(KCITempAct[[#This Row],[Date]])=7,0,IF(MONTH(KCITempAct[[#This Row],[Date]])=8,0,KCITempAct[[#This Row],[KCIHDD]]))","v":0},{"$f":"SUMPRODUCT((KCINHDD[Month]=MONTH(KCITempAct[[#This Row],[Date]]))*(KCINHDD[Day]=DAY(KCITempAct[[#This Row],[Date]]))*KCINHDD[KCINHDD])","v":0.05},{"$f":"IF(MONTH(KCITempAct[[#This Row],[Date]])=7,0,IF(MONTH(KCITempAct[[#This Row],[Date]])=8,0,KCITempAct[[#This Row],[KCINHDD]]))","v":0.05},"Adj HDD and NDD =0 for July and August"]
["2021-06-14",94,65,{"$f":"AVERAGE(KCITempAct[[#This Row],[KCIHigh]:[KCILow]]\n)","v":79.5},{"$f":"IF(KCITempAct[[#This Row],[KCIAve]]<65,(65-KCITempAct[[#This Row],[KCIAve]]),0)","v":0},{"$f":"IF(MONTH(KCITempAct[[#This Row],[Date]])=7,0,IF(MONTH(KCITempAct[[#This Row],[Date]])=8,0,KCITempAct[[#This Row],[KCIHDD]]))","v":0},{"$f":"SUMPRODUCT((KCINHDD[Month]=MONTH(KCITempAct[[#This Row],[Date]]))*(KCINHDD[Day]=DAY(KCITempAct[[#This Row],[Date]]))*KCINHDD[KCINHDD])","v":0},{"$f":"IF(MONTH(KCITempAct[[#This Row],[Date]])=7,0,IF(MONTH(KCITempAct[[#This Row],[Date]])=8,0,KCITempAct[[#This Row],[KCINHDD]]))","v":0},"Adj HDD and NDD =0 for July and August"]
["2021-06-15",93,72,{"$f":"AVERAGE(KCITempAct[[#This Row],[KCIHigh]:[KCILow]]\n)","v":82.5},{"$f":"IF(KCITempAct[[#This Row],[KCIAve]]<65,(65-KCITempAct[[#This Row],[KCIAve]]),0)","v":0},{"$f":"IF(MONTH(KCITempAct[[#This Row],[Date]])=7,0,IF(MONTH(KCITempAct[[#This Row],[Date]])=8,0,KCITempAct[[#This Row],[KCIHDD]]))","v":0},{"$f":"SUMPRODUCT((KCINHDD[Month]=MONTH(KCITempAct[[#This Row],[Date]]))*(KCINHDD[Day]=DAY(KCITempAct[[#This Row],[Date]]))*KCINHDD[KCINHDD])","v":0},{"$f":"IF(MONTH(KCITempAct[[#This Row],[Date]])=7,0,IF(MONTH(KCITempAct[[#This Row],[Date]])=8,0,KCITempAct[[#This Row],[KCINHDD]]))","v":0},"Adj HDD and NDD =0 for July and August"]
["2021-06-16",93,71,{"$f":"AVERAGE(KCITempAct[[#This Row],[KCIHigh]:[KCILow]]\n)","v":82},{"$f":"IF(KCITempAct[[#This Row],[KCIAve]]<65,(65-KCITempAct[[#This Row],[KCIAve]]),0)","v":0},{"$f":"IF(MONTH(KCITempAct[[#This Row],[Date]])=7,0,IF(MONTH(KCITempAct[[#This Row],[Date]])=8,0,KCITempAct[[#This Row],[KCIHDD]]))","v":0},{"$f":"SUMPRODUCT((KCINHDD[Month]=MONTH(KCITempAct[[#This Row],[Date]]))*(KCINHDD[Day]=DAY(KCITempAct[[#This Row],[Date]]))*KCINHDD[KCINHDD])","v":0.25},{"$f":"IF(MONTH(KCITempAct[[#This Row],[Date]])=7,0,IF(MONTH(KCITempAct[[#This Row],[Date]])=8,0,KCITempAct[[#This Row],[KCINHDD]]))","v":0.25},"Adj HDD and NDD =0 for July and August"]
["2021-06-17",98,76,{"$f":"AVERAGE(KCITempAct[[#This Row],[KCIHigh]:[KCILow]]\n)","v":87},{"$f":"IF(KCITempAct[[#This Row],[KCIAve]]<65,(65-KCITempAct[[#This Row],[KCIAve]]),0)","v":0},{"$f":"IF(MONTH(KCITempAct[[#This Row],[Date]])=7,0,IF(MONTH(KCITempAct[[#This Row],[Date]])=8,0,KCITempAct[[#This Row],[KCIHDD]]))","v":0},{"$f":"SUMPRODUCT((KCINHDD[Month]=MONTH(KCITempAct[[#This Row],[Date]]))*(KCINHDD[Day]=DAY(KCITempAct[[#This Row],[Date]]))*KCINHDD[KCINHDD])","v":0.25},{"$f":"IF(MONTH(KCITempAct[[#This Row],[Date]])=7,0,IF(MONTH(KCITempAct[[#This Row],[Date]])=8,0,KCITempAct[[#This Row],[KCINHDD]]))","v":0.25},"Adj HDD and NDD =0 for July and August"]
["2021-06-18",98,76,{"$f":"AVERAGE(KCITempAct[[#This Row],[KCIHigh]:[KCILow]]\n)","v":87},{"$f":"IF(KCITempAct[[#This Row],[KCIAve]]<65,(65-KCITempAct[[#This Row],[KCIAve]]),0)","v":0},{"$f":"IF(MONTH(KCITempAct[[#This Row],[Date]])=7,0,IF(MONTH(KCITempAct[[#This Row],[Date]])=8,0,KCITempAct[[#This Row],[KCIHDD]]))","v":0},{"$f":"SUMPRODUCT((KCINHDD[Month]=MONTH(KCITempAct[[#This Row],[Date]]))*(KCINHDD[Day]=DAY(KCITempAct[[#This Row],[Date]]))*KCINHDD[KCINHDD])","v":8.3333333333333329E-2},{"$f":"IF(MONTH(KCITempAct[[#This Row],[Date]])=7,0,IF(MONTH(KCITempAct[[#This Row],[Date]])=8,0,KCITempAct[[#This Row],[KCINHDD]]))","v":8.3333333333333329E-2},"Adj HDD and NDD =0 for July and August"]
["2021-06-19",94,78,{"$f":"AVERAGE(KCITempAct[[#This Row],[KCIHigh]:[KCILow]]\n)","v":86},{"$f":"IF(KCITempAct[[#This Row],[KCIAve]]<65,(65-KCITempAct[[#This Row],[KCIAve]]),0)","v":0},{"$f":"IF(MONTH(KCITempAct[[#This Row],[Date]])=7,0,IF(MONTH(KCITempAct[[#This Row],[Date]])=8,0,KCITempAct[[#This Row],[KCIHDD]]))","v":0},{"$f":"SUMPRODUCT((KCINHDD[Month]=MONTH(KCITempAct[[#This Row],[Date]]))*(KCINHDD[Day]=DAY(KCITempAct[[#This Row],[Date]]))*KCINHDD[KCINHDD])","v":6.6666666666666666E-2},{"$f":"IF(MONTH(KCITempAct[[#This Row],[Date]])=7,0,IF(MONTH(KCITempAct[[#This Row],[Date]])=8,0,KCITempAct[[#This Row],[KCINHDD]]))","v":6.6666666666666666E-2},"Adj HDD and NDD =0 for July and August"]
["2021-06-20",94,72,{"$f":"AVERAGE(KCITempAct[[#This Row],[KCIHigh]:[KCILow]]\n)","v":83},{"$f":"IF(KCITempAct[[#This Row],[KCIAve]]<65,(65-KCITempAct[[#This Row],[KCIAve]]),0)","v":0},{"$f":"IF(MONTH(KCITempAct[[#This Row],[Date]])=7,0,IF(MONTH(KCITempAct[[#This Row],[Date]])=8,0,KCITempAct[[#This Row],[KCIHDD]]))","v":0},{"$f":"SUMPRODUCT((KCINHDD[Month]=MONTH(KCITempAct[[#This Row],[Date]]))*(KCINHDD[Day]=DAY(KCITempAct[[#This Row],[Date]]))*KCINHDD[KCINHDD])","v":0.05},{"$f":"IF(MONTH(KCITempAct[[#This Row],[Date]])=7,0,IF(MONTH(KCITempAct[[#This Row],[Date]])=8,0,KCITempAct[[#This Row],[KCINHDD]]))","v":0.05},"Adj HDD and NDD =0 for July and August"]
["2021-06-21",79,62,{"$f":"AVERAGE(KCITempAct[[#This Row],[KCIHigh]:[KCILow]]\n)","v":70.5},{"$f":"IF(KCITempAct[[#This Row],[KCIAve]]<65,(65-KCITempAct[[#This Row],[KCIAve]]),0)","v":0},{"$f":"IF(MONTH(KCITempAct[[#This Row],[Date]])=7,0,IF(MONTH(KCITempAct[[#This Row],[Date]])=8,0,KCITempAct[[#This Row],[KCIHDD]]))","v":0},{"$f":"SUMPRODUCT((KCINHDD[Month]=MONTH(KCITempAct[[#This Row],[Date]]))*(KCINHDD[Day]=DAY(KCITempAct[[#This Row],[Date]]))*KCINHDD[KCINHDD])","v":0.1},{"$f":"IF(MONTH(KCITempAct[[#This Row],[Date]])=7,0,IF(MONTH(KCITempAct[[#This Row],[Date]])=8,0,KCITempAct[[#This Row],[KCINHDD]]))","v":0.1},"Adj HDD and NDD =0 for July and August"]
["2021-06-22",87,53,{"$f":"AVERAGE(KCITempAct[[#This Row],[KCIHigh]:[KCILow]]\n)","v":70},{"$f":"IF(KCITempAct[[#This Row],[KCIAve]]<65,(65-KCITempAct[[#This Row],[KCIAve]]),0)","v":0},{"$f":"IF(MONTH(KCITempAct[[#This Row],[Date]])=7,0,IF(MONTH(KCITempAct[[#This Row],[Date]])=8,0,KCITempAct[[#This Row],[KCIHDD]]))","v":0},{"$f":"SUMPRODUCT((KCINHDD[Month]=MONTH(KCITempAct[[#This Row],[Date]]))*(KCINHDD[Day]=DAY(KCITempAct[[#This Row],[Date]]))*KCINHDD[KCINHDD])","v":0},{"$f":"IF(MONTH(KCITempAct[[#This Row],[Date]])=7,0,IF(MONTH(KCITempAct[[#This Row],[Date]])=8,0,KCITempAct[[#This Row],[KCINHDD]]))","v":0},"Adj HDD and NDD =0 for July and August"]
["2021-06-23",89,68,{"$f":"AVERAGE(KCITempAct[[#This Row],[KCIHigh]:[KCILow]]\n)","v":78.5},{"$f":"IF(KCITempAct[[#This Row],[KCIAve]]<65,(65-KCITempAct[[#This Row],[KCIAve]]),0)","v":0},{"$f":"IF(MONTH(KCITempAct[[#This Row],[Date]])=7,0,IF(MONTH(KCITempAct[[#This Row],[Date]])=8,0,KCITempAct[[#This Row],[KCIHDD]]))","v":0},{"$f":"SUMPRODUCT((KCINHDD[Month]=MONTH(KCITempAct[[#This Row],[Date]]))*(KCINHDD[Day]=DAY(KCITempAct[[#This Row],[Date]]))*KCINHDD[KCINHDD])","v":0},{"$f":"IF(MONTH(KCITempAct[[#This Row],[Date]])=7,0,IF(MONTH(KCITempAct[[#This Row],[Date]])=8,0,KCITempAct[[#This Row],[KCINHDD]]))","v":0},"Adj HDD and NDD =0 for July and August"]
["2021-06-24",89,71,{"$f":"AVERAGE(KCITempAct[[#This Row],[KCIHigh]:[KCILow]]\n)","v":80},{"$f":"IF(KCITempAct[[#This Row],[KCIAve]]<65,(65-KCITempAct[[#This Row],[KCIAve]]),0)","v":0},{"$f":"IF(MONTH(KCITempAct[[#This Row],[Date]])=7,0,IF(MONTH(KCITempAct[[#This Row],[Date]])=8,0,KCITempAct[[#This Row],[KCIHDD]]))","v":0},{"$f":"SUMPRODUCT((KCINHDD[Month]=MONTH(KCITempAct[[#This Row],[Date]]))*(KCINHDD[Day]=DAY(KCITempAct[[#This Row],[Date]]))*KCINHDD[KCINHDD])","v":0},{"$f":"IF(MONTH(KCITempAct[[#This Row],[Date]])=7,0,IF(MONTH(KCITempAct[[#This Row],[Date]])=8,0,KCITempAct[[#This Row],[KCINHDD]]))","v":0},"Adj HDD and NDD =0 for July and August"]
["2021-06-25",91,70,{"$f":"AVERAGE(KCITempAct[[#This Row],[KCIHigh]:[KCILow]]\n)","v":80.5},{"$f":"IF(KCITempAct[[#This Row],[KCIAve]]<65,(65-KCITempAct[[#This Row],[KCIAve]]),0)","v":0},{"$f":"IF(MONTH(KCITempAct[[#This Row],[Date]])=7,0,IF(MONTH(KCITempAct[[#This Row],[Date]])=8,0,KCITempAct[[#This Row],[KCIHDD]]))","v":0},{"$f":"SUMPRODUCT((KCINHDD[Month]=MONTH(KCITempAct[[#This Row],[Date]]))*(KCINHDD[Day]=DAY(KCITempAct[[#This Row],[Date]]))*KCINHDD[KCINHDD])","v":0.1},{"$f":"IF(MONTH(KCITempAct[[#This Row],[Date]])=7,0,IF(MONTH(KCITempAct[[#This Row],[Date]])=8,0,KCITempAct[[#This Row],[KCINHDD]]))","v":0.1},"Adj HDD and NDD =0 for July and August"]
["2021-06-26",84,67,{"$f":"AVERAGE(KCITempAct[[#This Row],[KCIHigh]:[KCILow]]\n)","v":75.5},{"$f":"IF(KCITempAct[[#This Row],[KCIAve]]<65,(65-KCITempAct[[#This Row],[KCIAve]]),0)","v":0},{"$f":"IF(MONTH(KCITempAct[[#This Row],[Date]])=7,0,IF(MONTH(KCITempAct[[#This Row],[Date]])=8,0,KCITempAct[[#This Row],[KCIHDD]]))","v":0},{"$f":"SUMPRODUCT((KCINHDD[Month]=MONTH(KCITempAct[[#This Row],[Date]]))*(KCINHDD[Day]=DAY(KCITempAct[[#This Row],[Date]]))*KCINHDD[KCINHDD])","v":0.05},{"$f":"IF(MONTH(KCITempAct[[#This Row],[Date]])=7,0,IF(MONTH(KCITempAct[[#This Row],[Date]])=8,0,KCITempAct[[#This Row],[KCINHDD]]))","v":0.05},"Adj HDD and NDD =0 for July and August"]
["2021-06-27",81,66,{"$f":"AVERAGE(KCITempAct[[#This Row],[KCIHigh]:[KCILow]]\n)","v":73.5},{"$f":"IF(KCITempAct[[#This Row],[KCIAve]]<65,(65-KCITempAct[[#This Row],[KCIAve]]),0)","v":0},{"$f":"IF(MONTH(KCITempAct[[#This Row],[Date]])=7,0,IF(MONTH(KCITempAct[[#This Row],[Date]])=8,0,KCITempAct[[#This Row],[KCIHDD]]))","v":0},{"$f":"SUMPRODUCT((KCINHDD[Month]=MONTH(KCITempAct[[#This Row],[Date]]))*(KCINHDD[Day]=DAY(KCITempAct[[#This Row],[Date]]))*KCINHDD[KCINHDD])","v":3.3333333333333333E-2},{"$f":"IF(MONTH(KCITempAct[[#This Row],[Date]])=7,0,IF(MONTH(KCITempAct[[#This Row],[Date]])=8,0,KCITempAct[[#This Row],[KCINHDD]]))","v":3.3333333333333333E-2},"Adj HDD and NDD =0 for July and August"]
["2021-06-28",80,70,{"$f":"AVERAGE(KCITempAct[[#This Row],[KCIHigh]:[KCILow]]\n)","v":75},{"$f":"IF(KCITempAct[[#This Row],[KCIAve]]<65,(65-KCITempAct[[#This Row],[KCIAve]]),0)","v":0},{"$f":"IF(MONTH(KCITempAct[[#This Row],[Date]])=7,0,IF(MONTH(KCITempAct[[#This Row],[Date]])=8,0,KCITempAct[[#This Row],[KCIHDD]]))","v":0},{"$f":"SUMPRODUCT((KCINHDD[Month]=MONTH(KCITempAct[[#This Row],[Date]]))*(KCINHDD[Day]=DAY(KCITempAct[[#This Row],[Date]]))*KCINHDD[KCINHDD])","v":0},{"$f":"IF(MONTH(KCITempAct[[#This Row],[Date]])=7,0,IF(MONTH(KCITempAct[[#This Row],[Date]])=8,0,KCITempAct[[#This Row],[KCINHDD]]))","v":0},"Adj HDD and NDD =0 for July and August"]
["2021-06-29",81,71,{"$f":"AVERAGE(KCITempAct[[#This Row],[KCIHigh]:[KCILow]]\n)","v":76},{"$f":"IF(KCITempAct[[#This Row],[KCIAve]]<65,(65-KCITempAct[[#This Row],[KCIAve]]),0)","v":0},{"$f":"IF(MONTH(KCITempAct[[#This Row],[Date]])=7,0,IF(MONTH(KCITempAct[[#This Row],[Date]])=8,0,KCITempAct[[#This Row],[KCIHDD]]))","v":0},{"$f":"SUMPRODUCT((KCINHDD[Month]=MONTH(KCITempAct[[#This Row],[Date]]))*(KCINHDD[Day]=DAY(KCITempAct[[#This Row],[Date]]))*KCINHDD[KCINHDD])","v":1.6666666666666666E-2},{"$f":"IF(MONTH(KCITempAct[[#This Row],[Date]])=7,0,IF(MONTH(KCITempAct[[#This Row],[Date]])=8,0,KCITempAct[[#This Row],[KCINHDD]]))","v":1.6666666666666666E-2},"Adj HDD and NDD =0 for July and August"]
["2021-06-30",78,70,{"$f":"AVERAGE(KCITempAct[[#This Row],[KCIHigh]:[KCILow]]\n)","v":74},{"$f":"IF(KCITempAct[[#This Row],[KCIAve]]<65,(65-KCITempAct[[#This Row],[KCIAve]]),0)","v":0},{"$f":"IF(MONTH(KCITempAct[[#This Row],[Date]])=7,0,IF(MONTH(KCITempAct[[#This Row],[Date]])=8,0,KCITempAct[[#This Row],[KCIHDD]]))","v":0},{"$f":"SUMPRODUCT((KCINHDD[Month]=MONTH(KCITempAct[[#This Row],[Date]]))*(KCINHDD[Day]=DAY(KCITempAct[[#This Row],[Date]]))*KCINHDD[KCINHDD])","v":0},{"$f":"IF(MONTH(KCITempAct[[#This Row],[Date]])=7,0,IF(MONTH(KCITempAct[[#This Row],[Date]])=8,0,KCITempAct[[#This Row],[KCINHDD]]))","v":0},"Adj HDD and NDD =0 for July and August"]
["2021-07-01",86,72,{"$f":"AVERAGE(KCITempAct[[#This Row],[KCIHigh]:[KCILow]]\n)","v":79},{"$f":"IF(KCITempAct[[#This Row],[KCIAve]]<65,(65-KCITempAct[[#This Row],[KCIAve]]),0)","v":0},{"$f":"IF(MONTH(KCITempAct[[#This Row],[Date]])=7,0,IF(MONTH(KCITempAct[[#This Row],[Date]])=8,0,KCITempAct[[#This Row],[KCIHDD]]))","v":0},{"$f":"SUMPRODUCT((KCINHDD[Month]=MONTH(KCITempAct[[#This Row],[Date]]))*(KCINHDD[Day]=DAY(KCITempAct[[#This Row],[Date]]))*KCINHDD[KCINHDD])","v":1.6666666666666666E-2},{"$f":"IF(MONTH(KCITempAct[[#This Row],[Date]])=7,0,IF(MONTH(KCITempAct[[#This Row],[Date]])=8,0,KCITempAct[[#This Row],[KCINHDD]]))","v":0},"Adj HDD and NDD =0 for July and August"]
["2021-07-02",88,66,{"$f":"AVERAGE(KCITempAct[[#This Row],[KCIHigh]:[KCILow]]\n)","v":77},{"$f":"IF(KCITempAct[[#This Row],[KCIAve]]<65,(65-KCITempAct[[#This Row],[KCIAve]]),0)","v":0},{"$f":"IF(MONTH(KCITempAct[[#This Row],[Date]])=7,0,IF(MONTH(KCITempAct[[#This Row],[Date]])=8,0,KCITempAct[[#This Row],[KCIHDD]]))","v":0},{"$f":"SUMPRODUCT((KCINHDD[Month]=MONTH(KCITempAct[[#This Row],[Date]]))*(KCINHDD[Day]=DAY(KCITempAct[[#This Row],[Date]]))*KCINHDD[KCINHDD])","v":0.05},{"$f":"IF(MONTH(KCITempAct[[#This Row],[Date]])=7,0,IF(MONTH(KCITempAct[[#This Row],[Date]])=8,0,KCITempAct[[#This Row],[KCINHDD]]))","v":0},"Adj HDD and NDD =0 for July and August"]
["2021-07-03",88,70,{"$f":"AVERAGE(KCITempAct[[#This Row],[KCIHigh]:[KCILow]]\n)","v":79},{"$f":"IF(KCITempAct[[#This Row],[KCIAve]]<65,(65-KCITempAct[[#This Row],[KCIAve]]),0)","v":0},{"$f":"IF(MONTH(KCITempAct[[#This Row],[Date]])=7,0,IF(MONTH(KCITempAct[[#This Row],[Date]])=8,0,KCITempAct[[#This Row],[KCIHDD]]))","v":0},{"$f":"SUMPRODUCT((KCINHDD[Month]=MONTH(KCITempAct[[#This Row],[Date]]))*(KCINHDD[Day]=DAY(KCITempAct[[#This Row],[Date]]))*KCINHDD[KCINHDD])","v":3.3333333333333333E-2},{"$f":"IF(MONTH(KCITempAct[[#This Row],[Date]])=7,0,IF(MONTH(KCITempAct[[#This Row],[Date]])=8,0,KCITempAct[[#This Row],[KCINHDD]]))","v":0},"Adj HDD and NDD =0 for July and August"]
["2021-07-04",88,67,{"$f":"AVERAGE(KCITempAct[[#This Row],[KCIHigh]:[KCILow]]\n)","v":77.5},{"$f":"IF(KCITempAct[[#This Row],[KCIAve]]<65,(65-KCITempAct[[#This Row],[KCIAve]]),0)","v":0},{"$f":"IF(MONTH(KCITempAct[[#This Row],[Date]])=7,0,IF(MONTH(KCITempAct[[#This Row],[Date]])=8,0,KCITempAct[[#This Row],[KCIHDD]]))","v":0},{"$f":"SUMPRODUCT((KCINHDD[Month]=MONTH(KCITempAct[[#This Row],[Date]]))*(KCINHDD[Day]=DAY(KCITempAct[[#This Row],[Date]]))*KCINHDD[KCINHDD])","v":8.3333333333333329E-2},{"$f":"IF(MONTH(KCITempAct[[#This Row],[Date]])=7,0,IF(MONTH(KCITempAct[[#This Row],[Date]])=8,0,KCITempAct[[#This Row],[KCINHDD]]))","v":0},"Adj HDD and NDD =0 for July and August"]
["2021-07-05",89,68,{"$f":"AVERAGE(KCITempAct[[#This Row],[KCIHigh]:[KCILow]]\n)","v":78.5},{"$f":"IF(KCITempAct[[#This Row],[KCIAve]]<65,(65-KCITempAct[[#This Row],[KCIAve]]),0)","v":0},{"$f":"IF(MONTH(KCITempAct[[#This Row],[Date]])=7,0,IF(MONTH(KCITempAct[[#This Row],[Date]])=8,0,KCITempAct[[#This Row],[KCIHDD]]))","v":0},{"$f":"SUMPRODUCT((KCINHDD[Month]=MONTH(KCITempAct[[#This Row],[Date]]))*(KCINHDD[Day]=DAY(KCITempAct[[#This Row],[Date]]))*KCINHDD[KCINHDD])","v":1.6666666666666666E-2},{"$f":"IF(MONTH(KCITempAct[[#This Row],[Date]])=7,0,IF(MONTH(KCITempAct[[#This Row],[Date]])=8,0,KCITempAct[[#This Row],[KCINHDD]]))","v":0},"Adj HDD and NDD =0 for July and August"]
["2021-07-06",88,67,{"$f":"AVERAGE(KCITempAct[[#This Row],[KCIHigh]:[KCILow]]\n)","v":77.5},{"$f":"IF(KCITempAct[[#This Row],[KCIAve]]<65,(65-KCITempAct[[#This Row],[KCIAve]]),0)","v":0},{"$f":"IF(MONTH(KCITempAct[[#This Row],[Date]])=7,0,IF(MONTH(KCITempAct[[#This Row],[Date]])=8,0,KCITempAct[[#This Row],[KCIHDD]]))","v":0},{"$f":"SUMPRODUCT((KCINHDD[Month]=MONTH(KCITempAct[[#This Row],[Date]]))*(KCINHDD[Day]=DAY(KCITempAct[[#This Row],[Date]]))*KCINHDD[KCINHDD])","v":0},{"$f":"IF(MONTH(KCITempAct[[#This Row],[Date]])=7,0,IF(MONTH(KCITempAct[[#This Row],[Date]])=8,0,KCITempAct[[#This Row],[KCINHDD]]))","v":0},"Adj HDD and NDD =0 for July and August"]
["2021-07-07",85,67,{"$f":"AVERAGE(KCITempAct[[#This Row],[KCIHigh]:[KCILow]]\n)","v":76},{"$f":"IF(KCITempAct[[#This Row],[KCIAve]]<65,(65-KCITempAct[[#This Row],[KCIAve]]),0)","v":0},{"$f":"IF(MONTH(KCITempAct[[#This Row],[Date]])=7,0,IF(MONTH(KCITempAct[[#This Row],[Date]])=8,0,KCITempAct[[#This Row],[KCIHDD]]))","v":0},{"$f":"SUMPRODUCT((KCINHDD[Month]=MONTH(KCITempAct[[#This Row],[Date]]))*(KCINHDD[Day]=DAY(KCITempAct[[#This Row],[Date]]))*KCINHDD[KCINHDD])","v":0},{"$f":"IF(MONTH(KCITempAct[[#This Row],[Date]])=7,0,IF(MONTH(KCITempAct[[#This Row],[Date]])=8,0,KCITempAct[[#This Row],[KCINHDD]]))","v":0},"Adj HDD and NDD =0 for July and August"]
["2021-07-08",85,65,{"$f":"AVERAGE(KCITempAct[[#This Row],[KCIHigh]:[KCILow]]\n)","v":75},{"$f":"IF(KCITempAct[[#This Row],[KCIAve]]<65,(65-KCITempAct[[#This Row],[KCIAve]]),0)","v":0},{"$f":"IF(MONTH(KCITempAct[[#This Row],[Date]])=7,0,IF(MONTH(KCITempAct[[#This Row],[Date]])=8,0,KCITempAct[[#This Row],[KCIHDD]]))","v":0},{"$f":"SUMPRODUCT((KCINHDD[Month]=MONTH(KCITempAct[[#This Row],[Date]]))*(KCINHDD[Day]=DAY(KCITempAct[[#This Row],[Date]]))*KCINHDD[KCINHDD])","v":6.6666666666666666E-2},{"$f":"IF(MONTH(KCITempAct[[#This Row],[Date]])=7,0,IF(MONTH(KCITempAct[[#This Row],[Date]])=8,0,KCITempAct[[#This Row],[KCINHDD]]))","v":0},"Adj HDD and NDD =0 for July and August"]
["2021-07-09",93,69,{"$f":"AVERAGE(KCITempAct[[#This Row],[KCIHigh]:[KCILow]]\n)","v":81},{"$f":"IF(KCITempAct[[#This Row],[KCIAve]]<65,(65-KCITempAct[[#This Row],[KCIAve]]),0)","v":0},{"$f":"IF(MONTH(KCITempAct[[#This Row],[Date]])=7,0,IF(MONTH(KCITempAct[[#This Row],[Date]])=8,0,KCITempAct[[#This Row],[KCIHDD]]))","v":0},{"$f":"SUMPRODUCT((KCINHDD[Month]=MONTH(KCITempAct[[#This Row],[Date]]))*(KCINHDD[Day]=DAY(KCITempAct[[#This Row],[Date]]))*KCINHDD[KCINHDD])","v":0},{"$f":"IF(MONTH(KCITempAct[[#This Row],[Date]])=7,0,IF(MONTH(KCITempAct[[#This Row],[Date]])=8,0,KCITempAct[[#This Row],[KCINHDD]]))","v":0},"Adj HDD and NDD =0 for July and August"]
["2021-07-10",85,65,{"$f":"AVERAGE(KCITempAct[[#This Row],[KCIHigh]:[KCILow]]\n)","v":75},{"$f":"IF(KCITempAct[[#This Row],[KCIAve]]<65,(65-KCITempAct[[#This Row],[KCIAve]]),0)","v":0},{"$f":"IF(MONTH(KCITempAct[[#This Row],[Date]])=7,0,IF(MONTH(KCITempAct[[#This Row],[Date]])=8,0,KCITempAct[[#This Row],[KCIHDD]]))","v":0},{"$f":"SUMPRODUCT((KCINHDD[Month]=MONTH(KCITempAct[[#This Row],[Date]]))*(KCINHDD[Day]=DAY(KCITempAct[[#This Row],[Date]]))*KCINHDD[KCINHDD])","v":0},{"$f":"IF(MONTH(KCITempAct[[#This Row],[Date]])=7,0,IF(MONTH(KCITempAct[[#This Row],[Date]])=8,0,KCITempAct[[#This Row],[KCINHDD]]))","v":0},"Adj HDD and NDD =0 for July and August"]
["2021-07-11",74,64,{"$f":"AVERAGE(KCITempAct[[#This Row],[KCIHigh]:[KCILow]]\n)","v":69},{"$f":"IF(KCITempAct[[#This Row],[KCIAve]]<65,(65-KCITempAct[[#This Row],[KCIAve]]),0)","v":0},{"$f":"IF(MONTH(KCITempAct[[#This Row],[Date]])=7,0,IF(MONTH(KCITempAct[[#This Row],[Date]])=8,0,KCITempAct[[#This Row],[KCIHDD]]))","v":0},{"$f":"SUMPRODUCT((KCINHDD[Month]=MONTH(KCITempAct[[#This Row],[Date]]))*(KCINHDD[Day]=DAY(KCITempAct[[#This Row],[Date]]))*KCINHDD[KCINHDD])","v":0},{"$f":"IF(MONTH(KCITempAct[[#This Row],[Date]])=7,0,IF(MONTH(KCITempAct[[#This Row],[Date]])=8,0,KCITempAct[[#This Row],[KCINHDD]]))","v":0},"Adj HDD and NDD =0 for July and August"]
["2021-07-12",82,65,{"$f":"AVERAGE(KCITempAct[[#This Row],[KCIHigh]:[KCILow]]\n)","v":73.5},{"$f":"IF(KCITempAct[[#This Row],[KCIAve]]<65,(65-KCITempAct[[#This Row],[KCIAve]]),0)","v":0},{"$f":"IF(MONTH(KCITempAct[[#This Row],[Date]])=7,0,IF(MONTH(KCITempAct[[#This Row],[Date]])=8,0,KCITempAct[[#This Row],[KCIHDD]]))","v":0},{"$f":"SUMPRODUCT((KCINHDD[Month]=MONTH(KCITempAct[[#This Row],[Date]]))*(KCINHDD[Day]=DAY(KCITempAct[[#This Row],[Date]]))*KCINHDD[KCINHDD])","v":0},{"$f":"IF(MONTH(KCITempAct[[#This Row],[Date]])=7,0,IF(MONTH(KCITempAct[[#This Row],[Date]])=8,0,KCITempAct[[#This Row],[KCINHDD]]))","v":0},"Adj HDD and NDD =0 for July and August"]
["2021-07-13",87,62,{"$f":"AVERAGE(KCITempAct[[#This Row],[KCIHigh]:[KCILow]]\n)","v":74.5},{"$f":"IF(KCITempAct[[#This Row],[KCIAve]]<65,(65-KCITempAct[[#This Row],[KCIAve]]),0)","v":0},{"$f":"IF(MONTH(KCITempAct[[#This Row],[Date]])=7,0,IF(MONTH(KCITempAct[[#This Row],[Date]])=8,0,KCITempAct[[#This Row],[KCIHDD]]))","v":0},{"$f":"SUMPRODUCT((KCINHDD[Month]=MONTH(KCITempAct[[#This Row],[Date]]))*(KCINHDD[Day]=DAY(KCITempAct[[#This Row],[Date]]))*KCINHDD[KCINHDD])","v":0},{"$f":"IF(MONTH(KCITempAct[[#This Row],[Date]])=7,0,IF(MONTH(KCITempAct[[#This Row],[Date]])=8,0,KCITempAct[[#This Row],[KCINHDD]]))","v":0},"Adj HDD and NDD =0 for July and August"]
["2021-07-14",90,75,{"$f":"AVERAGE(KCITempAct[[#This Row],[KCIHigh]:[KCILow]]\n)","v":82.5},{"$f":"IF(KCITempAct[[#This Row],[KCIAve]]<65,(65-KCITempAct[[#This Row],[KCIAve]]),0)","v":0},{"$f":"IF(MONTH(KCITempAct[[#This Row],[Date]])=7,0,IF(MONTH(KCITempAct[[#This Row],[Date]])=8,0,KCITempAct[[#This Row],[KCIHDD]]))","v":0},{"$f":"SUMPRODUCT((KCINHDD[Month]=MONTH(KCITempAct[[#This Row],[Date]]))*(KCINHDD[Day]=DAY(KCITempAct[[#This Row],[Date]]))*KCINHDD[KCINHDD])","v":0},{"$f":"IF(MONTH(KCITempAct[[#This Row],[Date]])=7,0,IF(MONTH(KCITempAct[[#This Row],[Date]])=8,0,KCITempAct[[#This Row],[KCINHDD]]))","v":0},"Adj HDD and NDD =0 for July and August"]
["2021-07-15",80,70,{"$f":"AVERAGE(KCITempAct[[#This Row],[KCIHigh]:[KCILow]]\n)","v":75},{"$f":"IF(KCITempAct[[#This Row],[KCIAve]]<65,(65-KCITempAct[[#This Row],[KCIAve]]),0)","v":0},{"$f":"IF(MONTH(KCITempAct[[#This Row],[Date]])=7,0,IF(MONTH(KCITempAct[[#This Row],[Date]])=8,0,KCITempAct[[#This Row],[KCIHDD]]))","v":0},{"$f":"SUMPRODUCT((KCINHDD[Month]=MONTH(KCITempAct[[#This Row],[Date]]))*(KCINHDD[Day]=DAY(KCITempAct[[#This Row],[Date]]))*KCINHDD[KCINHDD])","v":3.3333333333333333E-2},{"$f":"IF(MONTH(KCITempAct[[#This Row],[Date]])=7,0,IF(MONTH(KCITempAct[[#This Row],[Date]])=8,0,KCITempAct[[#This Row],[KCINHDD]]))","v":0},"Adj HDD and NDD =0 for July and August"]
["2021-07-16",86,69,{"$f":"AVERAGE(KCITempAct[[#This Row],[KCIHigh]:[KCILow]]\n)","v":77.5},{"$f":"IF(KCITempAct[[#This Row],[KCIAve]]<65,(65-KCITempAct[[#This Row],[KCIAve]]),0)","v":0},{"$f":"IF(MONTH(KCITempAct[[#This Row],[Date]])=7,0,IF(MONTH(KCITempAct[[#This Row],[Date]])=8,0,KCITempAct[[#This Row],[KCIHDD]]))","v":0},{"$f":"SUMPRODUCT((KCINHDD[Month]=MONTH(KCITempAct[[#This Row],[Date]]))*(KCINHDD[Day]=DAY(KCITempAct[[#This Row],[Date]]))*KCINHDD[KCINHDD])","v":0},{"$f":"IF(MONTH(KCITempAct[[#This Row],[Date]])=7,0,IF(MONTH(KCITempAct[[#This Row],[Date]])=8,0,KCITempAct[[#This Row],[KCINHDD]]))","v":0},"Adj HDD and NDD =0 for July and August"]
["2021-07-17",87,72,{"$f":"AVERAGE(KCITempAct[[#This Row],[KCIHigh]:[KCILow]]\n)","v":79.5},{"$f":"IF(KCITempAct[[#This Row],[KCIAve]]<65,(65-KCITempAct[[#This Row],[KCIAve]]),0)","v":0},{"$f":"IF(MONTH(KCITempAct[[#This Row],[Date]])=7,0,IF(MONTH(KCITempAct[[#This Row],[Date]])=8,0,KCITempAct[[#This Row],[KCIHDD]]))","v":0},{"$f":"SUMPRODUCT((KCINHDD[Month]=MONTH(KCITempAct[[#This Row],[Date]]))*(KCINHDD[Day]=DAY(KCITempAct[[#This Row],[Date]]))*KCINHDD[KCINHDD])","v":0},{"$f":"IF(MONTH(KCITempAct[[#This Row],[Date]])=7,0,IF(MONTH(KCITempAct[[#This Row],[Date]])=8,0,KCITempAct[[#This Row],[KCINHDD]]))","v":0},"Adj HDD and NDD =0 for July and August"]
["2021-07-18",84,68,{"$f":"AVERAGE(KCITempAct[[#This Row],[KCIHigh]:[KCILow]]\n)","v":76},{"$f":"IF(KCITempAct[[#This Row],[KCIAve]]<65,(65-KCITempAct[[#This Row],[KCIAve]]),0)","v":0},{"$f":"IF(MONTH(KCITempAct[[#This Row],[Date]])=7,0,IF(MONTH(KCITempAct[[#This Row],[Date]])=8,0,KCITempAct[[#This Row],[KCIHDD]]))","v":0},{"$f":"SUMPRODUCT((KCINHDD[Month]=MONTH(KCITempAct[[#This Row],[Date]]))*(KCINHDD[Day]=DAY(KCITempAct[[#This Row],[Date]]))*KCINHDD[KCINHDD])","v":0},{"$f":"IF(MONTH(KCITempAct[[#This Row],[Date]])=7,0,IF(MONTH(KCITempAct[[#This Row],[Date]])=8,0,KCITempAct[[#This Row],[KCINHDD]]))","v":0},"Adj HDD and NDD =0 for July and August"]
["2021-07-19",85,66,{"$f":"AVERAGE(KCITempAct[[#This Row],[KCIHigh]:[KCILow]]\n)","v":75.5},{"$f":"IF(KCITempAct[[#This Row],[KCIAve]]<65,(65-KCITempAct[[#This Row],[KCIAve]]),0)","v":0},{"$f":"IF(MONTH(KCITempAct[[#This Row],[Date]])=7,0,IF(MONTH(KCITempAct[[#This Row],[Date]])=8,0,KCITempAct[[#This Row],[KCIHDD]]))","v":0},{"$f":"SUMPRODUCT((KCINHDD[Month]=MONTH(KCITempAct[[#This Row],[Date]]))*(KCINHDD[Day]=DAY(KCITempAct[[#This Row],[Date]]))*KCINHDD[KCINHDD])","v":0},{"$f":"IF(MONTH(KCITempAct[[#This Row],[Date]])=7,0,IF(MONTH(KCITempAct[[#This Row],[Date]])=8,0,KCITempAct[[#This Row],[KCINHDD]]))","v":0},"Adj HDD and NDD =0 for July and August"]
["2021-07-20",88,67,{"$f":"AVERAGE(KCITempAct[[#This Row],[KCIHigh]:[KCILow]]\n)","v":77.5},{"$f":"IF(KCITempAct[[#This Row],[KCIAve]]<65,(65-KCITempAct[[#This Row],[KCIAve]]),0)","v":0},{"$f":"IF(MONTH(KCITempAct[[#This Row],[Date]])=7,0,IF(MONTH(KCITempAct[[#This Row],[Date]])=8,0,KCITempAct[[#This Row],[KCIHDD]]))","v":0},{"$f":"SUMPRODUCT((KCINHDD[Month]=MONTH(KCITempAct[[#This Row],[Date]]))*(KCINHDD[Day]=DAY(KCITempAct[[#This Row],[Date]]))*KCINHDD[KCINHDD])","v":0},{"$f":"IF(MONTH(KCITempAct[[#This Row],[Date]])=7,0,IF(MONTH(KCITempAct[[#This Row],[Date]])=8,0,KCITempAct[[#This Row],[KCINHDD]]))","v":0},"Adj HDD and NDD =0 for July and August"]
["2021-07-21",90,67,{"$f":"AVERAGE(KCITempAct[[#This Row],[KCIHigh]:[KCILow]]\n)","v":78.5},{"$f":"IF(KCITempAct[[#This Row],[KCIAve]]<65,(65-KCITempAct[[#This Row],[KCIAve]]),0)","v":0},{"$f":"IF(MONTH(KCITempAct[[#This Row],[Date]])=7,0,IF(MONTH(KCITempAct[[#This Row],[Date]])=8,0,KCITempAct[[#This Row],[KCIHDD]]))","v":0},{"$f":"SUMPRODUCT((KCINHDD[Month]=MONTH(KCITempAct[[#This Row],[Date]]))*(KCINHDD[Day]=DAY(KCITempAct[[#This Row],[Date]]))*KCINHDD[KCINHDD])","v":0},{"$f":"IF(MONTH(KCITempAct[[#This Row],[Date]])=7,0,IF(MONTH(KCITempAct[[#This Row],[Date]])=8,0,KCITempAct[[#This Row],[KCINHDD]]))","v":0},"Adj HDD and NDD =0 for July and August"]
["2021-07-22",88,67,{"$f":"AVERAGE(KCITempAct[[#This Row],[KCIHigh]:[KCILow]]\n)","v":77.5},{"$f":"IF(KCITempAct[[#This Row],[KCIAve]]<65,(65-KCITempAct[[#This Row],[KCIAve]]),0)","v":0},{"$f":"IF(MONTH(KCITempAct[[#This Row],[Date]])=7,0,IF(MONTH(KCITempAct[[#This Row],[Date]])=8,0,KCITempAct[[#This Row],[KCIHDD]]))","v":0},{"$f":"SUMPRODUCT((KCINHDD[Month]=MONTH(KCITempAct[[#This Row],[Date]]))*(KCINHDD[Day]=DAY(KCITempAct[[#This Row],[Date]]))*KCINHDD[KCINHDD])","v":0},{"$f":"IF(MONTH(KCITempAct[[#This Row],[Date]])=7,0,IF(MONTH(KCITempAct[[#This Row],[Date]])=8,0,KCITempAct[[#This Row],[KCINHDD]]))","v":0},"Adj HDD and NDD =0 for July and August"]
["2021-07-23",91,70,{"$f":"AVERAGE(KCITempAct[[#This Row],[KCIHigh]:[KCILow]]\n)","v":80.5},{"$f":"IF(KCITempAct[[#This Row],[KCIAve]]<65,(65-KCITempAct[[#This Row],[KCIAve]]),0)","v":0},{"$f":"IF(MONTH(KCITempAct[[#This Row],[Date]])=7,0,IF(MONTH(KCITempAct[[#This Row],[Date]])=8,0,KCITempAct[[#This Row],[KCIHDD]]))","v":0},{"$f":"SUMPRODUCT((KCINHDD[Month]=MONTH(KCITempAct[[#This Row],[Date]]))*(KCINHDD[Day]=DAY(KCITempAct[[#This Row],[Date]]))*KCINHDD[KCINHDD])","v":0},{"$f":"IF(MONTH(KCITempAct[[#This Row],[Date]])=7,0,IF(MONTH(KCITempAct[[#This Row],[Date]])=8,0,KCITempAct[[#This Row],[KCINHDD]]))","v":0},"Adj HDD and NDD =0 for July and August"]
["2021-07-24",95,76,{"$f":"AVERAGE(KCITempAct[[#This Row],[KCIHigh]:[KCILow]]\n)","v":85.5},{"$f":"IF(KCITempAct[[#This Row],[KCIAve]]<65,(65-KCITempAct[[#This Row],[KCIAve]]),0)","v":0},{"$f":"IF(MONTH(KCITempAct[[#This Row],[Date]])=7,0,IF(MONTH(KCITempAct[[#This Row],[Date]])=8,0,KCITempAct[[#This Row],[KCIHDD]]))","v":0},{"$f":"SUMPRODUCT((KCINHDD[Month]=MONTH(KCITempAct[[#This Row],[Date]]))*(KCINHDD[Day]=DAY(KCITempAct[[#This Row],[Date]]))*KCINHDD[KCINHDD])","v":1.6666666666666666E-2},{"$f":"IF(MONTH(KCITempAct[[#This Row],[Date]])=7,0,IF(MONTH(KCITempAct[[#This Row],[Date]])=8,0,KCITempAct[[#This Row],[KCINHDD]]))","v":0},"Adj HDD and NDD =0 for July and August"]
["2021-07-25",90,75,{"$f":"AVERAGE(KCITempAct[[#This Row],[KCIHigh]:[KCILow]]\n)","v":82.5},{"$f":"IF(KCITempAct[[#This Row],[KCIAve]]<65,(65-KCITempAct[[#This Row],[KCIAve]]),0)","v":0},{"$f":"IF(MONTH(KCITempAct[[#This Row],[Date]])=7,0,IF(MONTH(KCITempAct[[#This Row],[Date]])=8,0,KCITempAct[[#This Row],[KCIHDD]]))","v":0},{"$f":"SUMPRODUCT((KCINHDD[Month]=MONTH(KCITempAct[[#This Row],[Date]]))*(KCINHDD[Day]=DAY(KCITempAct[[#This Row],[Date]]))*KCINHDD[KCINHDD])","v":0},{"$f":"IF(MONTH(KCITempAct[[#This Row],[Date]])=7,0,IF(MONTH(KCITempAct[[#This Row],[Date]])=8,0,KCITempAct[[#This Row],[KCINHDD]]))","v":0},"Adj HDD and NDD =0 for July and August"]
["2021-07-26",90,72,{"$f":"AVERAGE(KCITempAct[[#This Row],[KCIHigh]:[KCILow]]\n)","v":81},{"$f":"IF(KCITempAct[[#This Row],[KCIAve]]<65,(65-KCITempAct[[#This Row],[KCIAve]]),0)","v":0},{"$f":"IF(MONTH(KCITempAct[[#This Row],[Date]])=7,0,IF(MONTH(KCITempAct[[#This Row],[Date]])=8,0,KCITempAct[[#This Row],[KCIHDD]]))","v":0},{"$f":"SUMPRODUCT((KCINHDD[Month]=MONTH(KCITempAct[[#This Row],[Date]]))*(KCINHDD[Day]=DAY(KCITempAct[[#This Row],[Date]]))*KCINHDD[KCINHDD])","v":0},{"$f":"IF(MONTH(KCITempAct[[#This Row],[Date]])=7,0,IF(MONTH(KCITempAct[[#This Row],[Date]])=8,0,KCITempAct[[#This Row],[KCINHDD]]))","v":0},"Adj HDD and NDD =0 for July and August"]
["2021-07-27",95,67,{"$f":"AVERAGE(KCITempAct[[#This Row],[KCIHigh]:[KCILow]]\n)","v":81},{"$f":"IF(KCITempAct[[#This Row],[KCIAve]]<65,(65-KCITempAct[[#This Row],[KCIAve]]),0)","v":0},{"$f":"IF(MONTH(KCITempAct[[#This Row],[Date]])=7,0,IF(MONTH(KCITempAct[[#This Row],[Date]])=8,0,KCITempAct[[#This Row],[KCIHDD]]))","v":0},{"$f":"SUMPRODUCT((KCINHDD[Month]=MONTH(KCITempAct[[#This Row],[Date]]))*(KCINHDD[Day]=DAY(KCITempAct[[#This Row],[Date]]))*KCINHDD[KCINHDD])","v":0},{"$f":"IF(MONTH(KCITempAct[[#This Row],[Date]])=7,0,IF(MONTH(KCITempAct[[#This Row],[Date]])=8,0,KCITempAct[[#This Row],[KCINHDD]]))","v":0},"Adj HDD and NDD =0 for July and August"]
["2021-07-28",98,73,{"$f":"AVERAGE(KCITempAct[[#This Row],[KCIHigh]:[KCILow]]\n)","v":85.5},{"$f":"IF(KCITempAct[[#This Row],[KCIAve]]<65,(65-KCITempAct[[#This Row],[KCIAve]]),0)","v":0},{"$f":"IF(MONTH(KCITempAct[[#This Row],[Date]])=7,0,IF(MONTH(KCITempAct[[#This Row],[Date]])=8,0,KCITempAct[[#This Row],[KCIHDD]]))","v":0},{"$f":"SUMPRODUCT((KCINHDD[Month]=MONTH(KCITempAct[[#This Row],[Date]]))*(KCINHDD[Day]=DAY(KCITempAct[[#This Row],[Date]]))*KCINHDD[KCINHDD])","v":0},{"$f":"IF(MONTH(KCITempAct[[#This Row],[Date]])=7,0,IF(MONTH(KCITempAct[[#This Row],[Date]])=8,0,KCITempAct[[#This Row],[KCINHDD]]))","v":0},"Adj HDD and NDD =0 for July and August"]
["2021-07-29",98,76,{"$f":"AVERAGE(KCITempAct[[#This Row],[KCIHigh]:[KCILow]]\n)","v":87},{"$f":"IF(KCITempAct[[#This Row],[KCIAve]]<65,(65-KCITempAct[[#This Row],[KCIAve]]),0)","v":0},{"$f":"IF(MONTH(KCITempAct[[#This Row],[Date]])=7,0,IF(MONTH(KCITempAct[[#This Row],[Date]])=8,0,KCITempAct[[#This Row],[KCIHDD]]))","v":0},{"$f":"SUMPRODUCT((KCINHDD[Month]=MONTH(KCITempAct[[#This Row],[Date]]))*(KCINHDD[Day]=DAY(KCITempAct[[#This Row],[Date]]))*KCINHDD[KCINHDD])","v":0},{"$f":"IF(MONTH(KCITempAct[[#This Row],[Date]])=7,0,IF(MONTH(KCITempAct[[#This Row],[Date]])=8,0,KCITempAct[[#This Row],[KCINHDD]]))","v":0},"Adj HDD and NDD =0 for July and August"]
["2021-07-30",96,78,{"$f":"AVERAGE(KCITempAct[[#This Row],[KCIHigh]:[KCILow]]\n)","v":87},{"$f":"IF(KCITempAct[[#This Row],[KCIAve]]<65,(65-KCITempAct[[#This Row],[KCIAve]]),0)","v":0},{"$f":"IF(MONTH(KCITempAct[[#This Row],[Date]])=7,0,IF(MONTH(KCITempAct[[#This Row],[Date]])=8,0,KCITempAct[[#This Row],[KCIHDD]]))","v":0},{"$f":"SUMPRODUCT((KCINHDD[Month]=MONTH(KCITempAct[[#This Row],[Date]]))*(KCINHDD[Day]=DAY(KCITempAct[[#This Row],[Date]]))*KCINHDD[KCINHDD])","v":0},{"$f":"IF(MONTH(KCITempAct[[#This Row],[Date]])=7,0,IF(MONTH(KCITempAct[[#This Row],[Date]])=8,0,KCITempAct[[#This Row],[KCINHDD]]))","v":0},"Adj HDD and NDD =0 for July and August"]
["2021-07-31",83,69,{"$f":"AVERAGE(KCITempAct[[#This Row],[KCIHigh]:[KCILow]]\n)","v":76},{"$f":"IF(KCITempAct[[#This Row],[KCIAve]]<65,(65-KCITempAct[[#This Row],[KCIAve]]),0)","v":0},{"$f":"IF(MONTH(KCITempAct[[#This Row],[Date]])=7,0,IF(MONTH(KCITempAct[[#This Row],[Date]])=8,0,KCITempAct[[#This Row],[KCIHDD]]))","v":0},{"$f":"SUMPRODUCT((KCINHDD[Month]=MONTH(KCITempAct[[#This Row],[Date]]))*(KCINHDD[Day]=DAY(KCITempAct[[#This Row],[Date]]))*KCINHDD[KCINHDD])","v":0},{"$f":"IF(MONTH(KCITempAct[[#This Row],[Date]])=7,0,IF(MONTH(KCITempAct[[#This Row],[Date]])=8,0,KCITempAct[[#This Row],[KCINHDD]]))","v":0},"Adj HDD and NDD =0 for July and August"]
["2021-08-01",84,65,{"$f":"AVERAGE(KCITempAct[[#This Row],[KCIHigh]:[KCILow]]\n)","v":74.5},{"$f":"IF(KCITempAct[[#This Row],[KCIAve]]<65,(65-KCITempAct[[#This Row],[KCIAve]]),0)","v":0},{"$f":"IF(MONTH(KCITempAct[[#This Row],[Date]])=7,0,IF(MONTH(KCITempAct[[#This Row],[Date]])=8,0,KCITempAct[[#This Row],[KCIHDD]]))","v":0},{"$f":"SUMPRODUCT((KCINHDD[Month]=MONTH(KCITempAct[[#This Row],[Date]]))*(KCINHDD[Day]=DAY(KCITempAct[[#This Row],[Date]]))*KCINHDD[KCINHDD])","v":0},{"$f":"IF(MONTH(KCITempAct[[#This Row],[Date]])=7,0,IF(MONTH(KCITempAct[[#This Row],[Date]])=8,0,KCITempAct[[#This Row],[KCINHDD]]))","v":0},"Adj HDD and NDD =0 for July and August"]
["2021-08-02",84,61,{"$f":"AVERAGE(KCITempAct[[#This Row],[KCIHigh]:[KCILow]]\n)","v":72.5},{"$f":"IF(KCITempAct[[#This Row],[KCIAve]]<65,(65-KCITempAct[[#This Row],[KCIAve]]),0)","v":0},{"$f":"IF(MONTH(KCITempAct[[#This Row],[Date]])=7,0,IF(MONTH(KCITempAct[[#This Row],[Date]])=8,0,KCITempAct[[#This Row],[KCIHDD]]))","v":0},{"$f":"SUMPRODUCT((KCINHDD[Month]=MONTH(KCITempAct[[#This Row],[Date]]))*(KCINHDD[Day]=DAY(KCITempAct[[#This Row],[Date]]))*KCINHDD[KCINHDD])","v":0},{"$f":"IF(MONTH(KCITempAct[[#This Row],[Date]])=7,0,IF(MONTH(KCITempAct[[#This Row],[Date]])=8,0,KCITempAct[[#This Row],[KCINHDD]]))","v":0},"Adj HDD and NDD =0 for July and August"]
["2021-08-03",84,61,{"$f":"AVERAGE(KCITempAct[[#This Row],[KCIHigh]:[KCILow]]\n)","v":72.5},{"$f":"IF(KCITempAct[[#This Row],[KCIAve]]<65,(65-KCITempAct[[#This Row],[KCIAve]]),0)","v":0},{"$f":"IF(MONTH(KCITempAct[[#This Row],[Date]])=7,0,IF(MONTH(KCITempAct[[#This Row],[Date]])=8,0,KCITempAct[[#This Row],[KCIHDD]]))","v":0},{"$f":"SUMPRODUCT((KCINHDD[Month]=MONTH(KCITempAct[[#This Row],[Date]]))*(KCINHDD[Day]=DAY(KCITempAct[[#This Row],[Date]]))*KCINHDD[KCINHDD])","v":0},{"$f":"IF(MONTH(KCITempAct[[#This Row],[Date]])=7,0,IF(MONTH(KCITempAct[[#This Row],[Date]])=8,0,KCITempAct[[#This Row],[KCINHDD]]))","v":0},"Adj HDD and NDD =0 for July and August"]
["2021-08-04",85,63,{"$f":"AVERAGE(KCITempAct[[#This Row],[KCIHigh]:[KCILow]]\n)","v":74},{"$f":"IF(KCITempAct[[#This Row],[KCIAve]]<65,(65-KCITempAct[[#This Row],[KCIAve]]),0)","v":0},{"$f":"IF(MONTH(KCITempAct[[#This Row],[Date]])=7,0,IF(MONTH(KCITempAct[[#This Row],[Date]])=8,0,KCITempAct[[#This Row],[KCIHDD]]))","v":0},{"$f":"SUMPRODUCT((KCINHDD[Month]=MONTH(KCITempAct[[#This Row],[Date]]))*(KCINHDD[Day]=DAY(KCITempAct[[#This Row],[Date]]))*KCINHDD[KCINHDD])","v":3.3333333333333333E-2},{"$f":"IF(MONTH(KCITempAct[[#This Row],[Date]])=7,0,IF(MONTH(KCITempAct[[#This Row],[Date]])=8,0,KCITempAct[[#This Row],[KCINHDD]]))","v":0},"Adj HDD and NDD =0 for July and August"]
["2021-08-05",84,70,{"$f":"AVERAGE(KCITempAct[[#This Row],[KCIHigh]:[KCILow]]\n)","v":77},{"$f":"IF(KCITempAct[[#This Row],[KCIAve]]<65,(65-KCITempAct[[#This Row],[KCIAve]]),0)","v":0},{"$f":"IF(MONTH(KCITempAct[[#This Row],[Date]])=7,0,IF(MONTH(KCITempAct[[#This Row],[Date]])=8,0,KCITempAct[[#This Row],[KCIHDD]]))","v":0},{"$f":"SUMPRODUCT((KCINHDD[Month]=MONTH(KCITempAct[[#This Row],[Date]]))*(KCINHDD[Day]=DAY(KCITempAct[[#This Row],[Date]]))*KCINHDD[KCINHDD])","v":0.2},{"$f":"IF(MONTH(KCITempAct[[#This Row],[Date]])=7,0,IF(MONTH(KCITempAct[[#This Row],[Date]])=8,0,KCITempAct[[#This Row],[KCINHDD]]))","v":0},"Adj HDD and NDD =0 for July and August"]
["2021-08-06",92,67,{"$f":"AVERAGE(KCITempAct[[#This Row],[KCIHigh]:[KCILow]]\n)","v":79.5},{"$f":"IF(KCITempAct[[#This Row],[KCIAve]]<65,(65-KCITempAct[[#This Row],[KCIAve]]),0)","v":0},{"$f":"IF(MONTH(KCITempAct[[#This Row],[Date]])=7,0,IF(MONTH(KCITempAct[[#This Row],[Date]])=8,0,KCITempAct[[#This Row],[KCIHDD]]))","v":0},{"$f":"SUMPRODUCT((KCINHDD[Month]=MONTH(KCITempAct[[#This Row],[Date]]))*(KCINHDD[Day]=DAY(KCITempAct[[#This Row],[Date]]))*KCINHDD[KCINHDD])","v":0},{"$f":"IF(MONTH(KCITempAct[[#This Row],[Date]])=7,0,IF(MONTH(KCITempAct[[#This Row],[Date]])=8,0,KCITempAct[[#This Row],[KCINHDD]]))","v":0},"Adj HDD and NDD =0 for July and August"]
["2021-08-07",97,75,{"$f":"AVERAGE(KCITempAct[[#This Row],[KCIHigh]:[KCILow]]\n)","v":86},{"$f":"IF(KCITempAct[[#This Row],[KCIAve]]<65,(65-KCITempAct[[#This Row],[KCIAve]]),0)","v":0},{"$f":"IF(MONTH(KCITempAct[[#This Row],[Date]])=7,0,IF(MONTH(KCITempAct[[#This Row],[Date]])=8,0,KCITempAct[[#This Row],[KCIHDD]]))","v":0},{"$f":"SUMPRODUCT((KCINHDD[Month]=MONTH(KCITempAct[[#This Row],[Date]]))*(KCINHDD[Day]=DAY(KCITempAct[[#This Row],[Date]]))*KCINHDD[KCINHDD])","v":0},{"$f":"IF(MONTH(KCITempAct[[#This Row],[Date]])=7,0,IF(MONTH(KCITempAct[[#This Row],[Date]])=8,0,KCITempAct[[#This Row],[KCINHDD]]))","v":0},"Adj HDD and NDD =0 for July and August"]
["2021-08-08",88,68,{"$f":"AVERAGE(KCITempAct[[#This Row],[KCIHigh]:[KCILow]]\n)","v":78},{"$f":"IF(KCITempAct[[#This Row],[KCIAve]]<65,(65-KCITempAct[[#This Row],[KCIAve]]),0)","v":0},{"$f":"IF(MONTH(KCITempAct[[#This Row],[Date]])=7,0,IF(MONTH(KCITempAct[[#This Row],[Date]])=8,0,KCITempAct[[#This Row],[KCIHDD]]))","v":0},{"$f":"SUMPRODUCT((KCINHDD[Month]=MONTH(KCITempAct[[#This Row],[Date]]))*(KCINHDD[Day]=DAY(KCITempAct[[#This Row],[Date]]))*KCINHDD[KCINHDD])","v":0},{"$f":"IF(MONTH(KCITempAct[[#This Row],[Date]])=7,0,IF(MONTH(KCITempAct[[#This Row],[Date]])=8,0,KCITempAct[[#This Row],[KCINHDD]]))","v":0},"Adj HDD and NDD =0 for July and August"]
["2021-08-09",97,78,{"$f":"AVERAGE(KCITempAct[[#This Row],[KCIHigh]:[KCILow]]\n)","v":87.5},{"$f":"IF(KCITempAct[[#This Row],[KCIAve]]<65,(65-KCITempAct[[#This Row],[KCIAve]]),0)","v":0},{"$f":"IF(MONTH(KCITempAct[[#This Row],[Date]])=7,0,IF(MONTH(KCITempAct[[#This Row],[Date]])=8,0,KCITempAct[[#This Row],[KCIHDD]]))","v":0},{"$f":"SUMPRODUCT((KCINHDD[Month]=MONTH(KCITempAct[[#This Row],[Date]]))*(KCINHDD[Day]=DAY(KCITempAct[[#This Row],[Date]]))*KCINHDD[KCINHDD])","v":0},{"$f":"IF(MONTH(KCITempAct[[#This Row],[Date]])=7,0,IF(MONTH(KCITempAct[[#This Row],[Date]])=8,0,KCITempAct[[#This Row],[KCINHDD]]))","v":0},"Adj HDD and NDD =0 for July and August"]
["2021-08-10",92,73,{"$f":"AVERAGE(KCITempAct[[#This Row],[KCIHigh]:[KCILow]]\n)","v":82.5},{"$f":"IF(KCITempAct[[#This Row],[KCIAve]]<65,(65-KCITempAct[[#This Row],[KCIAve]]),0)","v":0},{"$f":"IF(MONTH(KCITempAct[[#This Row],[Date]])=7,0,IF(MONTH(KCITempAct[[#This Row],[Date]])=8,0,KCITempAct[[#This Row],[KCIHDD]]))","v":0},{"$f":"SUMPRODUCT((KCINHDD[Month]=MONTH(KCITempAct[[#This Row],[Date]]))*(KCINHDD[Day]=DAY(KCITempAct[[#This Row],[Date]]))*KCINHDD[KCINHDD])","v":0},{"$f":"IF(MONTH(KCITempAct[[#This Row],[Date]])=7,0,IF(MONTH(KCITempAct[[#This Row],[Date]])=8,0,KCITempAct[[#This Row],[KCINHDD]]))","v":0},"Adj HDD and NDD =0 for July and August"]
["2021-08-11",98,81,{"$f":"AVERAGE(KCITempAct[[#This Row],[KCIHigh]:[KCILow]]\n)","v":89.5},{"$f":"IF(KCITempAct[[#This Row],[KCIAve]]<65,(65-KCITempAct[[#This Row],[KCIAve]]),0)","v":0},{"$f":"IF(MONTH(KCITempAct[[#This Row],[Date]])=7,0,IF(MONTH(KCITempAct[[#This Row],[Date]])=8,0,KCITempAct[[#This Row],[KCIHDD]]))","v":0},{"$f":"SUMPRODUCT((KCINHDD[Month]=MONTH(KCITempAct[[#This Row],[Date]]))*(KCINHDD[Day]=DAY(KCITempAct[[#This Row],[Date]]))*KCINHDD[KCINHDD])","v":0.05},{"$f":"IF(MONTH(KCITempAct[[#This Row],[Date]])=7,0,IF(MONTH(KCITempAct[[#This Row],[Date]])=8,0,KCITempAct[[#This Row],[KCINHDD]]))","v":0},"Adj HDD and NDD =0 for July and August"]
["2021-08-12",97,69,{"$f":"AVERAGE(KCITempAct[[#This Row],[KCIHigh]:[KCILow]]\n)","v":83},{"$f":"IF(KCITempAct[[#This Row],[KCIAve]]<65,(65-KCITempAct[[#This Row],[KCIAve]]),0)","v":0},{"$f":"IF(MONTH(KCITempAct[[#This Row],[Date]])=7,0,IF(MONTH(KCITempAct[[#This Row],[Date]])=8,0,KCITempAct[[#This Row],[KCIHDD]]))","v":0},{"$f":"SUMPRODUCT((KCINHDD[Month]=MONTH(KCITempAct[[#This Row],[Date]]))*(KCINHDD[Day]=DAY(KCITempAct[[#This Row],[Date]]))*KCINHDD[KCINHDD])","v":0.11666666666666667},{"$f":"IF(MONTH(KCITempAct[[#This Row],[Date]])=7,0,IF(MONTH(KCITempAct[[#This Row],[Date]])=8,0,KCITempAct[[#This Row],[KCINHDD]]))","v":0},"Adj HDD and NDD =0 for July and August"]
["2021-08-13",83,70,{"$f":"AVERAGE(KCITempAct[[#This Row],[KCIHigh]:[KCILow]]\n)","v":76.5},{"$f":"IF(KCITempAct[[#This Row],[KCIAve]]<65,(65-KCITempAct[[#This Row],[KCIAve]]),0)","v":0},{"$f":"IF(MONTH(KCITempAct[[#This Row],[Date]])=7,0,IF(MONTH(KCITempAct[[#This Row],[Date]])=8,0,KCITempAct[[#This Row],[KCIHDD]]))","v":0},{"$f":"SUMPRODUCT((KCINHDD[Month]=MONTH(KCITempAct[[#This Row],[Date]]))*(KCINHDD[Day]=DAY(KCITempAct[[#This Row],[Date]]))*KCINHDD[KCINHDD])","v":1.6666666666666666E-2},{"$f":"IF(MONTH(KCITempAct[[#This Row],[Date]])=7,0,IF(MONTH(KCITempAct[[#This Row],[Date]])=8,0,KCITempAct[[#This Row],[KCINHDD]]))","v":0},"Adj HDD and NDD =0 for July and August"]
["2021-08-14",87,63,{"$f":"AVERAGE(KCITempAct[[#This Row],[KCIHigh]:[KCILow]]\n)","v":75},{"$f":"IF(KCITempAct[[#This Row],[KCIAve]]<65,(65-KCITempAct[[#This Row],[KCIAve]]),0)","v":0},{"$f":"IF(MONTH(KCITempAct[[#This Row],[Date]])=7,0,IF(MONTH(KCITempAct[[#This Row],[Date]])=8,0,KCITempAct[[#This Row],[KCIHDD]]))","v":0},{"$f":"SUMPRODUCT((KCINHDD[Month]=MONTH(KCITempAct[[#This Row],[Date]]))*(KCINHDD[Day]=DAY(KCITempAct[[#This Row],[Date]]))*KCINHDD[KCINHDD])","v":0},{"$f":"IF(MONTH(KCITempAct[[#This Row],[Date]])=7,0,IF(MONTH(KCITempAct[[#This Row],[Date]])=8,0,KCITempAct[[#This Row],[KCINHDD]]))","v":0},"Adj HDD and NDD =0 for July and August"]
["2021-08-15",86,65,{"$f":"AVERAGE(KCITempAct[[#This Row],[KCIHigh]:[KCILow]]\n)","v":75.5},{"$f":"IF(KCITempAct[[#This Row],[KCIAve]]<65,(65-KCITempAct[[#This Row],[KCIAve]]),0)","v":0},{"$f":"IF(MONTH(KCITempAct[[#This Row],[Date]])=7,0,IF(MONTH(KCITempAct[[#This Row],[Date]])=8,0,KCITempAct[[#This Row],[KCIHDD]]))","v":0},{"$f":"SUMPRODUCT((KCINHDD[Month]=MONTH(KCITempAct[[#This Row],[Date]]))*(KCINHDD[Day]=DAY(KCITempAct[[#This Row],[Date]]))*KCINHDD[KCINHDD])","v":8.3333333333333329E-2},{"$f":"IF(MONTH(KCITempAct[[#This Row],[Date]])=7,0,IF(MONTH(KCITempAct[[#This Row],[Date]])=8,0,KCITempAct[[#This Row],[KCINHDD]]))","v":0},"Adj HDD and NDD =0 for July and August"]
["2021-08-16",88,66,{"$f":"AVERAGE(KCITempAct[[#This Row],[KCIHigh]:[KCILow]]\n)","v":77},{"$f":"IF(KCITempAct[[#This Row],[KCIAve]]<65,(65-KCITempAct[[#This Row],[KCIAve]]),0)","v":0},{"$f":"IF(MONTH(KCITempAct[[#This Row],[Date]])=7,0,IF(MONTH(KCITempAct[[#This Row],[Date]])=8,0,KCITempAct[[#This Row],[KCIHDD]]))","v":0},{"$f":"SUMPRODUCT((KCINHDD[Month]=MONTH(KCITempAct[[#This Row],[Date]]))*(KCINHDD[Day]=DAY(KCITempAct[[#This Row],[Date]]))*KCINHDD[KCINHDD])","v":1.6666666666666666E-2},{"$f":"IF(MONTH(KCITempAct[[#This Row],[Date]])=7,0,IF(MONTH(KCITempAct[[#This Row],[Date]])=8,0,KCITempAct[[#This Row],[KCINHDD]]))","v":0},"Adj HDD and NDD =0 for July and August"]
["2021-08-17",90,67,{"$f":"AVERAGE(KCITempAct[[#This Row],[KCIHigh]:[KCILow]]\n)","v":78.5},{"$f":"IF(KCITempAct[[#This Row],[KCIAve]]<65,(65-KCITempAct[[#This Row],[KCIAve]]),0)","v":0},{"$f":"IF(MONTH(KCITempAct[[#This Row],[Date]])=7,0,IF(MONTH(KCITempAct[[#This Row],[Date]])=8,0,KCITempAct[[#This Row],[KCIHDD]]))","v":0},{"$f":"SUMPRODUCT((KCINHDD[Month]=MONTH(KCITempAct[[#This Row],[Date]]))*(KCINHDD[Day]=DAY(KCITempAct[[#This Row],[Date]]))*KCINHDD[KCINHDD])","v":0},{"$f":"IF(MONTH(KCITempAct[[#This Row],[Date]])=7,0,IF(MONTH(KCITempAct[[#This Row],[Date]])=8,0,KCITempAct[[#This Row],[KCINHDD]]))","v":0},"Adj HDD and NDD =0 for July and August"]
["2021-08-18",90,68,{"$f":"AVERAGE(KCITempAct[[#This Row],[KCIHigh]:[KCILow]]\n)","v":79},{"$f":"IF(KCITempAct[[#This Row],[KCIAve]]<65,(65-KCITempAct[[#This Row],[KCIAve]]),0)","v":0},{"$f":"IF(MONTH(KCITempAct[[#This Row],[Date]])=7,0,IF(MONTH(KCITempAct[[#This Row],[Date]])=8,0,KCITempAct[[#This Row],[KCIHDD]]))","v":0},{"$f":"SUMPRODUCT((KCINHDD[Month]=MONTH(KCITempAct[[#This Row],[Date]]))*(KCINHDD[Day]=DAY(KCITempAct[[#This Row],[Date]]))*KCINHDD[KCINHDD])","v":0},{"$f":"IF(MONTH(KCITempAct[[#This Row],[Date]])=7,0,IF(MONTH(KCITempAct[[#This Row],[Date]])=8,0,KCITempAct[[#This Row],[KCINHDD]]))","v":0},"Adj HDD and NDD =0 for July and August"]
["2021-08-19",89,71,{"$f":"AVERAGE(KCITempAct[[#This Row],[KCIHigh]:[KCILow]]\n)","v":80},{"$f":"IF(KCITempAct[[#This Row],[KCIAve]]<65,(65-KCITempAct[[#This Row],[KCIAve]]),0)","v":0},{"$f":"IF(MONTH(KCITempAct[[#This Row],[Date]])=7,0,IF(MONTH(KCITempAct[[#This Row],[Date]])=8,0,KCITempAct[[#This Row],[KCIHDD]]))","v":0},{"$f":"SUMPRODUCT((KCINHDD[Month]=MONTH(KCITempAct[[#This Row],[Date]]))*(KCINHDD[Day]=DAY(KCITempAct[[#This Row],[Date]]))*KCINHDD[KCINHDD])","v":0.05},{"$f":"IF(MONTH(KCITempAct[[#This Row],[Date]])=7,0,IF(MONTH(KCITempAct[[#This Row],[Date]])=8,0,KCITempAct[[#This Row],[KCINHDD]]))","v":0},"Adj HDD and NDD =0 for July and August"]
["2021-08-20",89,69,{"$f":"AVERAGE(KCITempAct[[#This Row],[KCIHigh]:[KCILow]]\n)","v":79},{"$f":"IF(KCITempAct[[#This Row],[KCIAve]]<65,(65-KCITempAct[[#This Row],[KCIAve]]),0)","v":0},{"$f":"IF(MONTH(KCITempAct[[#This Row],[Date]])=7,0,IF(MONTH(KCITempAct[[#This Row],[Date]])=8,0,KCITempAct[[#This Row],[KCIHDD]]))","v":0},{"$f":"SUMPRODUCT((KCINHDD[Month]=MONTH(KCITempAct[[#This Row],[Date]]))*(KCINHDD[Day]=DAY(KCITempAct[[#This Row],[Date]]))*KCINHDD[KCINHDD])","v":0},{"$f":"IF(MONTH(KCITempAct[[#This Row],[Date]])=7,0,IF(MONTH(KCITempAct[[#This Row],[Date]])=8,0,KCITempAct[[#This Row],[KCINHDD]]))","v":0},"Adj HDD and NDD =0 for July and August"]
["2021-08-21",84,67,{"$f":"AVERAGE(KCITempAct[[#This Row],[KCIHigh]:[KCILow]]\n)","v":75.5},{"$f":"IF(KCITempAct[[#This Row],[KCIAve]]<65,(65-KCITempAct[[#This Row],[KCIAve]]),0)","v":0},{"$f":"IF(MONTH(KCITempAct[[#This Row],[Date]])=7,0,IF(MONTH(KCITempAct[[#This Row],[Date]])=8,0,KCITempAct[[#This Row],[KCIHDD]]))","v":0},{"$f":"SUMPRODUCT((KCINHDD[Month]=MONTH(KCITempAct[[#This Row],[Date]]))*(KCINHDD[Day]=DAY(KCITempAct[[#This Row],[Date]]))*KCINHDD[KCINHDD])","v":0},{"$f":"IF(MONTH(KCITempAct[[#This Row],[Date]])=7,0,IF(MONTH(KCITempAct[[#This Row],[Date]])=8,0,KCITempAct[[#This Row],[KCINHDD]]))","v":0},"Adj HDD and NDD =0 for July and August"]
["2021-08-22",89,65,{"$f":"AVERAGE(KCITempAct[[#This Row],[KCIHigh]:[KCILow]]\n)","v":77},{"$f":"IF(KCITempAct[[#This Row],[KCIAve]]<65,(65-KCITempAct[[#This Row],[KCIAve]]),0)","v":0},{"$f":"IF(MONTH(KCITempAct[[#This Row],[Date]])=7,0,IF(MONTH(KCITempAct[[#This Row],[Date]])=8,0,KCITempAct[[#This Row],[KCIHDD]]))","v":0},{"$f":"SUMPRODUCT((KCINHDD[Month]=MONTH(KCITempAct[[#This Row],[Date]]))*(KCINHDD[Day]=DAY(KCITempAct[[#This Row],[Date]]))*KCINHDD[KCINHDD])","v":0},{"$f":"IF(MONTH(KCITempAct[[#This Row],[Date]])=7,0,IF(MONTH(KCITempAct[[#This Row],[Date]])=8,0,KCITempAct[[#This Row],[KCINHDD]]))","v":0},"Adj HDD and NDD =0 for July and August"]
["2021-08-23",95,76,{"$f":"AVERAGE(KCITempAct[[#This Row],[KCIHigh]:[KCILow]]\n)","v":85.5},{"$f":"IF(KCITempAct[[#This Row],[KCIAve]]<65,(65-KCITempAct[[#This Row],[KCIAve]]),0)","v":0},{"$f":"IF(MONTH(KCITempAct[[#This Row],[Date]])=7,0,IF(MONTH(KCITempAct[[#This Row],[Date]])=8,0,KCITempAct[[#This Row],[KCIHDD]]))","v":0},{"$f":"SUMPRODUCT((KCINHDD[Month]=MONTH(KCITempAct[[#This Row],[Date]]))*(KCINHDD[Day]=DAY(KCITempAct[[#This Row],[Date]]))*KCINHDD[KCINHDD])","v":1.6666666666666666E-2},{"$f":"IF(MONTH(KCITempAct[[#This Row],[Date]])=7,0,IF(MONTH(KCITempAct[[#This Row],[Date]])=8,0,KCITempAct[[#This Row],[KCINHDD]]))","v":0},"Adj HDD and NDD =0 for July and August"]
["2021-08-24",95,76,{"$f":"AVERAGE(KCITempAct[[#This Row],[KCIHigh]:[KCILow]]\n)","v":85.5},{"$f":"IF(KCITempAct[[#This Row],[KCIAve]]<65,(65-KCITempAct[[#This Row],[KCIAve]]),0)","v":0},{"$f":"IF(MONTH(KCITempAct[[#This Row],[Date]])=7,0,IF(MONTH(KCITempAct[[#This Row],[Date]])=8,0,KCITempAct[[#This Row],[KCIHDD]]))","v":0},{"$f":"SUMPRODUCT((KCINHDD[Month]=MONTH(KCITempAct[[#This Row],[Date]]))*(KCINHDD[Day]=DAY(KCITempAct[[#This Row],[Date]]))*KCINHDD[KCINHDD])","v":0},{"$f":"IF(MONTH(KCITempAct[[#This Row],[Date]])=7,0,IF(MONTH(KCITempAct[[#This Row],[Date]])=8,0,KCITempAct[[#This Row],[KCINHDD]]))","v":0},"Adj HDD and NDD =0 for July and August"]
["2021-08-25",93,77,{"$f":"AVERAGE(KCITempAct[[#This Row],[KCIHigh]:[KCILow]]\n)","v":85},{"$f":"IF(KCITempAct[[#This Row],[KCIAve]]<65,(65-KCITempAct[[#This Row],[KCIAve]]),0)","v":0},{"$f":"IF(MONTH(KCITempAct[[#This Row],[Date]])=7,0,IF(MONTH(KCITempAct[[#This Row],[Date]])=8,0,KCITempAct[[#This Row],[KCIHDD]]))","v":0},{"$f":"SUMPRODUCT((KCINHDD[Month]=MONTH(KCITempAct[[#This Row],[Date]]))*(KCINHDD[Day]=DAY(KCITempAct[[#This Row],[Date]]))*KCINHDD[KCINHDD])","v":0},{"$f":"IF(MONTH(KCITempAct[[#This Row],[Date]])=7,0,IF(MONTH(KCITempAct[[#This Row],[Date]])=8,0,KCITempAct[[#This Row],[KCINHDD]]))","v":0},"Adj HDD and NDD =0 for July and August"]
["2021-08-26",95,77,{"$f":"AVERAGE(KCITempAct[[#This Row],[KCIHigh]:[KCILow]]\n)","v":86},{"$f":"IF(KCITempAct[[#This Row],[KCIAve]]<65,(65-KCITempAct[[#This Row],[KCIAve]]),0)","v":0},{"$f":"IF(MONTH(KCITempAct[[#This Row],[Date]])=7,0,IF(MONTH(KCITempAct[[#This Row],[Date]])=8,0,KCITempAct[[#This Row],[KCIHDD]]))","v":0},{"$f":"SUMPRODUCT((KCINHDD[Month]=MONTH(KCITempAct[[#This Row],[Date]]))*(KCINHDD[Day]=DAY(KCITempAct[[#This Row],[Date]]))*KCINHDD[KCINHDD])","v":0.13333333333333333},{"$f":"IF(MONTH(KCITempAct[[#This Row],[Date]])=7,0,IF(MONTH(KCITempAct[[#This Row],[Date]])=8,0,KCITempAct[[#This Row],[KCINHDD]]))","v":0},"Adj HDD and NDD =0 for July and August"]
["2021-08-27",93,73,{"$f":"AVERAGE(KCITempAct[[#This Row],[KCIHigh]:[KCILow]]\n)","v":83},{"$f":"IF(KCITempAct[[#This Row],[KCIAve]]<65,(65-KCITempAct[[#This Row],[KCIAve]]),0)","v":0},{"$f":"IF(MONTH(KCITempAct[[#This Row],[Date]])=7,0,IF(MONTH(KCITempAct[[#This Row],[Date]])=8,0,KCITempAct[[#This Row],[KCIHDD]]))","v":0},{"$f":"SUMPRODUCT((KCINHDD[Month]=MONTH(KCITempAct[[#This Row],[Date]]))*(KCINHDD[Day]=DAY(KCITempAct[[#This Row],[Date]]))*KCINHDD[KCINHDD])","v":0.05},{"$f":"IF(MONTH(KCITempAct[[#This Row],[Date]])=7,0,IF(MONTH(KCITempAct[[#This Row],[Date]])=8,0,KCITempAct[[#This Row],[KCINHDD]]))","v":0},"Adj HDD and NDD =0 for July and August"]
["2021-08-28",92,73,{"$f":"AVERAGE(KCITempAct[[#This Row],[KCIHigh]:[KCILow]]\n)","v":82.5},{"$f":"IF(KCITempAct[[#This Row],[KCIAve]]<65,(65-KCITempAct[[#This Row],[KCIAve]]),0)","v":0},{"$f":"IF(MONTH(KCITempAct[[#This Row],[Date]])=7,0,IF(MONTH(KCITempAct[[#This Row],[Date]])=8,0,KCITempAct[[#This Row],[KCIHDD]]))","v":0},{"$f":"SUMPRODUCT((KCINHDD[Month]=MONTH(KCITempAct[[#This Row],[Date]]))*(KCINHDD[Day]=DAY(KCITempAct[[#This Row],[Date]]))*KCINHDD[KCINHDD])","v":0},{"$f":"IF(MONTH(KCITempAct[[#This Row],[Date]])=7,0,IF(MONTH(KCITempAct[[#This Row],[Date]])=8,0,KCITempAct[[#This Row],[KCINHDD]]))","v":0},"Adj HDD and NDD =0 for July and August"]
["2021-08-29",90,71,{"$f":"AVERAGE(KCITempAct[[#This Row],[KCIHigh]:[KCILow]]\n)","v":80.5},{"$f":"IF(KCITempAct[[#This Row],[KCIAve]]<65,(65-KCITempAct[[#This Row],[KCIAve]]),0)","v":0},{"$f":"IF(MONTH(KCITempAct[[#This Row],[Date]])=7,0,IF(MONTH(KCITempAct[[#This Row],[Date]])=8,0,KCITempAct[[#This Row],[KCIHDD]]))","v":0},{"$f":"SUMPRODUCT((KCINHDD[Month]=MONTH(KCITempAct[[#This Row],[Date]]))*(KCINHDD[Day]=DAY(KCITempAct[[#This Row],[Date]]))*KCINHDD[KCINHDD])","v":0.13333333333333333},{"$f":"IF(MONTH(KCITempAct[[#This Row],[Date]])=7,0,IF(MONTH(KCITempAct[[#This Row],[Date]])=8,0,KCITempAct[[#This Row],[KCINHDD]]))","v":0},"Adj HDD and NDD =0 for July and August"]
["2021-08-30",93,69,{"$f":"AVERAGE(KCITempAct[[#This Row],[KCIHigh]:[KCILow]]\n)","v":81},{"$f":"IF(KCITempAct[[#This Row],[KCIAve]]<65,(65-KCITempAct[[#This Row],[KCIAve]]),0)","v":0},{"$f":"IF(MONTH(KCITempAct[[#This Row],[Date]])=7,0,IF(MONTH(KCITempAct[[#This Row],[Date]])=8,0,KCITempAct[[#This Row],[KCIHDD]]))","v":0},{"$f":"SUMPRODUCT((KCINHDD[Month]=MONTH(KCITempAct[[#This Row],[Date]]))*(KCINHDD[Day]=DAY(KCITempAct[[#This Row],[Date]]))*KCINHDD[KCINHDD])","v":0.15},{"$f":"IF(MONTH(KCITempAct[[#This Row],[Date]])=7,0,IF(MONTH(KCITempAct[[#This Row],[Date]])=8,0,KCITempAct[[#This Row],[KCINHDD]]))","v":0},"Adj HDD and NDD =0 for July and August"]
["2021-08-31",83,66,{"$f":"AVERAGE(KCITempAct[[#This Row],[KCIHigh]:[KCILow]]\n)","v":74.5},{"$f":"IF(KCITempAct[[#This Row],[KCIAve]]<65,(65-KCITempAct[[#This Row],[KCIAve]]),0)","v":0},{"$f":"IF(MONTH(KCITempAct[[#This Row],[Date]])=7,0,IF(MONTH(KCITempAct[[#This Row],[Date]])=8,0,KCITempAct[[#This Row],[KCIHDD]]))","v":0},{"$f":"SUMPRODUCT((KCINHDD[Month]=MONTH(KCITempAct[[#This Row],[Date]]))*(KCINHDD[Day]=DAY(KCITempAct[[#This Row],[Date]]))*KCINHDD[KCINHDD])","v":8.3333333333333329E-2},{"$f":"IF(MONTH(KCITempAct[[#This Row],[Date]])=7,0,IF(MONTH(KCITempAct[[#This Row],[Date]])=8,0,KCITempAct[[#This Row],[KCINHDD]]))","v":0},"Adj HDD and NDD =0 for July and August"]
["2021-09-01",83,66,{"$f":"AVERAGE(KCITempAct[[#This Row],[KCIHigh]:[KCILow]]\n)","v":74.5},{"$f":"IF(KCITempAct[[#This Row],[KCIAve]]<65,(65-KCITempAct[[#This Row],[KCIAve]]),0)","v":0},{"$f":"IF(MONTH(KCITempAct[[#This Row],[Date]])=7,0,IF(MONTH(KCITempAct[[#This Row],[Date]])=8,0,KCITempAct[[#This Row],[KCIHDD]]))","v":0},{"$f":"SUMPRODUCT((KCINHDD[Month]=MONTH(KCITempAct[[#This Row],[Date]]))*(KCINHDD[Day]=DAY(KCITempAct[[#This Row],[Date]]))*KCINHDD[KCINHDD])","v":0.05},{"$f":"IF(MONTH(KCITempAct[[#This Row],[Date]])=7,0,IF(MONTH(KCITempAct[[#This Row],[Date]])=8,0,KCITempAct[[#This Row],[KCINHDD]]))","v":0.05},"Adj HDD and NDD =0 for July and August"]
["2021-09-02",82,66,{"$f":"AVERAGE(KCITempAct[[#This Row],[KCIHigh]:[KCILow]]\n)","v":74},{"$f":"IF(KCITempAct[[#This Row],[KCIAve]]<65,(65-KCITempAct[[#This Row],[KCIAve]]),0)","v":0},{"$f":"IF(MONTH(KCITempAct[[#This Row],[Date]])=7,0,IF(MONTH(KCITempAct[[#This Row],[Date]])=8,0,KCITempAct[[#This Row],[KCIHDD]]))","v":0},{"$f":"SUMPRODUCT((KCINHDD[Month]=MONTH(KCITempAct[[#This Row],[Date]]))*(KCINHDD[Day]=DAY(KCITempAct[[#This Row],[Date]]))*KCINHDD[KCINHDD])","v":3.3333333333333333E-2},{"$f":"IF(MONTH(KCITempAct[[#This Row],[Date]])=7,0,IF(MONTH(KCITempAct[[#This Row],[Date]])=8,0,KCITempAct[[#This Row],[KCINHDD]]))","v":3.3333333333333333E-2},"Adj HDD and NDD =0 for July and August"]
["2021-09-03",85,71,{"$f":"AVERAGE(KCITempAct[[#This Row],[KCIHigh]:[KCILow]]\n)","v":78},{"$f":"IF(KCITempAct[[#This Row],[KCIAve]]<65,(65-KCITempAct[[#This Row],[KCIAve]]),0)","v":0},{"$f":"IF(MONTH(KCITempAct[[#This Row],[Date]])=7,0,IF(MONTH(KCITempAct[[#This Row],[Date]])=8,0,KCITempAct[[#This Row],[KCIHDD]]))","v":0},{"$f":"SUMPRODUCT((KCINHDD[Month]=MONTH(KCITempAct[[#This Row],[Date]]))*(KCINHDD[Day]=DAY(KCITempAct[[#This Row],[Date]]))*KCINHDD[KCINHDD])","v":0.16666666666666666},{"$f":"IF(MONTH(KCITempAct[[#This Row],[Date]])=7,0,IF(MONTH(KCITempAct[[#This Row],[Date]])=8,0,KCITempAct[[#This Row],[KCINHDD]]))","v":0.16666666666666666},"Adj HDD and NDD =0 for July and August"]
["2021-09-04",77,64,{"$f":"AVERAGE(KCITempAct[[#This Row],[KCIHigh]:[KCILow]]\n)","v":70.5},{"$f":"IF(KCITempAct[[#This Row],[KCIAve]]<65,(65-KCITempAct[[#This Row],[KCIAve]]),0)","v":0},{"$f":"IF(MONTH(KCITempAct[[#This Row],[Date]])=7,0,IF(MONTH(KCITempAct[[#This Row],[Date]])=8,0,KCITempAct[[#This Row],[KCIHDD]]))","v":0},{"$f":"SUMPRODUCT((KCINHDD[Month]=MONTH(KCITempAct[[#This Row],[Date]]))*(KCINHDD[Day]=DAY(KCITempAct[[#This Row],[Date]]))*KCINHDD[KCINHDD])","v":0.3},{"$f":"IF(MONTH(KCITempAct[[#This Row],[Date]])=7,0,IF(MONTH(KCITempAct[[#This Row],[Date]])=8,0,KCITempAct[[#This Row],[KCINHDD]]))","v":0.3},"Adj HDD and NDD =0 for July and August"]
["2021-09-05",80,56,{"$f":"AVERAGE(KCITempAct[[#This Row],[KCIHigh]:[KCILow]]\n)","v":68},{"$f":"IF(KCITempAct[[#This Row],[KCIAve]]<65,(65-KCITempAct[[#This Row],[KCIAve]]),0)","v":0},{"$f":"IF(MONTH(KCITempAct[[#This Row],[Date]])=7,0,IF(MONTH(KCITempAct[[#This Row],[Date]])=8,0,KCITempAct[[#This Row],[KCIHDD]]))","v":0},{"$f":"SUMPRODUCT((KCINHDD[Month]=MONTH(KCITempAct[[#This Row],[Date]]))*(KCINHDD[Day]=DAY(KCITempAct[[#This Row],[Date]]))*KCINHDD[KCINHDD])","v":0.45},{"$f":"IF(MONTH(KCITempAct[[#This Row],[Date]])=7,0,IF(MONTH(KCITempAct[[#This Row],[Date]])=8,0,KCITempAct[[#This Row],[KCINHDD]]))","v":0.45},"Adj HDD and NDD =0 for July and August"]
["2021-09-06",86,62,{"$f":"AVERAGE(KCITempAct[[#This Row],[KCIHigh]:[KCILow]]\n)","v":74},{"$f":"IF(KCITempAct[[#This Row],[KCIAve]]<65,(65-KCITempAct[[#This Row],[KCIAve]]),0)","v":0},{"$f":"IF(MONTH(KCITempAct[[#This Row],[Date]])=7,0,IF(MONTH(KCITempAct[[#This Row],[Date]])=8,0,KCITempAct[[#This Row],[KCIHDD]]))","v":0},{"$f":"SUMPRODUCT((KCINHDD[Month]=MONTH(KCITempAct[[#This Row],[Date]]))*(KCINHDD[Day]=DAY(KCITempAct[[#This Row],[Date]]))*KCINHDD[KCINHDD])","v":0.48333333333333334},{"$f":"IF(MONTH(KCITempAct[[#This Row],[Date]])=7,0,IF(MONTH(KCITempAct[[#This Row],[Date]])=8,0,KCITempAct[[#This Row],[KCINHDD]]))","v":0.48333333333333334},"Adj HDD and NDD =0 for July and August"]
["2021-09-07",89,63,{"$f":"AVERAGE(KCITempAct[[#This Row],[KCIHigh]:[KCILow]]\n)","v":76},{"$f":"IF(KCITempAct[[#This Row],[KCIAve]]<65,(65-KCITempAct[[#This Row],[KCIAve]]),0)","v":0},{"$f":"IF(MONTH(KCITempAct[[#This Row],[Date]])=7,0,IF(MONTH(KCITempAct[[#This Row],[Date]])=8,0,KCITempAct[[#This Row],[KCIHDD]]))","v":0},{"$f":"SUMPRODUCT((KCINHDD[Month]=MONTH(KCITempAct[[#This Row],[Date]]))*(KCINHDD[Day]=DAY(KCITempAct[[#This Row],[Date]]))*KCINHDD[KCINHDD])","v":0.38333333333333336},{"$f":"IF(MONTH(KCITempAct[[#This Row],[Date]])=7,0,IF(MONTH(KCITempAct[[#This Row],[Date]])=8,0,KCITempAct[[#This Row],[KCINHDD]]))","v":0.38333333333333336},"Adj HDD and NDD =0 for July and August"]
["2021-09-08",82,54,{"$f":"AVERAGE(KCITempAct[[#This Row],[KCIHigh]:[KCILow]]\n)","v":68},{"$f":"IF(KCITempAct[[#This Row],[KCIAve]]<65,(65-KCITempAct[[#This Row],[KCIAve]]),0)","v":0},{"$f":"IF(MONTH(KCITempAct[[#This Row],[Date]])=7,0,IF(MONTH(KCITempAct[[#This Row],[Date]])=8,0,KCITempAct[[#This Row],[KCIHDD]]))","v":0},{"$f":"SUMPRODUCT((KCINHDD[Month]=MONTH(KCITempAct[[#This Row],[Date]]))*(KCINHDD[Day]=DAY(KCITempAct[[#This Row],[Date]]))*KCINHDD[KCINHDD])","v":1.0666666666666667},{"$f":"IF(MONTH(KCITempAct[[#This Row],[Date]])=7,0,IF(MONTH(KCITempAct[[#This Row],[Date]])=8,0,KCITempAct[[#This Row],[KCINHDD]]))","v":1.0666666666666667},"Adj HDD and NDD =0 for July and August"]
["2021-09-09",82,61,{"$f":"AVERAGE(KCITempAct[[#This Row],[KCIHigh]:[KCILow]]\n)","v":71.5},{"$f":"IF(KCITempAct[[#This Row],[KCIAve]]<65,(65-KCITempAct[[#This Row],[KCIAve]]),0)","v":0},{"$f":"IF(MONTH(KCITempAct[[#This Row],[Date]])=7,0,IF(MONTH(KCITempAct[[#This Row],[Date]])=8,0,KCITempAct[[#This Row],[KCIHDD]]))","v":0},{"$f":"SUMPRODUCT((KCINHDD[Month]=MONTH(KCITempAct[[#This Row],[Date]]))*(KCINHDD[Day]=DAY(KCITempAct[[#This Row],[Date]]))*KCINHDD[KCINHDD])","v":0.96666666666666667},{"$f":"IF(MONTH(KCITempAct[[#This Row],[Date]])=7,0,IF(MONTH(KCITempAct[[#This Row],[Date]])=8,0,KCITempAct[[#This Row],[KCINHDD]]))","v":0.96666666666666667},"Adj HDD and NDD =0 for July and August"]
["2021-09-10",85,63,{"$f":"AVERAGE(KCITempAct[[#This Row],[KCIHigh]:[KCILow]]\n)","v":74},{"$f":"IF(KCITempAct[[#This Row],[KCIAve]]<65,(65-KCITempAct[[#This Row],[KCIAve]]),0)","v":0},{"$f":"IF(MONTH(KCITempAct[[#This Row],[Date]])=7,0,IF(MONTH(KCITempAct[[#This Row],[Date]])=8,0,KCITempAct[[#This Row],[KCIHDD]]))","v":0},{"$f":"SUMPRODUCT((KCINHDD[Month]=MONTH(KCITempAct[[#This Row],[Date]]))*(KCINHDD[Day]=DAY(KCITempAct[[#This Row],[Date]]))*KCINHDD[KCINHDD])","v":0.85},{"$f":"IF(MONTH(KCITempAct[[#This Row],[Date]])=7,0,IF(MONTH(KCITempAct[[#This Row],[Date]])=8,0,KCITempAct[[#This Row],[KCINHDD]]))","v":0.85},"Adj HDD and NDD =0 for July and August"]
["2021-09-11",85,66,{"$f":"AVERAGE(KCITempAct[[#This Row],[KCIHigh]:[KCILow]]\n)","v":75.5},{"$f":"IF(KCITempAct[[#This Row],[KCIAve]]<65,(65-KCITempAct[[#This Row],[KCIAve]]),0)","v":0},{"$f":"IF(MONTH(KCITempAct[[#This Row],[Date]])=7,0,IF(MONTH(KCITempAct[[#This Row],[Date]])=8,0,KCITempAct[[#This Row],[KCIHDD]]))","v":0},{"$f":"SUMPRODUCT((KCINHDD[Month]=MONTH(KCITempAct[[#This Row],[Date]]))*(KCINHDD[Day]=DAY(KCITempAct[[#This Row],[Date]]))*KCINHDD[KCINHDD])","v":0.8666666666666667},{"$f":"IF(MONTH(KCITempAct[[#This Row],[Date]])=7,0,IF(MONTH(KCITempAct[[#This Row],[Date]])=8,0,KCITempAct[[#This Row],[KCINHDD]]))","v":0.8666666666666667},"Adj HDD and NDD =0 for July and August"]
["2021-09-12",85,66,{"$f":"AVERAGE(KCITempAct[[#This Row],[KCIHigh]:[KCILow]]\n)","v":75.5},{"$f":"IF(KCITempAct[[#This Row],[KCIAve]]<65,(65-KCITempAct[[#This Row],[KCIAve]]),0)","v":0},{"$f":"IF(MONTH(KCITempAct[[#This Row],[Date]])=7,0,IF(MONTH(KCITempAct[[#This Row],[Date]])=8,0,KCITempAct[[#This Row],[KCIHDD]]))","v":0},{"$f":"SUMPRODUCT((KCINHDD[Month]=MONTH(KCITempAct[[#This Row],[Date]]))*(KCINHDD[Day]=DAY(KCITempAct[[#This Row],[Date]]))*KCINHDD[KCINHDD])","v":1.0166666666666666},{"$f":"IF(MONTH(KCITempAct[[#This Row],[Date]])=7,0,IF(MONTH(KCITempAct[[#This Row],[Date]])=8,0,KCITempAct[[#This Row],[KCINHDD]]))","v":1.0166666666666666},"Adj HDD and NDD =0 for July and August"]
["2021-09-13",86,64,{"$f":"AVERAGE(KCITempAct[[#This Row],[KCIHigh]:[KCILow]]\n)","v":75},{"$f":"IF(KCITempAct[[#This Row],[KCIAve]]<65,(65-KCITempAct[[#This Row],[KCIAve]]),0)","v":0},{"$f":"IF(MONTH(KCITempAct[[#This Row],[Date]])=7,0,IF(MONTH(KCITempAct[[#This Row],[Date]])=8,0,KCITempAct[[#This Row],[KCIHDD]]))","v":0},{"$f":"SUMPRODUCT((KCINHDD[Month]=MONTH(KCITempAct[[#This Row],[Date]]))*(KCINHDD[Day]=DAY(KCITempAct[[#This Row],[Date]]))*KCINHDD[KCINHDD])","v":1.1166666666666667},{"$f":"IF(MONTH(KCITempAct[[#This Row],[Date]])=7,0,IF(MONTH(KCITempAct[[#This Row],[Date]])=8,0,KCITempAct[[#This Row],[KCINHDD]]))","v":1.1166666666666667},"Adj HDD and NDD =0 for July and August"]
["2021-09-14",81,64,{"$f":"AVERAGE(KCITempAct[[#This Row],[KCIHigh]:[KCILow]]\n)","v":72.5},{"$f":"IF(KCITempAct[[#This Row],[KCIAve]]<65,(65-KCITempAct[[#This Row],[KCIAve]]),0)","v":0},{"$f":"IF(MONTH(KCITempAct[[#This Row],[Date]])=7,0,IF(MONTH(KCITempAct[[#This Row],[Date]])=8,0,KCITempAct[[#This Row],[KCIHDD]]))","v":0},{"$f":"SUMPRODUCT((KCINHDD[Month]=MONTH(KCITempAct[[#This Row],[Date]]))*(KCINHDD[Day]=DAY(KCITempAct[[#This Row],[Date]]))*KCINHDD[KCINHDD])","v":2.0333333333333332},{"$f":"IF(MONTH(KCITempAct[[#This Row],[Date]])=7,0,IF(MONTH(KCITempAct[[#This Row],[Date]])=8,0,KCITempAct[[#This Row],[KCINHDD]]))","v":2.0333333333333332},"Adj HDD and NDD =0 for July and August"]
["2021-09-15",81,59,{"$f":"AVERAGE(KCITempAct[[#This Row],[KCIHigh]:[KCILow]]\n)","v":70},{"$f":"IF(KCITempAct[[#This Row],[KCIAve]]<65,(65-KCITempAct[[#This Row],[KCIAve]]),0)","v":0},{"$f":"IF(MONTH(KCITempAct[[#This Row],[Date]])=7,0,IF(MONTH(KCITempAct[[#This Row],[Date]])=8,0,KCITempAct[[#This Row],[KCIHDD]]))","v":0},{"$f":"SUMPRODUCT((KCINHDD[Month]=MONTH(KCITempAct[[#This Row],[Date]]))*(KCINHDD[Day]=DAY(KCITempAct[[#This Row],[Date]]))*KCINHDD[KCINHDD])","v":2.5833333333333335},{"$f":"IF(MONTH(KCITempAct[[#This Row],[Date]])=7,0,IF(MONTH(KCITempAct[[#This Row],[Date]])=8,0,KCITempAct[[#This Row],[KCINHDD]]))","v":2.5833333333333335},"Adj HDD and NDD =0 for July and August"]
["2021-09-16",87,64,{"$f":"AVERAGE(KCITempAct[[#This Row],[KCIHigh]:[KCILow]]\n)","v":75.5},{"$f":"IF(KCITempAct[[#This Row],[KCIAve]]<65,(65-KCITempAct[[#This Row],[KCIAve]]),0)","v":0},{"$f":"IF(MONTH(KCITempAct[[#This Row],[Date]])=7,0,IF(MONTH(KCITempAct[[#This Row],[Date]])=8,0,KCITempAct[[#This Row],[KCIHDD]]))","v":0},{"$f":"SUMPRODUCT((KCINHDD[Month]=MONTH(KCITempAct[[#This Row],[Date]]))*(KCINHDD[Day]=DAY(KCITempAct[[#This Row],[Date]]))*KCINHDD[KCINHDD])","v":1.7166666666666666},{"$f":"IF(MONTH(KCITempAct[[#This Row],[Date]])=7,0,IF(MONTH(KCITempAct[[#This Row],[Date]])=8,0,KCITempAct[[#This Row],[KCINHDD]]))","v":1.7166666666666666},"Adj HDD and NDD =0 for July and August"]
["2021-09-17",88,65,{"$f":"AVERAGE(KCITempAct[[#This Row],[KCIHigh]:[KCILow]]\n)","v":76.5},{"$f":"IF(KCITempAct[[#This Row],[KCIAve]]<65,(65-KCITempAct[[#This Row],[KCIAve]]),0)","v":0},{"$f":"IF(MONTH(KCITempAct[[#This Row],[Date]])=7,0,IF(MONTH(KCITempAct[[#This Row],[Date]])=8,0,KCITempAct[[#This Row],[KCIHDD]]))","v":0},{"$f":"SUMPRODUCT((KCINHDD[Month]=MONTH(KCITempAct[[#This Row],[Date]]))*(KCINHDD[Day]=DAY(KCITempAct[[#This Row],[Date]]))*KCINHDD[KCINHDD])","v":0.96666666666666667},{"$f":"IF(MONTH(KCITempAct[[#This Row],[Date]])=7,0,IF(MONTH(KCITempAct[[#This Row],[Date]])=8,0,KCITempAct[[#This Row],[KCINHDD]]))","v":0.96666666666666667},"Adj HDD and NDD =0 for July and August"]
["2021-09-18",88,62,{"$f":"AVERAGE(KCITempAct[[#This Row],[KCIHigh]:[KCILow]]\n)","v":75},{"$f":"IF(KCITempAct[[#This Row],[KCIAve]]<65,(65-KCITempAct[[#This Row],[KCIAve]]),0)","v":0},{"$f":"IF(MONTH(KCITempAct[[#This Row],[Date]])=7,0,IF(MONTH(KCITempAct[[#This Row],[Date]])=8,0,KCITempAct[[#This Row],[KCIHDD]]))","v":0},{"$f":"SUMPRODUCT((KCINHDD[Month]=MONTH(KCITempAct[[#This Row],[Date]]))*(KCINHDD[Day]=DAY(KCITempAct[[#This Row],[Date]]))*KCINHDD[KCINHDD])","v":1.25},{"$f":"IF(MONTH(KCITempAct[[#This Row],[Date]])=7,0,IF(MONTH(KCITempAct[[#This Row],[Date]])=8,0,KCITempAct[[#This Row],[KCINHDD]]))","v":1.25},"Adj HDD and NDD =0 for July and August"]
["2021-09-19",87,67,{"$f":"AVERAGE(KCITempAct[[#This Row],[KCIHigh]:[KCILow]]\n)","v":77},{"$f":"IF(KCITempAct[[#This Row],[KCIAve]]<65,(65-KCITempAct[[#This Row],[KCIAve]]),0)","v":0},{"$f":"IF(MONTH(KCITempAct[[#This Row],[Date]])=7,0,IF(MONTH(KCITempAct[[#This Row],[Date]])=8,0,KCITempAct[[#This Row],[KCIHDD]]))","v":0},{"$f":"SUMPRODUCT((KCINHDD[Month]=MONTH(KCITempAct[[#This Row],[Date]]))*(KCINHDD[Day]=DAY(KCITempAct[[#This Row],[Date]]))*KCINHDD[KCINHDD])","v":1.6166666666666667},{"$f":"IF(MONTH(KCITempAct[[#This Row],[Date]])=7,0,IF(MONTH(KCITempAct[[#This Row],[Date]])=8,0,KCITempAct[[#This Row],[KCINHDD]]))","v":1.6166666666666667},"Adj HDD and NDD =0 for July and August"]
["2021-09-20",86,60,{"$f":"AVERAGE(KCITempAct[[#This Row],[KCIHigh]:[KCILow]]\n)","v":73},{"$f":"IF(KCITempAct[[#This Row],[KCIAve]]<65,(65-KCITempAct[[#This Row],[KCIAve]]),0)","v":0},{"$f":"IF(MONTH(KCITempAct[[#This Row],[Date]])=7,0,IF(MONTH(KCITempAct[[#This Row],[Date]])=8,0,KCITempAct[[#This Row],[KCIHDD]]))","v":0},{"$f":"SUMPRODUCT((KCINHDD[Month]=MONTH(KCITempAct[[#This Row],[Date]]))*(KCINHDD[Day]=DAY(KCITempAct[[#This Row],[Date]]))*KCINHDD[KCINHDD])","v":2.1},{"$f":"IF(MONTH(KCITempAct[[#This Row],[Date]])=7,0,IF(MONTH(KCITempAct[[#This Row],[Date]])=8,0,KCITempAct[[#This Row],[KCINHDD]]))","v":2.1},"Adj HDD and NDD =0 for July and August"]
["2021-09-21",75,54,{"$f":"AVERAGE(KCITempAct[[#This Row],[KCIHigh]:[KCILow]]\n)","v":64.5},{"$f":"IF(KCITempAct[[#This Row],[KCIAve]]<65,(65-KCITempAct[[#This Row],[KCIAve]]),0)","v":0.5},{"$f":"IF(MONTH(KCITempAct[[#This Row],[Date]])=7,0,IF(MONTH(KCITempAct[[#This Row],[Date]])=8,0,KCITempAct[[#This Row],[KCIHDD]]))","v":0.5},{"$f":"SUMPRODUCT((KCINHDD[Month]=MONTH(KCITempAct[[#This Row],[Date]]))*(KCINHDD[Day]=DAY(KCITempAct[[#This Row],[Date]]))*KCINHDD[KCINHDD])","v":2.4333333333333331},{"$f":"IF(MONTH(KCITempAct[[#This Row],[Date]])=7,0,IF(MONTH(KCITempAct[[#This Row],[Date]])=8,0,KCITempAct[[#This Row],[KCINHDD]]))","v":2.4333333333333331},"Adj HDD and NDD =0 for July and August"]
["2021-09-22",72,47,{"$f":"AVERAGE(KCITempAct[[#This Row],[KCIHigh]:[KCILow]]\n)","v":59.5},{"$f":"IF(KCITempAct[[#This Row],[KCIAve]]<65,(65-KCITempAct[[#This Row],[KCIAve]]),0)","v":5.5},{"$f":"IF(MONTH(KCITempAct[[#This Row],[Date]])=7,0,IF(MONTH(KCITempAct[[#This Row],[Date]])=8,0,KCITempAct[[#This Row],[KCIHDD]]))","v":5.5},{"$f":"SUMPRODUCT((KCINHDD[Month]=MONTH(KCITempAct[[#This Row],[Date]]))*(KCINHDD[Day]=DAY(KCITempAct[[#This Row],[Date]]))*KCINHDD[KCINHDD])","v":3.45},{"$f":"IF(MONTH(KCITempAct[[#This Row],[Date]])=7,0,IF(MONTH(KCITempAct[[#This Row],[Date]])=8,0,KCITempAct[[#This Row],[KCINHDD]]))","v":3.45},"Adj HDD and NDD =0 for July and August"]
["2021-09-23",76,45,{"$f":"AVERAGE(KCITempAct[[#This Row],[KCIHigh]:[KCILow]]\n)","v":60.5},{"$f":"IF(KCITempAct[[#This Row],[KCIAve]]<65,(65-KCITempAct[[#This Row],[KCIAve]]),0)","v":4.5},{"$f":"IF(MONTH(KCITempAct[[#This Row],[Date]])=7,0,IF(MONTH(KCITempAct[[#This Row],[Date]])=8,0,KCITempAct[[#This Row],[KCIHDD]]))","v":4.5},{"$f":"SUMPRODUCT((KCINHDD[Month]=MONTH(KCITempAct[[#This Row],[Date]]))*(KCINHDD[Day]=DAY(KCITempAct[[#This Row],[Date]]))*KCINHDD[KCINHDD])","v":3.3},{"$f":"IF(MONTH(KCITempAct[[#This Row],[Date]])=7,0,IF(MONTH(KCITempAct[[#This Row],[Date]])=8,0,KCITempAct[[#This Row],[KCINHDD]]))","v":3.3},"Adj HDD and NDD =0 for July and August"]
["2021-09-24",77,54,{"$f":"AVERAGE(KCITempAct[[#This Row],[KCIHigh]:[KCILow]]\n)","v":65.5},{"$f":"IF(KCITempAct[[#This Row],[KCIAve]]<65,(65-KCITempAct[[#This Row],[KCIAve]]),0)","v":0},{"$f":"IF(MONTH(KCITempAct[[#This Row],[Date]])=7,0,IF(MONTH(KCITempAct[[#This Row],[Date]])=8,0,KCITempAct[[#This Row],[KCIHDD]]))","v":0},{"$f":"SUMPRODUCT((KCINHDD[Month]=MONTH(KCITempAct[[#This Row],[Date]]))*(KCINHDD[Day]=DAY(KCITempAct[[#This Row],[Date]]))*KCINHDD[KCINHDD])","v":3.1833333333333331},{"$f":"IF(MONTH(KCITempAct[[#This Row],[Date]])=7,0,IF(MONTH(KCITempAct[[#This Row],[Date]])=8,0,KCITempAct[[#This Row],[KCINHDD]]))","v":3.1833333333333331},"Adj HDD and NDD =0 for July and August"]
["2021-09-25",75,45,{"$f":"AVERAGE(KCITempAct[[#This Row],[KCIHigh]:[KCILow]]\n)","v":60},{"$f":"IF(KCITempAct[[#This Row],[KCIAve]]<65,(65-KCITempAct[[#This Row],[KCIAve]]),0)","v":5},{"$f":"IF(MONTH(KCITempAct[[#This Row],[Date]])=7,0,IF(MONTH(KCITempAct[[#This Row],[Date]])=8,0,KCITempAct[[#This Row],[KCIHDD]]))","v":5},{"$f":"SUMPRODUCT((KCINHDD[Month]=MONTH(KCITempAct[[#This Row],[Date]]))*(KCINHDD[Day]=DAY(KCITempAct[[#This Row],[Date]]))*KCINHDD[KCINHDD])","v":2.95},{"$f":"IF(MONTH(KCITempAct[[#This Row],[Date]])=7,0,IF(MONTH(KCITempAct[[#This Row],[Date]])=8,0,KCITempAct[[#This Row],[KCINHDD]]))","v":2.95},"Adj HDD and NDD =0 for July and August"]
["2021-09-26",91,55,{"$f":"AVERAGE(KCITempAct[[#This Row],[KCIHigh]:[KCILow]]\n)","v":73},{"$f":"IF(KCITempAct[[#This Row],[KCIAve]]<65,(65-KCITempAct[[#This Row],[KCIAve]]),0)","v":0},{"$f":"IF(MONTH(KCITempAct[[#This Row],[Date]])=7,0,IF(MONTH(KCITempAct[[#This Row],[Date]])=8,0,KCITempAct[[#This Row],[KCIHDD]]))","v":0},{"$f":"SUMPRODUCT((KCINHDD[Month]=MONTH(KCITempAct[[#This Row],[Date]]))*(KCINHDD[Day]=DAY(KCITempAct[[#This Row],[Date]]))*KCINHDD[KCINHDD])","v":3.1333333333333333},{"$f":"IF(MONTH(KCITempAct[[#This Row],[Date]])=7,0,IF(MONTH(KCITempAct[[#This Row],[Date]])=8,0,KCITempAct[[#This Row],[KCINHDD]]))","v":3.1333333333333333},"Adj HDD and NDD =0 for July and August"]
["2021-09-27",91,64,{"$f":"AVERAGE(KCITempAct[[#This Row],[KCIHigh]:[KCILow]]\n)","v":77.5},{"$f":"IF(KCITempAct[[#This Row],[KCIAve]]<65,(65-KCITempAct[[#This Row],[KCIAve]]),0)","v":0},{"$f":"IF(MONTH(KCITempAct[[#This Row],[Date]])=7,0,IF(MONTH(KCITempAct[[#This Row],[Date]])=8,0,KCITempAct[[#This Row],[KCIHDD]]))","v":0},{"$f":"SUMPRODUCT((KCINHDD[Month]=MONTH(KCITempAct[[#This Row],[Date]]))*(KCINHDD[Day]=DAY(KCITempAct[[#This Row],[Date]]))*KCINHDD[KCINHDD])","v":3.0666666666666669},{"$f":"IF(MONTH(KCITempAct[[#This Row],[Date]])=7,0,IF(MONTH(KCITempAct[[#This Row],[Date]])=8,0,KCITempAct[[#This Row],[KCINHDD]]))","v":3.0666666666666669},"Adj HDD and NDD =0 for July and August"]
["2021-09-28",89,61,{"$f":"AVERAGE(KCITempAct[[#This Row],[KCIHigh]:[KCILow]]\n)","v":75},{"$f":"IF(KCITempAct[[#This Row],[KCIAve]]<65,(65-KCITempAct[[#This Row],[KCIAve]]),0)","v":0},{"$f":"IF(MONTH(KCITempAct[[#This Row],[Date]])=7,0,IF(MONTH(KCITempAct[[#This Row],[Date]])=8,0,KCITempAct[[#This Row],[KCIHDD]]))","v":0},{"$f":"SUMPRODUCT((KCINHDD[Month]=MONTH(KCITempAct[[#This Row],[Date]]))*(KCINHDD[Day]=DAY(KCITempAct[[#This Row],[Date]]))*KCINHDD[KCINHDD])","v":3.5666666666666669},{"$f":"IF(MONTH(KCITempAct[[#This Row],[Date]])=7,0,IF(MONTH(KCITempAct[[#This Row],[Date]])=8,0,KCITempAct[[#This Row],[KCINHDD]]))","v":3.5666666666666669},"Adj HDD and NDD =0 for July and August"]
["2021-09-29",80,64,{"$f":"AVERAGE(KCITempAct[[#This Row],[KCIHigh]:[KCILow]]\n)","v":72},{"$f":"IF(KCITempAct[[#This Row],[KCIAve]]<65,(65-KCITempAct[[#This Row],[KCIAve]]),0)","v":0},{"$f":"IF(MONTH(KCITempAct[[#This Row],[Date]])=7,0,IF(MONTH(KCITempAct[[#This Row],[Date]])=8,0,KCITempAct[[#This Row],[KCIHDD]]))","v":0},{"$f":"SUMPRODUCT((KCINHDD[Month]=MONTH(KCITempAct[[#This Row],[Date]]))*(KCINHDD[Day]=DAY(KCITempAct[[#This Row],[Date]]))*KCINHDD[KCINHDD])","v":4.2666666666666666},{"$f":"IF(MONTH(KCITempAct[[#This Row],[Date]])=7,0,IF(MONTH(KCITempAct[[#This Row],[Date]])=8,0,KCITempAct[[#This Row],[KCINHDD]]))","v":4.2666666666666666},"Adj HDD and NDD =0 for July and August"]
["2021-09-30",84,64,{"$f":"AVERAGE(KCITempAct[[#This Row],[KCIHigh]:[KCILow]]\n)","v":74},{"$f":"IF(KCITempAct[[#This Row],[KCIAve]]<65,(65-KCITempAct[[#This Row],[KCIAve]]),0)","v":0},{"$f":"IF(MONTH(KCITempAct[[#This Row],[Date]])=7,0,IF(MONTH(KCITempAct[[#This Row],[Date]])=8,0,KCITempAct[[#This Row],[KCIHDD]]))","v":0},{"$f":"SUMPRODUCT((KCINHDD[Month]=MONTH(KCITempAct[[#This Row],[Date]]))*(KCINHDD[Day]=DAY(KCITempAct[[#This Row],[Date]]))*KCINHDD[KCINHDD])","v":2.4166666666666665},{"$f":"IF(MONTH(KCITempAct[[#This Row],[Date]])=7,0,IF(MONTH(KCITempAct[[#This Row],[Date]])=8,0,KCITempAct[[#This Row],[KCINHDD]]))","v":2.4166666666666665},"Adj HDD and NDD =0 for July and August"]
["2021-10-01",79,65,{"$f":"AVERAGE(KCITempAct[[#This Row],[KCIHigh]:[KCILow]]\n)","v":72},{"$f":"IF(KCITempAct[[#This Row],[KCIAve]]<65,(65-KCITempAct[[#This Row],[KCIAve]]),0)","v":0},{"$f":"IF(MONTH(KCITempAct[[#This Row],[Date]])=7,0,IF(MONTH(KCITempAct[[#This Row],[Date]])=8,0,KCITempAct[[#This Row],[KCIHDD]]))","v":0},{"$f":"SUMPRODUCT((KCINHDD[Month]=MONTH(KCITempAct[[#This Row],[Date]]))*(KCINHDD[Day]=DAY(KCITempAct[[#This Row],[Date]]))*KCINHDD[KCINHDD])","v":2.95},{"$f":"IF(MONTH(KCITempAct[[#This Row],[Date]])=7,0,IF(MONTH(KCITempAct[[#This Row],[Date]])=8,0,KCITempAct[[#This Row],[KCINHDD]]))","v":2.95},"Adj HDD and NDD =0 for July and August"]
["2021-10-02",77,59,{"$f":"AVERAGE(KCITempAct[[#This Row],[KCIHigh]:[KCILow]]\n)","v":68},{"$f":"IF(KCITempAct[[#This Row],[KCIAve]]<65,(65-KCITempAct[[#This Row],[KCIAve]]),0)","v":0},{"$f":"IF(MONTH(KCITempAct[[#This Row],[Date]])=7,0,IF(MONTH(KCITempAct[[#This Row],[Date]])=8,0,KCITempAct[[#This Row],[KCIHDD]]))","v":0},{"$f":"SUMPRODUCT((KCINHDD[Month]=MONTH(KCITempAct[[#This Row],[Date]]))*(KCINHDD[Day]=DAY(KCITempAct[[#This Row],[Date]]))*KCINHDD[KCINHDD])","v":5.1833333333333336},{"$f":"IF(MONTH(KCITempAct[[#This Row],[Date]])=7,0,IF(MONTH(KCITempAct[[#This Row],[Date]])=8,0,KCITempAct[[#This Row],[KCINHDD]]))","v":5.1833333333333336},"Adj HDD and NDD =0 for July and August"]
["2021-10-03",79,54,{"$f":"AVERAGE(KCITempAct[[#This Row],[KCIHigh]:[KCILow]]\n)","v":66.5},{"$f":"IF(KCITempAct[[#This Row],[KCIAve]]<65,(65-KCITempAct[[#This Row],[KCIAve]]),0)","v":0},{"$f":"IF(MONTH(KCITempAct[[#This Row],[Date]])=7,0,IF(MONTH(KCITempAct[[#This Row],[Date]])=8,0,KCITempAct[[#This Row],[KCIHDD]]))","v":0},{"$f":"SUMPRODUCT((KCINHDD[Month]=MONTH(KCITempAct[[#This Row],[Date]]))*(KCINHDD[Day]=DAY(KCITempAct[[#This Row],[Date]]))*KCINHDD[KCINHDD])","v":5.2166666666666668},{"$f":"IF(MONTH(KCITempAct[[#This Row],[Date]])=7,0,IF(MONTH(KCITempAct[[#This Row],[Date]])=8,0,KCITempAct[[#This Row],[KCINHDD]]))","v":5.2166666666666668},"Adj HDD and NDD =0 for July and August"]
["2021-10-04",81,51,{"$f":"AVERAGE(KCITempAct[[#This Row],[KCIHigh]:[KCILow]]\n)","v":66},{"$f":"IF(KCITempAct[[#This Row],[KCIAve]]<65,(65-KCITempAct[[#This Row],[KCIAve]]),0)","v":0},{"$f":"IF(MONTH(KCITempAct[[#This Row],[Date]])=7,0,IF(MONTH(KCITempAct[[#This Row],[Date]])=8,0,KCITempAct[[#This Row],[KCIHDD]]))","v":0},{"$f":"SUMPRODUCT((KCINHDD[Month]=MONTH(KCITempAct[[#This Row],[Date]]))*(KCINHDD[Day]=DAY(KCITempAct[[#This Row],[Date]]))*KCINHDD[KCINHDD])","v":6.083333333333333},{"$f":"IF(MONTH(KCITempAct[[#This Row],[Date]])=7,0,IF(MONTH(KCITempAct[[#This Row],[Date]])=8,0,KCITempAct[[#This Row],[KCINHDD]]))","v":6.083333333333333},"Adj HDD and NDD =0 for July and August"]
["2021-10-05",78,51,{"$f":"AVERAGE(KCITempAct[[#This Row],[KCIHigh]:[KCILow]]\n)","v":64.5},{"$f":"IF(KCITempAct[[#This Row],[KCIAve]]<65,(65-KCITempAct[[#This Row],[KCIAve]]),0)","v":0.5},{"$f":"IF(MONTH(KCITempAct[[#This Row],[Date]])=7,0,IF(MONTH(KCITempAct[[#This Row],[Date]])=8,0,KCITempAct[[#This Row],[KCIHDD]]))","v":0.5},{"$f":"SUMPRODUCT((KCINHDD[Month]=MONTH(KCITempAct[[#This Row],[Date]]))*(KCINHDD[Day]=DAY(KCITempAct[[#This Row],[Date]]))*KCINHDD[KCINHDD])","v":5.9333333333333336},{"$f":"IF(MONTH(KCITempAct[[#This Row],[Date]])=7,0,IF(MONTH(KCITempAct[[#This Row],[Date]])=8,0,KCITempAct[[#This Row],[KCINHDD]]))","v":5.9333333333333336},"Adj HDD and NDD =0 for July and August"]
["2021-10-06",77,56,{"$f":"AVERAGE(KCITempAct[[#This Row],[KCIHigh]:[KCILow]]\n)","v":66.5},{"$f":"IF(KCITempAct[[#This Row],[KCIAve]]<65,(65-KCITempAct[[#This Row],[KCIAve]]),0)","v":0},{"$f":"IF(MONTH(KCITempAct[[#This Row],[Date]])=7,0,IF(MONTH(KCITempAct[[#This Row],[Date]])=8,0,KCITempAct[[#This Row],[KCIHDD]]))","v":0},{"$f":"SUMPRODUCT((KCINHDD[Month]=MONTH(KCITempAct[[#This Row],[Date]]))*(KCINHDD[Day]=DAY(KCITempAct[[#This Row],[Date]]))*KCINHDD[KCINHDD])","v":6.6833333333333336},{"$f":"IF(MONTH(KCITempAct[[#This Row],[Date]])=7,0,IF(MONTH(KCITempAct[[#This Row],[Date]])=8,0,KCITempAct[[#This Row],[KCINHDD]]))","v":6.6833333333333336},"Adj HDD and NDD =0 for July and August"]
["2021-10-07",77,59,{"$f":"AVERAGE(KCITempAct[[#This Row],[KCIHigh]:[KCILow]]\n)","v":68},{"$f":"IF(KCITempAct[[#This Row],[KCIAve]]<65,(65-KCITempAct[[#This Row],[KCIAve]]),0)","v":0},{"$f":"IF(MONTH(KCITempAct[[#This Row],[Date]])=7,0,IF(MONTH(KCITempAct[[#This Row],[Date]])=8,0,KCITempAct[[#This Row],[KCIHDD]]))","v":0},{"$f":"SUMPRODUCT((KCINHDD[Month]=MONTH(KCITempAct[[#This Row],[Date]]))*(KCINHDD[Day]=DAY(KCITempAct[[#This Row],[Date]]))*KCINHDD[KCINHDD])","v":6.95},{"$f":"IF(MONTH(KCITempAct[[#This Row],[Date]])=7,0,IF(MONTH(KCITempAct[[#This Row],[Date]])=8,0,KCITempAct[[#This Row],[KCINHDD]]))","v":6.95},"Adj HDD and NDD =0 for July and August"]
["2021-10-08",85,59,{"$f":"AVERAGE(KCITempAct[[#This Row],[KCIHigh]:[KCILow]]\n)","v":72},{"$f":"IF(KCITempAct[[#This Row],[KCIAve]]<65,(65-KCITempAct[[#This Row],[KCIAve]]),0)","v":0},{"$f":"IF(MONTH(KCITempAct[[#This Row],[Date]])=7,0,IF(MONTH(KCITempAct[[#This Row],[Date]])=8,0,KCITempAct[[#This Row],[KCIHDD]]))","v":0},{"$f":"SUMPRODUCT((KCINHDD[Month]=MONTH(KCITempAct[[#This Row],[Date]]))*(KCINHDD[Day]=DAY(KCITempAct[[#This Row],[Date]]))*KCINHDD[KCINHDD])","v":6.35},{"$f":"IF(MONTH(KCITempAct[[#This Row],[Date]])=7,0,IF(MONTH(KCITempAct[[#This Row],[Date]])=8,0,KCITempAct[[#This Row],[KCINHDD]]))","v":6.35},"Adj HDD and NDD =0 for July and August"]
["2021-10-09",85,65,{"$f":"AVERAGE(KCITempAct[[#This Row],[KCIHigh]:[KCILow]]\n)","v":75},{"$f":"IF(KCITempAct[[#This Row],[KCIAve]]<65,(65-KCITempAct[[#This Row],[KCIAve]]),0)","v":0},{"$f":"IF(MONTH(KCITempAct[[#This Row],[Date]])=7,0,IF(MONTH(KCITempAct[[#This Row],[Date]])=8,0,KCITempAct[[#This Row],[KCIHDD]]))","v":0},{"$f":"SUMPRODUCT((KCINHDD[Month]=MONTH(KCITempAct[[#This Row],[Date]]))*(KCINHDD[Day]=DAY(KCITempAct[[#This Row],[Date]]))*KCINHDD[KCINHDD])","v":6.2833333333333332},{"$f":"IF(MONTH(KCITempAct[[#This Row],[Date]])=7,0,IF(MONTH(KCITempAct[[#This Row],[Date]])=8,0,KCITempAct[[#This Row],[KCINHDD]]))","v":6.2833333333333332},"Adj HDD and NDD =0 for July and August"]
["2021-10-10",82,58,{"$f":"AVERAGE(KCITempAct[[#This Row],[KCIHigh]:[KCILow]]\n)","v":70},{"$f":"IF(KCITempAct[[#This Row],[KCIAve]]<65,(65-KCITempAct[[#This Row],[KCIAve]]),0)","v":0},{"$f":"IF(MONTH(KCITempAct[[#This Row],[Date]])=7,0,IF(MONTH(KCITempAct[[#This Row],[Date]])=8,0,KCITempAct[[#This Row],[KCIHDD]]))","v":0},{"$f":"SUMPRODUCT((KCINHDD[Month]=MONTH(KCITempAct[[#This Row],[Date]]))*(KCINHDD[Day]=DAY(KCITempAct[[#This Row],[Date]]))*KCINHDD[KCINHDD])","v":8.1666666666666661},{"$f":"IF(MONTH(KCITempAct[[#This Row],[Date]])=7,0,IF(MONTH(KCITempAct[[#This Row],[Date]])=8,0,KCITempAct[[#This Row],[KCINHDD]]))","v":8.1666666666666661},"Adj HDD and NDD =0 for July and August"]
["2021-10-11",65,50,{"$f":"AVERAGE(KCITempAct[[#This Row],[KCIHigh]:[KCILow]]\n)","v":57.5},{"$f":"IF(KCITempAct[[#This Row],[KCIAve]]<65,(65-KCITempAct[[#This Row],[KCIAve]]),0)","v":7.5},{"$f":"IF(MONTH(KCITempAct[[#This Row],[Date]])=7,0,IF(MONTH(KCITempAct[[#This Row],[Date]])=8,0,KCITempAct[[#This Row],[KCIHDD]]))","v":7.5},{"$f":"SUMPRODUCT((KCINHDD[Month]=MONTH(KCITempAct[[#This Row],[Date]]))*(KCINHDD[Day]=DAY(KCITempAct[[#This Row],[Date]]))*KCINHDD[KCINHDD])","v":8.1333333333333329},{"$f":"IF(MONTH(KCITempAct[[#This Row],[Date]])=7,0,IF(MONTH(KCITempAct[[#This Row],[Date]])=8,0,KCITempAct[[#This Row],[KCINHDD]]))","v":8.1333333333333329},"Adj HDD and NDD =0 for July and August"]
["2021-10-12",77,48,{"$f":"AVERAGE(KCITempAct[[#This Row],[KCIHigh]:[KCILow]]\n)","v":62.5},{"$f":"IF(KCITempAct[[#This Row],[KCIAve]]<65,(65-KCITempAct[[#This Row],[KCIAve]]),0)","v":2.5},{"$f":"IF(MONTH(KCITempAct[[#This Row],[Date]])=7,0,IF(MONTH(KCITempAct[[#This Row],[Date]])=8,0,KCITempAct[[#This Row],[KCIHDD]]))","v":2.5},{"$f":"SUMPRODUCT((KCINHDD[Month]=MONTH(KCITempAct[[#This Row],[Date]]))*(KCINHDD[Day]=DAY(KCITempAct[[#This Row],[Date]]))*KCINHDD[KCINHDD])","v":7.75},{"$f":"IF(MONTH(KCITempAct[[#This Row],[Date]])=7,0,IF(MONTH(KCITempAct[[#This Row],[Date]])=8,0,KCITempAct[[#This Row],[KCINHDD]]))","v":7.75},"Adj HDD and NDD =0 for July and August"]
["2021-10-13",74,55,{"$f":"AVERAGE(KCITempAct[[#This Row],[KCIHigh]:[KCILow]]\n)","v":64.5},{"$f":"IF(KCITempAct[[#This Row],[KCIAve]]<65,(65-KCITempAct[[#This Row],[KCIAve]]),0)","v":0.5},{"$f":"IF(MONTH(KCITempAct[[#This Row],[Date]])=7,0,IF(MONTH(KCITempAct[[#This Row],[Date]])=8,0,KCITempAct[[#This Row],[KCIHDD]]))","v":0.5},{"$f":"SUMPRODUCT((KCINHDD[Month]=MONTH(KCITempAct[[#This Row],[Date]]))*(KCINHDD[Day]=DAY(KCITempAct[[#This Row],[Date]]))*KCINHDD[KCINHDD])","v":8.3666666666666671},{"$f":"IF(MONTH(KCITempAct[[#This Row],[Date]])=7,0,IF(MONTH(KCITempAct[[#This Row],[Date]])=8,0,KCITempAct[[#This Row],[KCINHDD]]))","v":8.3666666666666671},"Adj HDD and NDD =0 for July and August"]
["2021-10-14",72,48,{"$f":"AVERAGE(KCITempAct[[#This Row],[KCIHigh]:[KCILow]]\n)","v":60},{"$f":"IF(KCITempAct[[#This Row],[KCIAve]]<65,(65-KCITempAct[[#This Row],[KCIAve]]),0)","v":5},{"$f":"IF(MONTH(KCITempAct[[#This Row],[Date]])=7,0,IF(MONTH(KCITempAct[[#This Row],[Date]])=8,0,KCITempAct[[#This Row],[KCIHDD]]))","v":5},{"$f":"SUMPRODUCT((KCINHDD[Month]=MONTH(KCITempAct[[#This Row],[Date]]))*(KCINHDD[Day]=DAY(KCITempAct[[#This Row],[Date]]))*KCINHDD[KCINHDD])","v":8.0500000000000007},{"$f":"IF(MONTH(KCITempAct[[#This Row],[Date]])=7,0,IF(MONTH(KCITempAct[[#This Row],[Date]])=8,0,KCITempAct[[#This Row],[KCINHDD]]))","v":8.0500000000000007},"Adj HDD and NDD =0 for July and August"]
["2021-10-15",64,45,{"$f":"AVERAGE(KCITempAct[[#This Row],[KCIHigh]:[KCILow]]\n)","v":54.5},{"$f":"IF(KCITempAct[[#This Row],[KCIAve]]<65,(65-KCITempAct[[#This Row],[KCIAve]]),0)","v":10.5},{"$f":"IF(MONTH(KCITempAct[[#This Row],[Date]])=7,0,IF(MONTH(KCITempAct[[#This Row],[Date]])=8,0,KCITempAct[[#This Row],[KCIHDD]]))","v":10.5},{"$f":"SUMPRODUCT((KCINHDD[Month]=MONTH(KCITempAct[[#This Row],[Date]]))*(KCINHDD[Day]=DAY(KCITempAct[[#This Row],[Date]]))*KCINHDD[KCINHDD])","v":9.6},{"$f":"IF(MONTH(KCITempAct[[#This Row],[Date]])=7,0,IF(MONTH(KCITempAct[[#This Row],[Date]])=8,0,KCITempAct[[#This Row],[KCINHDD]]))","v":9.6},"Adj HDD and NDD =0 for July and August"]
["2021-10-16",66,40,{"$f":"AVERAGE(KCITempAct[[#This Row],[KCIHigh]:[KCILow]]\n)","v":53},{"$f":"IF(KCITempAct[[#This Row],[KCIAve]]<65,(65-KCITempAct[[#This Row],[KCIAve]]),0)","v":12},{"$f":"IF(MONTH(KCITempAct[[#This Row],[Date]])=7,0,IF(MONTH(KCITempAct[[#This Row],[Date]])=8,0,KCITempAct[[#This Row],[KCIHDD]]))","v":12},{"$f":"SUMPRODUCT((KCINHDD[Month]=MONTH(KCITempAct[[#This Row],[Date]]))*(KCINHDD[Day]=DAY(KCITempAct[[#This Row],[Date]]))*KCINHDD[KCINHDD])","v":9.9499999999999993},{"$f":"IF(MONTH(KCITempAct[[#This Row],[Date]])=7,0,IF(MONTH(KCITempAct[[#This Row],[Date]])=8,0,KCITempAct[[#This Row],[KCINHDD]]))","v":9.9499999999999993},"Adj HDD and NDD =0 for July and August"]
["2021-10-17",73,41,{"$f":"AVERAGE(KCITempAct[[#This Row],[KCIHigh]:[KCILow]]\n)","v":57},{"$f":"IF(KCITempAct[[#This Row],[KCIAve]]<65,(65-KCITempAct[[#This Row],[KCIAve]]),0)","v":8},{"$f":"IF(MONTH(KCITempAct[[#This Row],[Date]])=7,0,IF(MONTH(KCITempAct[[#This Row],[Date]])=8,0,KCITempAct[[#This Row],[KCIHDD]]))","v":8},{"$f":"SUMPRODUCT((KCINHDD[Month]=MONTH(KCITempAct[[#This Row],[Date]]))*(KCINHDD[Day]=DAY(KCITempAct[[#This Row],[Date]]))*KCINHDD[KCINHDD])","v":9.4833333333333325},{"$f":"IF(MONTH(KCITempAct[[#This Row],[Date]])=7,0,IF(MONTH(KCITempAct[[#This Row],[Date]])=8,0,KCITempAct[[#This Row],[KCINHDD]]))","v":9.4833333333333325},"Adj HDD and NDD =0 for July and August"]
["2021-10-18",74,44,{"$f":"AVERAGE(KCITempAct[[#This Row],[KCIHigh]:[KCILow]]\n)","v":59},{"$f":"IF(KCITempAct[[#This Row],[KCIAve]]<65,(65-KCITempAct[[#This Row],[KCIAve]]),0)","v":6},{"$f":"IF(MONTH(KCITempAct[[#This Row],[Date]])=7,0,IF(MONTH(KCITempAct[[#This Row],[Date]])=8,0,KCITempAct[[#This Row],[KCIHDD]]))","v":6},{"$f":"SUMPRODUCT((KCINHDD[Month]=MONTH(KCITempAct[[#This Row],[Date]]))*(KCINHDD[Day]=DAY(KCITempAct[[#This Row],[Date]]))*KCINHDD[KCINHDD])","v":10.65},{"$f":"IF(MONTH(KCITempAct[[#This Row],[Date]])=7,0,IF(MONTH(KCITempAct[[#This Row],[Date]])=8,0,KCITempAct[[#This Row],[KCINHDD]]))","v":10.65},"Adj HDD and NDD =0 for July and August"]
["2021-10-19",75,54,{"$f":"AVERAGE(KCITempAct[[#This Row],[KCIHigh]:[KCILow]]\n)","v":64.5},{"$f":"IF(KCITempAct[[#This Row],[KCIAve]]<65,(65-KCITempAct[[#This Row],[KCIAve]]),0)","v":0.5},{"$f":"IF(MONTH(KCITempAct[[#This Row],[Date]])=7,0,IF(MONTH(KCITempAct[[#This Row],[Date]])=8,0,KCITempAct[[#This Row],[KCIHDD]]))","v":0.5},{"$f":"SUMPRODUCT((KCINHDD[Month]=MONTH(KCITempAct[[#This Row],[Date]]))*(KCINHDD[Day]=DAY(KCITempAct[[#This Row],[Date]]))*KCINHDD[KCINHDD])","v":10.8},{"$f":"IF(MONTH(KCITempAct[[#This Row],[Date]])=7,0,IF(MONTH(KCITempAct[[#This Row],[Date]])=8,0,KCITempAct[[#This Row],[KCINHDD]]))","v":10.8},"Adj HDD and NDD =0 for July and August"]
["2021-10-20",68,45,{"$f":"AVERAGE(KCITempAct[[#This Row],[KCIHigh]:[KCILow]]\n)","v":56.5},{"$f":"IF(KCITempAct[[#This Row],[KCIAve]]<65,(65-KCITempAct[[#This Row],[KCIAve]]),0)","v":8.5},{"$f":"IF(MONTH(KCITempAct[[#This Row],[Date]])=7,0,IF(MONTH(KCITempAct[[#This Row],[Date]])=8,0,KCITempAct[[#This Row],[KCIHDD]]))","v":8.5},{"$f":"SUMPRODUCT((KCINHDD[Month]=MONTH(KCITempAct[[#This Row],[Date]]))*(KCINHDD[Day]=DAY(KCITempAct[[#This Row],[Date]]))*KCINHDD[KCINHDD])","v":9.4666666666666668},{"$f":"IF(MONTH(KCITempAct[[#This Row],[Date]])=7,0,IF(MONTH(KCITempAct[[#This Row],[Date]])=8,0,KCITempAct[[#This Row],[KCINHDD]]))","v":9.4666666666666668},"Adj HDD and NDD =0 for July and August"]
["2021-10-21",60,42,{"$f":"AVERAGE(KCITempAct[[#This Row],[KCIHigh]:[KCILow]]\n)","v":51},{"$f":"IF(KCITempAct[[#This Row],[KCIAve]]<65,(65-KCITempAct[[#This Row],[KCIAve]]),0)","v":14},{"$f":"IF(MONTH(KCITempAct[[#This Row],[Date]])=7,0,IF(MONTH(KCITempAct[[#This Row],[Date]])=8,0,KCITempAct[[#This Row],[KCIHDD]]))","v":14},{"$f":"SUMPRODUCT((KCINHDD[Month]=MONTH(KCITempAct[[#This Row],[Date]]))*(KCINHDD[Day]=DAY(KCITempAct[[#This Row],[Date]]))*KCINHDD[KCINHDD])","v":9.7166666666666668},{"$f":"IF(MONTH(KCITempAct[[#This Row],[Date]])=7,0,IF(MONTH(KCITempAct[[#This Row],[Date]])=8,0,KCITempAct[[#This Row],[KCINHDD]]))","v":9.7166666666666668},"Adj HDD and NDD =0 for July and August"]
["2021-10-22",66,36,{"$f":"AVERAGE(KCITempAct[[#This Row],[KCIHigh]:[KCILow]]\n)","v":51},{"$f":"IF(KCITempAct[[#This Row],[KCIAve]]<65,(65-KCITempAct[[#This Row],[KCIAve]]),0)","v":14},{"$f":"IF(MONTH(KCITempAct[[#This Row],[Date]])=7,0,IF(MONTH(KCITempAct[[#This Row],[Date]])=8,0,KCITempAct[[#This Row],[KCIHDD]]))","v":14},{"$f":"SUMPRODUCT((KCINHDD[Month]=MONTH(KCITempAct[[#This Row],[Date]]))*(KCINHDD[Day]=DAY(KCITempAct[[#This Row],[Date]]))*KCINHDD[KCINHDD])","v":9.5},{"$f":"IF(MONTH(KCITempAct[[#This Row],[Date]])=7,0,IF(MONTH(KCITempAct[[#This Row],[Date]])=8,0,KCITempAct[[#This Row],[KCINHDD]]))","v":9.5},"Adj HDD and NDD =0 for July and August"]
["2021-10-23",60,48,{"$f":"AVERAGE(KCITempAct[[#This Row],[KCIHigh]:[KCILow]]\n)","v":54},{"$f":"IF(KCITempAct[[#This Row],[KCIAve]]<65,(65-KCITempAct[[#This Row],[KCIAve]]),0)","v":11},{"$f":"IF(MONTH(KCITempAct[[#This Row],[Date]])=7,0,IF(MONTH(KCITempAct[[#This Row],[Date]])=8,0,KCITempAct[[#This Row],[KCIHDD]]))","v":11},{"$f":"SUMPRODUCT((KCINHDD[Month]=MONTH(KCITempAct[[#This Row],[Date]]))*(KCINHDD[Day]=DAY(KCITempAct[[#This Row],[Date]]))*KCINHDD[KCINHDD])","v":11.066666666666666},{"$f":"IF(MONTH(KCITempAct[[#This Row],[Date]])=7,0,IF(MONTH(KCITempAct[[#This Row],[Date]])=8,0,KCITempAct[[#This Row],[KCINHDD]]))","v":11.066666666666666},"Adj HDD and NDD =0 for July and August"]
["2021-10-24",76,47,{"$f":"AVERAGE(KCITempAct[[#This Row],[KCIHigh]:[KCILow]]\n)","v":61.5},{"$f":"IF(KCITempAct[[#This Row],[KCIAve]]<65,(65-KCITempAct[[#This Row],[KCIAve]]),0)","v":3.5},{"$f":"IF(MONTH(KCITempAct[[#This Row],[Date]])=7,0,IF(MONTH(KCITempAct[[#This Row],[Date]])=8,0,KCITempAct[[#This Row],[KCIHDD]]))","v":3.5},{"$f":"SUMPRODUCT((KCINHDD[Month]=MONTH(KCITempAct[[#This Row],[Date]]))*(KCINHDD[Day]=DAY(KCITempAct[[#This Row],[Date]]))*KCINHDD[KCINHDD])","v":12.433333333333334},{"$f":"IF(MONTH(KCITempAct[[#This Row],[Date]])=7,0,IF(MONTH(KCITempAct[[#This Row],[Date]])=8,0,KCITempAct[[#This Row],[KCINHDD]]))","v":12.433333333333334},"Adj HDD and NDD =0 for July and August"]
["2021-10-25",50,47,{"$f":"AVERAGE(KCITempAct[[#This Row],[KCIHigh]:[KCILow]]\n)","v":48.5},{"$f":"IF(KCITempAct[[#This Row],[KCIAve]]<65,(65-KCITempAct[[#This Row],[KCIAve]]),0)","v":16.5},{"$f":"IF(MONTH(KCITempAct[[#This Row],[Date]])=7,0,IF(MONTH(KCITempAct[[#This Row],[Date]])=8,0,KCITempAct[[#This Row],[KCIHDD]]))","v":16.5},{"$f":"SUMPRODUCT((KCINHDD[Month]=MONTH(KCITempAct[[#This Row],[Date]]))*(KCINHDD[Day]=DAY(KCITempAct[[#This Row],[Date]]))*KCINHDD[KCINHDD])","v":12.15},{"$f":"IF(MONTH(KCITempAct[[#This Row],[Date]])=7,0,IF(MONTH(KCITempAct[[#This Row],[Date]])=8,0,KCITempAct[[#This Row],[KCINHDD]]))","v":12.15},"Adj HDD and NDD =0 for July and August"]
["2021-10-26",60,45,{"$f":"AVERAGE(KCITempAct[[#This Row],[KCIHigh]:[KCILow]]\n)","v":52.5},{"$f":"IF(KCITempAct[[#This Row],[KCIAve]]<65,(65-KCITempAct[[#This Row],[KCIAve]]),0)","v":12.5},{"$f":"IF(MONTH(KCITempAct[[#This Row],[Date]])=7,0,IF(MONTH(KCITempAct[[#This Row],[Date]])=8,0,KCITempAct[[#This Row],[KCIHDD]]))","v":12.5},{"$f":"SUMPRODUCT((KCINHDD[Month]=MONTH(KCITempAct[[#This Row],[Date]]))*(KCINHDD[Day]=DAY(KCITempAct[[#This Row],[Date]]))*KCINHDD[KCINHDD])","v":13.983333333333333},{"$f":"IF(MONTH(KCITempAct[[#This Row],[Date]])=7,0,IF(MONTH(KCITempAct[[#This Row],[Date]])=8,0,KCITempAct[[#This Row],[KCINHDD]]))","v":13.983333333333333},"Adj HDD and NDD =0 for July and August"]
["2021-10-27",59,52,{"$f":"AVERAGE(KCITempAct[[#This Row],[KCIHigh]:[KCILow]]\n)","v":55.5},{"$f":"IF(KCITempAct[[#This Row],[KCIAve]]<65,(65-KCITempAct[[#This Row],[KCIAve]]),0)","v":9.5},{"$f":"IF(MONTH(KCITempAct[[#This Row],[Date]])=7,0,IF(MONTH(KCITempAct[[#This Row],[Date]])=8,0,KCITempAct[[#This Row],[KCIHDD]]))","v":9.5},{"$f":"SUMPRODUCT((KCINHDD[Month]=MONTH(KCITempAct[[#This Row],[Date]]))*(KCINHDD[Day]=DAY(KCITempAct[[#This Row],[Date]]))*KCINHDD[KCINHDD])","v":15.2},{"$f":"IF(MONTH(KCITempAct[[#This Row],[Date]])=7,0,IF(MONTH(KCITempAct[[#This Row],[Date]])=8,0,KCITempAct[[#This Row],[KCINHDD]]))","v":15.2},"Adj HDD and NDD =0 for July and August"]
["2021-10-28",52,46,{"$f":"AVERAGE(KCITempAct[[#This Row],[KCIHigh]:[KCILow]]\n)","v":49},{"$f":"IF(KCITempAct[[#This Row],[KCIAve]]<65,(65-KCITempAct[[#This Row],[KCIAve]]),0)","v":16},{"$f":"IF(MONTH(KCITempAct[[#This Row],[Date]])=7,0,IF(MONTH(KCITempAct[[#This Row],[Date]])=8,0,KCITempAct[[#This Row],[KCIHDD]]))","v":16},{"$f":"SUMPRODUCT((KCINHDD[Month]=MONTH(KCITempAct[[#This Row],[Date]]))*(KCINHDD[Day]=DAY(KCITempAct[[#This Row],[Date]]))*KCINHDD[KCINHDD])","v":13.066666666666666},{"$f":"IF(MONTH(KCITempAct[[#This Row],[Date]])=7,0,IF(MONTH(KCITempAct[[#This Row],[Date]])=8,0,KCITempAct[[#This Row],[KCINHDD]]))","v":13.066666666666666},"Adj HDD and NDD =0 for July and August"]
["2021-10-29",56,41,{"$f":"AVERAGE(KCITempAct[[#This Row],[KCIHigh]:[KCILow]]\n)","v":48.5},{"$f":"IF(KCITempAct[[#This Row],[KCIAve]]<65,(65-KCITempAct[[#This Row],[KCIAve]]),0)","v":16.5},{"$f":"IF(MONTH(KCITempAct[[#This Row],[Date]])=7,0,IF(MONTH(KCITempAct[[#This Row],[Date]])=8,0,KCITempAct[[#This Row],[KCIHDD]]))","v":16.5},{"$f":"SUMPRODUCT((KCINHDD[Month]=MONTH(KCITempAct[[#This Row],[Date]]))*(KCINHDD[Day]=DAY(KCITempAct[[#This Row],[Date]]))*KCINHDD[KCINHDD])","v":12.483333333333333},{"$f":"IF(MONTH(KCITempAct[[#This Row],[Date]])=7,0,IF(MONTH(KCITempAct[[#This Row],[Date]])=8,0,KCITempAct[[#This Row],[KCINHDD]]))","v":12.483333333333333},"Adj HDD and NDD =0 for July and August"]
["2021-10-30",65,37,{"$f":"AVERAGE(KCITempAct[[#This Row],[KCIHigh]:[KCILow]]\n)","v":51},{"$f":"IF(KCITempAct[[#This Row],[KCIAve]]<65,(65-KCITempAct[[#This Row],[KCIAve]]),0)","v":14},{"$f":"IF(MONTH(KCITempAct[[#This Row],[Date]])=7,0,IF(MONTH(KCITempAct[[#This Row],[Date]])=8,0,KCITempAct[[#This Row],[KCIHDD]]))","v":14},{"$f":"SUMPRODUCT((KCINHDD[Month]=MONTH(KCITempAct[[#This Row],[Date]]))*(KCINHDD[Day]=DAY(KCITempAct[[#This Row],[Date]]))*KCINHDD[KCINHDD])","v":13.8},{"$f":"IF(MONTH(KCITempAct[[#This Row],[Date]])=7,0,IF(MONTH(KCITempAct[[#This Row],[Date]])=8,0,KCITempAct[[#This Row],[KCINHDD]]))","v":13.8},"Adj HDD and NDD =0 for July and August"]
["2021-10-31",57,42,{"$f":"AVERAGE(KCITempAct[[#This Row],[KCIHigh]:[KCILow]]\n)","v":49.5},{"$f":"IF(KCITempAct[[#This Row],[KCIAve]]<65,(65-KCITempAct[[#This Row],[KCIAve]]),0)","v":15.5},{"$f":"IF(MONTH(KCITempAct[[#This Row],[Date]])=7,0,IF(MONTH(KCITempAct[[#This Row],[Date]])=8,0,KCITempAct[[#This Row],[KCIHDD]]))","v":15.5},{"$f":"SUMPRODUCT((KCINHDD[Month]=MONTH(KCITempAct[[#This Row],[Date]]))*(KCINHDD[Day]=DAY(KCITempAct[[#This Row],[Date]]))*KCINHDD[KCINHDD])","v":16.666666666666668},{"$f":"IF(MONTH(KCITempAct[[#This Row],[Date]])=7,0,IF(MONTH(KCITempAct[[#This Row],[Date]])=8,0,KCITempAct[[#This Row],[KCINHDD]]))","v":16.666666666666668},"Adj HDD and NDD =0 for July and August"]
["2021-11-01",44,38,{"$f":"AVERAGE(KCITempAct[[#This Row],[KCIHigh]:[KCILow]]\n)","v":41},{"$f":"IF(KCITempAct[[#This Row],[KCIAve]]<65,(65-KCITempAct[[#This Row],[KCIAve]]),0)","v":24},{"$f":"IF(MONTH(KCITempAct[[#This Row],[Date]])=7,0,IF(MONTH(KCITempAct[[#This Row],[Date]])=8,0,KCITempAct[[#This Row],[KCIHDD]]))","v":24},{"$f":"SUMPRODUCT((KCINHDD[Month]=MONTH(KCITempAct[[#This Row],[Date]]))*(KCINHDD[Day]=DAY(KCITempAct[[#This Row],[Date]]))*KCINHDD[KCINHDD])","v":15.466666666666667},{"$f":"IF(MONTH(KCITempAct[[#This Row],[Date]])=7,0,IF(MONTH(KCITempAct[[#This Row],[Date]])=8,0,KCITempAct[[#This Row],[KCINHDD]]))","v":15.466666666666667},"Adj HDD and NDD =0 for July and August"]
["2021-11-02",49,32,{"$f":"AVERAGE(KCITempAct[[#This Row],[KCIHigh]:[KCILow]]\n)","v":40.5},{"$f":"IF(KCITempAct[[#This Row],[KCIAve]]<65,(65-KCITempAct[[#This Row],[KCIAve]]),0)","v":24.5},{"$f":"IF(MONTH(KCITempAct[[#This Row],[Date]])=7,0,IF(MONTH(KCITempAct[[#This Row],[Date]])=8,0,KCITempAct[[#This Row],[KCIHDD]]))","v":24.5},{"$f":"SUMPRODUCT((KCINHDD[Month]=MONTH(KCITempAct[[#This Row],[Date]]))*(KCINHDD[Day]=DAY(KCITempAct[[#This Row],[Date]]))*KCINHDD[KCINHDD])","v":17.433333333333334},{"$f":"IF(MONTH(KCITempAct[[#This Row],[Date]])=7,0,IF(MONTH(KCITempAct[[#This Row],[Date]])=8,0,KCITempAct[[#This Row],[KCINHDD]]))","v":17.433333333333334},"Adj HDD and NDD =0 for July and August"]
["2021-11-03",51,29,{"$f":"AVERAGE(KCITempAct[[#This Row],[KCIHigh]:[KCILow]]\n)","v":40},{"$f":"IF(KCITempAct[[#This Row],[KCIAve]]<65,(65-KCITempAct[[#This Row],[KCIAve]]),0)","v":25},{"$f":"IF(MONTH(KCITempAct[[#This Row],[Date]])=7,0,IF(MONTH(KCITempAct[[#This Row],[Date]])=8,0,KCITempAct[[#This Row],[KCIHDD]]))","v":25},{"$f":"SUMPRODUCT((KCINHDD[Month]=MONTH(KCITempAct[[#This Row],[Date]]))*(KCINHDD[Day]=DAY(KCITempAct[[#This Row],[Date]]))*KCINHDD[KCINHDD])","v":16.816666666666666},{"$f":"IF(MONTH(KCITempAct[[#This Row],[Date]])=7,0,IF(MONTH(KCITempAct[[#This Row],[Date]])=8,0,KCITempAct[[#This Row],[KCINHDD]]))","v":16.816666666666666},"Adj HDD and NDD =0 for July and August"]
["2021-11-04",53,34,{"$f":"AVERAGE(KCITempAct[[#This Row],[KCIHigh]:[KCILow]]\n)","v":43.5},{"$f":"IF(KCITempAct[[#This Row],[KCIAve]]<65,(65-KCITempAct[[#This Row],[KCIAve]]),0)","v":21.5},{"$f":"IF(MONTH(KCITempAct[[#This Row],[Date]])=7,0,IF(MONTH(KCITempAct[[#This Row],[Date]])=8,0,KCITempAct[[#This Row],[KCIHDD]]))","v":21.5},{"$f":"SUMPRODUCT((KCINHDD[Month]=MONTH(KCITempAct[[#This Row],[Date]]))*(KCINHDD[Day]=DAY(KCITempAct[[#This Row],[Date]]))*KCINHDD[KCINHDD])","v":17.166666666666668},{"$f":"IF(MONTH(KCITempAct[[#This Row],[Date]])=7,0,IF(MONTH(KCITempAct[[#This Row],[Date]])=8,0,KCITempAct[[#This Row],[KCINHDD]]))","v":17.166666666666668},"Adj HDD and NDD =0 for July and August"]
["2021-11-05",58,37,{"$f":"AVERAGE(KCITempAct[[#This Row],[KCIHigh]:[KCILow]]\n)","v":47.5},{"$f":"IF(KCITempAct[[#This Row],[KCIAve]]<65,(65-KCITempAct[[#This Row],[KCIAve]]),0)","v":17.5},{"$f":"IF(MONTH(KCITempAct[[#This Row],[Date]])=7,0,IF(MONTH(KCITempAct[[#This Row],[Date]])=8,0,KCITempAct[[#This Row],[KCIHDD]]))","v":17.5},{"$f":"SUMPRODUCT((KCINHDD[Month]=MONTH(KCITempAct[[#This Row],[Date]]))*(KCINHDD[Day]=DAY(KCITempAct[[#This Row],[Date]]))*KCINHDD[KCINHDD])","v":17.383333333333333},{"$f":"IF(MONTH(KCITempAct[[#This Row],[Date]])=7,0,IF(MONTH(KCITempAct[[#This Row],[Date]])=8,0,KCITempAct[[#This Row],[KCINHDD]]))","v":17.383333333333333},"Adj HDD and NDD =0 for July and August"]
["2021-11-06",66,40,{"$f":"AVERAGE(KCITempAct[[#This Row],[KCIHigh]:[KCILow]]\n)","v":53},{"$f":"IF(KCITempAct[[#This Row],[KCIAve]]<65,(65-KCITempAct[[#This Row],[KCIAve]]),0)","v":12},{"$f":"IF(MONTH(KCITempAct[[#This Row],[Date]])=7,0,IF(MONTH(KCITempAct[[#This Row],[Date]])=8,0,KCITempAct[[#This Row],[KCIHDD]]))","v":12},{"$f":"SUMPRODUCT((KCINHDD[Month]=MONTH(KCITempAct[[#This Row],[Date]]))*(KCINHDD[Day]=DAY(KCITempAct[[#This Row],[Date]]))*KCINHDD[KCINHDD])","v":18.55},{"$f":"IF(MONTH(KCITempAct[[#This Row],[Date]])=7,0,IF(MONTH(KCITempAct[[#This Row],[Date]])=8,0,KCITempAct[[#This Row],[KCINHDD]]))","v":18.55},"Adj HDD and NDD =0 for July and August"]
["2021-11-07",73,46,{"$f":"AVERAGE(KCITempAct[[#This Row],[KCIHigh]:[KCILow]]\n)","v":59.5},{"$f":"IF(KCITempAct[[#This Row],[KCIAve]]<65,(65-KCITempAct[[#This Row],[KCIAve]]),0)","v":5.5},{"$f":"IF(MONTH(KCITempAct[[#This Row],[Date]])=7,0,IF(MONTH(KCITempAct[[#This Row],[Date]])=8,0,KCITempAct[[#This Row],[KCIHDD]]))","v":5.5},{"$f":"SUMPRODUCT((KCINHDD[Month]=MONTH(KCITempAct[[#This Row],[Date]]))*(KCINHDD[Day]=DAY(KCITempAct[[#This Row],[Date]]))*KCINHDD[KCINHDD])","v":18.600000000000001},{"$f":"IF(MONTH(KCITempAct[[#This Row],[Date]])=7,0,IF(MONTH(KCITempAct[[#This Row],[Date]])=8,0,KCITempAct[[#This Row],[KCINHDD]]))","v":18.600000000000001},"Adj HDD and NDD =0 for July and August"]
["2021-11-08",71,47,{"$f":"AVERAGE(KCITempAct[[#This Row],[KCIHigh]:[KCILow]]\n)","v":59},{"$f":"IF(KCITempAct[[#This Row],[KCIAve]]<65,(65-KCITempAct[[#This Row],[KCIAve]]),0)","v":6},{"$f":"IF(MONTH(KCITempAct[[#This Row],[Date]])=7,0,IF(MONTH(KCITempAct[[#This Row],[Date]])=8,0,KCITempAct[[#This Row],[KCIHDD]]))","v":6},{"$f":"SUMPRODUCT((KCINHDD[Month]=MONTH(KCITempAct[[#This Row],[Date]]))*(KCINHDD[Day]=DAY(KCITempAct[[#This Row],[Date]]))*KCINHDD[KCINHDD])","v":18.333333333333332},{"$f":"IF(MONTH(KCITempAct[[#This Row],[Date]])=7,0,IF(MONTH(KCITempAct[[#This Row],[Date]])=8,0,KCITempAct[[#This Row],[KCINHDD]]))","v":18.333333333333332},"Adj HDD and NDD =0 for July and August"]
["2021-11-09",67,49,{"$f":"AVERAGE(KCITempAct[[#This Row],[KCIHigh]:[KCILow]]\n)","v":58},{"$f":"IF(KCITempAct[[#This Row],[KCIAve]]<65,(65-KCITempAct[[#This Row],[KCIAve]]),0)","v":7},{"$f":"IF(MONTH(KCITempAct[[#This Row],[Date]])=7,0,IF(MONTH(KCITempAct[[#This Row],[Date]])=8,0,KCITempAct[[#This Row],[KCIHDD]]))","v":7},{"$f":"SUMPRODUCT((KCINHDD[Month]=MONTH(KCITempAct[[#This Row],[Date]]))*(KCINHDD[Day]=DAY(KCITempAct[[#This Row],[Date]]))*KCINHDD[KCINHDD])","v":16.733333333333334},{"$f":"IF(MONTH(KCITempAct[[#This Row],[Date]])=7,0,IF(MONTH(KCITempAct[[#This Row],[Date]])=8,0,KCITempAct[[#This Row],[KCINHDD]]))","v":16.733333333333334},"Adj HDD and NDD =0 for July and August"]
["2021-11-10",68,50,{"$f":"AVERAGE(KCITempAct[[#This Row],[KCIHigh]:[KCILow]]\n)","v":59},{"$f":"IF(KCITempAct[[#This Row],[KCIAve]]<65,(65-KCITempAct[[#This Row],[KCIAve]]),0)","v":6},{"$f":"IF(MONTH(KCITempAct[[#This Row],[Date]])=7,0,IF(MONTH(KCITempAct[[#This Row],[Date]])=8,0,KCITempAct[[#This Row],[KCIHDD]]))","v":6},{"$f":"SUMPRODUCT((KCINHDD[Month]=MONTH(KCITempAct[[#This Row],[Date]]))*(KCINHDD[Day]=DAY(KCITempAct[[#This Row],[Date]]))*KCINHDD[KCINHDD])","v":19.783333333333335},{"$f":"IF(MONTH(KCITempAct[[#This Row],[Date]])=7,0,IF(MONTH(KCITempAct[[#This Row],[Date]])=8,0,KCITempAct[[#This Row],[KCINHDD]]))","v":19.783333333333335},"Adj HDD and NDD =0 for July and August"]
["2021-11-11",55,41,{"$f":"AVERAGE(KCITempAct[[#This Row],[KCIHigh]:[KCILow]]\n)","v":48},{"$f":"IF(KCITempAct[[#This Row],[KCIAve]]<65,(65-KCITempAct[[#This Row],[KCIAve]]),0)","v":17},{"$f":"IF(MONTH(KCITempAct[[#This Row],[Date]])=7,0,IF(MONTH(KCITempAct[[#This Row],[Date]])=8,0,KCITempAct[[#This Row],[KCIHDD]]))","v":17},{"$f":"SUMPRODUCT((KCINHDD[Month]=MONTH(KCITempAct[[#This Row],[Date]]))*(KCINHDD[Day]=DAY(KCITempAct[[#This Row],[Date]]))*KCINHDD[KCINHDD])","v":22.15},{"$f":"IF(MONTH(KCITempAct[[#This Row],[Date]])=7,0,IF(MONTH(KCITempAct[[#This Row],[Date]])=8,0,KCITempAct[[#This Row],[KCINHDD]]))","v":22.15},"Adj HDD and NDD =0 for July and August"]
["2021-11-12",45,32,{"$f":"AVERAGE(KCITempAct[[#This Row],[KCIHigh]:[KCILow]]\n)","v":38.5},{"$f":"IF(KCITempAct[[#This Row],[KCIAve]]<65,(65-KCITempAct[[#This Row],[KCIAve]]),0)","v":26.5},{"$f":"IF(MONTH(KCITempAct[[#This Row],[Date]])=7,0,IF(MONTH(KCITempAct[[#This Row],[Date]])=8,0,KCITempAct[[#This Row],[KCIHDD]]))","v":26.5},{"$f":"SUMPRODUCT((KCINHDD[Month]=MONTH(KCITempAct[[#This Row],[Date]]))*(KCINHDD[Day]=DAY(KCITempAct[[#This Row],[Date]]))*KCINHDD[KCINHDD])","v":22.6},{"$f":"IF(MONTH(KCITempAct[[#This Row],[Date]])=7,0,IF(MONTH(KCITempAct[[#This Row],[Date]])=8,0,KCITempAct[[#This Row],[KCINHDD]]))","v":22.6},"Adj HDD and NDD =0 for July and August"]
["2021-11-13",46,27,{"$f":"AVERAGE(KCITempAct[[#This Row],[KCIHigh]:[KCILow]]\n)","v":36.5},{"$f":"IF(KCITempAct[[#This Row],[KCIAve]]<65,(65-KCITempAct[[#This Row],[KCIAve]]),0)","v":28.5},{"$f":"IF(MONTH(KCITempAct[[#This Row],[Date]])=7,0,IF(MONTH(KCITempAct[[#This Row],[Date]])=8,0,KCITempAct[[#This Row],[KCIHDD]]))","v":28.5},{"$f":"SUMPRODUCT((KCINHDD[Month]=MONTH(KCITempAct[[#This Row],[Date]]))*(KCINHDD[Day]=DAY(KCITempAct[[#This Row],[Date]]))*KCINHDD[KCINHDD])","v":21.8},{"$f":"IF(MONTH(KCITempAct[[#This Row],[Date]])=7,0,IF(MONTH(KCITempAct[[#This Row],[Date]])=8,0,KCITempAct[[#This Row],[KCINHDD]]))","v":21.8},"Adj HDD and NDD =0 for July and August"]
["2021-11-14",54,38,{"$f":"AVERAGE(KCITempAct[[#This Row],[KCIHigh]:[KCILow]]\n)","v":46},{"$f":"IF(KCITempAct[[#This Row],[KCIAve]]<65,(65-KCITempAct[[#This Row],[KCIAve]]),0)","v":19},{"$f":"IF(MONTH(KCITempAct[[#This Row],[Date]])=7,0,IF(MONTH(KCITempAct[[#This Row],[Date]])=8,0,KCITempAct[[#This Row],[KCIHDD]]))","v":19},{"$f":"SUMPRODUCT((KCINHDD[Month]=MONTH(KCITempAct[[#This Row],[Date]]))*(KCINHDD[Day]=DAY(KCITempAct[[#This Row],[Date]]))*KCINHDD[KCINHDD])","v":20.316666666666666},{"$f":"IF(MONTH(KCITempAct[[#This Row],[Date]])=7,0,IF(MONTH(KCITempAct[[#This Row],[Date]])=8,0,KCITempAct[[#This Row],[KCINHDD]]))","v":20.316666666666666},"Adj HDD and NDD =0 for July and August"]
["2021-11-15",66,38,{"$f":"AVERAGE(KCITempAct[[#This Row],[KCIHigh]:[KCILow]]\n)","v":52},{"$f":"IF(KCITempAct[[#This Row],[KCIAve]]<65,(65-KCITempAct[[#This Row],[KCIAve]]),0)","v":13},{"$f":"IF(MONTH(KCITempAct[[#This Row],[Date]])=7,0,IF(MONTH(KCITempAct[[#This Row],[Date]])=8,0,KCITempAct[[#This Row],[KCIHDD]]))","v":13},{"$f":"SUMPRODUCT((KCINHDD[Month]=MONTH(KCITempAct[[#This Row],[Date]]))*(KCINHDD[Day]=DAY(KCITempAct[[#This Row],[Date]]))*KCINHDD[KCINHDD])","v":21.883333333333333},{"$f":"IF(MONTH(KCITempAct[[#This Row],[Date]])=7,0,IF(MONTH(KCITempAct[[#This Row],[Date]])=8,0,KCITempAct[[#This Row],[KCINHDD]]))","v":21.883333333333333},"Adj HDD and NDD =0 for July and August"]
["2021-11-16",72,43,{"$f":"AVERAGE(KCITempAct[[#This Row],[KCIHigh]:[KCILow]]\n)","v":57.5},{"$f":"IF(KCITempAct[[#This Row],[KCIAve]]<65,(65-KCITempAct[[#This Row],[KCIAve]]),0)","v":7.5},{"$f":"IF(MONTH(KCITempAct[[#This Row],[Date]])=7,0,IF(MONTH(KCITempAct[[#This Row],[Date]])=8,0,KCITempAct[[#This Row],[KCIHDD]]))","v":7.5},{"$f":"SUMPRODUCT((KCINHDD[Month]=MONTH(KCITempAct[[#This Row],[Date]]))*(KCINHDD[Day]=DAY(KCITempAct[[#This Row],[Date]]))*KCINHDD[KCINHDD])","v":20.916666666666668},{"$f":"IF(MONTH(KCITempAct[[#This Row],[Date]])=7,0,IF(MONTH(KCITempAct[[#This Row],[Date]])=8,0,KCITempAct[[#This Row],[KCINHDD]]))","v":20.916666666666668},"Adj HDD and NDD =0 for July and August"]
["2021-11-17",65,38,{"$f":"AVERAGE(KCITempAct[[#This Row],[KCIHigh]:[KCILow]]\n)","v":51.5},{"$f":"IF(KCITempAct[[#This Row],[KCIAve]]<65,(65-KCITempAct[[#This Row],[KCIAve]]),0)","v":13.5},{"$f":"IF(MONTH(KCITempAct[[#This Row],[Date]])=7,0,IF(MONTH(KCITempAct[[#This Row],[Date]])=8,0,KCITempAct[[#This Row],[KCIHDD]]))","v":13.5},{"$f":"SUMPRODUCT((KCINHDD[Month]=MONTH(KCITempAct[[#This Row],[Date]]))*(KCINHDD[Day]=DAY(KCITempAct[[#This Row],[Date]]))*KCINHDD[KCINHDD])","v":20.066666666666666},{"$f":"IF(MONTH(KCITempAct[[#This Row],[Date]])=7,0,IF(MONTH(KCITempAct[[#This Row],[Date]])=8,0,KCITempAct[[#This Row],[KCINHDD]]))","v":20.066666666666666},"Adj HDD and NDD =0 for July and August"]
["2021-11-18",48,28,{"$f":"AVERAGE(KCITempAct[[#This Row],[KCIHigh]:[KCILow]]\n)","v":38},{"$f":"IF(KCITempAct[[#This Row],[KCIAve]]<65,(65-KCITempAct[[#This Row],[KCIAve]]),0)","v":27},{"$f":"IF(MONTH(KCITempAct[[#This Row],[Date]])=7,0,IF(MONTH(KCITempAct[[#This Row],[Date]])=8,0,KCITempAct[[#This Row],[KCIHDD]]))","v":27},{"$f":"SUMPRODUCT((KCINHDD[Month]=MONTH(KCITempAct[[#This Row],[Date]]))*(KCINHDD[Day]=DAY(KCITempAct[[#This Row],[Date]]))*KCINHDD[KCINHDD])","v":20.8},{"$f":"IF(MONTH(KCITempAct[[#This Row],[Date]])=7,0,IF(MONTH(KCITempAct[[#This Row],[Date]])=8,0,KCITempAct[[#This Row],[KCINHDD]]))","v":20.8},"Adj HDD and NDD =0 for July and August"]
["2021-11-19",51,27,{"$f":"AVERAGE(KCITempAct[[#This Row],[KCIHigh]:[KCILow]]\n)","v":39},{"$f":"IF(KCITempAct[[#This Row],[KCIAve]]<65,(65-KCITempAct[[#This Row],[KCIAve]]),0)","v":26},{"$f":"IF(MONTH(KCITempAct[[#This Row],[Date]])=7,0,IF(MONTH(KCITempAct[[#This Row],[Date]])=8,0,KCITempAct[[#This Row],[KCIHDD]]))","v":26},{"$f":"SUMPRODUCT((KCINHDD[Month]=MONTH(KCITempAct[[#This Row],[Date]]))*(KCINHDD[Day]=DAY(KCITempAct[[#This Row],[Date]]))*KCINHDD[KCINHDD])","v":19.616666666666667},{"$f":"IF(MONTH(KCITempAct[[#This Row],[Date]])=7,0,IF(MONTH(KCITempAct[[#This Row],[Date]])=8,0,KCITempAct[[#This Row],[KCINHDD]]))","v":19.616666666666667},"Adj HDD and NDD =0 for July and August"]
["2021-11-20",56,38,{"$f":"AVERAGE(KCITempAct[[#This Row],[KCIHigh]:[KCILow]]\n)","v":47},{"$f":"IF(KCITempAct[[#This Row],[KCIAve]]<65,(65-KCITempAct[[#This Row],[KCIAve]]),0)","v":18},{"$f":"IF(MONTH(KCITempAct[[#This Row],[Date]])=7,0,IF(MONTH(KCITempAct[[#This Row],[Date]])=8,0,KCITempAct[[#This Row],[KCIHDD]]))","v":18},{"$f":"SUMPRODUCT((KCINHDD[Month]=MONTH(KCITempAct[[#This Row],[Date]]))*(KCINHDD[Day]=DAY(KCITempAct[[#This Row],[Date]]))*KCINHDD[KCINHDD])","v":21.8},{"$f":"IF(MONTH(KCITempAct[[#This Row],[Date]])=7,0,IF(MONTH(KCITempAct[[#This Row],[Date]])=8,0,KCITempAct[[#This Row],[KCINHDD]]))","v":21.8},"Adj HDD and NDD =0 for July and August"]
["2021-11-21",58,31,{"$f":"AVERAGE(KCITempAct[[#This Row],[KCIHigh]:[KCILow]]\n)","v":44.5},{"$f":"IF(KCITempAct[[#This Row],[KCIAve]]<65,(65-KCITempAct[[#This Row],[KCIAve]]),0)","v":20.5},{"$f":"IF(MONTH(KCITempAct[[#This Row],[Date]])=7,0,IF(MONTH(KCITempAct[[#This Row],[Date]])=8,0,KCITempAct[[#This Row],[KCIHDD]]))","v":20.5},{"$f":"SUMPRODUCT((KCINHDD[Month]=MONTH(KCITempAct[[#This Row],[Date]]))*(KCINHDD[Day]=DAY(KCITempAct[[#This Row],[Date]]))*KCINHDD[KCINHDD])","v":22.783333333333335},{"$f":"IF(MONTH(KCITempAct[[#This Row],[Date]])=7,0,IF(MONTH(KCITempAct[[#This Row],[Date]])=8,0,KCITempAct[[#This Row],[KCINHDD]]))","v":22.783333333333335},"Adj HDD and NDD =0 for July and August"]
["2021-11-22",48,27,{"$f":"AVERAGE(KCITempAct[[#This Row],[KCIHigh]:[KCILow]]\n)","v":37.5},{"$f":"IF(KCITempAct[[#This Row],[KCIAve]]<65,(65-KCITempAct[[#This Row],[KCIAve]]),0)","v":27.5},{"$f":"IF(MONTH(KCITempAct[[#This Row],[Date]])=7,0,IF(MONTH(KCITempAct[[#This Row],[Date]])=8,0,KCITempAct[[#This Row],[KCIHDD]]))","v":27.5},{"$f":"SUMPRODUCT((KCINHDD[Month]=MONTH(KCITempAct[[#This Row],[Date]]))*(KCINHDD[Day]=DAY(KCITempAct[[#This Row],[Date]]))*KCINHDD[KCINHDD])","v":22.95},{"$f":"IF(MONTH(KCITempAct[[#This Row],[Date]])=7,0,IF(MONTH(KCITempAct[[#This Row],[Date]])=8,0,KCITempAct[[#This Row],[KCINHDD]]))","v":22.95},"Adj HDD and NDD =0 for July and August"]
["2021-11-23",66,31,{"$f":"AVERAGE(KCITempAct[[#This Row],[KCIHigh]:[KCILow]]\n)","v":48.5},{"$f":"IF(KCITempAct[[#This Row],[KCIAve]]<65,(65-KCITempAct[[#This Row],[KCIAve]]),0)","v":16.5},{"$f":"IF(MONTH(KCITempAct[[#This Row],[Date]])=7,0,IF(MONTH(KCITempAct[[#This Row],[Date]])=8,0,KCITempAct[[#This Row],[KCIHDD]]))","v":16.5},{"$f":"SUMPRODUCT((KCINHDD[Month]=MONTH(KCITempAct[[#This Row],[Date]]))*(KCINHDD[Day]=DAY(KCITempAct[[#This Row],[Date]]))*KCINHDD[KCINHDD])","v":23.95},{"$f":"IF(MONTH(KCITempAct[[#This Row],[Date]])=7,0,IF(MONTH(KCITempAct[[#This Row],[Date]])=8,0,KCITempAct[[#This Row],[KCINHDD]]))","v":23.95},"Adj HDD and NDD =0 for July and August"]
["2021-11-24",60,37,{"$f":"AVERAGE(KCITempAct[[#This Row],[KCIHigh]:[KCILow]]\n)","v":48.5},{"$f":"IF(KCITempAct[[#This Row],[KCIAve]]<65,(65-KCITempAct[[#This Row],[KCIAve]]),0)","v":16.5},{"$f":"IF(MONTH(KCITempAct[[#This Row],[Date]])=7,0,IF(MONTH(KCITempAct[[#This Row],[Date]])=8,0,KCITempAct[[#This Row],[KCIHDD]]))","v":16.5},{"$f":"SUMPRODUCT((KCINHDD[Month]=MONTH(KCITempAct[[#This Row],[Date]]))*(KCINHDD[Day]=DAY(KCITempAct[[#This Row],[Date]]))*KCINHDD[KCINHDD])","v":25},{"$f":"IF(MONTH(KCITempAct[[#This Row],[Date]])=7,0,IF(MONTH(KCITempAct[[#This Row],[Date]])=8,0,KCITempAct[[#This Row],[KCINHDD]]))","v":25},"Adj HDD and NDD =0 for July and August"]
["2021-11-25",37,20,{"$f":"AVERAGE(KCITempAct[[#This Row],[KCIHigh]:[KCILow]]\n)","v":28.5},{"$f":"IF(KCITempAct[[#This Row],[KCIAve]]<65,(65-KCITempAct[[#This Row],[KCIAve]]),0)","v":36.5},{"$f":"IF(MONTH(KCITempAct[[#This Row],[Date]])=7,0,IF(MONTH(KCITempAct[[#This Row],[Date]])=8,0,KCITempAct[[#This Row],[KCIHDD]]))","v":36.5},{"$f":"SUMPRODUCT((KCINHDD[Month]=MONTH(KCITempAct[[#This Row],[Date]]))*(KCINHDD[Day]=DAY(KCITempAct[[#This Row],[Date]]))*KCINHDD[KCINHDD])","v":25.85},{"$f":"IF(MONTH(KCITempAct[[#This Row],[Date]])=7,0,IF(MONTH(KCITempAct[[#This Row],[Date]])=8,0,KCITempAct[[#This Row],[KCINHDD]]))","v":25.85},"Adj HDD and NDD =0 for July and August"]
["2021-11-26",55,20,{"$f":"AVERAGE(KCITempAct[[#This Row],[KCIHigh]:[KCILow]]\n)","v":37.5},{"$f":"IF(KCITempAct[[#This Row],[KCIAve]]<65,(65-KCITempAct[[#This Row],[KCIAve]]),0)","v":27.5},{"$f":"IF(MONTH(KCITempAct[[#This Row],[Date]])=7,0,IF(MONTH(KCITempAct[[#This Row],[Date]])=8,0,KCITempAct[[#This Row],[KCIHDD]]))","v":27.5},{"$f":"SUMPRODUCT((KCINHDD[Month]=MONTH(KCITempAct[[#This Row],[Date]]))*(KCINHDD[Day]=DAY(KCITempAct[[#This Row],[Date]]))*KCINHDD[KCINHDD])","v":24.583333333333332},{"$f":"IF(MONTH(KCITempAct[[#This Row],[Date]])=7,0,IF(MONTH(KCITempAct[[#This Row],[Date]])=8,0,KCITempAct[[#This Row],[KCINHDD]]))","v":24.583333333333332},"Adj HDD and NDD =0 for July and August"]
["2021-11-27",68,39,{"$f":"AVERAGE(KCITempAct[[#This Row],[KCIHigh]:[KCILow]]\n)","v":53.5},{"$f":"IF(KCITempAct[[#This Row],[KCIAve]]<65,(65-KCITempAct[[#This Row],[KCIAve]]),0)","v":11.5},{"$f":"IF(MONTH(KCITempAct[[#This Row],[Date]])=7,0,IF(MONTH(KCITempAct[[#This Row],[Date]])=8,0,KCITempAct[[#This Row],[KCIHDD]]))","v":11.5},{"$f":"SUMPRODUCT((KCINHDD[Month]=MONTH(KCITempAct[[#This Row],[Date]]))*(KCINHDD[Day]=DAY(KCITempAct[[#This Row],[Date]]))*KCINHDD[KCINHDD])","v":26.733333333333334},{"$f":"IF(MONTH(KCITempAct[[#This Row],[Date]])=7,0,IF(MONTH(KCITempAct[[#This Row],[Date]])=8,0,KCITempAct[[#This Row],[KCINHDD]]))","v":26.733333333333334},"Adj HDD and NDD =0 for July and August"]
["2021-11-28",51,32,{"$f":"AVERAGE(KCITempAct[[#This Row],[KCIHigh]:[KCILow]]\n)","v":41.5},{"$f":"IF(KCITempAct[[#This Row],[KCIAve]]<65,(65-KCITempAct[[#This Row],[KCIAve]]),0)","v":23.5},{"$f":"IF(MONTH(KCITempAct[[#This Row],[Date]])=7,0,IF(MONTH(KCITempAct[[#This Row],[Date]])=8,0,KCITempAct[[#This Row],[KCIHDD]]))","v":23.5},{"$f":"SUMPRODUCT((KCINHDD[Month]=MONTH(KCITempAct[[#This Row],[Date]]))*(KCINHDD[Day]=DAY(KCITempAct[[#This Row],[Date]]))*KCINHDD[KCINHDD])","v":24.916666666666668},{"$f":"IF(MONTH(KCITempAct[[#This Row],[Date]])=7,0,IF(MONTH(KCITempAct[[#This Row],[Date]])=8,0,KCITempAct[[#This Row],[KCINHDD]]))","v":24.916666666666668},"Adj HDD and NDD =0 for July and August"]
["2021-11-29",65,37,{"$f":"AVERAGE(KCITempAct[[#This Row],[KCIHigh]:[KCILow]]\n)","v":51},{"$f":"IF(KCITempAct[[#This Row],[KCIAve]]<65,(65-KCITempAct[[#This Row],[KCIAve]]),0)","v":14},{"$f":"IF(MONTH(KCITempAct[[#This Row],[Date]])=7,0,IF(MONTH(KCITempAct[[#This Row],[Date]])=8,0,KCITempAct[[#This Row],[KCIHDD]]))","v":14},{"$f":"SUMPRODUCT((KCINHDD[Month]=MONTH(KCITempAct[[#This Row],[Date]]))*(KCINHDD[Day]=DAY(KCITempAct[[#This Row],[Date]]))*KCINHDD[KCINHDD])","v":25},{"$f":"IF(MONTH(KCITempAct[[#This Row],[Date]])=7,0,IF(MONTH(KCITempAct[[#This Row],[Date]])=8,0,KCITempAct[[#This Row],[KCINHDD]]))","v":25},"Adj HDD and NDD =0 for July and August"]
["2021-11-30",56,42,{"$f":"AVERAGE(KCITempAct[[#This Row],[KCIHigh]:[KCILow]]\n)","v":49},{"$f":"IF(KCITempAct[[#This Row],[KCIAve]]<65,(65-KCITempAct[[#This Row],[KCIAve]]),0)","v":16},{"$f":"IF(MONTH(KCITempAct[[#This Row],[Date]])=7,0,IF(MONTH(KCITempAct[[#This Row],[Date]])=8,0,KCITempAct[[#This Row],[KCIHDD]]))","v":16},{"$f":"SUMPRODUCT((KCINHDD[Month]=MONTH(KCITempAct[[#This Row],[Date]]))*(KCINHDD[Day]=DAY(KCITempAct[[#This Row],[Date]]))*KCINHDD[KCINHDD])","v":27.8},{"$f":"IF(MONTH(KCITempAct[[#This Row],[Date]])=7,0,IF(MONTH(KCITempAct[[#This Row],[Date]])=8,0,KCITempAct[[#This Row],[KCINHDD]]))","v":27.8},"Adj HDD and NDD =0 for July and August"]
["2021-12-01",64,37,{"$f":"AVERAGE(KCITempAct[[#This Row],[KCIHigh]:[KCILow]]\n)","v":50.5},{"$f":"IF(KCITempAct[[#This Row],[KCIAve]]<65,(65-KCITempAct[[#This Row],[KCIAve]]),0)","v":14.5},{"$f":"IF(MONTH(KCITempAct[[#This Row],[Date]])=7,0,IF(MONTH(KCITempAct[[#This Row],[Date]])=8,0,KCITempAct[[#This Row],[KCIHDD]]))","v":14.5},{"$f":"SUMPRODUCT((KCINHDD[Month]=MONTH(KCITempAct[[#This Row],[Date]]))*(KCINHDD[Day]=DAY(KCITempAct[[#This Row],[Date]]))*KCINHDD[KCINHDD])","v":26.983333333333334},{"$f":"IF(MONTH(KCITempAct[[#This Row],[Date]])=7,0,IF(MONTH(KCITempAct[[#This Row],[Date]])=8,0,KCITempAct[[#This Row],[KCINHDD]]))","v":26.983333333333334},"Adj HDD and NDD =0 for July and August"]
["2021-12-02",71,45,{"$f":"AVERAGE(KCITempAct[[#This Row],[KCIHigh]:[KCILow]]\n)","v":58},{"$f":"IF(KCITempAct[[#This Row],[KCIAve]]<65,(65-KCITempAct[[#This Row],[KCIAve]]),0)","v":7},{"$f":"IF(MONTH(KCITempAct[[#This Row],[Date]])=7,0,IF(MONTH(KCITempAct[[#This Row],[Date]])=8,0,KCITempAct[[#This Row],[KCIHDD]]))","v":7},{"$f":"SUMPRODUCT((KCINHDD[Month]=MONTH(KCITempAct[[#This Row],[Date]]))*(KCINHDD[Day]=DAY(KCITempAct[[#This Row],[Date]]))*KCINHDD[KCINHDD])","v":25.366666666666667},{"$f":"IF(MONTH(KCITempAct[[#This Row],[Date]])=7,0,IF(MONTH(KCITempAct[[#This Row],[Date]])=8,0,KCITempAct[[#This Row],[KCINHDD]]))","v":25.366666666666667},"Adj HDD and NDD =0 for July and August"]
["2021-12-03",66,41,{"$f":"AVERAGE(KCITempAct[[#This Row],[KCIHigh]:[KCILow]]\n)","v":53.5},{"$f":"IF(KCITempAct[[#This Row],[KCIAve]]<65,(65-KCITempAct[[#This Row],[KCIAve]]),0)","v":11.5},{"$f":"IF(MONTH(KCITempAct[[#This Row],[Date]])=7,0,IF(MONTH(KCITempAct[[#This Row],[Date]])=8,0,KCITempAct[[#This Row],[KCIHDD]]))","v":11.5},{"$f":"SUMPRODUCT((KCINHDD[Month]=MONTH(KCITempAct[[#This Row],[Date]]))*(KCINHDD[Day]=DAY(KCITempAct[[#This Row],[Date]]))*KCINHDD[KCINHDD])","v":26.733333333333334},{"$f":"IF(MONTH(KCITempAct[[#This Row],[Date]])=7,0,IF(MONTH(KCITempAct[[#This Row],[Date]])=8,0,KCITempAct[[#This Row],[KCINHDD]]))","v":26.733333333333334},"Adj HDD and NDD =0 for July and August"]
["2021-12-04",51,34,{"$f":"AVERAGE(KCITempAct[[#This Row],[KCIHigh]:[KCILow]]\n)","v":42.5},{"$f":"IF(KCITempAct[[#This Row],[KCIAve]]<65,(65-KCITempAct[[#This Row],[KCIAve]]),0)","v":22.5},{"$f":"IF(MONTH(KCITempAct[[#This Row],[Date]])=7,0,IF(MONTH(KCITempAct[[#This Row],[Date]])=8,0,KCITempAct[[#This Row],[KCIHDD]]))","v":22.5},{"$f":"SUMPRODUCT((KCINHDD[Month]=MONTH(KCITempAct[[#This Row],[Date]]))*(KCINHDD[Day]=DAY(KCITempAct[[#This Row],[Date]]))*KCINHDD[KCINHDD])","v":28.15},{"$f":"IF(MONTH(KCITempAct[[#This Row],[Date]])=7,0,IF(MONTH(KCITempAct[[#This Row],[Date]])=8,0,KCITempAct[[#This Row],[KCINHDD]]))","v":28.15},"Adj HDD and NDD =0 for July and August"]
["2021-12-05",64,39,{"$f":"AVERAGE(KCITempAct[[#This Row],[KCIHigh]:[KCILow]]\n)","v":51.5},{"$f":"IF(KCITempAct[[#This Row],[KCIAve]]<65,(65-KCITempAct[[#This Row],[KCIAve]]),0)","v":13.5},{"$f":"IF(MONTH(KCITempAct[[#This Row],[Date]])=7,0,IF(MONTH(KCITempAct[[#This Row],[Date]])=8,0,KCITempAct[[#This Row],[KCIHDD]]))","v":13.5},{"$f":"SUMPRODUCT((KCINHDD[Month]=MONTH(KCITempAct[[#This Row],[Date]]))*(KCINHDD[Day]=DAY(KCITempAct[[#This Row],[Date]]))*KCINHDD[KCINHDD])","v":30.233333333333334},{"$f":"IF(MONTH(KCITempAct[[#This Row],[Date]])=7,0,IF(MONTH(KCITempAct[[#This Row],[Date]])=8,0,KCITempAct[[#This Row],[KCINHDD]]))","v":30.233333333333334},"Adj HDD and NDD =0 for July and August"]
["2021-12-06",39,24,{"$f":"AVERAGE(KCITempAct[[#This Row],[KCIHigh]:[KCILow]]\n)","v":31.5},{"$f":"IF(KCITempAct[[#This Row],[KCIAve]]<65,(65-KCITempAct[[#This Row],[KCIAve]]),0)","v":33.5},{"$f":"IF(MONTH(KCITempAct[[#This Row],[Date]])=7,0,IF(MONTH(KCITempAct[[#This Row],[Date]])=8,0,KCITempAct[[#This Row],[KCIHDD]]))","v":33.5},{"$f":"SUMPRODUCT((KCINHDD[Month]=MONTH(KCITempAct[[#This Row],[Date]]))*(KCINHDD[Day]=DAY(KCITempAct[[#This Row],[Date]]))*KCINHDD[KCINHDD])","v":31.733333333333334},{"$f":"IF(MONTH(KCITempAct[[#This Row],[Date]])=7,0,IF(MONTH(KCITempAct[[#This Row],[Date]])=8,0,KCITempAct[[#This Row],[KCINHDD]]))","v":31.733333333333334},"Adj HDD and NDD =0 for July and August"]
["2021-12-07",42,27,{"$f":"AVERAGE(KCITempAct[[#This Row],[KCIHigh]:[KCILow]]\n)","v":34.5},{"$f":"IF(KCITempAct[[#This Row],[KCIAve]]<65,(65-KCITempAct[[#This Row],[KCIAve]]),0)","v":30.5},{"$f":"IF(MONTH(KCITempAct[[#This Row],[Date]])=7,0,IF(MONTH(KCITempAct[[#This Row],[Date]])=8,0,KCITempAct[[#This Row],[KCIHDD]]))","v":30.5},{"$f":"SUMPRODUCT((KCINHDD[Month]=MONTH(KCITempAct[[#This Row],[Date]]))*(KCINHDD[Day]=DAY(KCITempAct[[#This Row],[Date]]))*KCINHDD[KCINHDD])","v":32.200000000000003},{"$f":"IF(MONTH(KCITempAct[[#This Row],[Date]])=7,0,IF(MONTH(KCITempAct[[#This Row],[Date]])=8,0,KCITempAct[[#This Row],[KCINHDD]]))","v":32.200000000000003},"Adj HDD and NDD =0 for July and August"]
["2021-12-08",51,24,{"$f":"AVERAGE(KCITempAct[[#This Row],[KCIHigh]:[KCILow]]\n)","v":37.5},{"$f":"IF(KCITempAct[[#This Row],[KCIAve]]<65,(65-KCITempAct[[#This Row],[KCIAve]]),0)","v":27.5},{"$f":"IF(MONTH(KCITempAct[[#This Row],[Date]])=7,0,IF(MONTH(KCITempAct[[#This Row],[Date]])=8,0,KCITempAct[[#This Row],[KCIHDD]]))","v":27.5},{"$f":"SUMPRODUCT((KCINHDD[Month]=MONTH(KCITempAct[[#This Row],[Date]]))*(KCINHDD[Day]=DAY(KCITempAct[[#This Row],[Date]]))*KCINHDD[KCINHDD])","v":31.333333333333332},{"$f":"IF(MONTH(KCITempAct[[#This Row],[Date]])=7,0,IF(MONTH(KCITempAct[[#This Row],[Date]])=8,0,KCITempAct[[#This Row],[KCINHDD]]))","v":31.333333333333332},"Adj HDD and NDD =0 for July and August"]
["2021-12-09",64,38,{"$f":"AVERAGE(KCITempAct[[#This Row],[KCIHigh]:[KCILow]]\n)","v":51},{"$f":"IF(KCITempAct[[#This Row],[KCIAve]]<65,(65-KCITempAct[[#This Row],[KCIAve]]),0)","v":14},{"$f":"IF(MONTH(KCITempAct[[#This Row],[Date]])=7,0,IF(MONTH(KCITempAct[[#This Row],[Date]])=8,0,KCITempAct[[#This Row],[KCIHDD]]))","v":14},{"$f":"SUMPRODUCT((KCINHDD[Month]=MONTH(KCITempAct[[#This Row],[Date]]))*(KCINHDD[Day]=DAY(KCITempAct[[#This Row],[Date]]))*KCINHDD[KCINHDD])","v":32.866666666666667},{"$f":"IF(MONTH(KCITempAct[[#This Row],[Date]])=7,0,IF(MONTH(KCITempAct[[#This Row],[Date]])=8,0,KCITempAct[[#This Row],[KCINHDD]]))","v":32.866666666666667},"Adj HDD and NDD =0 for July and August"]
["2021-12-10",67,35,{"$f":"AVERAGE(KCITempAct[[#This Row],[KCIHigh]:[KCILow]]\n)","v":51},{"$f":"IF(KCITempAct[[#This Row],[KCIAve]]<65,(65-KCITempAct[[#This Row],[KCIAve]]),0)","v":14},{"$f":"IF(MONTH(KCITempAct[[#This Row],[Date]])=7,0,IF(MONTH(KCITempAct[[#This Row],[Date]])=8,0,KCITempAct[[#This Row],[KCIHDD]]))","v":14},{"$f":"SUMPRODUCT((KCINHDD[Month]=MONTH(KCITempAct[[#This Row],[Date]]))*(KCINHDD[Day]=DAY(KCITempAct[[#This Row],[Date]]))*KCINHDD[KCINHDD])","v":32.266666666666666},{"$f":"IF(MONTH(KCITempAct[[#This Row],[Date]])=7,0,IF(MONTH(KCITempAct[[#This Row],[Date]])=8,0,KCITempAct[[#This Row],[KCINHDD]]))","v":32.266666666666666},"Adj HDD and NDD =0 for July and August"]
["2021-12-11",47,30,{"$f":"AVERAGE(KCITempAct[[#This Row],[KCIHigh]:[KCILow]]\n)","v":38.5},{"$f":"IF(KCITempAct[[#This Row],[KCIAve]]<65,(65-KCITempAct[[#This Row],[KCIAve]]),0)","v":26.5},{"$f":"IF(MONTH(KCITempAct[[#This Row],[Date]])=7,0,IF(MONTH(KCITempAct[[#This Row],[Date]])=8,0,KCITempAct[[#This Row],[KCIHDD]]))","v":26.5},{"$f":"SUMPRODUCT((KCINHDD[Month]=MONTH(KCITempAct[[#This Row],[Date]]))*(KCINHDD[Day]=DAY(KCITempAct[[#This Row],[Date]]))*KCINHDD[KCINHDD])","v":31.366666666666667},{"$f":"IF(MONTH(KCITempAct[[#This Row],[Date]])=7,0,IF(MONTH(KCITempAct[[#This Row],[Date]])=8,0,KCITempAct[[#This Row],[KCINHDD]]))","v":31.366666666666667},"Adj HDD and NDD =0 for July and August"]
["2021-12-12",57,31,{"$f":"AVERAGE(KCITempAct[[#This Row],[KCIHigh]:[KCILow]]\n)","v":44},{"$f":"IF(KCITempAct[[#This Row],[KCIAve]]<65,(65-KCITempAct[[#This Row],[KCIAve]]),0)","v":21},{"$f":"IF(MONTH(KCITempAct[[#This Row],[Date]])=7,0,IF(MONTH(KCITempAct[[#This Row],[Date]])=8,0,KCITempAct[[#This Row],[KCIHDD]]))","v":21},{"$f":"SUMPRODUCT((KCINHDD[Month]=MONTH(KCITempAct[[#This Row],[Date]]))*(KCINHDD[Day]=DAY(KCITempAct[[#This Row],[Date]]))*KCINHDD[KCINHDD])","v":30.233333333333334},{"$f":"IF(MONTH(KCITempAct[[#This Row],[Date]])=7,0,IF(MONTH(KCITempAct[[#This Row],[Date]])=8,0,KCITempAct[[#This Row],[KCINHDD]]))","v":30.233333333333334},"Adj HDD and NDD =0 for July and August"]
["2021-12-13",56,34,{"$f":"AVERAGE(KCITempAct[[#This Row],[KCIHigh]:[KCILow]]\n)","v":45},{"$f":"IF(KCITempAct[[#This Row],[KCIAve]]<65,(65-KCITempAct[[#This Row],[KCIAve]]),0)","v":20},{"$f":"IF(MONTH(KCITempAct[[#This Row],[Date]])=7,0,IF(MONTH(KCITempAct[[#This Row],[Date]])=8,0,KCITempAct[[#This Row],[KCIHDD]]))","v":20},{"$f":"SUMPRODUCT((KCINHDD[Month]=MONTH(KCITempAct[[#This Row],[Date]]))*(KCINHDD[Day]=DAY(KCITempAct[[#This Row],[Date]]))*KCINHDD[KCINHDD])","v":28.566666666666666},{"$f":"IF(MONTH(KCITempAct[[#This Row],[Date]])=7,0,IF(MONTH(KCITempAct[[#This Row],[Date]])=8,0,KCITempAct[[#This Row],[KCINHDD]]))","v":28.566666666666666},"Adj HDD and NDD =0 for July and August"]
["2021-12-14",65,42,{"$f":"AVERAGE(KCITempAct[[#This Row],[KCIHigh]:[KCILow]]\n)","v":53.5},{"$f":"IF(KCITempAct[[#This Row],[KCIAve]]<65,(65-KCITempAct[[#This Row],[KCIAve]]),0)","v":11.5},{"$f":"IF(MONTH(KCITempAct[[#This Row],[Date]])=7,0,IF(MONTH(KCITempAct[[#This Row],[Date]])=8,0,KCITempAct[[#This Row],[KCIHDD]]))","v":11.5},{"$f":"SUMPRODUCT((KCINHDD[Month]=MONTH(KCITempAct[[#This Row],[Date]]))*(KCINHDD[Day]=DAY(KCITempAct[[#This Row],[Date]]))*KCINHDD[KCINHDD])","v":30.1},{"$f":"IF(MONTH(KCITempAct[[#This Row],[Date]])=7,0,IF(MONTH(KCITempAct[[#This Row],[Date]])=8,0,KCITempAct[[#This Row],[KCINHDD]]))","v":30.1},"Adj HDD and NDD =0 for July and August"]
["2021-12-15",74,42,{"$f":"AVERAGE(KCITempAct[[#This Row],[KCIHigh]:[KCILow]]\n)","v":58},{"$f":"IF(KCITempAct[[#This Row],[KCIAve]]<65,(65-KCITempAct[[#This Row],[KCIAve]]),0)","v":7},{"$f":"IF(MONTH(KCITempAct[[#This Row],[Date]])=7,0,IF(MONTH(KCITempAct[[#This Row],[Date]])=8,0,KCITempAct[[#This Row],[KCIHDD]]))","v":7},{"$f":"SUMPRODUCT((KCINHDD[Month]=MONTH(KCITempAct[[#This Row],[Date]]))*(KCINHDD[Day]=DAY(KCITempAct[[#This Row],[Date]]))*KCINHDD[KCINHDD])","v":31.4},{"$f":"IF(MONTH(KCITempAct[[#This Row],[Date]])=7,0,IF(MONTH(KCITempAct[[#This Row],[Date]])=8,0,KCITempAct[[#This Row],[KCINHDD]]))","v":31.4},"Adj HDD and NDD =0 for July and August"]
["2021-12-16",47,30,{"$f":"AVERAGE(KCITempAct[[#This Row],[KCIHigh]:[KCILow]]\n)","v":38.5},{"$f":"IF(KCITempAct[[#This Row],[KCIAve]]<65,(65-KCITempAct[[#This Row],[KCIAve]]),0)","v":26.5},{"$f":"IF(MONTH(KCITempAct[[#This Row],[Date]])=7,0,IF(MONTH(KCITempAct[[#This Row],[Date]])=8,0,KCITempAct[[#This Row],[KCIHDD]]))","v":26.5},{"$f":"SUMPRODUCT((KCINHDD[Month]=MONTH(KCITempAct[[#This Row],[Date]]))*(KCINHDD[Day]=DAY(KCITempAct[[#This Row],[Date]]))*KCINHDD[KCINHDD])","v":31.716666666666665},{"$f":"IF(MONTH(KCITempAct[[#This Row],[Date]])=7,0,IF(MONTH(KCITempAct[[#This Row],[Date]])=8,0,KCITempAct[[#This Row],[KCINHDD]]))","v":31.716666666666665},"Adj HDD and NDD =0 for July and August"]
["2021-12-17",43,32,{"$f":"AVERAGE(KCITempAct[[#This Row],[KCIHigh]:[KCILow]]\n)","v":37.5},{"$f":"IF(KCITempAct[[#This Row],[KCIAve]]<65,(65-KCITempAct[[#This Row],[KCIAve]]),0)","v":27.5},{"$f":"IF(MONTH(KCITempAct[[#This Row],[Date]])=7,0,IF(MONTH(KCITempAct[[#This Row],[Date]])=8,0,KCITempAct[[#This Row],[KCIHDD]]))","v":27.5},{"$f":"SUMPRODUCT((KCINHDD[Month]=MONTH(KCITempAct[[#This Row],[Date]]))*(KCINHDD[Day]=DAY(KCITempAct[[#This Row],[Date]]))*KCINHDD[KCINHDD])","v":32.716666666666669},{"$f":"IF(MONTH(KCITempAct[[#This Row],[Date]])=7,0,IF(MONTH(KCITempAct[[#This Row],[Date]])=8,0,KCITempAct[[#This Row],[KCINHDD]]))","v":32.716666666666669},"Adj HDD and NDD =0 for July and August"]
["2021-12-18",33,21,{"$f":"AVERAGE(KCITempAct[[#This Row],[KCIHigh]:[KCILow]]\n)","v":27},{"$f":"IF(KCITempAct[[#This Row],[KCIAve]]<65,(65-KCITempAct[[#This Row],[KCIAve]]),0)","v":38},{"$f":"IF(MONTH(KCITempAct[[#This Row],[Date]])=7,0,IF(MONTH(KCITempAct[[#This Row],[Date]])=8,0,KCITempAct[[#This Row],[KCIHDD]]))","v":38},{"$f":"SUMPRODUCT((KCINHDD[Month]=MONTH(KCITempAct[[#This Row],[Date]]))*(KCINHDD[Day]=DAY(KCITempAct[[#This Row],[Date]]))*KCINHDD[KCINHDD])","v":31.9},{"$f":"IF(MONTH(KCITempAct[[#This Row],[Date]])=7,0,IF(MONTH(KCITempAct[[#This Row],[Date]])=8,0,KCITempAct[[#This Row],[KCINHDD]]))","v":31.9},"Adj HDD and NDD =0 for July and August"]
["2021-12-19",38,16,{"$f":"AVERAGE(KCITempAct[[#This Row],[KCIHigh]:[KCILow]]\n)","v":27},{"$f":"IF(KCITempAct[[#This Row],[KCIAve]]<65,(65-KCITempAct[[#This Row],[KCIAve]]),0)","v":38},{"$f":"IF(MONTH(KCITempAct[[#This Row],[Date]])=7,0,IF(MONTH(KCITempAct[[#This Row],[Date]])=8,0,KCITempAct[[#This Row],[KCIHDD]]))","v":38},{"$f":"SUMPRODUCT((KCINHDD[Month]=MONTH(KCITempAct[[#This Row],[Date]]))*(KCINHDD[Day]=DAY(KCITempAct[[#This Row],[Date]]))*KCINHDD[KCINHDD])","v":32.983333333333334},{"$f":"IF(MONTH(KCITempAct[[#This Row],[Date]])=7,0,IF(MONTH(KCITempAct[[#This Row],[Date]])=8,0,KCITempAct[[#This Row],[KCINHDD]]))","v":32.983333333333334},"Adj HDD and NDD =0 for July and August"]
["2021-12-20",46,24,{"$f":"AVERAGE(KCITempAct[[#This Row],[KCIHigh]:[KCILow]]\n)","v":35},{"$f":"IF(KCITempAct[[#This Row],[KCIAve]]<65,(65-KCITempAct[[#This Row],[KCIAve]]),0)","v":30},{"$f":"IF(MONTH(KCITempAct[[#This Row],[Date]])=7,0,IF(MONTH(KCITempAct[[#This Row],[Date]])=8,0,KCITempAct[[#This Row],[KCIHDD]]))","v":30},{"$f":"SUMPRODUCT((KCINHDD[Month]=MONTH(KCITempAct[[#This Row],[Date]]))*(KCINHDD[Day]=DAY(KCITempAct[[#This Row],[Date]]))*KCINHDD[KCINHDD])","v":32.43333333333333},{"$f":"IF(MONTH(KCITempAct[[#This Row],[Date]])=7,0,IF(MONTH(KCITempAct[[#This Row],[Date]])=8,0,KCITempAct[[#This Row],[KCINHDD]]))","v":32.43333333333333},"Adj HDD and NDD =0 for July and August"]
["2021-12-21",47,17,{"$f":"AVERAGE(KCITempAct[[#This Row],[KCIHigh]:[KCILow]]\n)","v":32},{"$f":"IF(KCITempAct[[#This Row],[KCIAve]]<65,(65-KCITempAct[[#This Row],[KCIAve]]),0)","v":33},{"$f":"IF(MONTH(KCITempAct[[#This Row],[Date]])=7,0,IF(MONTH(KCITempAct[[#This Row],[Date]])=8,0,KCITempAct[[#This Row],[KCIHDD]]))","v":33},{"$f":"SUMPRODUCT((KCINHDD[Month]=MONTH(KCITempAct[[#This Row],[Date]]))*(KCINHDD[Day]=DAY(KCITempAct[[#This Row],[Date]]))*KCINHDD[KCINHDD])","v":31.933333333333334},{"$f":"IF(MONTH(KCITempAct[[#This Row],[Date]])=7,0,IF(MONTH(KCITempAct[[#This Row],[Date]])=8,0,KCITempAct[[#This Row],[KCINHDD]]))","v":31.933333333333334},"Adj HDD and NDD =0 for July and August"]
["2021-12-22",53,23,{"$f":"AVERAGE(KCITempAct[[#This Row],[KCIHigh]:[KCILow]]\n)","v":38},{"$f":"IF(KCITempAct[[#This Row],[KCIAve]]<65,(65-KCITempAct[[#This Row],[KCIAve]]),0)","v":27},{"$f":"IF(MONTH(KCITempAct[[#This Row],[Date]])=7,0,IF(MONTH(KCITempAct[[#This Row],[Date]])=8,0,KCITempAct[[#This Row],[KCIHDD]]))","v":27},{"$f":"SUMPRODUCT((KCINHDD[Month]=MONTH(KCITempAct[[#This Row],[Date]]))*(KCINHDD[Day]=DAY(KCITempAct[[#This Row],[Date]]))*KCINHDD[KCINHDD])","v":34.25},{"$f":"IF(MONTH(KCITempAct[[#This Row],[Date]])=7,0,IF(MONTH(KCITempAct[[#This Row],[Date]])=8,0,KCITempAct[[#This Row],[KCINHDD]]))","v":34.25},"Adj HDD and NDD =0 for July and August"]
["2021-12-23",60,39,{"$f":"AVERAGE(KCITempAct[[#This Row],[KCIHigh]:[KCILow]]\n)","v":49.5},{"$f":"IF(KCITempAct[[#This Row],[KCIAve]]<65,(65-KCITempAct[[#This Row],[KCIAve]]),0)","v":15.5},{"$f":"IF(MONTH(KCITempAct[[#This Row],[Date]])=7,0,IF(MONTH(KCITempAct[[#This Row],[Date]])=8,0,KCITempAct[[#This Row],[KCIHDD]]))","v":15.5},{"$f":"SUMPRODUCT((KCINHDD[Month]=MONTH(KCITempAct[[#This Row],[Date]]))*(KCINHDD[Day]=DAY(KCITempAct[[#This Row],[Date]]))*KCINHDD[KCINHDD])","v":35.56666666666667},{"$f":"IF(MONTH(KCITempAct[[#This Row],[Date]])=7,0,IF(MONTH(KCITempAct[[#This Row],[Date]])=8,0,KCITempAct[[#This Row],[KCINHDD]]))","v":35.56666666666667},"Adj HDD and NDD =0 for July and August"]
["2021-12-24",72,46,{"$f":"AVERAGE(KCITempAct[[#This Row],[KCIHigh]:[KCILow]]\n)","v":59},{"$f":"IF(KCITempAct[[#This Row],[KCIAve]]<65,(65-KCITempAct[[#This Row],[KCIAve]]),0)","v":6},{"$f":"IF(MONTH(KCITempAct[[#This Row],[Date]])=7,0,IF(MONTH(KCITempAct[[#This Row],[Date]])=8,0,KCITempAct[[#This Row],[KCIHDD]]))","v":6},{"$f":"SUMPRODUCT((KCINHDD[Month]=MONTH(KCITempAct[[#This Row],[Date]]))*(KCINHDD[Day]=DAY(KCITempAct[[#This Row],[Date]]))*KCINHDD[KCINHDD])","v":38.18333333333333},{"$f":"IF(MONTH(KCITempAct[[#This Row],[Date]])=7,0,IF(MONTH(KCITempAct[[#This Row],[Date]])=8,0,KCITempAct[[#This Row],[KCINHDD]]))","v":38.18333333333333},"Adj HDD and NDD =0 for July and August"]
["2021-12-25",57,36,{"$f":"AVERAGE(KCITempAct[[#This Row],[KCIHigh]:[KCILow]]\n)","v":46.5},{"$f":"IF(KCITempAct[[#This Row],[KCIAve]]<65,(65-KCITempAct[[#This Row],[KCIAve]]),0)","v":18.5},{"$f":"IF(MONTH(KCITempAct[[#This Row],[Date]])=7,0,IF(MONTH(KCITempAct[[#This Row],[Date]])=8,0,KCITempAct[[#This Row],[KCIHDD]]))","v":18.5},{"$f":"SUMPRODUCT((KCINHDD[Month]=MONTH(KCITempAct[[#This Row],[Date]]))*(KCINHDD[Day]=DAY(KCITempAct[[#This Row],[Date]]))*KCINHDD[KCINHDD])","v":34.833333333333336},{"$f":"IF(MONTH(KCITempAct[[#This Row],[Date]])=7,0,IF(MONTH(KCITempAct[[#This Row],[Date]])=8,0,KCITempAct[[#This Row],[KCINHDD]]))","v":34.833333333333336},"Adj HDD and NDD =0 for July and August"]
["2021-12-26",65,34,{"$f":"AVERAGE(KCITempAct[[#This Row],[KCIHigh]:[KCILow]]\n)","v":49.5},{"$f":"IF(KCITempAct[[#This Row],[KCIAve]]<65,(65-KCITempAct[[#This Row],[KCIAve]]),0)","v":15.5},{"$f":"IF(MONTH(KCITempAct[[#This Row],[Date]])=7,0,IF(MONTH(KCITempAct[[#This Row],[Date]])=8,0,KCITempAct[[#This Row],[KCIHDD]]))","v":15.5},{"$f":"SUMPRODUCT((KCINHDD[Month]=MONTH(KCITempAct[[#This Row],[Date]]))*(KCINHDD[Day]=DAY(KCITempAct[[#This Row],[Date]]))*KCINHDD[KCINHDD])","v":32.5},{"$f":"IF(MONTH(KCITempAct[[#This Row],[Date]])=7,0,IF(MONTH(KCITempAct[[#This Row],[Date]])=8,0,KCITempAct[[#This Row],[KCINHDD]]))","v":32.5},"Adj HDD and NDD =0 for July and August"]
["2021-12-27",64,39,{"$f":"AVERAGE(KCITempAct[[#This Row],[KCIHigh]:[KCILow]]\n)","v":51.5},{"$f":"IF(KCITempAct[[#This Row],[KCIAve]]<65,(65-KCITempAct[[#This Row],[KCIAve]]),0)","v":13.5},{"$f":"IF(MONTH(KCITempAct[[#This Row],[Date]])=7,0,IF(MONTH(KCITempAct[[#This Row],[Date]])=8,0,KCITempAct[[#This Row],[KCIHDD]]))","v":13.5},{"$f":"SUMPRODUCT((KCINHDD[Month]=MONTH(KCITempAct[[#This Row],[Date]]))*(KCINHDD[Day]=DAY(KCITempAct[[#This Row],[Date]]))*KCINHDD[KCINHDD])","v":31.9},{"$f":"IF(MONTH(KCITempAct[[#This Row],[Date]])=7,0,IF(MONTH(KCITempAct[[#This Row],[Date]])=8,0,KCITempAct[[#This Row],[KCINHDD]]))","v":31.9},"Adj HDD and NDD =0 for July and August"]
["2021-12-28",57,23,{"$f":"AVERAGE(KCITempAct[[#This Row],[KCIHigh]:[KCILow]]\n)","v":40},{"$f":"IF(KCITempAct[[#This Row],[KCIAve]]<65,(65-KCITempAct[[#This Row],[KCIAve]]),0)","v":25},{"$f":"IF(MONTH(KCITempAct[[#This Row],[Date]])=7,0,IF(MONTH(KCITempAct[[#This Row],[Date]])=8,0,KCITempAct[[#This Row],[KCIHDD]]))","v":25},{"$f":"SUMPRODUCT((KCINHDD[Month]=MONTH(KCITempAct[[#This Row],[Date]]))*(KCINHDD[Day]=DAY(KCITempAct[[#This Row],[Date]]))*KCINHDD[KCINHDD])","v":32.266666666666666},{"$f":"IF(MONTH(KCITempAct[[#This Row],[Date]])=7,0,IF(MONTH(KCITempAct[[#This Row],[Date]])=8,0,KCITempAct[[#This Row],[KCINHDD]]))","v":32.266666666666666},"Adj HDD and NDD =0 for July and August"]
["2021-12-29",33,19,{"$f":"AVERAGE(KCITempAct[[#This Row],[KCIHigh]:[KCILow]]\n)","v":26},{"$f":"IF(KCITempAct[[#This Row],[KCIAve]]<65,(65-KCITempAct[[#This Row],[KCIAve]]),0)","v":39},{"$f":"IF(MONTH(KCITempAct[[#This Row],[Date]])=7,0,IF(MONTH(KCITempAct[[#This Row],[Date]])=8,0,KCITempAct[[#This Row],[KCIHDD]]))","v":39},{"$f":"SUMPRODUCT((KCINHDD[Month]=MONTH(KCITempAct[[#This Row],[Date]]))*(KCINHDD[Day]=DAY(KCITempAct[[#This Row],[Date]]))*KCINHDD[KCINHDD])","v":33.083333333333336},{"$f":"IF(MONTH(KCITempAct[[#This Row],[Date]])=7,0,IF(MONTH(KCITempAct[[#This Row],[Date]])=8,0,KCITempAct[[#This Row],[KCINHDD]]))","v":33.083333333333336},"Adj HDD and NDD =0 for July and August"]
["2021-12-30",44,28,{"$f":"AVERAGE(KCITempAct[[#This Row],[KCIHigh]:[KCILow]]\n)","v":36},{"$f":"IF(KCITempAct[[#This Row],[KCIAve]]<65,(65-KCITempAct[[#This Row],[KCIAve]]),0)","v":29},{"$f":"IF(MONTH(KCITempAct[[#This Row],[Date]])=7,0,IF(MONTH(KCITempAct[[#This Row],[Date]])=8,0,KCITempAct[[#This Row],[KCIHDD]]))","v":29},{"$f":"SUMPRODUCT((KCINHDD[Month]=MONTH(KCITempAct[[#This Row],[Date]]))*(KCINHDD[Day]=DAY(KCITempAct[[#This Row],[Date]]))*KCINHDD[KCINHDD])","v":32.366666666666667},{"$f":"IF(MONTH(KCITempAct[[#This Row],[Date]])=7,0,IF(MONTH(KCITempAct[[#This Row],[Date]])=8,0,KCITempAct[[#This Row],[KCINHDD]]))","v":32.366666666666667},"Adj HDD and NDD =0 for July and August"]
["2021-12-31",54,31,{"$f":"AVERAGE(KCITempAct[[#This Row],[KCIHigh]:[KCILow]]\n)","v":42.5},{"$f":"IF(KCITempAct[[#This Row],[KCIAve]]<65,(65-KCITempAct[[#This Row],[KCIAve]]),0)","v":22.5},{"$f":"IF(MONTH(KCITempAct[[#This Row],[Date]])=7,0,IF(MONTH(KCITempAct[[#This Row],[Date]])=8,0,KCITempAct[[#This Row],[KCIHDD]]))","v":22.5},{"$f":"SUMPRODUCT((KCINHDD[Month]=MONTH(KCITempAct[[#This Row],[Date]]))*(KCINHDD[Day]=DAY(KCITempAct[[#This Row],[Date]]))*KCINHDD[KCINHDD])","v":36.033333333333331},{"$f":"IF(MONTH(KCITempAct[[#This Row],[Date]])=7,0,IF(MONTH(KCITempAct[[#This Row],[Date]])=8,0,KCITempAct[[#This Row],[KCINHDD]]))","v":36.033333333333331},"Adj HDD and NDD =0 for July and August"]
["2022-01-01",31,8,{"$f":"AVERAGE(KCITempAct[[#This Row],[KCIHigh]:[KCILow]]\n)","v":19.5},{"$f":"IF(KCITempAct[[#This Row],[KCIAve]]<65,(65-KCITempAct[[#This Row],[KCIAve]]),0)","v":45.5},{"$f":"IF(MONTH(KCITempAct[[#This Row],[Date]])=7,0,IF(MONTH(KCITempAct[[#This Row],[Date]])=8,0,KCITempAct[[#This Row],[KCIHDD]]))","v":45.5},{"$f":"SUMPRODUCT((KCINHDD[Month]=MONTH(KCITempAct[[#This Row],[Date]]))*(KCINHDD[Day]=DAY(KCITempAct[[#This Row],[Date]]))*KCINHDD[KCINHDD])","v":36.4},{"$f":"IF(MONTH(KCITempAct[[#This Row],[Date]])=7,0,IF(MONTH(KCITempAct[[#This Row],[Date]])=8,0,KCITempAct[[#This Row],[KCINHDD]]))","v":36.4},"Adj HDD and NDD =0 for July and August"]
["2022-01-02",17,1,{"$f":"AVERAGE(KCITempAct[[#This Row],[KCIHigh]:[KCILow]]\n)","v":9},{"$f":"IF(KCITempAct[[#This Row],[KCIAve]]<65,(65-KCITempAct[[#This Row],[KCIAve]]),0)","v":56},{"$f":"IF(MONTH(KCITempAct[[#This Row],[Date]])=7,0,IF(MONTH(KCITempAct[[#This Row],[Date]])=8,0,KCITempAct[[#This Row],[KCIHDD]]))","v":56},{"$f":"SUMPRODUCT((KCINHDD[Month]=MONTH(KCITempAct[[#This Row],[Date]]))*(KCINHDD[Day]=DAY(KCITempAct[[#This Row],[Date]]))*KCINHDD[KCINHDD])","v":35.583333333333336},{"$f":"IF(MONTH(KCITempAct[[#This Row],[Date]])=7,0,IF(MONTH(KCITempAct[[#This Row],[Date]])=8,0,KCITempAct[[#This Row],[KCINHDD]]))","v":35.583333333333336},"Adj HDD and NDD =0 for July and August"]
["2022-01-03",43,10,{"$f":"AVERAGE(KCITempAct[[#This Row],[KCIHigh]:[KCILow]]\n)","v":26.5},{"$f":"IF(KCITempAct[[#This Row],[KCIAve]]<65,(65-KCITempAct[[#This Row],[KCIAve]]),0)","v":38.5},{"$f":"IF(MONTH(KCITempAct[[#This Row],[Date]])=7,0,IF(MONTH(KCITempAct[[#This Row],[Date]])=8,0,KCITempAct[[#This Row],[KCIHDD]]))","v":38.5},{"$f":"SUMPRODUCT((KCINHDD[Month]=MONTH(KCITempAct[[#This Row],[Date]]))*(KCINHDD[Day]=DAY(KCITempAct[[#This Row],[Date]]))*KCINHDD[KCINHDD])","v":35.616666666666667},{"$f":"IF(MONTH(KCITempAct[[#This Row],[Date]])=7,0,IF(MONTH(KCITempAct[[#This Row],[Date]])=8,0,KCITempAct[[#This Row],[KCINHDD]]))","v":35.616666666666667},"Adj HDD and NDD =0 for July and August"]
["2022-01-04",48,28,{"$f":"AVERAGE(KCITempAct[[#This Row],[KCIHigh]:[KCILow]]\n)","v":38},{"$f":"IF(KCITempAct[[#This Row],[KCIAve]]<65,(65-KCITempAct[[#This Row],[KCIAve]]),0)","v":27},{"$f":"IF(MONTH(KCITempAct[[#This Row],[Date]])=7,0,IF(MONTH(KCITempAct[[#This Row],[Date]])=8,0,KCITempAct[[#This Row],[KCIHDD]]))","v":27},{"$f":"SUMPRODUCT((KCINHDD[Month]=MONTH(KCITempAct[[#This Row],[Date]]))*(KCINHDD[Day]=DAY(KCITempAct[[#This Row],[Date]]))*KCINHDD[KCINHDD])","v":37.56666666666667},{"$f":"IF(MONTH(KCITempAct[[#This Row],[Date]])=7,0,IF(MONTH(KCITempAct[[#This Row],[Date]])=8,0,KCITempAct[[#This Row],[KCINHDD]]))","v":37.56666666666667},"Adj HDD and NDD =0 for July and August"]
["2022-01-05",28,13,{"$f":"AVERAGE(KCITempAct[[#This Row],[KCIHigh]:[KCILow]]\n)","v":20.5},{"$f":"IF(KCITempAct[[#This Row],[KCIAve]]<65,(65-KCITempAct[[#This Row],[KCIAve]]),0)","v":44.5},{"$f":"IF(MONTH(KCITempAct[[#This Row],[Date]])=7,0,IF(MONTH(KCITempAct[[#This Row],[Date]])=8,0,KCITempAct[[#This Row],[KCIHDD]]))","v":44.5},{"$f":"SUMPRODUCT((KCINHDD[Month]=MONTH(KCITempAct[[#This Row],[Date]]))*(KCINHDD[Day]=DAY(KCITempAct[[#This Row],[Date]]))*KCINHDD[KCINHDD])","v":36.75},{"$f":"IF(MONTH(KCITempAct[[#This Row],[Date]])=7,0,IF(MONTH(KCITempAct[[#This Row],[Date]])=8,0,KCITempAct[[#This Row],[KCINHDD]]))","v":36.75},"Adj HDD and NDD =0 for July and August"]
["2022-01-06",15,6,{"$f":"AVERAGE(KCITempAct[[#This Row],[KCIHigh]:[KCILow]]\n)","v":10.5},{"$f":"IF(KCITempAct[[#This Row],[KCIAve]]<65,(65-KCITempAct[[#This Row],[KCIAve]]),0)","v":54.5},{"$f":"IF(MONTH(KCITempAct[[#This Row],[Date]])=7,0,IF(MONTH(KCITempAct[[#This Row],[Date]])=8,0,KCITempAct[[#This Row],[KCIHDD]]))","v":54.5},{"$f":"SUMPRODUCT((KCINHDD[Month]=MONTH(KCITempAct[[#This Row],[Date]]))*(KCINHDD[Day]=DAY(KCITempAct[[#This Row],[Date]]))*KCINHDD[KCINHDD])","v":37.416666666666664},{"$f":"IF(MONTH(KCITempAct[[#This Row],[Date]])=7,0,IF(MONTH(KCITempAct[[#This Row],[Date]])=8,0,KCITempAct[[#This Row],[KCINHDD]]))","v":37.416666666666664},"Adj HDD and NDD =0 for July and August"]
["2022-01-07",26,6,{"$f":"AVERAGE(KCITempAct[[#This Row],[KCIHigh]:[KCILow]]\n)","v":16},{"$f":"IF(KCITempAct[[#This Row],[KCIAve]]<65,(65-KCITempAct[[#This Row],[KCIAve]]),0)","v":49},{"$f":"IF(MONTH(KCITempAct[[#This Row],[Date]])=7,0,IF(MONTH(KCITempAct[[#This Row],[Date]])=8,0,KCITempAct[[#This Row],[KCIHDD]]))","v":49},{"$f":"SUMPRODUCT((KCINHDD[Month]=MONTH(KCITempAct[[#This Row],[Date]]))*(KCINHDD[Day]=DAY(KCITempAct[[#This Row],[Date]]))*KCINHDD[KCINHDD])","v":37.016666666666666},{"$f":"IF(MONTH(KCITempAct[[#This Row],[Date]])=7,0,IF(MONTH(KCITempAct[[#This Row],[Date]])=8,0,KCITempAct[[#This Row],[KCINHDD]]))","v":37.016666666666666},"Adj HDD and NDD =0 for July and August"]
["2022-01-08",42,24,{"$f":"AVERAGE(KCITempAct[[#This Row],[KCIHigh]:[KCILow]]\n)","v":33},{"$f":"IF(KCITempAct[[#This Row],[KCIAve]]<65,(65-KCITempAct[[#This Row],[KCIAve]]),0)","v":32},{"$f":"IF(MONTH(KCITempAct[[#This Row],[Date]])=7,0,IF(MONTH(KCITempAct[[#This Row],[Date]])=8,0,KCITempAct[[#This Row],[KCIHDD]]))","v":32},{"$f":"SUMPRODUCT((KCINHDD[Month]=MONTH(KCITempAct[[#This Row],[Date]]))*(KCINHDD[Day]=DAY(KCITempAct[[#This Row],[Date]]))*KCINHDD[KCINHDD])","v":34.483333333333334},{"$f":"IF(MONTH(KCITempAct[[#This Row],[Date]])=7,0,IF(MONTH(KCITempAct[[#This Row],[Date]])=8,0,KCITempAct[[#This Row],[KCINHDD]]))","v":34.483333333333334},"Adj HDD and NDD =0 for July and August"]
["2022-01-09",35,16,{"$f":"AVERAGE(KCITempAct[[#This Row],[KCIHigh]:[KCILow]]\n)","v":25.5},{"$f":"IF(KCITempAct[[#This Row],[KCIAve]]<65,(65-KCITempAct[[#This Row],[KCIAve]]),0)","v":39.5},{"$f":"IF(MONTH(KCITempAct[[#This Row],[Date]])=7,0,IF(MONTH(KCITempAct[[#This Row],[Date]])=8,0,KCITempAct[[#This Row],[KCIHDD]]))","v":39.5},{"$f":"SUMPRODUCT((KCINHDD[Month]=MONTH(KCITempAct[[#This Row],[Date]]))*(KCINHDD[Day]=DAY(KCITempAct[[#This Row],[Date]]))*KCINHDD[KCINHDD])","v":35.333333333333336},{"$f":"IF(MONTH(KCITempAct[[#This Row],[Date]])=7,0,IF(MONTH(KCITempAct[[#This Row],[Date]])=8,0,KCITempAct[[#This Row],[KCINHDD]]))","v":35.333333333333336},"Adj HDD and NDD =0 for July and August"]
["2022-01-10",44,17,{"$f":"AVERAGE(KCITempAct[[#This Row],[KCIHigh]:[KCILow]]\n)","v":30.5},{"$f":"IF(KCITempAct[[#This Row],[KCIAve]]<65,(65-KCITempAct[[#This Row],[KCIAve]]),0)","v":34.5},{"$f":"IF(MONTH(KCITempAct[[#This Row],[Date]])=7,0,IF(MONTH(KCITempAct[[#This Row],[Date]])=8,0,KCITempAct[[#This Row],[KCIHDD]]))","v":34.5},{"$f":"SUMPRODUCT((KCINHDD[Month]=MONTH(KCITempAct[[#This Row],[Date]]))*(KCINHDD[Day]=DAY(KCITempAct[[#This Row],[Date]]))*KCINHDD[KCINHDD])","v":35.466666666666669},{"$f":"IF(MONTH(KCITempAct[[#This Row],[Date]])=7,0,IF(MONTH(KCITempAct[[#This Row],[Date]])=8,0,KCITempAct[[#This Row],[KCINHDD]]))","v":35.466666666666669},"Adj HDD and NDD =0 for July and August"]
["2022-01-11",60,26,{"$f":"AVERAGE(KCITempAct[[#This Row],[KCIHigh]:[KCILow]]\n)","v":43},{"$f":"IF(KCITempAct[[#This Row],[KCIAve]]<65,(65-KCITempAct[[#This Row],[KCIAve]]),0)","v":22},{"$f":"IF(MONTH(KCITempAct[[#This Row],[Date]])=7,0,IF(MONTH(KCITempAct[[#This Row],[Date]])=8,0,KCITempAct[[#This Row],[KCIHDD]]))","v":22},{"$f":"SUMPRODUCT((KCINHDD[Month]=MONTH(KCITempAct[[#This Row],[Date]]))*(KCINHDD[Day]=DAY(KCITempAct[[#This Row],[Date]]))*KCINHDD[KCINHDD])","v":33.033333333333331},{"$f":"IF(MONTH(KCITempAct[[#This Row],[Date]])=7,0,IF(MONTH(KCITempAct[[#This Row],[Date]])=8,0,KCITempAct[[#This Row],[KCINHDD]]))","v":33.033333333333331},"Adj HDD and NDD =0 for July and August"]
["2022-01-12",53,26,{"$f":"AVERAGE(KCITempAct[[#This Row],[KCIHigh]:[KCILow]]\n)","v":39.5},{"$f":"IF(KCITempAct[[#This Row],[KCIAve]]<65,(65-KCITempAct[[#This Row],[KCIAve]]),0)","v":25.5},{"$f":"IF(MONTH(KCITempAct[[#This Row],[Date]])=7,0,IF(MONTH(KCITempAct[[#This Row],[Date]])=8,0,KCITempAct[[#This Row],[KCIHDD]]))","v":25.5},{"$f":"SUMPRODUCT((KCINHDD[Month]=MONTH(KCITempAct[[#This Row],[Date]]))*(KCINHDD[Day]=DAY(KCITempAct[[#This Row],[Date]]))*KCINHDD[KCINHDD])","v":35.31666666666667},{"$f":"IF(MONTH(KCITempAct[[#This Row],[Date]])=7,0,IF(MONTH(KCITempAct[[#This Row],[Date]])=8,0,KCITempAct[[#This Row],[KCINHDD]]))","v":35.31666666666667},"Adj HDD and NDD =0 for July and August"]
["2022-01-13",58,38,{"$f":"AVERAGE(KCITempAct[[#This Row],[KCIHigh]:[KCILow]]\n)","v":48},{"$f":"IF(KCITempAct[[#This Row],[KCIAve]]<65,(65-KCITempAct[[#This Row],[KCIAve]]),0)","v":17},{"$f":"IF(MONTH(KCITempAct[[#This Row],[Date]])=7,0,IF(MONTH(KCITempAct[[#This Row],[Date]])=8,0,KCITempAct[[#This Row],[KCIHDD]]))","v":17},{"$f":"SUMPRODUCT((KCINHDD[Month]=MONTH(KCITempAct[[#This Row],[Date]]))*(KCINHDD[Day]=DAY(KCITempAct[[#This Row],[Date]]))*KCINHDD[KCINHDD])","v":38.450000000000003},{"$f":"IF(MONTH(KCITempAct[[#This Row],[Date]])=7,0,IF(MONTH(KCITempAct[[#This Row],[Date]])=8,0,KCITempAct[[#This Row],[KCINHDD]]))","v":38.450000000000003},"Adj HDD and NDD =0 for July and August"]
["2022-01-14",51,33,{"$f":"AVERAGE(KCITempAct[[#This Row],[KCIHigh]:[KCILow]]\n)","v":42},{"$f":"IF(KCITempAct[[#This Row],[KCIAve]]<65,(65-KCITempAct[[#This Row],[KCIAve]]),0)","v":23},{"$f":"IF(MONTH(KCITempAct[[#This Row],[Date]])=7,0,IF(MONTH(KCITempAct[[#This Row],[Date]])=8,0,KCITempAct[[#This Row],[KCIHDD]]))","v":23},{"$f":"SUMPRODUCT((KCINHDD[Month]=MONTH(KCITempAct[[#This Row],[Date]]))*(KCINHDD[Day]=DAY(KCITempAct[[#This Row],[Date]]))*KCINHDD[KCINHDD])","v":36.016666666666666},{"$f":"IF(MONTH(KCITempAct[[#This Row],[Date]])=7,0,IF(MONTH(KCITempAct[[#This Row],[Date]])=8,0,KCITempAct[[#This Row],[KCINHDD]]))","v":36.016666666666666},"Adj HDD and NDD =0 for July and August"]
["2022-01-15",33,18,{"$f":"AVERAGE(KCITempAct[[#This Row],[KCIHigh]:[KCILow]]\n)","v":25.5},{"$f":"IF(KCITempAct[[#This Row],[KCIAve]]<65,(65-KCITempAct[[#This Row],[KCIAve]]),0)","v":39.5},{"$f":"IF(MONTH(KCITempAct[[#This Row],[Date]])=7,0,IF(MONTH(KCITempAct[[#This Row],[Date]])=8,0,KCITempAct[[#This Row],[KCIHDD]]))","v":39.5},{"$f":"SUMPRODUCT((KCINHDD[Month]=MONTH(KCITempAct[[#This Row],[Date]]))*(KCINHDD[Day]=DAY(KCITempAct[[#This Row],[Date]]))*KCINHDD[KCINHDD])","v":37.25},{"$f":"IF(MONTH(KCITempAct[[#This Row],[Date]])=7,0,IF(MONTH(KCITempAct[[#This Row],[Date]])=8,0,KCITempAct[[#This Row],[KCINHDD]]))","v":37.25},"Adj HDD and NDD =0 for July and August"]
["2022-01-16",35,16,{"$f":"AVERAGE(KCITempAct[[#This Row],[KCIHigh]:[KCILow]]\n)","v":25.5},{"$f":"IF(KCITempAct[[#This Row],[KCIAve]]<65,(65-KCITempAct[[#This Row],[KCIAve]]),0)","v":39.5},{"$f":"IF(MONTH(KCITempAct[[#This Row],[Date]])=7,0,IF(MONTH(KCITempAct[[#This Row],[Date]])=8,0,KCITempAct[[#This Row],[KCIHDD]]))","v":39.5},{"$f":"SUMPRODUCT((KCINHDD[Month]=MONTH(KCITempAct[[#This Row],[Date]]))*(KCINHDD[Day]=DAY(KCITempAct[[#This Row],[Date]]))*KCINHDD[KCINHDD])","v":36.733333333333334},{"$f":"IF(MONTH(KCITempAct[[#This Row],[Date]])=7,0,IF(MONTH(KCITempAct[[#This Row],[Date]])=8,0,KCITempAct[[#This Row],[KCINHDD]]))","v":36.733333333333334},"Adj HDD and NDD =0 for July and August"]
["2022-01-17",43,25,{"$f":"AVERAGE(KCITempAct[[#This Row],[KCIHigh]:[KCILow]]\n)","v":34},{"$f":"IF(KCITempAct[[#This Row],[KCIAve]]<65,(65-KCITempAct[[#This Row],[KCIAve]]),0)","v":31},{"$f":"IF(MONTH(KCITempAct[[#This Row],[Date]])=7,0,IF(MONTH(KCITempAct[[#This Row],[Date]])=8,0,KCITempAct[[#This Row],[KCIHDD]]))","v":31},{"$f":"SUMPRODUCT((KCINHDD[Month]=MONTH(KCITempAct[[#This Row],[Date]]))*(KCINHDD[Day]=DAY(KCITempAct[[#This Row],[Date]]))*KCINHDD[KCINHDD])","v":37.75},{"$f":"IF(MONTH(KCITempAct[[#This Row],[Date]])=7,0,IF(MONTH(KCITempAct[[#This Row],[Date]])=8,0,KCITempAct[[#This Row],[KCINHDD]]))","v":37.75},"Adj HDD and NDD =0 for July and August"]
["2022-01-18",55,36,{"$f":"AVERAGE(KCITempAct[[#This Row],[KCIHigh]:[KCILow]]\n)","v":45.5},{"$f":"IF(KCITempAct[[#This Row],[KCIAve]]<65,(65-KCITempAct[[#This Row],[KCIAve]]),0)","v":19.5},{"$f":"IF(MONTH(KCITempAct[[#This Row],[Date]])=7,0,IF(MONTH(KCITempAct[[#This Row],[Date]])=8,0,KCITempAct[[#This Row],[KCIHDD]]))","v":19.5},{"$f":"SUMPRODUCT((KCINHDD[Month]=MONTH(KCITempAct[[#This Row],[Date]]))*(KCINHDD[Day]=DAY(KCITempAct[[#This Row],[Date]]))*KCINHDD[KCINHDD])","v":37.166666666666664},{"$f":"IF(MONTH(KCITempAct[[#This Row],[Date]])=7,0,IF(MONTH(KCITempAct[[#This Row],[Date]])=8,0,KCITempAct[[#This Row],[KCINHDD]]))","v":37.166666666666664},"Adj HDD and NDD =0 for July and August"]
["2022-01-19",40,10,{"$f":"AVERAGE(KCITempAct[[#This Row],[KCIHigh]:[KCILow]]\n)","v":25},{"$f":"IF(KCITempAct[[#This Row],[KCIAve]]<65,(65-KCITempAct[[#This Row],[KCIAve]]),0)","v":40},{"$f":"IF(MONTH(KCITempAct[[#This Row],[Date]])=7,0,IF(MONTH(KCITempAct[[#This Row],[Date]])=8,0,KCITempAct[[#This Row],[KCIHDD]]))","v":40},{"$f":"SUMPRODUCT((KCINHDD[Month]=MONTH(KCITempAct[[#This Row],[Date]]))*(KCINHDD[Day]=DAY(KCITempAct[[#This Row],[Date]]))*KCINHDD[KCINHDD])","v":35.983333333333334},{"$f":"IF(MONTH(KCITempAct[[#This Row],[Date]])=7,0,IF(MONTH(KCITempAct[[#This Row],[Date]])=8,0,KCITempAct[[#This Row],[KCINHDD]]))","v":35.983333333333334},"Adj HDD and NDD =0 for July and August"]
["2022-01-20",19,3,{"$f":"AVERAGE(KCITempAct[[#This Row],[KCIHigh]:[KCILow]]\n)","v":11},{"$f":"IF(KCITempAct[[#This Row],[KCIAve]]<65,(65-KCITempAct[[#This Row],[KCIAve]]),0)","v":54},{"$f":"IF(MONTH(KCITempAct[[#This Row],[Date]])=7,0,IF(MONTH(KCITempAct[[#This Row],[Date]])=8,0,KCITempAct[[#This Row],[KCIHDD]]))","v":54},{"$f":"SUMPRODUCT((KCINHDD[Month]=MONTH(KCITempAct[[#This Row],[Date]]))*(KCINHDD[Day]=DAY(KCITempAct[[#This Row],[Date]]))*KCINHDD[KCINHDD])","v":35.93333333333333},{"$f":"IF(MONTH(KCITempAct[[#This Row],[Date]])=7,0,IF(MONTH(KCITempAct[[#This Row],[Date]])=8,0,KCITempAct[[#This Row],[KCINHDD]]))","v":35.93333333333333},"Adj HDD and NDD =0 for July and August"]
["2022-01-21",26,3,{"$f":"AVERAGE(KCITempAct[[#This Row],[KCIHigh]:[KCILow]]\n)","v":14.5},{"$f":"IF(KCITempAct[[#This Row],[KCIAve]]<65,(65-KCITempAct[[#This Row],[KCIAve]]),0)","v":50.5},{"$f":"IF(MONTH(KCITempAct[[#This Row],[Date]])=7,0,IF(MONTH(KCITempAct[[#This Row],[Date]])=8,0,KCITempAct[[#This Row],[KCIHDD]]))","v":50.5},{"$f":"SUMPRODUCT((KCINHDD[Month]=MONTH(KCITempAct[[#This Row],[Date]]))*(KCINHDD[Day]=DAY(KCITempAct[[#This Row],[Date]]))*KCINHDD[KCINHDD])","v":33.799999999999997},{"$f":"IF(MONTH(KCITempAct[[#This Row],[Date]])=7,0,IF(MONTH(KCITempAct[[#This Row],[Date]])=8,0,KCITempAct[[#This Row],[KCINHDD]]))","v":33.799999999999997},"Adj HDD and NDD =0 for July and August"]
["2022-01-22",49,24,{"$f":"AVERAGE(KCITempAct[[#This Row],[KCIHigh]:[KCILow]]\n)","v":36.5},{"$f":"IF(KCITempAct[[#This Row],[KCIAve]]<65,(65-KCITempAct[[#This Row],[KCIAve]]),0)","v":28.5},{"$f":"IF(MONTH(KCITempAct[[#This Row],[Date]])=7,0,IF(MONTH(KCITempAct[[#This Row],[Date]])=8,0,KCITempAct[[#This Row],[KCIHDD]]))","v":28.5},{"$f":"SUMPRODUCT((KCINHDD[Month]=MONTH(KCITempAct[[#This Row],[Date]]))*(KCINHDD[Day]=DAY(KCITempAct[[#This Row],[Date]]))*KCINHDD[KCINHDD])","v":33.43333333333333},{"$f":"IF(MONTH(KCITempAct[[#This Row],[Date]])=7,0,IF(MONTH(KCITempAct[[#This Row],[Date]])=8,0,KCITempAct[[#This Row],[KCINHDD]]))","v":33.43333333333333},"Adj HDD and NDD =0 for July and August"]
["2022-01-23",43,33,{"$f":"AVERAGE(KCITempAct[[#This Row],[KCIHigh]:[KCILow]]\n)","v":38},{"$f":"IF(KCITempAct[[#This Row],[KCIAve]]<65,(65-KCITempAct[[#This Row],[KCIAve]]),0)","v":27},{"$f":"IF(MONTH(KCITempAct[[#This Row],[Date]])=7,0,IF(MONTH(KCITempAct[[#This Row],[Date]])=8,0,KCITempAct[[#This Row],[KCIHDD]]))","v":27},{"$f":"SUMPRODUCT((KCINHDD[Month]=MONTH(KCITempAct[[#This Row],[Date]]))*(KCINHDD[Day]=DAY(KCITempAct[[#This Row],[Date]]))*KCINHDD[KCINHDD])","v":36.416666666666664},{"$f":"IF(MONTH(KCITempAct[[#This Row],[Date]])=7,0,IF(MONTH(KCITempAct[[#This Row],[Date]])=8,0,KCITempAct[[#This Row],[KCINHDD]]))","v":36.416666666666664},"Adj HDD and NDD =0 for July and August"]
["2022-01-24",55,18,{"$f":"AVERAGE(KCITempAct[[#This Row],[KCIHigh]:[KCILow]]\n)","v":36.5},{"$f":"IF(KCITempAct[[#This Row],[KCIAve]]<65,(65-KCITempAct[[#This Row],[KCIAve]]),0)","v":28.5},{"$f":"IF(MONTH(KCITempAct[[#This Row],[Date]])=7,0,IF(MONTH(KCITempAct[[#This Row],[Date]])=8,0,KCITempAct[[#This Row],[KCIHDD]]))","v":28.5},{"$f":"SUMPRODUCT((KCINHDD[Month]=MONTH(KCITempAct[[#This Row],[Date]]))*(KCINHDD[Day]=DAY(KCITempAct[[#This Row],[Date]]))*KCINHDD[KCINHDD])","v":35.799999999999997},{"$f":"IF(MONTH(KCITempAct[[#This Row],[Date]])=7,0,IF(MONTH(KCITempAct[[#This Row],[Date]])=8,0,KCITempAct[[#This Row],[KCINHDD]]))","v":35.799999999999997},"Adj HDD and NDD =0 for July and August"]
["2022-01-25",24,10,{"$f":"AVERAGE(KCITempAct[[#This Row],[KCIHigh]:[KCILow]]\n)","v":17},{"$f":"IF(KCITempAct[[#This Row],[KCIAve]]<65,(65-KCITempAct[[#This Row],[KCIAve]]),0)","v":48},{"$f":"IF(MONTH(KCITempAct[[#This Row],[Date]])=7,0,IF(MONTH(KCITempAct[[#This Row],[Date]])=8,0,KCITempAct[[#This Row],[KCIHDD]]))","v":48},{"$f":"SUMPRODUCT((KCINHDD[Month]=MONTH(KCITempAct[[#This Row],[Date]]))*(KCINHDD[Day]=DAY(KCITempAct[[#This Row],[Date]]))*KCINHDD[KCINHDD])","v":34.06666666666667},{"$f":"IF(MONTH(KCITempAct[[#This Row],[Date]])=7,0,IF(MONTH(KCITempAct[[#This Row],[Date]])=8,0,KCITempAct[[#This Row],[KCINHDD]]))","v":34.06666666666667},"Adj HDD and NDD =0 for July and August"]
["2022-01-26",34,6,{"$f":"AVERAGE(KCITempAct[[#This Row],[KCIHigh]:[KCILow]]\n)","v":20},{"$f":"IF(KCITempAct[[#This Row],[KCIAve]]<65,(65-KCITempAct[[#This Row],[KCIAve]]),0)","v":45},{"$f":"IF(MONTH(KCITempAct[[#This Row],[Date]])=7,0,IF(MONTH(KCITempAct[[#This Row],[Date]])=8,0,KCITempAct[[#This Row],[KCIHDD]]))","v":45},{"$f":"SUMPRODUCT((KCINHDD[Month]=MONTH(KCITempAct[[#This Row],[Date]]))*(KCINHDD[Day]=DAY(KCITempAct[[#This Row],[Date]]))*KCINHDD[KCINHDD])","v":33.049999999999997},{"$f":"IF(MONTH(KCITempAct[[#This Row],[Date]])=7,0,IF(MONTH(KCITempAct[[#This Row],[Date]])=8,0,KCITempAct[[#This Row],[KCINHDD]]))","v":33.049999999999997},"Adj HDD and NDD =0 for July and August"]
["2022-01-27",46,29,{"$f":"AVERAGE(KCITempAct[[#This Row],[KCIHigh]:[KCILow]]\n)","v":37.5},{"$f":"IF(KCITempAct[[#This Row],[KCIAve]]<65,(65-KCITempAct[[#This Row],[KCIAve]]),0)","v":27.5},{"$f":"IF(MONTH(KCITempAct[[#This Row],[Date]])=7,0,IF(MONTH(KCITempAct[[#This Row],[Date]])=8,0,KCITempAct[[#This Row],[KCIHDD]]))","v":27.5},{"$f":"SUMPRODUCT((KCINHDD[Month]=MONTH(KCITempAct[[#This Row],[Date]]))*(KCINHDD[Day]=DAY(KCITempAct[[#This Row],[Date]]))*KCINHDD[KCINHDD])","v":33.5},{"$f":"IF(MONTH(KCITempAct[[#This Row],[Date]])=7,0,IF(MONTH(KCITempAct[[#This Row],[Date]])=8,0,KCITempAct[[#This Row],[KCINHDD]]))","v":33.5},"Adj HDD and NDD =0 for July and August"]
["2022-01-28",34,13,{"$f":"AVERAGE(KCITempAct[[#This Row],[KCIHigh]:[KCILow]]\n)","v":23.5},{"$f":"IF(KCITempAct[[#This Row],[KCIAve]]<65,(65-KCITempAct[[#This Row],[KCIAve]]),0)","v":41.5},{"$f":"IF(MONTH(KCITempAct[[#This Row],[Date]])=7,0,IF(MONTH(KCITempAct[[#This Row],[Date]])=8,0,KCITempAct[[#This Row],[KCIHDD]]))","v":41.5},{"$f":"SUMPRODUCT((KCINHDD[Month]=MONTH(KCITempAct[[#This Row],[Date]]))*(KCINHDD[Day]=DAY(KCITempAct[[#This Row],[Date]]))*KCINHDD[KCINHDD])","v":33.06666666666667},{"$f":"IF(MONTH(KCITempAct[[#This Row],[Date]])=7,0,IF(MONTH(KCITempAct[[#This Row],[Date]])=8,0,KCITempAct[[#This Row],[KCINHDD]]))","v":33.06666666666667},"Adj HDD and NDD =0 for July and August"]
["2022-01-29",54,19,{"$f":"AVERAGE(KCITempAct[[#This Row],[KCIHigh]:[KCILow]]\n)","v":36.5},{"$f":"IF(KCITempAct[[#This Row],[KCIAve]]<65,(65-KCITempAct[[#This Row],[KCIAve]]),0)","v":28.5},{"$f":"IF(MONTH(KCITempAct[[#This Row],[Date]])=7,0,IF(MONTH(KCITempAct[[#This Row],[Date]])=8,0,KCITempAct[[#This Row],[KCIHDD]]))","v":28.5},{"$f":"SUMPRODUCT((KCINHDD[Month]=MONTH(KCITempAct[[#This Row],[Date]]))*(KCINHDD[Day]=DAY(KCITempAct[[#This Row],[Date]]))*KCINHDD[KCINHDD])","v":34.866666666666667},{"$f":"IF(MONTH(KCITempAct[[#This Row],[Date]])=7,0,IF(MONTH(KCITempAct[[#This Row],[Date]])=8,0,KCITempAct[[#This Row],[KCINHDD]]))","v":34.866666666666667},"Adj HDD and NDD =0 for July and August"]
["2022-01-30",46,28,{"$f":"AVERAGE(KCITempAct[[#This Row],[KCIHigh]:[KCILow]]\n)","v":37},{"$f":"IF(KCITempAct[[#This Row],[KCIAve]]<65,(65-KCITempAct[[#This Row],[KCIAve]]),0)","v":28},{"$f":"IF(MONTH(KCITempAct[[#This Row],[Date]])=7,0,IF(MONTH(KCITempAct[[#This Row],[Date]])=8,0,KCITempAct[[#This Row],[KCIHDD]]))","v":28},{"$f":"SUMPRODUCT((KCINHDD[Month]=MONTH(KCITempAct[[#This Row],[Date]]))*(KCINHDD[Day]=DAY(KCITempAct[[#This Row],[Date]]))*KCINHDD[KCINHDD])","v":36.31666666666667},{"$f":"IF(MONTH(KCITempAct[[#This Row],[Date]])=7,0,IF(MONTH(KCITempAct[[#This Row],[Date]])=8,0,KCITempAct[[#This Row],[KCINHDD]]))","v":36.31666666666667},"Adj HDD and NDD =0 for July and August"]
["2022-01-31",65,28,{"$f":"AVERAGE(KCITempAct[[#This Row],[KCIHigh]:[KCILow]]\n)","v":46.5},{"$f":"IF(KCITempAct[[#This Row],[KCIAve]]<65,(65-KCITempAct[[#This Row],[KCIAve]]),0)","v":18.5},{"$f":"IF(MONTH(KCITempAct[[#This Row],[Date]])=7,0,IF(MONTH(KCITempAct[[#This Row],[Date]])=8,0,KCITempAct[[#This Row],[KCIHDD]]))","v":18.5},{"$f":"SUMPRODUCT((KCINHDD[Month]=MONTH(KCITempAct[[#This Row],[Date]]))*(KCINHDD[Day]=DAY(KCITempAct[[#This Row],[Date]]))*KCINHDD[KCINHDD])","v":32.700000000000003},{"$f":"IF(MONTH(KCITempAct[[#This Row],[Date]])=7,0,IF(MONTH(KCITempAct[[#This Row],[Date]])=8,0,KCITempAct[[#This Row],[KCINHDD]]))","v":32.700000000000003},"Adj HDD and NDD =0 for July and August"]
["2022-02-01",57,28,{"$f":"AVERAGE(KCITempAct[[#This Row],[KCIHigh]:[KCILow]]\n)","v":42.5},{"$f":"IF(KCITempAct[[#This Row],[KCIAve]]<65,(65-KCITempAct[[#This Row],[KCIAve]]),0)","v":22.5},{"$f":"IF(MONTH(KCITempAct[[#This Row],[Date]])=7,0,IF(MONTH(KCITempAct[[#This Row],[Date]])=8,0,KCITempAct[[#This Row],[KCIHDD]]))","v":22.5},{"$f":"SUMPRODUCT((KCINHDD[Month]=MONTH(KCITempAct[[#This Row],[Date]]))*(KCINHDD[Day]=DAY(KCITempAct[[#This Row],[Date]]))*KCINHDD[KCINHDD])","v":33.266666666666666},{"$f":"IF(MONTH(KCITempAct[[#This Row],[Date]])=7,0,IF(MONTH(KCITempAct[[#This Row],[Date]])=8,0,KCITempAct[[#This Row],[KCINHDD]]))","v":33.266666666666666},"Adj HDD and NDD =0 for July and August"]
["2022-02-02",28,12,{"$f":"AVERAGE(KCITempAct[[#This Row],[KCIHigh]:[KCILow]]\n)","v":20},{"$f":"IF(KCITempAct[[#This Row],[KCIAve]]<65,(65-KCITempAct[[#This Row],[KCIAve]]),0)","v":45},{"$f":"IF(MONTH(KCITempAct[[#This Row],[Date]])=7,0,IF(MONTH(KCITempAct[[#This Row],[Date]])=8,0,KCITempAct[[#This Row],[KCIHDD]]))","v":45},{"$f":"SUMPRODUCT((KCINHDD[Month]=MONTH(KCITempAct[[#This Row],[Date]]))*(KCINHDD[Day]=DAY(KCITempAct[[#This Row],[Date]]))*KCINHDD[KCINHDD])","v":33.700000000000003},{"$f":"IF(MONTH(KCITempAct[[#This Row],[Date]])=7,0,IF(MONTH(KCITempAct[[#This Row],[Date]])=8,0,KCITempAct[[#This Row],[KCINHDD]]))","v":33.700000000000003},"Adj HDD and NDD =0 for July and August"]
["2022-02-03",20,5,{"$f":"AVERAGE(KCITempAct[[#This Row],[KCIHigh]:[KCILow]]\n)","v":12.5},{"$f":"IF(KCITempAct[[#This Row],[KCIAve]]<65,(65-KCITempAct[[#This Row],[KCIAve]]),0)","v":52.5},{"$f":"IF(MONTH(KCITempAct[[#This Row],[Date]])=7,0,IF(MONTH(KCITempAct[[#This Row],[Date]])=8,0,KCITempAct[[#This Row],[KCIHDD]]))","v":52.5},{"$f":"SUMPRODUCT((KCINHDD[Month]=MONTH(KCITempAct[[#This Row],[Date]]))*(KCINHDD[Day]=DAY(KCITempAct[[#This Row],[Date]]))*KCINHDD[KCINHDD])","v":32.666666666666664},{"$f":"IF(MONTH(KCITempAct[[#This Row],[Date]])=7,0,IF(MONTH(KCITempAct[[#This Row],[Date]])=8,0,KCITempAct[[#This Row],[KCINHDD]]))","v":32.666666666666664},"Adj HDD and NDD =0 for July and August"]
["2022-02-04",36,4,{"$f":"AVERAGE(KCITempAct[[#This Row],[KCIHigh]:[KCILow]]\n)","v":20},{"$f":"IF(KCITempAct[[#This Row],[KCIAve]]<65,(65-KCITempAct[[#This Row],[KCIAve]]),0)","v":45},{"$f":"IF(MONTH(KCITempAct[[#This Row],[Date]])=7,0,IF(MONTH(KCITempAct[[#This Row],[Date]])=8,0,KCITempAct[[#This Row],[KCIHDD]]))","v":45},{"$f":"SUMPRODUCT((KCINHDD[Month]=MONTH(KCITempAct[[#This Row],[Date]]))*(KCINHDD[Day]=DAY(KCITempAct[[#This Row],[Date]]))*KCINHDD[KCINHDD])","v":35.5},{"$f":"IF(MONTH(KCITempAct[[#This Row],[Date]])=7,0,IF(MONTH(KCITempAct[[#This Row],[Date]])=8,0,KCITempAct[[#This Row],[KCINHDD]]))","v":35.5},"Adj HDD and NDD =0 for July and August"]
["2022-02-05",47,14,{"$f":"AVERAGE(KCITempAct[[#This Row],[KCIHigh]:[KCILow]]\n)","v":30.5},{"$f":"IF(KCITempAct[[#This Row],[KCIAve]]<65,(65-KCITempAct[[#This Row],[KCIAve]]),0)","v":34.5},{"$f":"IF(MONTH(KCITempAct[[#This Row],[Date]])=7,0,IF(MONTH(KCITempAct[[#This Row],[Date]])=8,0,KCITempAct[[#This Row],[KCIHDD]]))","v":34.5},{"$f":"SUMPRODUCT((KCINHDD[Month]=MONTH(KCITempAct[[#This Row],[Date]]))*(KCINHDD[Day]=DAY(KCITempAct[[#This Row],[Date]]))*KCINHDD[KCINHDD])","v":35.616666666666667},{"$f":"IF(MONTH(KCITempAct[[#This Row],[Date]])=7,0,IF(MONTH(KCITempAct[[#This Row],[Date]])=8,0,KCITempAct[[#This Row],[KCINHDD]]))","v":35.616666666666667},"Adj HDD and NDD =0 for July and August"]
["2022-02-06",51,25,{"$f":"AVERAGE(KCITempAct[[#This Row],[KCIHigh]:[KCILow]]\n)","v":38},{"$f":"IF(KCITempAct[[#This Row],[KCIAve]]<65,(65-KCITempAct[[#This Row],[KCIAve]]),0)","v":27},{"$f":"IF(MONTH(KCITempAct[[#This Row],[Date]])=7,0,IF(MONTH(KCITempAct[[#This Row],[Date]])=8,0,KCITempAct[[#This Row],[KCIHDD]]))","v":27},{"$f":"SUMPRODUCT((KCINHDD[Month]=MONTH(KCITempAct[[#This Row],[Date]]))*(KCINHDD[Day]=DAY(KCITempAct[[#This Row],[Date]]))*KCINHDD[KCINHDD])","v":32.716666666666669},{"$f":"IF(MONTH(KCITempAct[[#This Row],[Date]])=7,0,IF(MONTH(KCITempAct[[#This Row],[Date]])=8,0,KCITempAct[[#This Row],[KCINHDD]]))","v":32.716666666666669},"Adj HDD and NDD =0 for July and August"]
["2022-02-07",55,20,{"$f":"AVERAGE(KCITempAct[[#This Row],[KCIHigh]:[KCILow]]\n)","v":37.5},{"$f":"IF(KCITempAct[[#This Row],[KCIAve]]<65,(65-KCITempAct[[#This Row],[KCIAve]]),0)","v":27.5},{"$f":"IF(MONTH(KCITempAct[[#This Row],[Date]])=7,0,IF(MONTH(KCITempAct[[#This Row],[Date]])=8,0,KCITempAct[[#This Row],[KCIHDD]]))","v":27.5},{"$f":"SUMPRODUCT((KCINHDD[Month]=MONTH(KCITempAct[[#This Row],[Date]]))*(KCINHDD[Day]=DAY(KCITempAct[[#This Row],[Date]]))*KCINHDD[KCINHDD])","v":34.333333333333336},{"$f":"IF(MONTH(KCITempAct[[#This Row],[Date]])=7,0,IF(MONTH(KCITempAct[[#This Row],[Date]])=8,0,KCITempAct[[#This Row],[KCINHDD]]))","v":34.333333333333336},"Adj HDD and NDD =0 for July and August"]
["2022-02-08",61,29,{"$f":"AVERAGE(KCITempAct[[#This Row],[KCIHigh]:[KCILow]]\n)","v":45},{"$f":"IF(KCITempAct[[#This Row],[KCIAve]]<65,(65-KCITempAct[[#This Row],[KCIAve]]),0)","v":20},{"$f":"IF(MONTH(KCITempAct[[#This Row],[Date]])=7,0,IF(MONTH(KCITempAct[[#This Row],[Date]])=8,0,KCITempAct[[#This Row],[KCIHDD]]))","v":20},{"$f":"SUMPRODUCT((KCINHDD[Month]=MONTH(KCITempAct[[#This Row],[Date]]))*(KCINHDD[Day]=DAY(KCITempAct[[#This Row],[Date]]))*KCINHDD[KCINHDD])","v":36.266666666666666},{"$f":"IF(MONTH(KCITempAct[[#This Row],[Date]])=7,0,IF(MONTH(KCITempAct[[#This Row],[Date]])=8,0,KCITempAct[[#This Row],[KCINHDD]]))","v":36.266666666666666},"Adj HDD and NDD =0 for July and August"]
["2022-02-09",57,36,{"$f":"AVERAGE(KCITempAct[[#This Row],[KCIHigh]:[KCILow]]\n)","v":46.5},{"$f":"IF(KCITempAct[[#This Row],[KCIAve]]<65,(65-KCITempAct[[#This Row],[KCIAve]]),0)","v":18.5},{"$f":"IF(MONTH(KCITempAct[[#This Row],[Date]])=7,0,IF(MONTH(KCITempAct[[#This Row],[Date]])=8,0,KCITempAct[[#This Row],[KCIHDD]]))","v":18.5},{"$f":"SUMPRODUCT((KCINHDD[Month]=MONTH(KCITempAct[[#This Row],[Date]]))*(KCINHDD[Day]=DAY(KCITempAct[[#This Row],[Date]]))*KCINHDD[KCINHDD])","v":34.516666666666666},{"$f":"IF(MONTH(KCITempAct[[#This Row],[Date]])=7,0,IF(MONTH(KCITempAct[[#This Row],[Date]])=8,0,KCITempAct[[#This Row],[KCINHDD]]))","v":34.516666666666666},"Adj HDD and NDD =0 for July and August"]
["2022-02-10",52,28,{"$f":"AVERAGE(KCITempAct[[#This Row],[KCIHigh]:[KCILow]]\n)","v":40},{"$f":"IF(KCITempAct[[#This Row],[KCIAve]]<65,(65-KCITempAct[[#This Row],[KCIAve]]),0)","v":25},{"$f":"IF(MONTH(KCITempAct[[#This Row],[Date]])=7,0,IF(MONTH(KCITempAct[[#This Row],[Date]])=8,0,KCITempAct[[#This Row],[KCIHDD]]))","v":25},{"$f":"SUMPRODUCT((KCINHDD[Month]=MONTH(KCITempAct[[#This Row],[Date]]))*(KCINHDD[Day]=DAY(KCITempAct[[#This Row],[Date]]))*KCINHDD[KCINHDD])","v":33.883333333333333},{"$f":"IF(MONTH(KCITempAct[[#This Row],[Date]])=7,0,IF(MONTH(KCITempAct[[#This Row],[Date]])=8,0,KCITempAct[[#This Row],[KCINHDD]]))","v":33.883333333333333},"Adj HDD and NDD =0 for July and August"]
["2022-02-11",54,20,{"$f":"AVERAGE(KCITempAct[[#This Row],[KCIHigh]:[KCILow]]\n)","v":37},{"$f":"IF(KCITempAct[[#This Row],[KCIAve]]<65,(65-KCITempAct[[#This Row],[KCIAve]]),0)","v":28},{"$f":"IF(MONTH(KCITempAct[[#This Row],[Date]])=7,0,IF(MONTH(KCITempAct[[#This Row],[Date]])=8,0,KCITempAct[[#This Row],[KCIHDD]]))","v":28},{"$f":"SUMPRODUCT((KCINHDD[Month]=MONTH(KCITempAct[[#This Row],[Date]]))*(KCINHDD[Day]=DAY(KCITempAct[[#This Row],[Date]]))*KCINHDD[KCINHDD])","v":35.083333333333336},{"$f":"IF(MONTH(KCITempAct[[#This Row],[Date]])=7,0,IF(MONTH(KCITempAct[[#This Row],[Date]])=8,0,KCITempAct[[#This Row],[KCINHDD]]))","v":35.083333333333336},"Adj HDD and NDD =0 for July and August"]
["2022-02-12",30,11,{"$f":"AVERAGE(KCITempAct[[#This Row],[KCIHigh]:[KCILow]]\n)","v":20.5},{"$f":"IF(KCITempAct[[#This Row],[KCIAve]]<65,(65-KCITempAct[[#This Row],[KCIAve]]),0)","v":44.5},{"$f":"IF(MONTH(KCITempAct[[#This Row],[Date]])=7,0,IF(MONTH(KCITempAct[[#This Row],[Date]])=8,0,KCITempAct[[#This Row],[KCIHDD]]))","v":44.5},{"$f":"SUMPRODUCT((KCINHDD[Month]=MONTH(KCITempAct[[#This Row],[Date]]))*(KCINHDD[Day]=DAY(KCITempAct[[#This Row],[Date]]))*KCINHDD[KCINHDD])","v":36.6},{"$f":"IF(MONTH(KCITempAct[[#This Row],[Date]])=7,0,IF(MONTH(KCITempAct[[#This Row],[Date]])=8,0,KCITempAct[[#This Row],[KCINHDD]]))","v":36.6},"Adj HDD and NDD =0 for July and August"]
["2022-02-13",32,19,{"$f":"AVERAGE(KCITempAct[[#This Row],[KCIHigh]:[KCILow]]\n)","v":25.5},{"$f":"IF(KCITempAct[[#This Row],[KCIAve]]<65,(65-KCITempAct[[#This Row],[KCIAve]]),0)","v":39.5},{"$f":"IF(MONTH(KCITempAct[[#This Row],[Date]])=7,0,IF(MONTH(KCITempAct[[#This Row],[Date]])=8,0,KCITempAct[[#This Row],[KCIHDD]]))","v":39.5},{"$f":"SUMPRODUCT((KCINHDD[Month]=MONTH(KCITempAct[[#This Row],[Date]]))*(KCINHDD[Day]=DAY(KCITempAct[[#This Row],[Date]]))*KCINHDD[KCINHDD])","v":33.266666666666666},{"$f":"IF(MONTH(KCITempAct[[#This Row],[Date]])=7,0,IF(MONTH(KCITempAct[[#This Row],[Date]])=8,0,KCITempAct[[#This Row],[KCINHDD]]))","v":33.266666666666666},"Adj HDD and NDD =0 for July and August"]
["2022-02-14",50,23,{"$f":"AVERAGE(KCITempAct[[#This Row],[KCIHigh]:[KCILow]]\n)","v":36.5},{"$f":"IF(KCITempAct[[#This Row],[KCIAve]]<65,(65-KCITempAct[[#This Row],[KCIAve]]),0)","v":28.5},{"$f":"IF(MONTH(KCITempAct[[#This Row],[Date]])=7,0,IF(MONTH(KCITempAct[[#This Row],[Date]])=8,0,KCITempAct[[#This Row],[KCIHDD]]))","v":28.5},{"$f":"SUMPRODUCT((KCINHDD[Month]=MONTH(KCITempAct[[#This Row],[Date]]))*(KCINHDD[Day]=DAY(KCITempAct[[#This Row],[Date]]))*KCINHDD[KCINHDD])","v":30.716666666666665},{"$f":"IF(MONTH(KCITempAct[[#This Row],[Date]])=7,0,IF(MONTH(KCITempAct[[#This Row],[Date]])=8,0,KCITempAct[[#This Row],[KCINHDD]]))","v":30.716666666666665},"Adj HDD and NDD =0 for July and August"]
["2022-02-15",68,31,{"$f":"AVERAGE(KCITempAct[[#This Row],[KCIHigh]:[KCILow]]\n)","v":49.5},{"$f":"IF(KCITempAct[[#This Row],[KCIAve]]<65,(65-KCITempAct[[#This Row],[KCIAve]]),0)","v":15.5},{"$f":"IF(MONTH(KCITempAct[[#This Row],[Date]])=7,0,IF(MONTH(KCITempAct[[#This Row],[Date]])=8,0,KCITempAct[[#This Row],[KCIHDD]]))","v":15.5},{"$f":"SUMPRODUCT((KCINHDD[Month]=MONTH(KCITempAct[[#This Row],[Date]]))*(KCINHDD[Day]=DAY(KCITempAct[[#This Row],[Date]]))*KCINHDD[KCINHDD])","v":33.766666666666666},{"$f":"IF(MONTH(KCITempAct[[#This Row],[Date]])=7,0,IF(MONTH(KCITempAct[[#This Row],[Date]])=8,0,KCITempAct[[#This Row],[KCINHDD]]))","v":33.766666666666666},"Adj HDD and NDD =0 for July and August"]
["2022-02-16",66,33,{"$f":"AVERAGE(KCITempAct[[#This Row],[KCIHigh]:[KCILow]]\n)","v":49.5},{"$f":"IF(KCITempAct[[#This Row],[KCIAve]]<65,(65-KCITempAct[[#This Row],[KCIAve]]),0)","v":15.5},{"$f":"IF(MONTH(KCITempAct[[#This Row],[Date]])=7,0,IF(MONTH(KCITempAct[[#This Row],[Date]])=8,0,KCITempAct[[#This Row],[KCIHDD]]))","v":15.5},{"$f":"SUMPRODUCT((KCINHDD[Month]=MONTH(KCITempAct[[#This Row],[Date]]))*(KCINHDD[Day]=DAY(KCITempAct[[#This Row],[Date]]))*KCINHDD[KCINHDD])","v":34.56666666666667},{"$f":"IF(MONTH(KCITempAct[[#This Row],[Date]])=7,0,IF(MONTH(KCITempAct[[#This Row],[Date]])=8,0,KCITempAct[[#This Row],[KCINHDD]]))","v":34.56666666666667},"Adj HDD and NDD =0 for July and August"]
["2022-02-17",33,7,{"$f":"AVERAGE(KCITempAct[[#This Row],[KCIHigh]:[KCILow]]\n)","v":20},{"$f":"IF(KCITempAct[[#This Row],[KCIAve]]<65,(65-KCITempAct[[#This Row],[KCIAve]]),0)","v":45},{"$f":"IF(MONTH(KCITempAct[[#This Row],[Date]])=7,0,IF(MONTH(KCITempAct[[#This Row],[Date]])=8,0,KCITempAct[[#This Row],[KCIHDD]]))","v":45},{"$f":"SUMPRODUCT((KCINHDD[Month]=MONTH(KCITempAct[[#This Row],[Date]]))*(KCINHDD[Day]=DAY(KCITempAct[[#This Row],[Date]]))*KCINHDD[KCINHDD])","v":29.55},{"$f":"IF(MONTH(KCITempAct[[#This Row],[Date]])=7,0,IF(MONTH(KCITempAct[[#This Row],[Date]])=8,0,KCITempAct[[#This Row],[KCINHDD]]))","v":29.55},"Adj HDD and NDD =0 for July and August"]
["2022-02-18",37,4,{"$f":"AVERAGE(KCITempAct[[#This Row],[KCIHigh]:[KCILow]]\n)","v":20.5},{"$f":"IF(KCITempAct[[#This Row],[KCIAve]]<65,(65-KCITempAct[[#This Row],[KCIAve]]),0)","v":44.5},{"$f":"IF(MONTH(KCITempAct[[#This Row],[Date]])=7,0,IF(MONTH(KCITempAct[[#This Row],[Date]])=8,0,KCITempAct[[#This Row],[KCIHDD]]))","v":44.5},{"$f":"SUMPRODUCT((KCINHDD[Month]=MONTH(KCITempAct[[#This Row],[Date]]))*(KCINHDD[Day]=DAY(KCITempAct[[#This Row],[Date]]))*KCINHDD[KCINHDD])","v":28.05},{"$f":"IF(MONTH(KCITempAct[[#This Row],[Date]])=7,0,IF(MONTH(KCITempAct[[#This Row],[Date]])=8,0,KCITempAct[[#This Row],[KCINHDD]]))","v":28.05},"Adj HDD and NDD =0 for July and August"]
["2022-02-19",35,17,{"$f":"AVERAGE(KCITempAct[[#This Row],[KCIHigh]:[KCILow]]\n)","v":26},{"$f":"IF(KCITempAct[[#This Row],[KCIAve]]<65,(65-KCITempAct[[#This Row],[KCIAve]]),0)","v":39},{"$f":"IF(MONTH(KCITempAct[[#This Row],[Date]])=7,0,IF(MONTH(KCITempAct[[#This Row],[Date]])=8,0,KCITempAct[[#This Row],[KCIHDD]]))","v":39},{"$f":"SUMPRODUCT((KCINHDD[Month]=MONTH(KCITempAct[[#This Row],[Date]]))*(KCINHDD[Day]=DAY(KCITempAct[[#This Row],[Date]]))*KCINHDD[KCINHDD])","v":27.25},{"$f":"IF(MONTH(KCITempAct[[#This Row],[Date]])=7,0,IF(MONTH(KCITempAct[[#This Row],[Date]])=8,0,KCITempAct[[#This Row],[KCINHDD]]))","v":27.25},"Adj HDD and NDD =0 for July and August"]
["2022-02-20",57,33,{"$f":"AVERAGE(KCITempAct[[#This Row],[KCIHigh]:[KCILow]]\n)","v":45},{"$f":"IF(KCITempAct[[#This Row],[KCIAve]]<65,(65-KCITempAct[[#This Row],[KCIAve]]),0)","v":20},{"$f":"IF(MONTH(KCITempAct[[#This Row],[Date]])=7,0,IF(MONTH(KCITempAct[[#This Row],[Date]])=8,0,KCITempAct[[#This Row],[KCIHDD]]))","v":20},{"$f":"SUMPRODUCT((KCINHDD[Month]=MONTH(KCITempAct[[#This Row],[Date]]))*(KCINHDD[Day]=DAY(KCITempAct[[#This Row],[Date]]))*KCINHDD[KCINHDD])","v":26.1},{"$f":"IF(MONTH(KCITempAct[[#This Row],[Date]])=7,0,IF(MONTH(KCITempAct[[#This Row],[Date]])=8,0,KCITempAct[[#This Row],[KCINHDD]]))","v":26.1},"Adj HDD and NDD =0 for July and August"]
["2022-02-21",69,34,{"$f":"AVERAGE(KCITempAct[[#This Row],[KCIHigh]:[KCILow]]\n)","v":51.5},{"$f":"IF(KCITempAct[[#This Row],[KCIAve]]<65,(65-KCITempAct[[#This Row],[KCIAve]]),0)","v":13.5},{"$f":"IF(MONTH(KCITempAct[[#This Row],[Date]])=7,0,IF(MONTH(KCITempAct[[#This Row],[Date]])=8,0,KCITempAct[[#This Row],[KCIHDD]]))","v":13.5},{"$f":"SUMPRODUCT((KCINHDD[Month]=MONTH(KCITempAct[[#This Row],[Date]]))*(KCINHDD[Day]=DAY(KCITempAct[[#This Row],[Date]]))*KCINHDD[KCINHDD])","v":29.15},{"$f":"IF(MONTH(KCITempAct[[#This Row],[Date]])=7,0,IF(MONTH(KCITempAct[[#This Row],[Date]])=8,0,KCITempAct[[#This Row],[KCINHDD]]))","v":29.15},"Adj HDD and NDD =0 for July and August"]
["2022-02-22",35,9,{"$f":"AVERAGE(KCITempAct[[#This Row],[KCIHigh]:[KCILow]]\n)","v":22},{"$f":"IF(KCITempAct[[#This Row],[KCIAve]]<65,(65-KCITempAct[[#This Row],[KCIAve]]),0)","v":43},{"$f":"IF(MONTH(KCITempAct[[#This Row],[Date]])=7,0,IF(MONTH(KCITempAct[[#This Row],[Date]])=8,0,KCITempAct[[#This Row],[KCIHDD]]))","v":43},{"$f":"SUMPRODUCT((KCINHDD[Month]=MONTH(KCITempAct[[#This Row],[Date]]))*(KCINHDD[Day]=DAY(KCITempAct[[#This Row],[Date]]))*KCINHDD[KCINHDD])","v":27.783333333333335},{"$f":"IF(MONTH(KCITempAct[[#This Row],[Date]])=7,0,IF(MONTH(KCITempAct[[#This Row],[Date]])=8,0,KCITempAct[[#This Row],[KCINHDD]]))","v":27.783333333333335},"Adj HDD and NDD =0 for July and August"]
["2022-02-23",20,3,{"$f":"AVERAGE(KCITempAct[[#This Row],[KCIHigh]:[KCILow]]\n)","v":11.5},{"$f":"IF(KCITempAct[[#This Row],[KCIAve]]<65,(65-KCITempAct[[#This Row],[KCIAve]]),0)","v":53.5},{"$f":"IF(MONTH(KCITempAct[[#This Row],[Date]])=7,0,IF(MONTH(KCITempAct[[#This Row],[Date]])=8,0,KCITempAct[[#This Row],[KCIHDD]]))","v":53.5},{"$f":"SUMPRODUCT((KCINHDD[Month]=MONTH(KCITempAct[[#This Row],[Date]]))*(KCINHDD[Day]=DAY(KCITempAct[[#This Row],[Date]]))*KCINHDD[KCINHDD])","v":27.9},{"$f":"IF(MONTH(KCITempAct[[#This Row],[Date]])=7,0,IF(MONTH(KCITempAct[[#This Row],[Date]])=8,0,KCITempAct[[#This Row],[KCINHDD]]))","v":27.9},"Adj HDD and NDD =0 for July and August"]
["2022-02-24",20,13,{"$f":"AVERAGE(KCITempAct[[#This Row],[KCIHigh]:[KCILow]]\n)","v":16.5},{"$f":"IF(KCITempAct[[#This Row],[KCIAve]]<65,(65-KCITempAct[[#This Row],[KCIAve]]),0)","v":48.5},{"$f":"IF(MONTH(KCITempAct[[#This Row],[Date]])=7,0,IF(MONTH(KCITempAct[[#This Row],[Date]])=8,0,KCITempAct[[#This Row],[KCIHDD]]))","v":48.5},{"$f":"SUMPRODUCT((KCINHDD[Month]=MONTH(KCITempAct[[#This Row],[Date]]))*(KCINHDD[Day]=DAY(KCITempAct[[#This Row],[Date]]))*KCINHDD[KCINHDD])","v":29.4},{"$f":"IF(MONTH(KCITempAct[[#This Row],[Date]])=7,0,IF(MONTH(KCITempAct[[#This Row],[Date]])=8,0,KCITempAct[[#This Row],[KCINHDD]]))","v":29.4},"Adj HDD and NDD =0 for July and August"]
["2022-02-25",27,5,{"$f":"AVERAGE(KCITempAct[[#This Row],[KCIHigh]:[KCILow]]\n)","v":16},{"$f":"IF(KCITempAct[[#This Row],[KCIAve]]<65,(65-KCITempAct[[#This Row],[KCIAve]]),0)","v":49},{"$f":"IF(MONTH(KCITempAct[[#This Row],[Date]])=7,0,IF(MONTH(KCITempAct[[#This Row],[Date]])=8,0,KCITempAct[[#This Row],[KCIHDD]]))","v":49},{"$f":"SUMPRODUCT((KCINHDD[Month]=MONTH(KCITempAct[[#This Row],[Date]]))*(KCINHDD[Day]=DAY(KCITempAct[[#This Row],[Date]]))*KCINHDD[KCINHDD])","v":29.683333333333334},{"$f":"IF(MONTH(KCITempAct[[#This Row],[Date]])=7,0,IF(MONTH(KCITempAct[[#This Row],[Date]])=8,0,KCITempAct[[#This Row],[KCINHDD]]))","v":29.683333333333334},"Adj HDD and NDD =0 for July and August"]
["2022-02-26",43,12,{"$f":"AVERAGE(KCITempAct[[#This Row],[KCIHigh]:[KCILow]]\n)","v":27.5},{"$f":"IF(KCITempAct[[#This Row],[KCIAve]]<65,(65-KCITempAct[[#This Row],[KCIAve]]),0)","v":37.5},{"$f":"IF(MONTH(KCITempAct[[#This Row],[Date]])=7,0,IF(MONTH(KCITempAct[[#This Row],[Date]])=8,0,KCITempAct[[#This Row],[KCIHDD]]))","v":37.5},{"$f":"SUMPRODUCT((KCINHDD[Month]=MONTH(KCITempAct[[#This Row],[Date]]))*(KCINHDD[Day]=DAY(KCITempAct[[#This Row],[Date]]))*KCINHDD[KCINHDD])","v":30.3},{"$f":"IF(MONTH(KCITempAct[[#This Row],[Date]])=7,0,IF(MONTH(KCITempAct[[#This Row],[Date]])=8,0,KCITempAct[[#This Row],[KCINHDD]]))","v":30.3},"Adj HDD and NDD =0 for July and August"]
["2022-02-27",55,22,{"$f":"AVERAGE(KCITempAct[[#This Row],[KCIHigh]:[KCILow]]\n)","v":38.5},{"$f":"IF(KCITempAct[[#This Row],[KCIAve]]<65,(65-KCITempAct[[#This Row],[KCIAve]]),0)","v":26.5},{"$f":"IF(MONTH(KCITempAct[[#This Row],[Date]])=7,0,IF(MONTH(KCITempAct[[#This Row],[Date]])=8,0,KCITempAct[[#This Row],[KCIHDD]]))","v":26.5},{"$f":"SUMPRODUCT((KCINHDD[Month]=MONTH(KCITempAct[[#This Row],[Date]]))*(KCINHDD[Day]=DAY(KCITempAct[[#This Row],[Date]]))*KCINHDD[KCINHDD])","v":30.65},{"$f":"IF(MONTH(KCITempAct[[#This Row],[Date]])=7,0,IF(MONTH(KCITempAct[[#This Row],[Date]])=8,0,KCITempAct[[#This Row],[KCINHDD]]))","v":30.65},"Adj HDD and NDD =0 for July and August"]
["2022-02-28",66,32,{"$f":"AVERAGE(KCITempAct[[#This Row],[KCIHigh]:[KCILow]]\n)","v":49},{"$f":"IF(KCITempAct[[#This Row],[KCIAve]]<65,(65-KCITempAct[[#This Row],[KCIAve]]),0)","v":16},{"$f":"IF(MONTH(KCITempAct[[#This Row],[Date]])=7,0,IF(MONTH(KCITempAct[[#This Row],[Date]])=8,0,KCITempAct[[#This Row],[KCIHDD]]))","v":16},{"$f":"SUMPRODUCT((KCINHDD[Month]=MONTH(KCITempAct[[#This Row],[Date]]))*(KCINHDD[Day]=DAY(KCITempAct[[#This Row],[Date]]))*KCINHDD[KCINHDD])","v":27.9},{"$f":"IF(MONTH(KCITempAct[[#This Row],[Date]])=7,0,IF(MONTH(KCITempAct[[#This Row],[Date]])=8,0,KCITempAct[[#This Row],[KCINHDD]]))","v":27.9},"Adj HDD and NDD =0 for July and August"]
["2022-03-01",77,36,{"$f":"AVERAGE(KCITempAct[[#This Row],[KCIHigh]:[KCILow]]\n)","v":56.5},{"$f":"IF(KCITempAct[[#This Row],[KCIAve]]<65,(65-KCITempAct[[#This Row],[KCIAve]]),0)","v":8.5},{"$f":"IF(MONTH(KCITempAct[[#This Row],[Date]])=7,0,IF(MONTH(KCITempAct[[#This Row],[Date]])=8,0,KCITempAct[[#This Row],[KCIHDD]]))","v":8.5},{"$f":"SUMPRODUCT((KCINHDD[Month]=MONTH(KCITempAct[[#This Row],[Date]]))*(KCINHDD[Day]=DAY(KCITempAct[[#This Row],[Date]]))*KCINHDD[KCINHDD])","v":27.533333333333335},{"$f":"IF(MONTH(KCITempAct[[#This Row],[Date]])=7,0,IF(MONTH(KCITempAct[[#This Row],[Date]])=8,0,KCITempAct[[#This Row],[KCINHDD]]))","v":27.533333333333335},"Adj HDD and NDD =0 for July and August"]
["2022-03-02",84,46,{"$f":"AVERAGE(KCITempAct[[#This Row],[KCIHigh]:[KCILow]]\n)","v":65},{"$f":"IF(KCITempAct[[#This Row],[KCIAve]]<65,(65-KCITempAct[[#This Row],[KCIAve]]),0)","v":0},{"$f":"IF(MONTH(KCITempAct[[#This Row],[Date]])=7,0,IF(MONTH(KCITempAct[[#This Row],[Date]])=8,0,KCITempAct[[#This Row],[KCIHDD]]))","v":0},{"$f":"SUMPRODUCT((KCINHDD[Month]=MONTH(KCITempAct[[#This Row],[Date]]))*(KCINHDD[Day]=DAY(KCITempAct[[#This Row],[Date]]))*KCINHDD[KCINHDD])","v":30.35},{"$f":"IF(MONTH(KCITempAct[[#This Row],[Date]])=7,0,IF(MONTH(KCITempAct[[#This Row],[Date]])=8,0,KCITempAct[[#This Row],[KCINHDD]]))","v":30.35},"Adj HDD and NDD =0 for July and August"]
["2022-03-03",58,36,{"$f":"AVERAGE(KCITempAct[[#This Row],[KCIHigh]:[KCILow]]\n)","v":47},{"$f":"IF(KCITempAct[[#This Row],[KCIAve]]<65,(65-KCITempAct[[#This Row],[KCIAve]]),0)","v":18},{"$f":"IF(MONTH(KCITempAct[[#This Row],[Date]])=7,0,IF(MONTH(KCITempAct[[#This Row],[Date]])=8,0,KCITempAct[[#This Row],[KCIHDD]]))","v":18},{"$f":"SUMPRODUCT((KCINHDD[Month]=MONTH(KCITempAct[[#This Row],[Date]]))*(KCINHDD[Day]=DAY(KCITempAct[[#This Row],[Date]]))*KCINHDD[KCINHDD])","v":28.8},{"$f":"IF(MONTH(KCITempAct[[#This Row],[Date]])=7,0,IF(MONTH(KCITempAct[[#This Row],[Date]])=8,0,KCITempAct[[#This Row],[KCINHDD]]))","v":28.8},"Adj HDD and NDD =0 for July and August"]
["2022-03-04",74,35,{"$f":"AVERAGE(KCITempAct[[#This Row],[KCIHigh]:[KCILow]]\n)","v":54.5},{"$f":"IF(KCITempAct[[#This Row],[KCIAve]]<65,(65-KCITempAct[[#This Row],[KCIAve]]),0)","v":10.5},{"$f":"IF(MONTH(KCITempAct[[#This Row],[Date]])=7,0,IF(MONTH(KCITempAct[[#This Row],[Date]])=8,0,KCITempAct[[#This Row],[KCIHDD]]))","v":10.5},{"$f":"SUMPRODUCT((KCINHDD[Month]=MONTH(KCITempAct[[#This Row],[Date]]))*(KCINHDD[Day]=DAY(KCITempAct[[#This Row],[Date]]))*KCINHDD[KCINHDD])","v":25.116666666666667},{"$f":"IF(MONTH(KCITempAct[[#This Row],[Date]])=7,0,IF(MONTH(KCITempAct[[#This Row],[Date]])=8,0,KCITempAct[[#This Row],[KCINHDD]]))","v":25.116666666666667},"Adj HDD and NDD =0 for July and August"]
["2022-03-05",76,34,{"$f":"AVERAGE(KCITempAct[[#This Row],[KCIHigh]:[KCILow]]\n)","v":55},{"$f":"IF(KCITempAct[[#This Row],[KCIAve]]<65,(65-KCITempAct[[#This Row],[KCIAve]]),0)","v":10},{"$f":"IF(MONTH(KCITempAct[[#This Row],[Date]])=7,0,IF(MONTH(KCITempAct[[#This Row],[Date]])=8,0,KCITempAct[[#This Row],[KCIHDD]]))","v":10},{"$f":"SUMPRODUCT((KCINHDD[Month]=MONTH(KCITempAct[[#This Row],[Date]]))*(KCINHDD[Day]=DAY(KCITempAct[[#This Row],[Date]]))*KCINHDD[KCINHDD])","v":23.933333333333334},{"$f":"IF(MONTH(KCITempAct[[#This Row],[Date]])=7,0,IF(MONTH(KCITempAct[[#This Row],[Date]])=8,0,KCITempAct[[#This Row],[KCINHDD]]))","v":23.933333333333334},"Adj HDD and NDD =0 for July and August"]
["2022-03-06",43,26,{"$f":"AVERAGE(KCITempAct[[#This Row],[KCIHigh]:[KCILow]]\n)","v":34.5},{"$f":"IF(KCITempAct[[#This Row],[KCIAve]]<65,(65-KCITempAct[[#This Row],[KCIAve]]),0)","v":30.5},{"$f":"IF(MONTH(KCITempAct[[#This Row],[Date]])=7,0,IF(MONTH(KCITempAct[[#This Row],[Date]])=8,0,KCITempAct[[#This Row],[KCIHDD]]))","v":30.5},{"$f":"SUMPRODUCT((KCINHDD[Month]=MONTH(KCITempAct[[#This Row],[Date]]))*(KCINHDD[Day]=DAY(KCITempAct[[#This Row],[Date]]))*KCINHDD[KCINHDD])","v":22.666666666666668},{"$f":"IF(MONTH(KCITempAct[[#This Row],[Date]])=7,0,IF(MONTH(KCITempAct[[#This Row],[Date]])=8,0,KCITempAct[[#This Row],[KCINHDD]]))","v":22.666666666666668},"Adj HDD and NDD =0 for July and August"]
["2022-03-07",31,21,{"$f":"AVERAGE(KCITempAct[[#This Row],[KCIHigh]:[KCILow]]\n)","v":26},{"$f":"IF(KCITempAct[[#This Row],[KCIAve]]<65,(65-KCITempAct[[#This Row],[KCIAve]]),0)","v":39},{"$f":"IF(MONTH(KCITempAct[[#This Row],[Date]])=7,0,IF(MONTH(KCITempAct[[#This Row],[Date]])=8,0,KCITempAct[[#This Row],[KCIHDD]]))","v":39},{"$f":"SUMPRODUCT((KCINHDD[Month]=MONTH(KCITempAct[[#This Row],[Date]]))*(KCINHDD[Day]=DAY(KCITempAct[[#This Row],[Date]]))*KCINHDD[KCINHDD])","v":22.05},{"$f":"IF(MONTH(KCITempAct[[#This Row],[Date]])=7,0,IF(MONTH(KCITempAct[[#This Row],[Date]])=8,0,KCITempAct[[#This Row],[KCINHDD]]))","v":22.05},"Adj HDD and NDD =0 for July and August"]
["2022-03-08",43,14,{"$f":"AVERAGE(KCITempAct[[#This Row],[KCIHigh]:[KCILow]]\n)","v":28.5},{"$f":"IF(KCITempAct[[#This Row],[KCIAve]]<65,(65-KCITempAct[[#This Row],[KCIAve]]),0)","v":36.5},{"$f":"IF(MONTH(KCITempAct[[#This Row],[Date]])=7,0,IF(MONTH(KCITempAct[[#This Row],[Date]])=8,0,KCITempAct[[#This Row],[KCIHDD]]))","v":36.5},{"$f":"SUMPRODUCT((KCINHDD[Month]=MONTH(KCITempAct[[#This Row],[Date]]))*(KCINHDD[Day]=DAY(KCITempAct[[#This Row],[Date]]))*KCINHDD[KCINHDD])","v":22.65},{"$f":"IF(MONTH(KCITempAct[[#This Row],[Date]])=7,0,IF(MONTH(KCITempAct[[#This Row],[Date]])=8,0,KCITempAct[[#This Row],[KCINHDD]]))","v":22.65},"Adj HDD and NDD =0 for July and August"]
["2022-03-09",41,26,{"$f":"AVERAGE(KCITempAct[[#This Row],[KCIHigh]:[KCILow]]\n)","v":33.5},{"$f":"IF(KCITempAct[[#This Row],[KCIAve]]<65,(65-KCITempAct[[#This Row],[KCIAve]]),0)","v":31.5},{"$f":"IF(MONTH(KCITempAct[[#This Row],[Date]])=7,0,IF(MONTH(KCITempAct[[#This Row],[Date]])=8,0,KCITempAct[[#This Row],[KCIHDD]]))","v":31.5},{"$f":"SUMPRODUCT((KCINHDD[Month]=MONTH(KCITempAct[[#This Row],[Date]]))*(KCINHDD[Day]=DAY(KCITempAct[[#This Row],[Date]]))*KCINHDD[KCINHDD])","v":24.183333333333334},{"$f":"IF(MONTH(KCITempAct[[#This Row],[Date]])=7,0,IF(MONTH(KCITempAct[[#This Row],[Date]])=8,0,KCITempAct[[#This Row],[KCINHDD]]))","v":24.183333333333334},"Adj HDD and NDD =0 for July and August"]
["2022-03-10",30,21,{"$f":"AVERAGE(KCITempAct[[#This Row],[KCIHigh]:[KCILow]]\n)","v":25.5},{"$f":"IF(KCITempAct[[#This Row],[KCIAve]]<65,(65-KCITempAct[[#This Row],[KCIAve]]),0)","v":39.5},{"$f":"IF(MONTH(KCITempAct[[#This Row],[Date]])=7,0,IF(MONTH(KCITempAct[[#This Row],[Date]])=8,0,KCITempAct[[#This Row],[KCIHDD]]))","v":39.5},{"$f":"SUMPRODUCT((KCINHDD[Month]=MONTH(KCITempAct[[#This Row],[Date]]))*(KCINHDD[Day]=DAY(KCITempAct[[#This Row],[Date]]))*KCINHDD[KCINHDD])","v":23.583333333333332},{"$f":"IF(MONTH(KCITempAct[[#This Row],[Date]])=7,0,IF(MONTH(KCITempAct[[#This Row],[Date]])=8,0,KCITempAct[[#This Row],[KCINHDD]]))","v":23.583333333333332},"Adj HDD and NDD =0 for July and August"]
["2022-03-11",33,12,{"$f":"AVERAGE(KCITempAct[[#This Row],[KCIHigh]:[KCILow]]\n)","v":22.5},{"$f":"IF(KCITempAct[[#This Row],[KCIAve]]<65,(65-KCITempAct[[#This Row],[KCIAve]]),0)","v":42.5},{"$f":"IF(MONTH(KCITempAct[[#This Row],[Date]])=7,0,IF(MONTH(KCITempAct[[#This Row],[Date]])=8,0,KCITempAct[[#This Row],[KCIHDD]]))","v":42.5},{"$f":"SUMPRODUCT((KCINHDD[Month]=MONTH(KCITempAct[[#This Row],[Date]]))*(KCINHDD[Day]=DAY(KCITempAct[[#This Row],[Date]]))*KCINHDD[KCINHDD])","v":22.616666666666667},{"$f":"IF(MONTH(KCITempAct[[#This Row],[Date]])=7,0,IF(MONTH(KCITempAct[[#This Row],[Date]])=8,0,KCITempAct[[#This Row],[KCINHDD]]))","v":22.616666666666667},"Adj HDD and NDD =0 for July and August"]
["2022-03-12",37,6,{"$f":"AVERAGE(KCITempAct[[#This Row],[KCIHigh]:[KCILow]]\n)","v":21.5},{"$f":"IF(KCITempAct[[#This Row],[KCIAve]]<65,(65-KCITempAct[[#This Row],[KCIAve]]),0)","v":43.5},{"$f":"IF(MONTH(KCITempAct[[#This Row],[Date]])=7,0,IF(MONTH(KCITempAct[[#This Row],[Date]])=8,0,KCITempAct[[#This Row],[KCIHDD]]))","v":43.5},{"$f":"SUMPRODUCT((KCINHDD[Month]=MONTH(KCITempAct[[#This Row],[Date]]))*(KCINHDD[Day]=DAY(KCITempAct[[#This Row],[Date]]))*KCINHDD[KCINHDD])","v":20.350000000000001},{"$f":"IF(MONTH(KCITempAct[[#This Row],[Date]])=7,0,IF(MONTH(KCITempAct[[#This Row],[Date]])=8,0,KCITempAct[[#This Row],[KCINHDD]]))","v":20.350000000000001},"Adj HDD and NDD =0 for July and August"]
["2022-03-13",65,37,{"$f":"AVERAGE(KCITempAct[[#This Row],[KCIHigh]:[KCILow]]\n)","v":51},{"$f":"IF(KCITempAct[[#This Row],[KCIAve]]<65,(65-KCITempAct[[#This Row],[KCIAve]]),0)","v":14},{"$f":"IF(MONTH(KCITempAct[[#This Row],[Date]])=7,0,IF(MONTH(KCITempAct[[#This Row],[Date]])=8,0,KCITempAct[[#This Row],[KCIHDD]]))","v":14},{"$f":"SUMPRODUCT((KCINHDD[Month]=MONTH(KCITempAct[[#This Row],[Date]]))*(KCINHDD[Day]=DAY(KCITempAct[[#This Row],[Date]]))*KCINHDD[KCINHDD])","v":19.5},{"$f":"IF(MONTH(KCITempAct[[#This Row],[Date]])=7,0,IF(MONTH(KCITempAct[[#This Row],[Date]])=8,0,KCITempAct[[#This Row],[KCINHDD]]))","v":19.5},"Adj HDD and NDD =0 for July and August"]
["2022-03-14",62,42,{"$f":"AVERAGE(KCITempAct[[#This Row],[KCIHigh]:[KCILow]]\n)","v":52},{"$f":"IF(KCITempAct[[#This Row],[KCIAve]]<65,(65-KCITempAct[[#This Row],[KCIAve]]),0)","v":13},{"$f":"IF(MONTH(KCITempAct[[#This Row],[Date]])=7,0,IF(MONTH(KCITempAct[[#This Row],[Date]])=8,0,KCITempAct[[#This Row],[KCIHDD]]))","v":13},{"$f":"SUMPRODUCT((KCINHDD[Month]=MONTH(KCITempAct[[#This Row],[Date]]))*(KCINHDD[Day]=DAY(KCITempAct[[#This Row],[Date]]))*KCINHDD[KCINHDD])","v":18.45},{"$f":"IF(MONTH(KCITempAct[[#This Row],[Date]])=7,0,IF(MONTH(KCITempAct[[#This Row],[Date]])=8,0,KCITempAct[[#This Row],[KCINHDD]]))","v":18.45},"Adj HDD and NDD =0 for July and August"]
["2022-03-15",64,35,{"$f":"AVERAGE(KCITempAct[[#This Row],[KCIHigh]:[KCILow]]\n)","v":49.5},{"$f":"IF(KCITempAct[[#This Row],[KCIAve]]<65,(65-KCITempAct[[#This Row],[KCIAve]]),0)","v":15.5},{"$f":"IF(MONTH(KCITempAct[[#This Row],[Date]])=7,0,IF(MONTH(KCITempAct[[#This Row],[Date]])=8,0,KCITempAct[[#This Row],[KCIHDD]]))","v":15.5},{"$f":"SUMPRODUCT((KCINHDD[Month]=MONTH(KCITempAct[[#This Row],[Date]]))*(KCINHDD[Day]=DAY(KCITempAct[[#This Row],[Date]]))*KCINHDD[KCINHDD])","v":19.149999999999999},{"$f":"IF(MONTH(KCITempAct[[#This Row],[Date]])=7,0,IF(MONTH(KCITempAct[[#This Row],[Date]])=8,0,KCITempAct[[#This Row],[KCINHDD]]))","v":19.149999999999999},"Adj HDD and NDD =0 for July and August"]
["2022-03-16",74,39,{"$f":"AVERAGE(KCITempAct[[#This Row],[KCIHigh]:[KCILow]]\n)","v":56.5},{"$f":"IF(KCITempAct[[#This Row],[KCIAve]]<65,(65-KCITempAct[[#This Row],[KCIAve]]),0)","v":8.5},{"$f":"IF(MONTH(KCITempAct[[#This Row],[Date]])=7,0,IF(MONTH(KCITempAct[[#This Row],[Date]])=8,0,KCITempAct[[#This Row],[KCIHDD]]))","v":8.5},{"$f":"SUMPRODUCT((KCINHDD[Month]=MONTH(KCITempAct[[#This Row],[Date]]))*(KCINHDD[Day]=DAY(KCITempAct[[#This Row],[Date]]))*KCINHDD[KCINHDD])","v":19.316666666666666},{"$f":"IF(MONTH(KCITempAct[[#This Row],[Date]])=7,0,IF(MONTH(KCITempAct[[#This Row],[Date]])=8,0,KCITempAct[[#This Row],[KCINHDD]]))","v":19.316666666666666},"Adj HDD and NDD =0 for July and August"]
["2022-03-17",77,47,{"$f":"AVERAGE(KCITempAct[[#This Row],[KCIHigh]:[KCILow]]\n)","v":62},{"$f":"IF(KCITempAct[[#This Row],[KCIAve]]<65,(65-KCITempAct[[#This Row],[KCIAve]]),0)","v":3},{"$f":"IF(MONTH(KCITempAct[[#This Row],[Date]])=7,0,IF(MONTH(KCITempAct[[#This Row],[Date]])=8,0,KCITempAct[[#This Row],[KCIHDD]]))","v":3},{"$f":"SUMPRODUCT((KCINHDD[Month]=MONTH(KCITempAct[[#This Row],[Date]]))*(KCINHDD[Day]=DAY(KCITempAct[[#This Row],[Date]]))*KCINHDD[KCINHDD])","v":17.983333333333334},{"$f":"IF(MONTH(KCITempAct[[#This Row],[Date]])=7,0,IF(MONTH(KCITempAct[[#This Row],[Date]])=8,0,KCITempAct[[#This Row],[KCINHDD]]))","v":17.983333333333334},"Adj HDD and NDD =0 for July and August"]
["2022-03-18",47,38,{"$f":"AVERAGE(KCITempAct[[#This Row],[KCIHigh]:[KCILow]]\n)","v":42.5},{"$f":"IF(KCITempAct[[#This Row],[KCIAve]]<65,(65-KCITempAct[[#This Row],[KCIAve]]),0)","v":22.5},{"$f":"IF(MONTH(KCITempAct[[#This Row],[Date]])=7,0,IF(MONTH(KCITempAct[[#This Row],[Date]])=8,0,KCITempAct[[#This Row],[KCIHDD]]))","v":22.5},{"$f":"SUMPRODUCT((KCINHDD[Month]=MONTH(KCITempAct[[#This Row],[Date]]))*(KCINHDD[Day]=DAY(KCITempAct[[#This Row],[Date]]))*KCINHDD[KCINHDD])","v":18.883333333333333},{"$f":"IF(MONTH(KCITempAct[[#This Row],[Date]])=7,0,IF(MONTH(KCITempAct[[#This Row],[Date]])=8,0,KCITempAct[[#This Row],[KCINHDD]]))","v":18.883333333333333},"Adj HDD and NDD =0 for July and August"]
["2022-03-19",63,32,{"$f":"AVERAGE(KCITempAct[[#This Row],[KCIHigh]:[KCILow]]\n)","v":47.5},{"$f":"IF(KCITempAct[[#This Row],[KCIAve]]<65,(65-KCITempAct[[#This Row],[KCIAve]]),0)","v":17.5},{"$f":"IF(MONTH(KCITempAct[[#This Row],[Date]])=7,0,IF(MONTH(KCITempAct[[#This Row],[Date]])=8,0,KCITempAct[[#This Row],[KCIHDD]]))","v":17.5},{"$f":"SUMPRODUCT((KCINHDD[Month]=MONTH(KCITempAct[[#This Row],[Date]]))*(KCINHDD[Day]=DAY(KCITempAct[[#This Row],[Date]]))*KCINHDD[KCINHDD])","v":19.166666666666668},{"$f":"IF(MONTH(KCITempAct[[#This Row],[Date]])=7,0,IF(MONTH(KCITempAct[[#This Row],[Date]])=8,0,KCITempAct[[#This Row],[KCINHDD]]))","v":19.166666666666668},"Adj HDD and NDD =0 for July and August"]
["2022-03-20",77,38,{"$f":"AVERAGE(KCITempAct[[#This Row],[KCIHigh]:[KCILow]]\n)","v":57.5},{"$f":"IF(KCITempAct[[#This Row],[KCIAve]]<65,(65-KCITempAct[[#This Row],[KCIAve]]),0)","v":7.5},{"$f":"IF(MONTH(KCITempAct[[#This Row],[Date]])=7,0,IF(MONTH(KCITempAct[[#This Row],[Date]])=8,0,KCITempAct[[#This Row],[KCIHDD]]))","v":7.5},{"$f":"SUMPRODUCT((KCINHDD[Month]=MONTH(KCITempAct[[#This Row],[Date]]))*(KCINHDD[Day]=DAY(KCITempAct[[#This Row],[Date]]))*KCINHDD[KCINHDD])","v":18.8},{"$f":"IF(MONTH(KCITempAct[[#This Row],[Date]])=7,0,IF(MONTH(KCITempAct[[#This Row],[Date]])=8,0,KCITempAct[[#This Row],[KCINHDD]]))","v":18.8},"Adj HDD and NDD =0 for July and August"]
["2022-03-21",67,50,{"$f":"AVERAGE(KCITempAct[[#This Row],[KCIHigh]:[KCILow]]\n)","v":58.5},{"$f":"IF(KCITempAct[[#This Row],[KCIAve]]<65,(65-KCITempAct[[#This Row],[KCIAve]]),0)","v":6.5},{"$f":"IF(MONTH(KCITempAct[[#This Row],[Date]])=7,0,IF(MONTH(KCITempAct[[#This Row],[Date]])=8,0,KCITempAct[[#This Row],[KCIHDD]]))","v":6.5},{"$f":"SUMPRODUCT((KCINHDD[Month]=MONTH(KCITempAct[[#This Row],[Date]]))*(KCINHDD[Day]=DAY(KCITempAct[[#This Row],[Date]]))*KCINHDD[KCINHDD])","v":18.649999999999999},{"$f":"IF(MONTH(KCITempAct[[#This Row],[Date]])=7,0,IF(MONTH(KCITempAct[[#This Row],[Date]])=8,0,KCITempAct[[#This Row],[KCINHDD]]))","v":18.649999999999999},"Adj HDD and NDD =0 for July and August"]
["2022-03-22",60,39,{"$f":"AVERAGE(KCITempAct[[#This Row],[KCIHigh]:[KCILow]]\n)","v":49.5},{"$f":"IF(KCITempAct[[#This Row],[KCIAve]]<65,(65-KCITempAct[[#This Row],[KCIAve]]),0)","v":15.5},{"$f":"IF(MONTH(KCITempAct[[#This Row],[Date]])=7,0,IF(MONTH(KCITempAct[[#This Row],[Date]])=8,0,KCITempAct[[#This Row],[KCIHDD]]))","v":15.5},{"$f":"SUMPRODUCT((KCINHDD[Month]=MONTH(KCITempAct[[#This Row],[Date]]))*(KCINHDD[Day]=DAY(KCITempAct[[#This Row],[Date]]))*KCINHDD[KCINHDD])","v":17.616666666666667},{"$f":"IF(MONTH(KCITempAct[[#This Row],[Date]])=7,0,IF(MONTH(KCITempAct[[#This Row],[Date]])=8,0,KCITempAct[[#This Row],[KCINHDD]]))","v":17.616666666666667},"Adj HDD and NDD =0 for July and August"]
["2022-03-23",40,35,{"$f":"AVERAGE(KCITempAct[[#This Row],[KCIHigh]:[KCILow]]\n)","v":37.5},{"$f":"IF(KCITempAct[[#This Row],[KCIAve]]<65,(65-KCITempAct[[#This Row],[KCIAve]]),0)","v":27.5},{"$f":"IF(MONTH(KCITempAct[[#This Row],[Date]])=7,0,IF(MONTH(KCITempAct[[#This Row],[Date]])=8,0,KCITempAct[[#This Row],[KCIHDD]]))","v":27.5},{"$f":"SUMPRODUCT((KCINHDD[Month]=MONTH(KCITempAct[[#This Row],[Date]]))*(KCINHDD[Day]=DAY(KCITempAct[[#This Row],[Date]]))*KCINHDD[KCINHDD])","v":15.4},{"$f":"IF(MONTH(KCITempAct[[#This Row],[Date]])=7,0,IF(MONTH(KCITempAct[[#This Row],[Date]])=8,0,KCITempAct[[#This Row],[KCINHDD]]))","v":15.4},"Adj HDD and NDD =0 for July and August"]
["2022-03-24",42,35,{"$f":"AVERAGE(KCITempAct[[#This Row],[KCIHigh]:[KCILow]]\n)","v":38.5},{"$f":"IF(KCITempAct[[#This Row],[KCIAve]]<65,(65-KCITempAct[[#This Row],[KCIAve]]),0)","v":26.5},{"$f":"IF(MONTH(KCITempAct[[#This Row],[Date]])=7,0,IF(MONTH(KCITempAct[[#This Row],[Date]])=8,0,KCITempAct[[#This Row],[KCIHDD]]))","v":26.5},{"$f":"SUMPRODUCT((KCINHDD[Month]=MONTH(KCITempAct[[#This Row],[Date]]))*(KCINHDD[Day]=DAY(KCITempAct[[#This Row],[Date]]))*KCINHDD[KCINHDD])","v":18.216666666666665},{"$f":"IF(MONTH(KCITempAct[[#This Row],[Date]])=7,0,IF(MONTH(KCITempAct[[#This Row],[Date]])=8,0,KCITempAct[[#This Row],[KCINHDD]]))","v":18.216666666666665},"Adj HDD and NDD =0 for July and August"]
["2022-03-25",57,32,{"$f":"AVERAGE(KCITempAct[[#This Row],[KCIHigh]:[KCILow]]\n)","v":44.5},{"$f":"IF(KCITempAct[[#This Row],[KCIAve]]<65,(65-KCITempAct[[#This Row],[KCIAve]]),0)","v":20.5},{"$f":"IF(MONTH(KCITempAct[[#This Row],[Date]])=7,0,IF(MONTH(KCITempAct[[#This Row],[Date]])=8,0,KCITempAct[[#This Row],[KCIHDD]]))","v":20.5},{"$f":"SUMPRODUCT((KCINHDD[Month]=MONTH(KCITempAct[[#This Row],[Date]]))*(KCINHDD[Day]=DAY(KCITempAct[[#This Row],[Date]]))*KCINHDD[KCINHDD])","v":19.916666666666668},{"$f":"IF(MONTH(KCITempAct[[#This Row],[Date]])=7,0,IF(MONTH(KCITempAct[[#This Row],[Date]])=8,0,KCITempAct[[#This Row],[KCINHDD]]))","v":19.916666666666668},"Adj HDD and NDD =0 for July and August"]
["2022-03-26",55,33,{"$f":"AVERAGE(KCITempAct[[#This Row],[KCIHigh]:[KCILow]]\n)","v":44},{"$f":"IF(KCITempAct[[#This Row],[KCIAve]]<65,(65-KCITempAct[[#This Row],[KCIAve]]),0)","v":21},{"$f":"IF(MONTH(KCITempAct[[#This Row],[Date]])=7,0,IF(MONTH(KCITempAct[[#This Row],[Date]])=8,0,KCITempAct[[#This Row],[KCIHDD]]))","v":21},{"$f":"SUMPRODUCT((KCINHDD[Month]=MONTH(KCITempAct[[#This Row],[Date]]))*(KCINHDD[Day]=DAY(KCITempAct[[#This Row],[Date]]))*KCINHDD[KCINHDD])","v":17.866666666666667},{"$f":"IF(MONTH(KCITempAct[[#This Row],[Date]])=7,0,IF(MONTH(KCITempAct[[#This Row],[Date]])=8,0,KCITempAct[[#This Row],[KCINHDD]]))","v":17.866666666666667},"Adj HDD and NDD =0 for July and August"]
["2022-03-27",49,32,{"$f":"AVERAGE(KCITempAct[[#This Row],[KCIHigh]:[KCILow]]\n)","v":40.5},{"$f":"IF(KCITempAct[[#This Row],[KCIAve]]<65,(65-KCITempAct[[#This Row],[KCIAve]]),0)","v":24.5},{"$f":"IF(MONTH(KCITempAct[[#This Row],[Date]])=7,0,IF(MONTH(KCITempAct[[#This Row],[Date]])=8,0,KCITempAct[[#This Row],[KCIHDD]]))","v":24.5},{"$f":"SUMPRODUCT((KCINHDD[Month]=MONTH(KCITempAct[[#This Row],[Date]]))*(KCINHDD[Day]=DAY(KCITempAct[[#This Row],[Date]]))*KCINHDD[KCINHDD])","v":17.266666666666666},{"$f":"IF(MONTH(KCITempAct[[#This Row],[Date]])=7,0,IF(MONTH(KCITempAct[[#This Row],[Date]])=8,0,KCITempAct[[#This Row],[KCINHDD]]))","v":17.266666666666666},"Adj HDD and NDD =0 for July and August"]
["2022-03-28",55,35,{"$f":"AVERAGE(KCITempAct[[#This Row],[KCIHigh]:[KCILow]]\n)","v":45},{"$f":"IF(KCITempAct[[#This Row],[KCIAve]]<65,(65-KCITempAct[[#This Row],[KCIAve]]),0)","v":20},{"$f":"IF(MONTH(KCITempAct[[#This Row],[Date]])=7,0,IF(MONTH(KCITempAct[[#This Row],[Date]])=8,0,KCITempAct[[#This Row],[KCIHDD]]))","v":20},{"$f":"SUMPRODUCT((KCINHDD[Month]=MONTH(KCITempAct[[#This Row],[Date]]))*(KCINHDD[Day]=DAY(KCITempAct[[#This Row],[Date]]))*KCINHDD[KCINHDD])","v":16.716666666666665},{"$f":"IF(MONTH(KCITempAct[[#This Row],[Date]])=7,0,IF(MONTH(KCITempAct[[#This Row],[Date]])=8,0,KCITempAct[[#This Row],[KCINHDD]]))","v":16.716666666666665},"Adj HDD and NDD =0 for July and August"]
["2022-03-29",73,44,{"$f":"AVERAGE(KCITempAct[[#This Row],[KCIHigh]:[KCILow]]\n)","v":58.5},{"$f":"IF(KCITempAct[[#This Row],[KCIAve]]<65,(65-KCITempAct[[#This Row],[KCIAve]]),0)","v":6.5},{"$f":"IF(MONTH(KCITempAct[[#This Row],[Date]])=7,0,IF(MONTH(KCITempAct[[#This Row],[Date]])=8,0,KCITempAct[[#This Row],[KCIHDD]]))","v":6.5},{"$f":"SUMPRODUCT((KCINHDD[Month]=MONTH(KCITempAct[[#This Row],[Date]]))*(KCINHDD[Day]=DAY(KCITempAct[[#This Row],[Date]]))*KCINHDD[KCINHDD])","v":14.566666666666666},{"$f":"IF(MONTH(KCITempAct[[#This Row],[Date]])=7,0,IF(MONTH(KCITempAct[[#This Row],[Date]])=8,0,KCITempAct[[#This Row],[KCINHDD]]))","v":14.566666666666666},"Adj HDD and NDD =0 for July and August"]
["2022-03-30",55,36,{"$f":"AVERAGE(KCITempAct[[#This Row],[KCIHigh]:[KCILow]]\n)","v":45.5},{"$f":"IF(KCITempAct[[#This Row],[KCIAve]]<65,(65-KCITempAct[[#This Row],[KCIAve]]),0)","v":19.5},{"$f":"IF(MONTH(KCITempAct[[#This Row],[Date]])=7,0,IF(MONTH(KCITempAct[[#This Row],[Date]])=8,0,KCITempAct[[#This Row],[KCIHDD]]))","v":19.5},{"$f":"SUMPRODUCT((KCINHDD[Month]=MONTH(KCITempAct[[#This Row],[Date]]))*(KCINHDD[Day]=DAY(KCITempAct[[#This Row],[Date]]))*KCINHDD[KCINHDD])","v":13.9},{"$f":"IF(MONTH(KCITempAct[[#This Row],[Date]])=7,0,IF(MONTH(KCITempAct[[#This Row],[Date]])=8,0,KCITempAct[[#This Row],[KCINHDD]]))","v":13.9},"Adj HDD and NDD =0 for July and August"]
["2022-03-31",40,28,{"$f":"AVERAGE(KCITempAct[[#This Row],[KCIHigh]:[KCILow]]\n)","v":34},{"$f":"IF(KCITempAct[[#This Row],[KCIAve]]<65,(65-KCITempAct[[#This Row],[KCIAve]]),0)","v":31},{"$f":"IF(MONTH(KCITempAct[[#This Row],[Date]])=7,0,IF(MONTH(KCITempAct[[#This Row],[Date]])=8,0,KCITempAct[[#This Row],[KCIHDD]]))","v":31},{"$f":"SUMPRODUCT((KCINHDD[Month]=MONTH(KCITempAct[[#This Row],[Date]]))*(KCINHDD[Day]=DAY(KCITempAct[[#This Row],[Date]]))*KCINHDD[KCINHDD])","v":15.366666666666667},{"$f":"IF(MONTH(KCITempAct[[#This Row],[Date]])=7,0,IF(MONTH(KCITempAct[[#This Row],[Date]])=8,0,KCITempAct[[#This Row],[KCINHDD]]))","v":15.366666666666667},"Adj HDD and NDD =0 for July and August"]
["2022-04-01",60,25,{"$f":"AVERAGE(KCITempAct[[#This Row],[KCIHigh]:[KCILow]]\n)","v":42.5},{"$f":"IF(KCITempAct[[#This Row],[KCIAve]]<65,(65-KCITempAct[[#This Row],[KCIAve]]),0)","v":22.5},{"$f":"IF(MONTH(KCITempAct[[#This Row],[Date]])=7,0,IF(MONTH(KCITempAct[[#This Row],[Date]])=8,0,KCITempAct[[#This Row],[KCIHDD]]))","v":22.5},{"$f":"SUMPRODUCT((KCINHDD[Month]=MONTH(KCITempAct[[#This Row],[Date]]))*(KCINHDD[Day]=DAY(KCITempAct[[#This Row],[Date]]))*KCINHDD[KCINHDD])","v":16.066666666666666},{"$f":"IF(MONTH(KCITempAct[[#This Row],[Date]])=7,0,IF(MONTH(KCITempAct[[#This Row],[Date]])=8,0,KCITempAct[[#This Row],[KCINHDD]]))","v":16.066666666666666},"Adj HDD and NDD =0 for July and August"]
["2022-04-02",63,45,{"$f":"AVERAGE(KCITempAct[[#This Row],[KCIHigh]:[KCILow]]\n)","v":54},{"$f":"IF(KCITempAct[[#This Row],[KCIAve]]<65,(65-KCITempAct[[#This Row],[KCIAve]]),0)","v":11},{"$f":"IF(MONTH(KCITempAct[[#This Row],[Date]])=7,0,IF(MONTH(KCITempAct[[#This Row],[Date]])=8,0,KCITempAct[[#This Row],[KCIHDD]]))","v":11},{"$f":"SUMPRODUCT((KCINHDD[Month]=MONTH(KCITempAct[[#This Row],[Date]]))*(KCINHDD[Day]=DAY(KCITempAct[[#This Row],[Date]]))*KCINHDD[KCINHDD])","v":13.633333333333333},{"$f":"IF(MONTH(KCITempAct[[#This Row],[Date]])=7,0,IF(MONTH(KCITempAct[[#This Row],[Date]])=8,0,KCITempAct[[#This Row],[KCINHDD]]))","v":13.633333333333333},"Adj HDD and NDD =0 for July and August"]
["2022-04-03",69,40,{"$f":"AVERAGE(KCITempAct[[#This Row],[KCIHigh]:[KCILow]]\n)","v":54.5},{"$f":"IF(KCITempAct[[#This Row],[KCIAve]]<65,(65-KCITempAct[[#This Row],[KCIAve]]),0)","v":10.5},{"$f":"IF(MONTH(KCITempAct[[#This Row],[Date]])=7,0,IF(MONTH(KCITempAct[[#This Row],[Date]])=8,0,KCITempAct[[#This Row],[KCIHDD]]))","v":10.5},{"$f":"SUMPRODUCT((KCINHDD[Month]=MONTH(KCITempAct[[#This Row],[Date]]))*(KCINHDD[Day]=DAY(KCITempAct[[#This Row],[Date]]))*KCINHDD[KCINHDD])","v":14},{"$f":"IF(MONTH(KCITempAct[[#This Row],[Date]])=7,0,IF(MONTH(KCITempAct[[#This Row],[Date]])=8,0,KCITempAct[[#This Row],[KCINHDD]]))","v":14},"Adj HDD and NDD =0 for July and August"]
["2022-04-04",61,39,{"$f":"AVERAGE(KCITempAct[[#This Row],[KCIHigh]:[KCILow]]\n)","v":50},{"$f":"IF(KCITempAct[[#This Row],[KCIAve]]<65,(65-KCITempAct[[#This Row],[KCIAve]]),0)","v":15},{"$f":"IF(MONTH(KCITempAct[[#This Row],[Date]])=7,0,IF(MONTH(KCITempAct[[#This Row],[Date]])=8,0,KCITempAct[[#This Row],[KCIHDD]]))","v":15},{"$f":"SUMPRODUCT((KCINHDD[Month]=MONTH(KCITempAct[[#This Row],[Date]]))*(KCINHDD[Day]=DAY(KCITempAct[[#This Row],[Date]]))*KCINHDD[KCINHDD])","v":15.95},{"$f":"IF(MONTH(KCITempAct[[#This Row],[Date]])=7,0,IF(MONTH(KCITempAct[[#This Row],[Date]])=8,0,KCITempAct[[#This Row],[KCINHDD]]))","v":15.95},"Adj HDD and NDD =0 for July and August"]
["2022-04-05",71,46,{"$f":"AVERAGE(KCITempAct[[#This Row],[KCIHigh]:[KCILow]]\n)","v":58.5},{"$f":"IF(KCITempAct[[#This Row],[KCIAve]]<65,(65-KCITempAct[[#This Row],[KCIAve]]),0)","v":6.5},{"$f":"IF(MONTH(KCITempAct[[#This Row],[Date]])=7,0,IF(MONTH(KCITempAct[[#This Row],[Date]])=8,0,KCITempAct[[#This Row],[KCIHDD]]))","v":6.5},{"$f":"SUMPRODUCT((KCINHDD[Month]=MONTH(KCITempAct[[#This Row],[Date]]))*(KCINHDD[Day]=DAY(KCITempAct[[#This Row],[Date]]))*KCINHDD[KCINHDD])","v":13.583333333333334},{"$f":"IF(MONTH(KCITempAct[[#This Row],[Date]])=7,0,IF(MONTH(KCITempAct[[#This Row],[Date]])=8,0,KCITempAct[[#This Row],[KCINHDD]]))","v":13.583333333333334},"Adj HDD and NDD =0 for July and August"]
["2022-04-06",62,41,{"$f":"AVERAGE(KCITempAct[[#This Row],[KCIHigh]:[KCILow]]\n)","v":51.5},{"$f":"IF(KCITempAct[[#This Row],[KCIAve]]<65,(65-KCITempAct[[#This Row],[KCIAve]]),0)","v":13.5},{"$f":"IF(MONTH(KCITempAct[[#This Row],[Date]])=7,0,IF(MONTH(KCITempAct[[#This Row],[Date]])=8,0,KCITempAct[[#This Row],[KCIHDD]]))","v":13.5},{"$f":"SUMPRODUCT((KCINHDD[Month]=MONTH(KCITempAct[[#This Row],[Date]]))*(KCINHDD[Day]=DAY(KCITempAct[[#This Row],[Date]]))*KCINHDD[KCINHDD])","v":11.633333333333333},{"$f":"IF(MONTH(KCITempAct[[#This Row],[Date]])=7,0,IF(MONTH(KCITempAct[[#This Row],[Date]])=8,0,KCITempAct[[#This Row],[KCINHDD]]))","v":11.633333333333333},"Adj HDD and NDD =0 for July and August"]
["2022-04-07",47,35,{"$f":"AVERAGE(KCITempAct[[#This Row],[KCIHigh]:[KCILow]]\n)","v":41},{"$f":"IF(KCITempAct[[#This Row],[KCIAve]]<65,(65-KCITempAct[[#This Row],[KCIAve]]),0)","v":24},{"$f":"IF(MONTH(KCITempAct[[#This Row],[Date]])=7,0,IF(MONTH(KCITempAct[[#This Row],[Date]])=8,0,KCITempAct[[#This Row],[KCIHDD]]))","v":24},{"$f":"SUMPRODUCT((KCINHDD[Month]=MONTH(KCITempAct[[#This Row],[Date]]))*(KCINHDD[Day]=DAY(KCITempAct[[#This Row],[Date]]))*KCINHDD[KCINHDD])","v":13.083333333333334},{"$f":"IF(MONTH(KCITempAct[[#This Row],[Date]])=7,0,IF(MONTH(KCITempAct[[#This Row],[Date]])=8,0,KCITempAct[[#This Row],[KCINHDD]]))","v":13.083333333333334},"Adj HDD and NDD =0 for July and August"]
["2022-04-08",52,34,{"$f":"AVERAGE(KCITempAct[[#This Row],[KCIHigh]:[KCILow]]\n)","v":43},{"$f":"IF(KCITempAct[[#This Row],[KCIAve]]<65,(65-KCITempAct[[#This Row],[KCIAve]]),0)","v":22},{"$f":"IF(MONTH(KCITempAct[[#This Row],[Date]])=7,0,IF(MONTH(KCITempAct[[#This Row],[Date]])=8,0,KCITempAct[[#This Row],[KCIHDD]]))","v":22},{"$f":"SUMPRODUCT((KCINHDD[Month]=MONTH(KCITempAct[[#This Row],[Date]]))*(KCINHDD[Day]=DAY(KCITempAct[[#This Row],[Date]]))*KCINHDD[KCINHDD])","v":13.666666666666666},{"$f":"IF(MONTH(KCITempAct[[#This Row],[Date]])=7,0,IF(MONTH(KCITempAct[[#This Row],[Date]])=8,0,KCITempAct[[#This Row],[KCINHDD]]))","v":13.666666666666666},"Adj HDD and NDD =0 for July and August"]
["2022-04-09",64,26,{"$f":"AVERAGE(KCITempAct[[#This Row],[KCIHigh]:[KCILow]]\n)","v":45},{"$f":"IF(KCITempAct[[#This Row],[KCIAve]]<65,(65-KCITempAct[[#This Row],[KCIAve]]),0)","v":20},{"$f":"IF(MONTH(KCITempAct[[#This Row],[Date]])=7,0,IF(MONTH(KCITempAct[[#This Row],[Date]])=8,0,KCITempAct[[#This Row],[KCIHDD]]))","v":20},{"$f":"SUMPRODUCT((KCINHDD[Month]=MONTH(KCITempAct[[#This Row],[Date]]))*(KCINHDD[Day]=DAY(KCITempAct[[#This Row],[Date]]))*KCINHDD[KCINHDD])","v":13.05},{"$f":"IF(MONTH(KCITempAct[[#This Row],[Date]])=7,0,IF(MONTH(KCITempAct[[#This Row],[Date]])=8,0,KCITempAct[[#This Row],[KCINHDD]]))","v":13.05},"Adj HDD and NDD =0 for July and August"]
["2022-04-10",80,49,{"$f":"AVERAGE(KCITempAct[[#This Row],[KCIHigh]:[KCILow]]\n)","v":64.5},{"$f":"IF(KCITempAct[[#This Row],[KCIAve]]<65,(65-KCITempAct[[#This Row],[KCIAve]]),0)","v":0.5},{"$f":"IF(MONTH(KCITempAct[[#This Row],[Date]])=7,0,IF(MONTH(KCITempAct[[#This Row],[Date]])=8,0,KCITempAct[[#This Row],[KCIHDD]]))","v":0.5},{"$f":"SUMPRODUCT((KCINHDD[Month]=MONTH(KCITempAct[[#This Row],[Date]]))*(KCINHDD[Day]=DAY(KCITempAct[[#This Row],[Date]]))*KCINHDD[KCINHDD])","v":11.066666666666666},{"$f":"IF(MONTH(KCITempAct[[#This Row],[Date]])=7,0,IF(MONTH(KCITempAct[[#This Row],[Date]])=8,0,KCITempAct[[#This Row],[KCINHDD]]))","v":11.066666666666666},"Adj HDD and NDD =0 for July and August"]
["2022-04-11",67,47,{"$f":"AVERAGE(KCITempAct[[#This Row],[KCIHigh]:[KCILow]]\n)","v":57},{"$f":"IF(KCITempAct[[#This Row],[KCIAve]]<65,(65-KCITempAct[[#This Row],[KCIAve]]),0)","v":8},{"$f":"IF(MONTH(KCITempAct[[#This Row],[Date]])=7,0,IF(MONTH(KCITempAct[[#This Row],[Date]])=8,0,KCITempAct[[#This Row],[KCIHDD]]))","v":8},{"$f":"SUMPRODUCT((KCINHDD[Month]=MONTH(KCITempAct[[#This Row],[Date]]))*(KCINHDD[Day]=DAY(KCITempAct[[#This Row],[Date]]))*KCINHDD[KCINHDD])","v":12.016666666666667},{"$f":"IF(MONTH(KCITempAct[[#This Row],[Date]])=7,0,IF(MONTH(KCITempAct[[#This Row],[Date]])=8,0,KCITempAct[[#This Row],[KCINHDD]]))","v":12.016666666666667},"Adj HDD and NDD =0 for July and August"]
["2022-04-12",86,50,{"$f":"AVERAGE(KCITempAct[[#This Row],[KCIHigh]:[KCILow]]\n)","v":68},{"$f":"IF(KCITempAct[[#This Row],[KCIAve]]<65,(65-KCITempAct[[#This Row],[KCIAve]]),0)","v":0},{"$f":"IF(MONTH(KCITempAct[[#This Row],[Date]])=7,0,IF(MONTH(KCITempAct[[#This Row],[Date]])=8,0,KCITempAct[[#This Row],[KCIHDD]]))","v":0},{"$f":"SUMPRODUCT((KCINHDD[Month]=MONTH(KCITempAct[[#This Row],[Date]]))*(KCINHDD[Day]=DAY(KCITempAct[[#This Row],[Date]]))*KCINHDD[KCINHDD])","v":13.85},{"$f":"IF(MONTH(KCITempAct[[#This Row],[Date]])=7,0,IF(MONTH(KCITempAct[[#This Row],[Date]])=8,0,KCITempAct[[#This Row],[KCINHDD]]))","v":13.85},"Adj HDD and NDD =0 for July and August"]
["2022-04-13",64,33,{"$f":"AVERAGE(KCITempAct[[#This Row],[KCIHigh]:[KCILow]]\n)","v":48.5},{"$f":"IF(KCITempAct[[#This Row],[KCIAve]]<65,(65-KCITempAct[[#This Row],[KCIAve]]),0)","v":16.5},{"$f":"IF(MONTH(KCITempAct[[#This Row],[Date]])=7,0,IF(MONTH(KCITempAct[[#This Row],[Date]])=8,0,KCITempAct[[#This Row],[KCIHDD]]))","v":16.5},{"$f":"SUMPRODUCT((KCINHDD[Month]=MONTH(KCITempAct[[#This Row],[Date]]))*(KCINHDD[Day]=DAY(KCITempAct[[#This Row],[Date]]))*KCINHDD[KCINHDD])","v":12.1},{"$f":"IF(MONTH(KCITempAct[[#This Row],[Date]])=7,0,IF(MONTH(KCITempAct[[#This Row],[Date]])=8,0,KCITempAct[[#This Row],[KCINHDD]]))","v":12.1},"Adj HDD and NDD =0 for July and August"]
["2022-04-14",61,31,{"$f":"AVERAGE(KCITempAct[[#This Row],[KCIHigh]:[KCILow]]\n)","v":46},{"$f":"IF(KCITempAct[[#This Row],[KCIAve]]<65,(65-KCITempAct[[#This Row],[KCIAve]]),0)","v":19},{"$f":"IF(MONTH(KCITempAct[[#This Row],[Date]])=7,0,IF(MONTH(KCITempAct[[#This Row],[Date]])=8,0,KCITempAct[[#This Row],[KCIHDD]]))","v":19},{"$f":"SUMPRODUCT((KCINHDD[Month]=MONTH(KCITempAct[[#This Row],[Date]]))*(KCINHDD[Day]=DAY(KCITempAct[[#This Row],[Date]]))*KCINHDD[KCINHDD])","v":10.199999999999999},{"$f":"IF(MONTH(KCITempAct[[#This Row],[Date]])=7,0,IF(MONTH(KCITempAct[[#This Row],[Date]])=8,0,KCITempAct[[#This Row],[KCINHDD]]))","v":10.199999999999999},"Adj HDD and NDD =0 for July and August"]
["2022-04-15",60,38,{"$f":"AVERAGE(KCITempAct[[#This Row],[KCIHigh]:[KCILow]]\n)","v":49},{"$f":"IF(KCITempAct[[#This Row],[KCIAve]]<65,(65-KCITempAct[[#This Row],[KCIAve]]),0)","v":16},{"$f":"IF(MONTH(KCITempAct[[#This Row],[Date]])=7,0,IF(MONTH(KCITempAct[[#This Row],[Date]])=8,0,KCITempAct[[#This Row],[KCIHDD]]))","v":16},{"$f":"SUMPRODUCT((KCINHDD[Month]=MONTH(KCITempAct[[#This Row],[Date]]))*(KCINHDD[Day]=DAY(KCITempAct[[#This Row],[Date]]))*KCINHDD[KCINHDD])","v":10.533333333333333},{"$f":"IF(MONTH(KCITempAct[[#This Row],[Date]])=7,0,IF(MONTH(KCITempAct[[#This Row],[Date]])=8,0,KCITempAct[[#This Row],[KCINHDD]]))","v":10.533333333333333},"Adj HDD and NDD =0 for July and August"]
["2022-04-16",55,33,{"$f":"AVERAGE(KCITempAct[[#This Row],[KCIHigh]:[KCILow]]\n)","v":44},{"$f":"IF(KCITempAct[[#This Row],[KCIAve]]<65,(65-KCITempAct[[#This Row],[KCIAve]]),0)","v":21},{"$f":"IF(MONTH(KCITempAct[[#This Row],[Date]])=7,0,IF(MONTH(KCITempAct[[#This Row],[Date]])=8,0,KCITempAct[[#This Row],[KCIHDD]]))","v":21},{"$f":"SUMPRODUCT((KCINHDD[Month]=MONTH(KCITempAct[[#This Row],[Date]]))*(KCINHDD[Day]=DAY(KCITempAct[[#This Row],[Date]]))*KCINHDD[KCINHDD])","v":10.483333333333333},{"$f":"IF(MONTH(KCITempAct[[#This Row],[Date]])=7,0,IF(MONTH(KCITempAct[[#This Row],[Date]])=8,0,KCITempAct[[#This Row],[KCINHDD]]))","v":10.483333333333333},"Adj HDD and NDD =0 for July and August"]
["2022-04-17",47,34,{"$f":"AVERAGE(KCITempAct[[#This Row],[KCIHigh]:[KCILow]]\n)","v":40.5},{"$f":"IF(KCITempAct[[#This Row],[KCIAve]]<65,(65-KCITempAct[[#This Row],[KCIAve]]),0)","v":24.5},{"$f":"IF(MONTH(KCITempAct[[#This Row],[Date]])=7,0,IF(MONTH(KCITempAct[[#This Row],[Date]])=8,0,KCITempAct[[#This Row],[KCIHDD]]))","v":24.5},{"$f":"SUMPRODUCT((KCINHDD[Month]=MONTH(KCITempAct[[#This Row],[Date]]))*(KCINHDD[Day]=DAY(KCITempAct[[#This Row],[Date]]))*KCINHDD[KCINHDD])","v":10.5},{"$f":"IF(MONTH(KCITempAct[[#This Row],[Date]])=7,0,IF(MONTH(KCITempAct[[#This Row],[Date]])=8,0,KCITempAct[[#This Row],[KCINHDD]]))","v":10.5},"Adj HDD and NDD =0 for July and August"]
["2022-04-18",57,34,{"$f":"AVERAGE(KCITempAct[[#This Row],[KCIHigh]:[KCILow]]\n)","v":45.5},{"$f":"IF(KCITempAct[[#This Row],[KCIAve]]<65,(65-KCITempAct[[#This Row],[KCIAve]]),0)","v":19.5},{"$f":"IF(MONTH(KCITempAct[[#This Row],[Date]])=7,0,IF(MONTH(KCITempAct[[#This Row],[Date]])=8,0,KCITempAct[[#This Row],[KCIHDD]]))","v":19.5},{"$f":"SUMPRODUCT((KCINHDD[Month]=MONTH(KCITempAct[[#This Row],[Date]]))*(KCINHDD[Day]=DAY(KCITempAct[[#This Row],[Date]]))*KCINHDD[KCINHDD])","v":7.9833333333333334},{"$f":"IF(MONTH(KCITempAct[[#This Row],[Date]])=7,0,IF(MONTH(KCITempAct[[#This Row],[Date]])=8,0,KCITempAct[[#This Row],[KCINHDD]]))","v":7.9833333333333334},"Adj HDD and NDD =0 for July and August"]
["2022-04-19",58,35,{"$f":"AVERAGE(KCITempAct[[#This Row],[KCIHigh]:[KCILow]]\n)","v":46.5},{"$f":"IF(KCITempAct[[#This Row],[KCIAve]]<65,(65-KCITempAct[[#This Row],[KCIAve]]),0)","v":18.5},{"$f":"IF(MONTH(KCITempAct[[#This Row],[Date]])=7,0,IF(MONTH(KCITempAct[[#This Row],[Date]])=8,0,KCITempAct[[#This Row],[KCIHDD]]))","v":18.5},{"$f":"SUMPRODUCT((KCINHDD[Month]=MONTH(KCITempAct[[#This Row],[Date]]))*(KCINHDD[Day]=DAY(KCITempAct[[#This Row],[Date]]))*KCINHDD[KCINHDD])","v":8.1166666666666671},{"$f":"IF(MONTH(KCITempAct[[#This Row],[Date]])=7,0,IF(MONTH(KCITempAct[[#This Row],[Date]])=8,0,KCITempAct[[#This Row],[KCINHDD]]))","v":8.1166666666666671},"Adj HDD and NDD =0 for July and August"]
["2022-04-20",59,51,{"$f":"AVERAGE(KCITempAct[[#This Row],[KCIHigh]:[KCILow]]\n)","v":55},{"$f":"IF(KCITempAct[[#This Row],[KCIAve]]<65,(65-KCITempAct[[#This Row],[KCIAve]]),0)","v":10},{"$f":"IF(MONTH(KCITempAct[[#This Row],[Date]])=7,0,IF(MONTH(KCITempAct[[#This Row],[Date]])=8,0,KCITempAct[[#This Row],[KCIHDD]]))","v":10},{"$f":"SUMPRODUCT((KCINHDD[Month]=MONTH(KCITempAct[[#This Row],[Date]]))*(KCINHDD[Day]=DAY(KCITempAct[[#This Row],[Date]]))*KCINHDD[KCINHDD])","v":9.6999999999999993},{"$f":"IF(MONTH(KCITempAct[[#This Row],[Date]])=7,0,IF(MONTH(KCITempAct[[#This Row],[Date]])=8,0,KCITempAct[[#This Row],[KCINHDD]]))","v":9.6999999999999993},"Adj HDD and NDD =0 for July and August"]
["2022-04-21",76,41,{"$f":"AVERAGE(KCITempAct[[#This Row],[KCIHigh]:[KCILow]]\n)","v":58.5},{"$f":"IF(KCITempAct[[#This Row],[KCIAve]]<65,(65-KCITempAct[[#This Row],[KCIAve]]),0)","v":6.5},{"$f":"IF(MONTH(KCITempAct[[#This Row],[Date]])=7,0,IF(MONTH(KCITempAct[[#This Row],[Date]])=8,0,KCITempAct[[#This Row],[KCIHDD]]))","v":6.5},{"$f":"SUMPRODUCT((KCINHDD[Month]=MONTH(KCITempAct[[#This Row],[Date]]))*(KCINHDD[Day]=DAY(KCITempAct[[#This Row],[Date]]))*KCINHDD[KCINHDD])","v":9.3666666666666671},{"$f":"IF(MONTH(KCITempAct[[#This Row],[Date]])=7,0,IF(MONTH(KCITempAct[[#This Row],[Date]])=8,0,KCITempAct[[#This Row],[KCINHDD]]))","v":9.3666666666666671},"Adj HDD and NDD =0 for July and August"]
["2022-04-22",82,66,{"$f":"AVERAGE(KCITempAct[[#This Row],[KCIHigh]:[KCILow]]\n)","v":74},{"$f":"IF(KCITempAct[[#This Row],[KCIAve]]<65,(65-KCITempAct[[#This Row],[KCIAve]]),0)","v":0},{"$f":"IF(MONTH(KCITempAct[[#This Row],[Date]])=7,0,IF(MONTH(KCITempAct[[#This Row],[Date]])=8,0,KCITempAct[[#This Row],[KCIHDD]]))","v":0},{"$f":"SUMPRODUCT((KCINHDD[Month]=MONTH(KCITempAct[[#This Row],[Date]]))*(KCINHDD[Day]=DAY(KCITempAct[[#This Row],[Date]]))*KCINHDD[KCINHDD])","v":9.4},{"$f":"IF(MONTH(KCITempAct[[#This Row],[Date]])=7,0,IF(MONTH(KCITempAct[[#This Row],[Date]])=8,0,KCITempAct[[#This Row],[KCINHDD]]))","v":9.4},"Adj HDD and NDD =0 for July and August"]
["2022-04-23",76,56,{"$f":"AVERAGE(KCITempAct[[#This Row],[KCIHigh]:[KCILow]]\n)","v":66},{"$f":"IF(KCITempAct[[#This Row],[KCIAve]]<65,(65-KCITempAct[[#This Row],[KCIAve]]),0)","v":0},{"$f":"IF(MONTH(KCITempAct[[#This Row],[Date]])=7,0,IF(MONTH(KCITempAct[[#This Row],[Date]])=8,0,KCITempAct[[#This Row],[KCIHDD]]))","v":0},{"$f":"SUMPRODUCT((KCINHDD[Month]=MONTH(KCITempAct[[#This Row],[Date]]))*(KCINHDD[Day]=DAY(KCITempAct[[#This Row],[Date]]))*KCINHDD[KCINHDD])","v":8.15},{"$f":"IF(MONTH(KCITempAct[[#This Row],[Date]])=7,0,IF(MONTH(KCITempAct[[#This Row],[Date]])=8,0,KCITempAct[[#This Row],[KCINHDD]]))","v":8.15},"Adj HDD and NDD =0 for July and August"]
["2022-04-24",68,47,{"$f":"AVERAGE(KCITempAct[[#This Row],[KCIHigh]:[KCILow]]\n)","v":57.5},{"$f":"IF(KCITempAct[[#This Row],[KCIAve]]<65,(65-KCITempAct[[#This Row],[KCIAve]]),0)","v":7.5},{"$f":"IF(MONTH(KCITempAct[[#This Row],[Date]])=7,0,IF(MONTH(KCITempAct[[#This Row],[Date]])=8,0,KCITempAct[[#This Row],[KCIHDD]]))","v":7.5},{"$f":"SUMPRODUCT((KCINHDD[Month]=MONTH(KCITempAct[[#This Row],[Date]]))*(KCINHDD[Day]=DAY(KCITempAct[[#This Row],[Date]]))*KCINHDD[KCINHDD])","v":7.4},{"$f":"IF(MONTH(KCITempAct[[#This Row],[Date]])=7,0,IF(MONTH(KCITempAct[[#This Row],[Date]])=8,0,KCITempAct[[#This Row],[KCINHDD]]))","v":7.4},"Adj HDD and NDD =0 for July and August"]
["2022-04-25",61,39,{"$f":"AVERAGE(KCITempAct[[#This Row],[KCIHigh]:[KCILow]]\n)","v":50},{"$f":"IF(KCITempAct[[#This Row],[KCIAve]]<65,(65-KCITempAct[[#This Row],[KCIAve]]),0)","v":15},{"$f":"IF(MONTH(KCITempAct[[#This Row],[Date]])=7,0,IF(MONTH(KCITempAct[[#This Row],[Date]])=8,0,KCITempAct[[#This Row],[KCIHDD]]))","v":15},{"$f":"SUMPRODUCT((KCINHDD[Month]=MONTH(KCITempAct[[#This Row],[Date]]))*(KCINHDD[Day]=DAY(KCITempAct[[#This Row],[Date]]))*KCINHDD[KCINHDD])","v":8.2833333333333332},{"$f":"IF(MONTH(KCITempAct[[#This Row],[Date]])=7,0,IF(MONTH(KCITempAct[[#This Row],[Date]])=8,0,KCITempAct[[#This Row],[KCINHDD]]))","v":8.2833333333333332},"Adj HDD and NDD =0 for July and August"]
["2022-04-26",67,33,{"$f":"AVERAGE(KCITempAct[[#This Row],[KCIHigh]:[KCILow]]\n)","v":50},{"$f":"IF(KCITempAct[[#This Row],[KCIAve]]<65,(65-KCITempAct[[#This Row],[KCIAve]]),0)","v":15},{"$f":"IF(MONTH(KCITempAct[[#This Row],[Date]])=7,0,IF(MONTH(KCITempAct[[#This Row],[Date]])=8,0,KCITempAct[[#This Row],[KCIHDD]]))","v":15},{"$f":"SUMPRODUCT((KCINHDD[Month]=MONTH(KCITempAct[[#This Row],[Date]]))*(KCINHDD[Day]=DAY(KCITempAct[[#This Row],[Date]]))*KCINHDD[KCINHDD])","v":9.4833333333333325},{"$f":"IF(MONTH(KCITempAct[[#This Row],[Date]])=7,0,IF(MONTH(KCITempAct[[#This Row],[Date]])=8,0,KCITempAct[[#This Row],[KCINHDD]]))","v":9.4833333333333325},"Adj HDD and NDD =0 for July and August"]
["2022-04-27",77,48,{"$f":"AVERAGE(KCITempAct[[#This Row],[KCIHigh]:[KCILow]]\n)","v":62.5},{"$f":"IF(KCITempAct[[#This Row],[KCIAve]]<65,(65-KCITempAct[[#This Row],[KCIAve]]),0)","v":2.5},{"$f":"IF(MONTH(KCITempAct[[#This Row],[Date]])=7,0,IF(MONTH(KCITempAct[[#This Row],[Date]])=8,0,KCITempAct[[#This Row],[KCIHDD]]))","v":2.5},{"$f":"SUMPRODUCT((KCINHDD[Month]=MONTH(KCITempAct[[#This Row],[Date]]))*(KCINHDD[Day]=DAY(KCITempAct[[#This Row],[Date]]))*KCINHDD[KCINHDD])","v":9.5666666666666664},{"$f":"IF(MONTH(KCITempAct[[#This Row],[Date]])=7,0,IF(MONTH(KCITempAct[[#This Row],[Date]])=8,0,KCITempAct[[#This Row],[KCINHDD]]))","v":9.5666666666666664},"Adj HDD and NDD =0 for July and August"]
["2022-04-28",74,59,{"$f":"AVERAGE(KCITempAct[[#This Row],[KCIHigh]:[KCILow]]\n)","v":66.5},{"$f":"IF(KCITempAct[[#This Row],[KCIAve]]<65,(65-KCITempAct[[#This Row],[KCIAve]]),0)","v":0},{"$f":"IF(MONTH(KCITempAct[[#This Row],[Date]])=7,0,IF(MONTH(KCITempAct[[#This Row],[Date]])=8,0,KCITempAct[[#This Row],[KCIHDD]]))","v":0},{"$f":"SUMPRODUCT((KCINHDD[Month]=MONTH(KCITempAct[[#This Row],[Date]]))*(KCINHDD[Day]=DAY(KCITempAct[[#This Row],[Date]]))*KCINHDD[KCINHDD])","v":9.25},{"$f":"IF(MONTH(KCITempAct[[#This Row],[Date]])=7,0,IF(MONTH(KCITempAct[[#This Row],[Date]])=8,0,KCITempAct[[#This Row],[KCINHDD]]))","v":9.25},"Adj HDD and NDD =0 for July and August"]
["2022-04-29",77,57,{"$f":"AVERAGE(KCITempAct[[#This Row],[KCIHigh]:[KCILow]]\n)","v":67},{"$f":"IF(KCITempAct[[#This Row],[KCIAve]]<65,(65-KCITempAct[[#This Row],[KCIAve]]),0)","v":0},{"$f":"IF(MONTH(KCITempAct[[#This Row],[Date]])=7,0,IF(MONTH(KCITempAct[[#This Row],[Date]])=8,0,KCITempAct[[#This Row],[KCIHDD]]))","v":0},{"$f":"SUMPRODUCT((KCINHDD[Month]=MONTH(KCITempAct[[#This Row],[Date]]))*(KCINHDD[Day]=DAY(KCITempAct[[#This Row],[Date]]))*KCINHDD[KCINHDD])","v":7.916666666666667},{"$f":"IF(MONTH(KCITempAct[[#This Row],[Date]])=7,0,IF(MONTH(KCITempAct[[#This Row],[Date]])=8,0,KCITempAct[[#This Row],[KCINHDD]]))","v":7.916666666666667},"Adj HDD and NDD =0 for July and August"]
["2022-04-30",62,52,{"$f":"AVERAGE(KCITempAct[[#This Row],[KCIHigh]:[KCILow]]\n)","v":57},{"$f":"IF(KCITempAct[[#This Row],[KCIAve]]<65,(65-KCITempAct[[#This Row],[KCIAve]]),0)","v":8},{"$f":"IF(MONTH(KCITempAct[[#This Row],[Date]])=7,0,IF(MONTH(KCITempAct[[#This Row],[Date]])=8,0,KCITempAct[[#This Row],[KCIHDD]]))","v":8},{"$f":"SUMPRODUCT((KCINHDD[Month]=MONTH(KCITempAct[[#This Row],[Date]]))*(KCINHDD[Day]=DAY(KCITempAct[[#This Row],[Date]]))*KCINHDD[KCINHDD])","v":6.4833333333333334},{"$f":"IF(MONTH(KCITempAct[[#This Row],[Date]])=7,0,IF(MONTH(KCITempAct[[#This Row],[Date]])=8,0,KCITempAct[[#This Row],[KCINHDD]]))","v":6.4833333333333334},"Adj HDD and NDD =0 for July and August"]
["2022-05-01",71,46,{"$f":"AVERAGE(KCITempAct[[#This Row],[KCIHigh]:[KCILow]]\n)","v":58.5},{"$f":"IF(KCITempAct[[#This Row],[KCIAve]]<65,(65-KCITempAct[[#This Row],[KCIAve]]),0)","v":6.5},{"$f":"IF(MONTH(KCITempAct[[#This Row],[Date]])=7,0,IF(MONTH(KCITempAct[[#This Row],[Date]])=8,0,KCITempAct[[#This Row],[KCIHDD]]))","v":6.5},{"$f":"SUMPRODUCT((KCINHDD[Month]=MONTH(KCITempAct[[#This Row],[Date]]))*(KCINHDD[Day]=DAY(KCITempAct[[#This Row],[Date]]))*KCINHDD[KCINHDD])","v":7.5666666666666664},{"$f":"IF(MONTH(KCITempAct[[#This Row],[Date]])=7,0,IF(MONTH(KCITempAct[[#This Row],[Date]])=8,0,KCITempAct[[#This Row],[KCINHDD]]))","v":7.5666666666666664},"Adj HDD and NDD =0 for July and August"]
["2022-05-02",55,49,{"$f":"AVERAGE(KCITempAct[[#This Row],[KCIHigh]:[KCILow]]\n)","v":52},{"$f":"IF(KCITempAct[[#This Row],[KCIAve]]<65,(65-KCITempAct[[#This Row],[KCIAve]]),0)","v":13},{"$f":"IF(MONTH(KCITempAct[[#This Row],[Date]])=7,0,IF(MONTH(KCITempAct[[#This Row],[Date]])=8,0,KCITempAct[[#This Row],[KCIHDD]]))","v":13},{"$f":"SUMPRODUCT((KCINHDD[Month]=MONTH(KCITempAct[[#This Row],[Date]]))*(KCINHDD[Day]=DAY(KCITempAct[[#This Row],[Date]]))*KCINHDD[KCINHDD])","v":8.0500000000000007},{"$f":"IF(MONTH(KCITempAct[[#This Row],[Date]])=7,0,IF(MONTH(KCITempAct[[#This Row],[Date]])=8,0,KCITempAct[[#This Row],[KCINHDD]]))","v":8.0500000000000007},"Adj HDD and NDD =0 for July and August"]
["2022-05-03",55,45,{"$f":"AVERAGE(KCITempAct[[#This Row],[KCIHigh]:[KCILow]]\n)","v":50},{"$f":"IF(KCITempAct[[#This Row],[KCIAve]]<65,(65-KCITempAct[[#This Row],[KCIAve]]),0)","v":15},{"$f":"IF(MONTH(KCITempAct[[#This Row],[Date]])=7,0,IF(MONTH(KCITempAct[[#This Row],[Date]])=8,0,KCITempAct[[#This Row],[KCIHDD]]))","v":15},{"$f":"SUMPRODUCT((KCINHDD[Month]=MONTH(KCITempAct[[#This Row],[Date]]))*(KCINHDD[Day]=DAY(KCITempAct[[#This Row],[Date]]))*KCINHDD[KCINHDD])","v":7.0166666666666666},{"$f":"IF(MONTH(KCITempAct[[#This Row],[Date]])=7,0,IF(MONTH(KCITempAct[[#This Row],[Date]])=8,0,KCITempAct[[#This Row],[KCINHDD]]))","v":7.0166666666666666},"Adj HDD and NDD =0 for July and August"]
["2022-05-04",53,50,{"$f":"AVERAGE(KCITempAct[[#This Row],[KCIHigh]:[KCILow]]\n)","v":51.5},{"$f":"IF(KCITempAct[[#This Row],[KCIAve]]<65,(65-KCITempAct[[#This Row],[KCIAve]]),0)","v":13.5},{"$f":"IF(MONTH(KCITempAct[[#This Row],[Date]])=7,0,IF(MONTH(KCITempAct[[#This Row],[Date]])=8,0,KCITempAct[[#This Row],[KCIHDD]]))","v":13.5},{"$f":"SUMPRODUCT((KCINHDD[Month]=MONTH(KCITempAct[[#This Row],[Date]]))*(KCINHDD[Day]=DAY(KCITempAct[[#This Row],[Date]]))*KCINHDD[KCINHDD])","v":5.0333333333333332},{"$f":"IF(MONTH(KCITempAct[[#This Row],[Date]])=7,0,IF(MONTH(KCITempAct[[#This Row],[Date]])=8,0,KCITempAct[[#This Row],[KCINHDD]]))","v":5.0333333333333332},"Adj HDD and NDD =0 for July and August"]
["2022-05-05",61,52,{"$f":"AVERAGE(KCITempAct[[#This Row],[KCIHigh]:[KCILow]]\n)","v":56.5},{"$f":"IF(KCITempAct[[#This Row],[KCIAve]]<65,(65-KCITempAct[[#This Row],[KCIAve]]),0)","v":8.5},{"$f":"IF(MONTH(KCITempAct[[#This Row],[Date]])=7,0,IF(MONTH(KCITempAct[[#This Row],[Date]])=8,0,KCITempAct[[#This Row],[KCIHDD]]))","v":8.5},{"$f":"SUMPRODUCT((KCINHDD[Month]=MONTH(KCITempAct[[#This Row],[Date]]))*(KCINHDD[Day]=DAY(KCITempAct[[#This Row],[Date]]))*KCINHDD[KCINHDD])","v":4.25},{"$f":"IF(MONTH(KCITempAct[[#This Row],[Date]])=7,0,IF(MONTH(KCITempAct[[#This Row],[Date]])=8,0,KCITempAct[[#This Row],[KCINHDD]]))","v":4.25},"Adj HDD and NDD =0 for July and August"]
["2022-05-06",65,52,{"$f":"AVERAGE(KCITempAct[[#This Row],[KCIHigh]:[KCILow]]\n)","v":58.5},{"$f":"IF(KCITempAct[[#This Row],[KCIAve]]<65,(65-KCITempAct[[#This Row],[KCIAve]]),0)","v":6.5},{"$f":"IF(MONTH(KCITempAct[[#This Row],[Date]])=7,0,IF(MONTH(KCITempAct[[#This Row],[Date]])=8,0,KCITempAct[[#This Row],[KCIHDD]]))","v":6.5},{"$f":"SUMPRODUCT((KCINHDD[Month]=MONTH(KCITempAct[[#This Row],[Date]]))*(KCINHDD[Day]=DAY(KCITempAct[[#This Row],[Date]]))*KCINHDD[KCINHDD])","v":3.3833333333333333},{"$f":"IF(MONTH(KCITempAct[[#This Row],[Date]])=7,0,IF(MONTH(KCITempAct[[#This Row],[Date]])=8,0,KCITempAct[[#This Row],[KCINHDD]]))","v":3.3833333333333333},"Adj HDD and NDD =0 for July and August"]
["2022-05-07",74,50,{"$f":"AVERAGE(KCITempAct[[#This Row],[KCIHigh]:[KCILow]]\n)","v":62},{"$f":"IF(KCITempAct[[#This Row],[KCIAve]]<65,(65-KCITempAct[[#This Row],[KCIAve]]),0)","v":3},{"$f":"IF(MONTH(KCITempAct[[#This Row],[Date]])=7,0,IF(MONTH(KCITempAct[[#This Row],[Date]])=8,0,KCITempAct[[#This Row],[KCIHDD]]))","v":3},{"$f":"SUMPRODUCT((KCINHDD[Month]=MONTH(KCITempAct[[#This Row],[Date]]))*(KCINHDD[Day]=DAY(KCITempAct[[#This Row],[Date]]))*KCINHDD[KCINHDD])","v":3.4833333333333334},{"$f":"IF(MONTH(KCITempAct[[#This Row],[Date]])=7,0,IF(MONTH(KCITempAct[[#This Row],[Date]])=8,0,KCITempAct[[#This Row],[KCINHDD]]))","v":3.4833333333333334},"Adj HDD and NDD =0 for July and August"]
["2022-05-08",76,60,{"$f":"AVERAGE(KCITempAct[[#This Row],[KCIHigh]:[KCILow]]\n)","v":68},{"$f":"IF(KCITempAct[[#This Row],[KCIAve]]<65,(65-KCITempAct[[#This Row],[KCIAve]]),0)","v":0},{"$f":"IF(MONTH(KCITempAct[[#This Row],[Date]])=7,0,IF(MONTH(KCITempAct[[#This Row],[Date]])=8,0,KCITempAct[[#This Row],[KCIHDD]]))","v":0},{"$f":"SUMPRODUCT((KCINHDD[Month]=MONTH(KCITempAct[[#This Row],[Date]]))*(KCINHDD[Day]=DAY(KCITempAct[[#This Row],[Date]]))*KCINHDD[KCINHDD])","v":2.4333333333333331},{"$f":"IF(MONTH(KCITempAct[[#This Row],[Date]])=7,0,IF(MONTH(KCITempAct[[#This Row],[Date]])=8,0,KCITempAct[[#This Row],[KCINHDD]]))","v":2.4333333333333331},"Adj HDD and NDD =0 for July and August"]
["2022-05-09",91,69,{"$f":"AVERAGE(KCITempAct[[#This Row],[KCIHigh]:[KCILow]]\n)","v":80},{"$f":"IF(KCITempAct[[#This Row],[KCIAve]]<65,(65-KCITempAct[[#This Row],[KCIAve]]),0)","v":0},{"$f":"IF(MONTH(KCITempAct[[#This Row],[Date]])=7,0,IF(MONTH(KCITempAct[[#This Row],[Date]])=8,0,KCITempAct[[#This Row],[KCIHDD]]))","v":0},{"$f":"SUMPRODUCT((KCINHDD[Month]=MONTH(KCITempAct[[#This Row],[Date]]))*(KCINHDD[Day]=DAY(KCITempAct[[#This Row],[Date]]))*KCINHDD[KCINHDD])","v":4.2166666666666668},{"$f":"IF(MONTH(KCITempAct[[#This Row],[Date]])=7,0,IF(MONTH(KCITempAct[[#This Row],[Date]])=8,0,KCITempAct[[#This Row],[KCINHDD]]))","v":4.2166666666666668},"Adj HDD and NDD =0 for July and August"]
["2022-05-10",91,77,{"$f":"AVERAGE(KCITempAct[[#This Row],[KCIHigh]:[KCILow]]\n)","v":84},{"$f":"IF(KCITempAct[[#This Row],[KCIAve]]<65,(65-KCITempAct[[#This Row],[KCIAve]]),0)","v":0},{"$f":"IF(MONTH(KCITempAct[[#This Row],[Date]])=7,0,IF(MONTH(KCITempAct[[#This Row],[Date]])=8,0,KCITempAct[[#This Row],[KCIHDD]]))","v":0},{"$f":"SUMPRODUCT((KCINHDD[Month]=MONTH(KCITempAct[[#This Row],[Date]]))*(KCINHDD[Day]=DAY(KCITempAct[[#This Row],[Date]]))*KCINHDD[KCINHDD])","v":4.2833333333333332},{"$f":"IF(MONTH(KCITempAct[[#This Row],[Date]])=7,0,IF(MONTH(KCITempAct[[#This Row],[Date]])=8,0,KCITempAct[[#This Row],[KCINHDD]]))","v":4.2833333333333332},"Adj HDD and NDD =0 for July and August"]
["2022-05-11",92,74,{"$f":"AVERAGE(KCITempAct[[#This Row],[KCIHigh]:[KCILow]]\n)","v":83},{"$f":"IF(KCITempAct[[#This Row],[KCIAve]]<65,(65-KCITempAct[[#This Row],[KCIAve]]),0)","v":0},{"$f":"IF(MONTH(KCITempAct[[#This Row],[Date]])=7,0,IF(MONTH(KCITempAct[[#This Row],[Date]])=8,0,KCITempAct[[#This Row],[KCIHDD]]))","v":0},{"$f":"SUMPRODUCT((KCINHDD[Month]=MONTH(KCITempAct[[#This Row],[Date]]))*(KCINHDD[Day]=DAY(KCITempAct[[#This Row],[Date]]))*KCINHDD[KCINHDD])","v":4.7333333333333334},{"$f":"IF(MONTH(KCITempAct[[#This Row],[Date]])=7,0,IF(MONTH(KCITempAct[[#This Row],[Date]])=8,0,KCITempAct[[#This Row],[KCINHDD]]))","v":4.7333333333333334},"Adj HDD and NDD =0 for July and August"]
["2022-05-12",93,71,{"$f":"AVERAGE(KCITempAct[[#This Row],[KCIHigh]:[KCILow]]\n)","v":82},{"$f":"IF(KCITempAct[[#This Row],[KCIAve]]<65,(65-KCITempAct[[#This Row],[KCIAve]]),0)","v":0},{"$f":"IF(MONTH(KCITempAct[[#This Row],[Date]])=7,0,IF(MONTH(KCITempAct[[#This Row],[Date]])=8,0,KCITempAct[[#This Row],[KCIHDD]]))","v":0},{"$f":"SUMPRODUCT((KCINHDD[Month]=MONTH(KCITempAct[[#This Row],[Date]]))*(KCINHDD[Day]=DAY(KCITempAct[[#This Row],[Date]]))*KCINHDD[KCINHDD])","v":5.5333333333333332},{"$f":"IF(MONTH(KCITempAct[[#This Row],[Date]])=7,0,IF(MONTH(KCITempAct[[#This Row],[Date]])=8,0,KCITempAct[[#This Row],[KCINHDD]]))","v":5.5333333333333332},"Adj HDD and NDD =0 for July and August"]
["2022-05-13",83,61,{"$f":"AVERAGE(KCITempAct[[#This Row],[KCIHigh]:[KCILow]]\n)","v":72},{"$f":"IF(KCITempAct[[#This Row],[KCIAve]]<65,(65-KCITempAct[[#This Row],[KCIAve]]),0)","v":0},{"$f":"IF(MONTH(KCITempAct[[#This Row],[Date]])=7,0,IF(MONTH(KCITempAct[[#This Row],[Date]])=8,0,KCITempAct[[#This Row],[KCIHDD]]))","v":0},{"$f":"SUMPRODUCT((KCINHDD[Month]=MONTH(KCITempAct[[#This Row],[Date]]))*(KCINHDD[Day]=DAY(KCITempAct[[#This Row],[Date]]))*KCINHDD[KCINHDD])","v":4.8166666666666664},{"$f":"IF(MONTH(KCITempAct[[#This Row],[Date]])=7,0,IF(MONTH(KCITempAct[[#This Row],[Date]])=8,0,KCITempAct[[#This Row],[KCINHDD]]))","v":4.8166666666666664},"Adj HDD and NDD =0 for July and August"]
["2022-05-14",88,65,{"$f":"AVERAGE(KCITempAct[[#This Row],[KCIHigh]:[KCILow]]\n)","v":76.5},{"$f":"IF(KCITempAct[[#This Row],[KCIAve]]<65,(65-KCITempAct[[#This Row],[KCIAve]]),0)","v":0},{"$f":"IF(MONTH(KCITempAct[[#This Row],[Date]])=7,0,IF(MONTH(KCITempAct[[#This Row],[Date]])=8,0,KCITempAct[[#This Row],[KCIHDD]]))","v":0},{"$f":"SUMPRODUCT((KCINHDD[Month]=MONTH(KCITempAct[[#This Row],[Date]]))*(KCINHDD[Day]=DAY(KCITempAct[[#This Row],[Date]]))*KCINHDD[KCINHDD])","v":5.05},{"$f":"IF(MONTH(KCITempAct[[#This Row],[Date]])=7,0,IF(MONTH(KCITempAct[[#This Row],[Date]])=8,0,KCITempAct[[#This Row],[KCINHDD]]))","v":5.05},"Adj HDD and NDD =0 for July and August"]
["2022-05-15",77,55,{"$f":"AVERAGE(KCITempAct[[#This Row],[KCIHigh]:[KCILow]]\n)","v":66},{"$f":"IF(KCITempAct[[#This Row],[KCIAve]]<65,(65-KCITempAct[[#This Row],[KCIAve]]),0)","v":0},{"$f":"IF(MONTH(KCITempAct[[#This Row],[Date]])=7,0,IF(MONTH(KCITempAct[[#This Row],[Date]])=8,0,KCITempAct[[#This Row],[KCIHDD]]))","v":0},{"$f":"SUMPRODUCT((KCINHDD[Month]=MONTH(KCITempAct[[#This Row],[Date]]))*(KCINHDD[Day]=DAY(KCITempAct[[#This Row],[Date]]))*KCINHDD[KCINHDD])","v":3.6},{"$f":"IF(MONTH(KCITempAct[[#This Row],[Date]])=7,0,IF(MONTH(KCITempAct[[#This Row],[Date]])=8,0,KCITempAct[[#This Row],[KCINHDD]]))","v":3.6},"Adj HDD and NDD =0 for July and August"]
["2022-05-16",80,51,{"$f":"AVERAGE(KCITempAct[[#This Row],[KCIHigh]:[KCILow]]\n)","v":65.5},{"$f":"IF(KCITempAct[[#This Row],[KCIAve]]<65,(65-KCITempAct[[#This Row],[KCIAve]]),0)","v":0},{"$f":"IF(MONTH(KCITempAct[[#This Row],[Date]])=7,0,IF(MONTH(KCITempAct[[#This Row],[Date]])=8,0,KCITempAct[[#This Row],[KCIHDD]]))","v":0},{"$f":"SUMPRODUCT((KCINHDD[Month]=MONTH(KCITempAct[[#This Row],[Date]]))*(KCINHDD[Day]=DAY(KCITempAct[[#This Row],[Date]]))*KCINHDD[KCINHDD])","v":3.35},{"$f":"IF(MONTH(KCITempAct[[#This Row],[Date]])=7,0,IF(MONTH(KCITempAct[[#This Row],[Date]])=8,0,KCITempAct[[#This Row],[KCINHDD]]))","v":3.35},"Adj HDD and NDD =0 for July and August"]
["2022-05-17",84,55,{"$f":"AVERAGE(KCITempAct[[#This Row],[KCIHigh]:[KCILow]]\n)","v":69.5},{"$f":"IF(KCITempAct[[#This Row],[KCIAve]]<65,(65-KCITempAct[[#This Row],[KCIAve]]),0)","v":0},{"$f":"IF(MONTH(KCITempAct[[#This Row],[Date]])=7,0,IF(MONTH(KCITempAct[[#This Row],[Date]])=8,0,KCITempAct[[#This Row],[KCIHDD]]))","v":0},{"$f":"SUMPRODUCT((KCINHDD[Month]=MONTH(KCITempAct[[#This Row],[Date]]))*(KCINHDD[Day]=DAY(KCITempAct[[#This Row],[Date]]))*KCINHDD[KCINHDD])","v":2.8},{"$f":"IF(MONTH(KCITempAct[[#This Row],[Date]])=7,0,IF(MONTH(KCITempAct[[#This Row],[Date]])=8,0,KCITempAct[[#This Row],[KCINHDD]]))","v":2.8},"Adj HDD and NDD =0 for July and August"]
["2022-05-18",84,63,{"$f":"AVERAGE(KCITempAct[[#This Row],[KCIHigh]:[KCILow]]\n)","v":73.5},{"$f":"IF(KCITempAct[[#This Row],[KCIAve]]<65,(65-KCITempAct[[#This Row],[KCIAve]]),0)","v":0},{"$f":"IF(MONTH(KCITempAct[[#This Row],[Date]])=7,0,IF(MONTH(KCITempAct[[#This Row],[Date]])=8,0,KCITempAct[[#This Row],[KCIHDD]]))","v":0},{"$f":"SUMPRODUCT((KCINHDD[Month]=MONTH(KCITempAct[[#This Row],[Date]]))*(KCINHDD[Day]=DAY(KCITempAct[[#This Row],[Date]]))*KCINHDD[KCINHDD])","v":2.7},{"$f":"IF(MONTH(KCITempAct[[#This Row],[Date]])=7,0,IF(MONTH(KCITempAct[[#This Row],[Date]])=8,0,KCITempAct[[#This Row],[KCINHDD]]))","v":2.7},"Adj HDD and NDD =0 for July and August"]
["2022-05-19",83,61,{"$f":"AVERAGE(KCITempAct[[#This Row],[KCIHigh]:[KCILow]]\n)","v":72},{"$f":"IF(KCITempAct[[#This Row],[KCIAve]]<65,(65-KCITempAct[[#This Row],[KCIAve]]),0)","v":0},{"$f":"IF(MONTH(KCITempAct[[#This Row],[Date]])=7,0,IF(MONTH(KCITempAct[[#This Row],[Date]])=8,0,KCITempAct[[#This Row],[KCIHDD]]))","v":0},{"$f":"SUMPRODUCT((KCINHDD[Month]=MONTH(KCITempAct[[#This Row],[Date]]))*(KCINHDD[Day]=DAY(KCITempAct[[#This Row],[Date]]))*KCINHDD[KCINHDD])","v":3.35},{"$f":"IF(MONTH(KCITempAct[[#This Row],[Date]])=7,0,IF(MONTH(KCITempAct[[#This Row],[Date]])=8,0,KCITempAct[[#This Row],[KCINHDD]]))","v":3.35},"Adj HDD and NDD =0 for July and August"]
["2022-05-20",77,57,{"$f":"AVERAGE(KCITempAct[[#This Row],[KCIHigh]:[KCILow]]\n)","v":67},{"$f":"IF(KCITempAct[[#This Row],[KCIAve]]<65,(65-KCITempAct[[#This Row],[KCIAve]]),0)","v":0},{"$f":"IF(MONTH(KCITempAct[[#This Row],[Date]])=7,0,IF(MONTH(KCITempAct[[#This Row],[Date]])=8,0,KCITempAct[[#This Row],[KCIHDD]]))","v":0},{"$f":"SUMPRODUCT((KCINHDD[Month]=MONTH(KCITempAct[[#This Row],[Date]]))*(KCINHDD[Day]=DAY(KCITempAct[[#This Row],[Date]]))*KCINHDD[KCINHDD])","v":3.1333333333333333},{"$f":"IF(MONTH(KCITempAct[[#This Row],[Date]])=7,0,IF(MONTH(KCITempAct[[#This Row],[Date]])=8,0,KCITempAct[[#This Row],[KCINHDD]]))","v":3.1333333333333333},"Adj HDD and NDD =0 for July and August"]
["2022-05-21",64,46,{"$f":"AVERAGE(KCITempAct[[#This Row],[KCIHigh]:[KCILow]]\n)","v":55},{"$f":"IF(KCITempAct[[#This Row],[KCIAve]]<65,(65-KCITempAct[[#This Row],[KCIAve]]),0)","v":10},{"$f":"IF(MONTH(KCITempAct[[#This Row],[Date]])=7,0,IF(MONTH(KCITempAct[[#This Row],[Date]])=8,0,KCITempAct[[#This Row],[KCIHDD]]))","v":10},{"$f":"SUMPRODUCT((KCINHDD[Month]=MONTH(KCITempAct[[#This Row],[Date]]))*(KCINHDD[Day]=DAY(KCITempAct[[#This Row],[Date]]))*KCINHDD[KCINHDD])","v":2.6166666666666667},{"$f":"IF(MONTH(KCITempAct[[#This Row],[Date]])=7,0,IF(MONTH(KCITempAct[[#This Row],[Date]])=8,0,KCITempAct[[#This Row],[KCINHDD]]))","v":2.6166666666666667},"Adj HDD and NDD =0 for July and August"]
["2022-05-22",69,42,{"$f":"AVERAGE(KCITempAct[[#This Row],[KCIHigh]:[KCILow]]\n)","v":55.5},{"$f":"IF(KCITempAct[[#This Row],[KCIAve]]<65,(65-KCITempAct[[#This Row],[KCIAve]]),0)","v":9.5},{"$f":"IF(MONTH(KCITempAct[[#This Row],[Date]])=7,0,IF(MONTH(KCITempAct[[#This Row],[Date]])=8,0,KCITempAct[[#This Row],[KCIHDD]]))","v":9.5},{"$f":"SUMPRODUCT((KCINHDD[Month]=MONTH(KCITempAct[[#This Row],[Date]]))*(KCINHDD[Day]=DAY(KCITempAct[[#This Row],[Date]]))*KCINHDD[KCINHDD])","v":1.4333333333333333},{"$f":"IF(MONTH(KCITempAct[[#This Row],[Date]])=7,0,IF(MONTH(KCITempAct[[#This Row],[Date]])=8,0,KCITempAct[[#This Row],[KCINHDD]]))","v":1.4333333333333333},"Adj HDD and NDD =0 for July and August"]
["2022-05-23",69,47,{"$f":"AVERAGE(KCITempAct[[#This Row],[KCIHigh]:[KCILow]]\n)","v":58},{"$f":"IF(KCITempAct[[#This Row],[KCIAve]]<65,(65-KCITempAct[[#This Row],[KCIAve]]),0)","v":7},{"$f":"IF(MONTH(KCITempAct[[#This Row],[Date]])=7,0,IF(MONTH(KCITempAct[[#This Row],[Date]])=8,0,KCITempAct[[#This Row],[KCIHDD]]))","v":7},{"$f":"SUMPRODUCT((KCINHDD[Month]=MONTH(KCITempAct[[#This Row],[Date]]))*(KCINHDD[Day]=DAY(KCITempAct[[#This Row],[Date]]))*KCINHDD[KCINHDD])","v":1.5666666666666667},{"$f":"IF(MONTH(KCITempAct[[#This Row],[Date]])=7,0,IF(MONTH(KCITempAct[[#This Row],[Date]])=8,0,KCITempAct[[#This Row],[KCINHDD]]))","v":1.5666666666666667},"Adj HDD and NDD =0 for July and August"]
["2022-05-24",62,54,{"$f":"AVERAGE(KCITempAct[[#This Row],[KCIHigh]:[KCILow]]\n)","v":58},{"$f":"IF(KCITempAct[[#This Row],[KCIAve]]<65,(65-KCITempAct[[#This Row],[KCIAve]]),0)","v":7},{"$f":"IF(MONTH(KCITempAct[[#This Row],[Date]])=7,0,IF(MONTH(KCITempAct[[#This Row],[Date]])=8,0,KCITempAct[[#This Row],[KCIHDD]]))","v":7},{"$f":"SUMPRODUCT((KCINHDD[Month]=MONTH(KCITempAct[[#This Row],[Date]]))*(KCINHDD[Day]=DAY(KCITempAct[[#This Row],[Date]]))*KCINHDD[KCINHDD])","v":2.2999999999999998},{"$f":"IF(MONTH(KCITempAct[[#This Row],[Date]])=7,0,IF(MONTH(KCITempAct[[#This Row],[Date]])=8,0,KCITempAct[[#This Row],[KCINHDD]]))","v":2.2999999999999998},"Adj HDD and NDD =0 for July and August"]
["2022-05-25",71,55,{"$f":"AVERAGE(KCITempAct[[#This Row],[KCIHigh]:[KCILow]]\n)","v":63},{"$f":"IF(KCITempAct[[#This Row],[KCIAve]]<65,(65-KCITempAct[[#This Row],[KCIAve]]),0)","v":2},{"$f":"IF(MONTH(KCITempAct[[#This Row],[Date]])=7,0,IF(MONTH(KCITempAct[[#This Row],[Date]])=8,0,KCITempAct[[#This Row],[KCIHDD]]))","v":2},{"$f":"SUMPRODUCT((KCINHDD[Month]=MONTH(KCITempAct[[#This Row],[Date]]))*(KCINHDD[Day]=DAY(KCITempAct[[#This Row],[Date]]))*KCINHDD[KCINHDD])","v":1.8833333333333333},{"$f":"IF(MONTH(KCITempAct[[#This Row],[Date]])=7,0,IF(MONTH(KCITempAct[[#This Row],[Date]])=8,0,KCITempAct[[#This Row],[KCINHDD]]))","v":1.8833333333333333},"Adj HDD and NDD =0 for July and August"]
["2022-05-26",68,49,{"$f":"AVERAGE(KCITempAct[[#This Row],[KCIHigh]:[KCILow]]\n)","v":58.5},{"$f":"IF(KCITempAct[[#This Row],[KCIAve]]<65,(65-KCITempAct[[#This Row],[KCIAve]]),0)","v":6.5},{"$f":"IF(MONTH(KCITempAct[[#This Row],[Date]])=7,0,IF(MONTH(KCITempAct[[#This Row],[Date]])=8,0,KCITempAct[[#This Row],[KCIHDD]]))","v":6.5},{"$f":"SUMPRODUCT((KCINHDD[Month]=MONTH(KCITempAct[[#This Row],[Date]]))*(KCINHDD[Day]=DAY(KCITempAct[[#This Row],[Date]]))*KCINHDD[KCINHDD])","v":2.0333333333333332},{"$f":"IF(MONTH(KCITempAct[[#This Row],[Date]])=7,0,IF(MONTH(KCITempAct[[#This Row],[Date]])=8,0,KCITempAct[[#This Row],[KCINHDD]]))","v":2.0333333333333332},"Adj HDD and NDD =0 for July and August"]
["2022-05-27",79,47,{"$f":"AVERAGE(KCITempAct[[#This Row],[KCIHigh]:[KCILow]]\n)","v":63},{"$f":"IF(KCITempAct[[#This Row],[KCIAve]]<65,(65-KCITempAct[[#This Row],[KCIAve]]),0)","v":2},{"$f":"IF(MONTH(KCITempAct[[#This Row],[Date]])=7,0,IF(MONTH(KCITempAct[[#This Row],[Date]])=8,0,KCITempAct[[#This Row],[KCIHDD]]))","v":2},{"$f":"SUMPRODUCT((KCINHDD[Month]=MONTH(KCITempAct[[#This Row],[Date]]))*(KCINHDD[Day]=DAY(KCITempAct[[#This Row],[Date]]))*KCINHDD[KCINHDD])","v":1.7333333333333334},{"$f":"IF(MONTH(KCITempAct[[#This Row],[Date]])=7,0,IF(MONTH(KCITempAct[[#This Row],[Date]])=8,0,KCITempAct[[#This Row],[KCINHDD]]))","v":1.7333333333333334},"Adj HDD and NDD =0 for July and August"]
["2022-05-28",86,60,{"$f":"AVERAGE(KCITempAct[[#This Row],[KCIHigh]:[KCILow]]\n)","v":73},{"$f":"IF(KCITempAct[[#This Row],[KCIAve]]<65,(65-KCITempAct[[#This Row],[KCIAve]]),0)","v":0},{"$f":"IF(MONTH(KCITempAct[[#This Row],[Date]])=7,0,IF(MONTH(KCITempAct[[#This Row],[Date]])=8,0,KCITempAct[[#This Row],[KCIHDD]]))","v":0},{"$f":"SUMPRODUCT((KCINHDD[Month]=MONTH(KCITempAct[[#This Row],[Date]]))*(KCINHDD[Day]=DAY(KCITempAct[[#This Row],[Date]]))*KCINHDD[KCINHDD])","v":1.85},{"$f":"IF(MONTH(KCITempAct[[#This Row],[Date]])=7,0,IF(MONTH(KCITempAct[[#This Row],[Date]])=8,0,KCITempAct[[#This Row],[KCINHDD]]))","v":1.85},"Adj HDD and NDD =0 for July and August"]
["2022-05-29",88,70,{"$f":"AVERAGE(KCITempAct[[#This Row],[KCIHigh]:[KCILow]]\n)","v":79},{"$f":"IF(KCITempAct[[#This Row],[KCIAve]]<65,(65-KCITempAct[[#This Row],[KCIAve]]),0)","v":0},{"$f":"IF(MONTH(KCITempAct[[#This Row],[Date]])=7,0,IF(MONTH(KCITempAct[[#This Row],[Date]])=8,0,KCITempAct[[#This Row],[KCIHDD]]))","v":0},{"$f":"SUMPRODUCT((KCINHDD[Month]=MONTH(KCITempAct[[#This Row],[Date]]))*(KCINHDD[Day]=DAY(KCITempAct[[#This Row],[Date]]))*KCINHDD[KCINHDD])","v":1.1666666666666667},{"$f":"IF(MONTH(KCITempAct[[#This Row],[Date]])=7,0,IF(MONTH(KCITempAct[[#This Row],[Date]])=8,0,KCITempAct[[#This Row],[KCINHDD]]))","v":1.1666666666666667},"Adj HDD and NDD =0 for July and August"]
["2022-05-30",85,73,{"$f":"AVERAGE(KCITempAct[[#This Row],[KCIHigh]:[KCILow]]\n)","v":79},{"$f":"IF(KCITempAct[[#This Row],[KCIAve]]<65,(65-KCITempAct[[#This Row],[KCIAve]]),0)","v":0},{"$f":"IF(MONTH(KCITempAct[[#This Row],[Date]])=7,0,IF(MONTH(KCITempAct[[#This Row],[Date]])=8,0,KCITempAct[[#This Row],[KCIHDD]]))","v":0},{"$f":"SUMPRODUCT((KCINHDD[Month]=MONTH(KCITempAct[[#This Row],[Date]]))*(KCINHDD[Day]=DAY(KCITempAct[[#This Row],[Date]]))*KCINHDD[KCINHDD])","v":0.8},{"$f":"IF(MONTH(KCITempAct[[#This Row],[Date]])=7,0,IF(MONTH(KCITempAct[[#This Row],[Date]])=8,0,KCITempAct[[#This Row],[KCINHDD]]))","v":0.8},"Adj HDD and NDD =0 for July and August"]
["2022-05-31",77,65,{"$f":"AVERAGE(KCITempAct[[#This Row],[KCIHigh]:[KCILow]]\n)","v":71},{"$f":"IF(KCITempAct[[#This Row],[KCIAve]]<65,(65-KCITempAct[[#This Row],[KCIAve]]),0)","v":0},{"$f":"IF(MONTH(KCITempAct[[#This Row],[Date]])=7,0,IF(MONTH(KCITempAct[[#This Row],[Date]])=8,0,KCITempAct[[#This Row],[KCIHDD]]))","v":0},{"$f":"SUMPRODUCT((KCINHDD[Month]=MONTH(KCITempAct[[#This Row],[Date]]))*(KCINHDD[Day]=DAY(KCITempAct[[#This Row],[Date]]))*KCINHDD[KCINHDD])","v":1.2},{"$f":"IF(MONTH(KCITempAct[[#This Row],[Date]])=7,0,IF(MONTH(KCITempAct[[#This Row],[Date]])=8,0,KCITempAct[[#This Row],[KCINHDD]]))","v":1.2},"Adj HDD and NDD =0 for July and August"]
["2022-06-01",70,54,{"$f":"AVERAGE(KCITempAct[[#This Row],[KCIHigh]:[KCILow]]\n)","v":62},{"$f":"IF(KCITempAct[[#This Row],[KCIAve]]<65,(65-KCITempAct[[#This Row],[KCIAve]]),0)","v":3},{"$f":"IF(MONTH(KCITempAct[[#This Row],[Date]])=7,0,IF(MONTH(KCITempAct[[#This Row],[Date]])=8,0,KCITempAct[[#This Row],[KCIHDD]]))","v":3},{"$f":"SUMPRODUCT((KCINHDD[Month]=MONTH(KCITempAct[[#This Row],[Date]]))*(KCINHDD[Day]=DAY(KCITempAct[[#This Row],[Date]]))*KCINHDD[KCINHDD])","v":0.8833333333333333},{"$f":"IF(MONTH(KCITempAct[[#This Row],[Date]])=7,0,IF(MONTH(KCITempAct[[#This Row],[Date]])=8,0,KCITempAct[[#This Row],[KCINHDD]]))","v":0.8833333333333333},"Adj HDD and NDD =0 for July and August"]
["2022-06-02",76,53,{"$f":"AVERAGE(KCITempAct[[#This Row],[KCIHigh]:[KCILow]]\n)","v":64.5},{"$f":"IF(KCITempAct[[#This Row],[KCIAve]]<65,(65-KCITempAct[[#This Row],[KCIAve]]),0)","v":0.5},{"$f":"IF(MONTH(KCITempAct[[#This Row],[Date]])=7,0,IF(MONTH(KCITempAct[[#This Row],[Date]])=8,0,KCITempAct[[#This Row],[KCIHDD]]))","v":0.5},{"$f":"SUMPRODUCT((KCINHDD[Month]=MONTH(KCITempAct[[#This Row],[Date]]))*(KCINHDD[Day]=DAY(KCITempAct[[#This Row],[Date]]))*KCINHDD[KCINHDD])","v":0.65},{"$f":"IF(MONTH(KCITempAct[[#This Row],[Date]])=7,0,IF(MONTH(KCITempAct[[#This Row],[Date]])=8,0,KCITempAct[[#This Row],[KCINHDD]]))","v":0.65},"Adj HDD and NDD =0 for July and August"]
["2022-06-03",82,52,{"$f":"AVERAGE(KCITempAct[[#This Row],[KCIHigh]:[KCILow]]\n)","v":67},{"$f":"IF(KCITempAct[[#This Row],[KCIAve]]<65,(65-KCITempAct[[#This Row],[KCIAve]]),0)","v":0},{"$f":"IF(MONTH(KCITempAct[[#This Row],[Date]])=7,0,IF(MONTH(KCITempAct[[#This Row],[Date]])=8,0,KCITempAct[[#This Row],[KCIHDD]]))","v":0},{"$f":"SUMPRODUCT((KCINHDD[Month]=MONTH(KCITempAct[[#This Row],[Date]]))*(KCINHDD[Day]=DAY(KCITempAct[[#This Row],[Date]]))*KCINHDD[KCINHDD])","v":0.91666666666666663},{"$f":"IF(MONTH(KCITempAct[[#This Row],[Date]])=7,0,IF(MONTH(KCITempAct[[#This Row],[Date]])=8,0,KCITempAct[[#This Row],[KCINHDD]]))","v":0.91666666666666663},"Adj HDD and NDD =0 for July and August"]
["2022-06-04",77,57,{"$f":"AVERAGE(KCITempAct[[#This Row],[KCIHigh]:[KCILow]]\n)","v":67},{"$f":"IF(KCITempAct[[#This Row],[KCIAve]]<65,(65-KCITempAct[[#This Row],[KCIAve]]),0)","v":0},{"$f":"IF(MONTH(KCITempAct[[#This Row],[Date]])=7,0,IF(MONTH(KCITempAct[[#This Row],[Date]])=8,0,KCITempAct[[#This Row],[KCIHDD]]))","v":0},{"$f":"SUMPRODUCT((KCINHDD[Month]=MONTH(KCITempAct[[#This Row],[Date]]))*(KCINHDD[Day]=DAY(KCITempAct[[#This Row],[Date]]))*KCINHDD[KCINHDD])","v":1.2},{"$f":"IF(MONTH(KCITempAct[[#This Row],[Date]])=7,0,IF(MONTH(KCITempAct[[#This Row],[Date]])=8,0,KCITempAct[[#This Row],[KCINHDD]]))","v":1.2},"Adj HDD and NDD =0 for July and August"]
["2022-06-05",79,63,{"$f":"AVERAGE(KCITempAct[[#This Row],[KCIHigh]:[KCILow]]\n)","v":71},{"$f":"IF(KCITempAct[[#This Row],[KCIAve]]<65,(65-KCITempAct[[#This Row],[KCIAve]]),0)","v":0},{"$f":"IF(MONTH(KCITempAct[[#This Row],[Date]])=7,0,IF(MONTH(KCITempAct[[#This Row],[Date]])=8,0,KCITempAct[[#This Row],[KCIHDD]]))","v":0},{"$f":"SUMPRODUCT((KCINHDD[Month]=MONTH(KCITempAct[[#This Row],[Date]]))*(KCINHDD[Day]=DAY(KCITempAct[[#This Row],[Date]]))*KCINHDD[KCINHDD])","v":0.68333333333333335},{"$f":"IF(MONTH(KCITempAct[[#This Row],[Date]])=7,0,IF(MONTH(KCITempAct[[#This Row],[Date]])=8,0,KCITempAct[[#This Row],[KCINHDD]]))","v":0.68333333333333335},"Adj HDD and NDD =0 for July and August"]
["2022-06-06",86,64,{"$f":"AVERAGE(KCITempAct[[#This Row],[KCIHigh]:[KCILow]]\n)","v":75},{"$f":"IF(KCITempAct[[#This Row],[KCIAve]]<65,(65-KCITempAct[[#This Row],[KCIAve]]),0)","v":0},{"$f":"IF(MONTH(KCITempAct[[#This Row],[Date]])=7,0,IF(MONTH(KCITempAct[[#This Row],[Date]])=8,0,KCITempAct[[#This Row],[KCIHDD]]))","v":0},{"$f":"SUMPRODUCT((KCINHDD[Month]=MONTH(KCITempAct[[#This Row],[Date]]))*(KCINHDD[Day]=DAY(KCITempAct[[#This Row],[Date]]))*KCINHDD[KCINHDD])","v":0.31666666666666665},{"$f":"IF(MONTH(KCITempAct[[#This Row],[Date]])=7,0,IF(MONTH(KCITempAct[[#This Row],[Date]])=8,0,KCITempAct[[#This Row],[KCINHDD]]))","v":0.31666666666666665},"Adj HDD and NDD =0 for July and August"]
["2022-06-07",84,67,{"$f":"AVERAGE(KCITempAct[[#This Row],[KCIHigh]:[KCILow]]\n)","v":75.5},{"$f":"IF(KCITempAct[[#This Row],[KCIAve]]<65,(65-KCITempAct[[#This Row],[KCIAve]]),0)","v":0},{"$f":"IF(MONTH(KCITempAct[[#This Row],[Date]])=7,0,IF(MONTH(KCITempAct[[#This Row],[Date]])=8,0,KCITempAct[[#This Row],[KCIHDD]]))","v":0},{"$f":"SUMPRODUCT((KCINHDD[Month]=MONTH(KCITempAct[[#This Row],[Date]]))*(KCINHDD[Day]=DAY(KCITempAct[[#This Row],[Date]]))*KCINHDD[KCINHDD])","v":0.3},{"$f":"IF(MONTH(KCITempAct[[#This Row],[Date]])=7,0,IF(MONTH(KCITempAct[[#This Row],[Date]])=8,0,KCITempAct[[#This Row],[KCINHDD]]))","v":0.3},"Adj HDD and NDD =0 for July and August"]
["2022-06-08",79,62,{"$f":"AVERAGE(KCITempAct[[#This Row],[KCIHigh]:[KCILow]]\n)","v":70.5},{"$f":"IF(KCITempAct[[#This Row],[KCIAve]]<65,(65-KCITempAct[[#This Row],[KCIAve]]),0)","v":0},{"$f":"IF(MONTH(KCITempAct[[#This Row],[Date]])=7,0,IF(MONTH(KCITempAct[[#This Row],[Date]])=8,0,KCITempAct[[#This Row],[KCIHDD]]))","v":0},{"$f":"SUMPRODUCT((KCINHDD[Month]=MONTH(KCITempAct[[#This Row],[Date]]))*(KCINHDD[Day]=DAY(KCITempAct[[#This Row],[Date]]))*KCINHDD[KCINHDD])","v":0.21666666666666667},{"$f":"IF(MONTH(KCITempAct[[#This Row],[Date]])=7,0,IF(MONTH(KCITempAct[[#This Row],[Date]])=8,0,KCITempAct[[#This Row],[KCINHDD]]))","v":0.21666666666666667},"Adj HDD and NDD =0 for July and August"]
["2022-06-09",81,57,{"$f":"AVERAGE(KCITempAct[[#This Row],[KCIHigh]:[KCILow]]\n)","v":69},{"$f":"IF(KCITempAct[[#This Row],[KCIAve]]<65,(65-KCITempAct[[#This Row],[KCIAve]]),0)","v":0},{"$f":"IF(MONTH(KCITempAct[[#This Row],[Date]])=7,0,IF(MONTH(KCITempAct[[#This Row],[Date]])=8,0,KCITempAct[[#This Row],[KCIHDD]]))","v":0},{"$f":"SUMPRODUCT((KCINHDD[Month]=MONTH(KCITempAct[[#This Row],[Date]]))*(KCINHDD[Day]=DAY(KCITempAct[[#This Row],[Date]]))*KCINHDD[KCINHDD])","v":0.16666666666666666},{"$f":"IF(MONTH(KCITempAct[[#This Row],[Date]])=7,0,IF(MONTH(KCITempAct[[#This Row],[Date]])=8,0,KCITempAct[[#This Row],[KCINHDD]]))","v":0.16666666666666666},"Adj HDD and NDD =0 for July and August"]
["2022-06-10",85,64,{"$f":"AVERAGE(KCITempAct[[#This Row],[KCIHigh]:[KCILow]]\n)","v":74.5},{"$f":"IF(KCITempAct[[#This Row],[KCIAve]]<65,(65-KCITempAct[[#This Row],[KCIAve]]),0)","v":0},{"$f":"IF(MONTH(KCITempAct[[#This Row],[Date]])=7,0,IF(MONTH(KCITempAct[[#This Row],[Date]])=8,0,KCITempAct[[#This Row],[KCIHDD]]))","v":0},{"$f":"SUMPRODUCT((KCINHDD[Month]=MONTH(KCITempAct[[#This Row],[Date]]))*(KCINHDD[Day]=DAY(KCITempAct[[#This Row],[Date]]))*KCINHDD[KCINHDD])","v":3.3333333333333333E-2},{"$f":"IF(MONTH(KCITempAct[[#This Row],[Date]])=7,0,IF(MONTH(KCITempAct[[#This Row],[Date]])=8,0,KCITempAct[[#This Row],[KCINHDD]]))","v":3.3333333333333333E-2},"Adj HDD and NDD =0 for July and August"]
["2022-06-11",89,65,{"$f":"AVERAGE(KCITempAct[[#This Row],[KCIHigh]:[KCILow]]\n)","v":77},{"$f":"IF(KCITempAct[[#This Row],[KCIAve]]<65,(65-KCITempAct[[#This Row],[KCIAve]]),0)","v":0},{"$f":"IF(MONTH(KCITempAct[[#This Row],[Date]])=7,0,IF(MONTH(KCITempAct[[#This Row],[Date]])=8,0,KCITempAct[[#This Row],[KCIHDD]]))","v":0},{"$f":"SUMPRODUCT((KCINHDD[Month]=MONTH(KCITempAct[[#This Row],[Date]]))*(KCINHDD[Day]=DAY(KCITempAct[[#This Row],[Date]]))*KCINHDD[KCINHDD])","v":0.05},{"$f":"IF(MONTH(KCITempAct[[#This Row],[Date]])=7,0,IF(MONTH(KCITempAct[[#This Row],[Date]])=8,0,KCITempAct[[#This Row],[KCINHDD]]))","v":0.05},"Adj HDD and NDD =0 for July and August"]
["2022-06-12",91,74,{"$f":"AVERAGE(KCITempAct[[#This Row],[KCIHigh]:[KCILow]]\n)","v":82.5},{"$f":"IF(KCITempAct[[#This Row],[KCIAve]]<65,(65-KCITempAct[[#This Row],[KCIAve]]),0)","v":0},{"$f":"IF(MONTH(KCITempAct[[#This Row],[Date]])=7,0,IF(MONTH(KCITempAct[[#This Row],[Date]])=8,0,KCITempAct[[#This Row],[KCIHDD]]))","v":0},{"$f":"SUMPRODUCT((KCINHDD[Month]=MONTH(KCITempAct[[#This Row],[Date]]))*(KCINHDD[Day]=DAY(KCITempAct[[#This Row],[Date]]))*KCINHDD[KCINHDD])","v":3.3333333333333333E-2},{"$f":"IF(MONTH(KCITempAct[[#This Row],[Date]])=7,0,IF(MONTH(KCITempAct[[#This Row],[Date]])=8,0,KCITempAct[[#This Row],[KCINHDD]]))","v":3.3333333333333333E-2},"Adj HDD and NDD =0 for July and August"]
["2022-06-13",97,81,{"$f":"AVERAGE(KCITempAct[[#This Row],[KCIHigh]:[KCILow]]\n)","v":89},{"$f":"IF(KCITempAct[[#This Row],[KCIAve]]<65,(65-KCITempAct[[#This Row],[KCIAve]]),0)","v":0},{"$f":"IF(MONTH(KCITempAct[[#This Row],[Date]])=7,0,IF(MONTH(KCITempAct[[#This Row],[Date]])=8,0,KCITempAct[[#This Row],[KCIHDD]]))","v":0},{"$f":"SUMPRODUCT((KCINHDD[Month]=MONTH(KCITempAct[[#This Row],[Date]]))*(KCINHDD[Day]=DAY(KCITempAct[[#This Row],[Date]]))*KCINHDD[KCINHDD])","v":0.05},{"$f":"IF(MONTH(KCITempAct[[#This Row],[Date]])=7,0,IF(MONTH(KCITempAct[[#This Row],[Date]])=8,0,KCITempAct[[#This Row],[KCINHDD]]))","v":0.05},"Adj HDD and NDD =0 for July and August"]
["2022-06-14",93,81,{"$f":"AVERAGE(KCITempAct[[#This Row],[KCIHigh]:[KCILow]]\n)","v":87},{"$f":"IF(KCITempAct[[#This Row],[KCIAve]]<65,(65-KCITempAct[[#This Row],[KCIAve]]),0)","v":0},{"$f":"IF(MONTH(KCITempAct[[#This Row],[Date]])=7,0,IF(MONTH(KCITempAct[[#This Row],[Date]])=8,0,KCITempAct[[#This Row],[KCIHDD]]))","v":0},{"$f":"SUMPRODUCT((KCINHDD[Month]=MONTH(KCITempAct[[#This Row],[Date]]))*(KCINHDD[Day]=DAY(KCITempAct[[#This Row],[Date]]))*KCINHDD[KCINHDD])","v":0},{"$f":"IF(MONTH(KCITempAct[[#This Row],[Date]])=7,0,IF(MONTH(KCITempAct[[#This Row],[Date]])=8,0,KCITempAct[[#This Row],[KCINHDD]]))","v":0},"Adj HDD and NDD =0 for July and August"]
["2022-06-15",91,76,{"$f":"AVERAGE(KCITempAct[[#This Row],[KCIHigh]:[KCILow]]\n)","v":83.5},{"$f":"IF(KCITempAct[[#This Row],[KCIAve]]<65,(65-KCITempAct[[#This Row],[KCIAve]]),0)","v":0},{"$f":"IF(MONTH(KCITempAct[[#This Row],[Date]])=7,0,IF(MONTH(KCITempAct[[#This Row],[Date]])=8,0,KCITempAct[[#This Row],[KCIHDD]]))","v":0},{"$f":"SUMPRODUCT((KCINHDD[Month]=MONTH(KCITempAct[[#This Row],[Date]]))*(KCINHDD[Day]=DAY(KCITempAct[[#This Row],[Date]]))*KCINHDD[KCINHDD])","v":0},{"$f":"IF(MONTH(KCITempAct[[#This Row],[Date]])=7,0,IF(MONTH(KCITempAct[[#This Row],[Date]])=8,0,KCITempAct[[#This Row],[KCINHDD]]))","v":0},"Adj HDD and NDD =0 for July and August"]
["2022-06-16",94,71,{"$f":"AVERAGE(KCITempAct[[#This Row],[KCIHigh]:[KCILow]]\n)","v":82.5},{"$f":"IF(KCITempAct[[#This Row],[KCIAve]]<65,(65-KCITempAct[[#This Row],[KCIAve]]),0)","v":0},{"$f":"IF(MONTH(KCITempAct[[#This Row],[Date]])=7,0,IF(MONTH(KCITempAct[[#This Row],[Date]])=8,0,KCITempAct[[#This Row],[KCIHDD]]))","v":0},{"$f":"SUMPRODUCT((KCINHDD[Month]=MONTH(KCITempAct[[#This Row],[Date]]))*(KCINHDD[Day]=DAY(KCITempAct[[#This Row],[Date]]))*KCINHDD[KCINHDD])","v":0.25},{"$f":"IF(MONTH(KCITempAct[[#This Row],[Date]])=7,0,IF(MONTH(KCITempAct[[#This Row],[Date]])=8,0,KCITempAct[[#This Row],[KCINHDD]]))","v":0.25},"Adj HDD and NDD =0 for July and August"]
["2022-06-17",95,70,{"$f":"AVERAGE(KCITempAct[[#This Row],[KCIHigh]:[KCILow]]\n)","v":82.5},{"$f":"IF(KCITempAct[[#This Row],[KCIAve]]<65,(65-KCITempAct[[#This Row],[KCIAve]]),0)","v":0},{"$f":"IF(MONTH(KCITempAct[[#This Row],[Date]])=7,0,IF(MONTH(KCITempAct[[#This Row],[Date]])=8,0,KCITempAct[[#This Row],[KCIHDD]]))","v":0},{"$f":"SUMPRODUCT((KCINHDD[Month]=MONTH(KCITempAct[[#This Row],[Date]]))*(KCINHDD[Day]=DAY(KCITempAct[[#This Row],[Date]]))*KCINHDD[KCINHDD])","v":0.25},{"$f":"IF(MONTH(KCITempAct[[#This Row],[Date]])=7,0,IF(MONTH(KCITempAct[[#This Row],[Date]])=8,0,KCITempAct[[#This Row],[KCINHDD]]))","v":0.25},"Adj HDD and NDD =0 for July and August"]
["2022-06-18",94,78,{"$f":"AVERAGE(KCITempAct[[#This Row],[KCIHigh]:[KCILow]]\n)","v":86},{"$f":"IF(KCITempAct[[#This Row],[KCIAve]]<65,(65-KCITempAct[[#This Row],[KCIAve]]),0)","v":0},{"$f":"IF(MONTH(KCITempAct[[#This Row],[Date]])=7,0,IF(MONTH(KCITempAct[[#This Row],[Date]])=8,0,KCITempAct[[#This Row],[KCIHDD]]))","v":0},{"$f":"SUMPRODUCT((KCINHDD[Month]=MONTH(KCITempAct[[#This Row],[Date]]))*(KCINHDD[Day]=DAY(KCITempAct[[#This Row],[Date]]))*KCINHDD[KCINHDD])","v":8.3333333333333329E-2},{"$f":"IF(MONTH(KCITempAct[[#This Row],[Date]])=7,0,IF(MONTH(KCITempAct[[#This Row],[Date]])=8,0,KCITempAct[[#This Row],[KCINHDD]]))","v":8.3333333333333329E-2},"Adj HDD and NDD =0 for July and August"]
["2022-06-19",93,73,{"$f":"AVERAGE(KCITempAct[[#This Row],[KCIHigh]:[KCILow]]\n)","v":83},{"$f":"IF(KCITempAct[[#This Row],[KCIAve]]<65,(65-KCITempAct[[#This Row],[KCIAve]]),0)","v":0},{"$f":"IF(MONTH(KCITempAct[[#This Row],[Date]])=7,0,IF(MONTH(KCITempAct[[#This Row],[Date]])=8,0,KCITempAct[[#This Row],[KCIHDD]]))","v":0},{"$f":"SUMPRODUCT((KCINHDD[Month]=MONTH(KCITempAct[[#This Row],[Date]]))*(KCINHDD[Day]=DAY(KCITempAct[[#This Row],[Date]]))*KCINHDD[KCINHDD])","v":6.6666666666666666E-2},{"$f":"IF(MONTH(KCITempAct[[#This Row],[Date]])=7,0,IF(MONTH(KCITempAct[[#This Row],[Date]])=8,0,KCITempAct[[#This Row],[KCINHDD]]))","v":6.6666666666666666E-2},"Adj HDD and NDD =0 for July and August"]
["2022-06-20",93,71,{"$f":"AVERAGE(KCITempAct[[#This Row],[KCIHigh]:[KCILow]]\n)","v":82},{"$f":"IF(KCITempAct[[#This Row],[KCIAve]]<65,(65-KCITempAct[[#This Row],[KCIAve]]),0)","v":0},{"$f":"IF(MONTH(KCITempAct[[#This Row],[Date]])=7,0,IF(MONTH(KCITempAct[[#This Row],[Date]])=8,0,KCITempAct[[#This Row],[KCIHDD]]))","v":0},{"$f":"SUMPRODUCT((KCINHDD[Month]=MONTH(KCITempAct[[#This Row],[Date]]))*(KCINHDD[Day]=DAY(KCITempAct[[#This Row],[Date]]))*KCINHDD[KCINHDD])","v":0.05},{"$f":"IF(MONTH(KCITempAct[[#This Row],[Date]])=7,0,IF(MONTH(KCITempAct[[#This Row],[Date]])=8,0,KCITempAct[[#This Row],[KCINHDD]]))","v":0.05},"Adj HDD and NDD =0 for July and August"]
["2022-06-21",97,69,{"$f":"AVERAGE(KCITempAct[[#This Row],[KCIHigh]:[KCILow]]\n)","v":83},{"$f":"IF(KCITempAct[[#This Row],[KCIAve]]<65,(65-KCITempAct[[#This Row],[KCIAve]]),0)","v":0},{"$f":"IF(MONTH(KCITempAct[[#This Row],[Date]])=7,0,IF(MONTH(KCITempAct[[#This Row],[Date]])=8,0,KCITempAct[[#This Row],[KCIHDD]]))","v":0},{"$f":"SUMPRODUCT((KCINHDD[Month]=MONTH(KCITempAct[[#This Row],[Date]]))*(KCINHDD[Day]=DAY(KCITempAct[[#This Row],[Date]]))*KCINHDD[KCINHDD])","v":0.1},{"$f":"IF(MONTH(KCITempAct[[#This Row],[Date]])=7,0,IF(MONTH(KCITempAct[[#This Row],[Date]])=8,0,KCITempAct[[#This Row],[KCINHDD]]))","v":0.1},"Adj HDD and NDD =0 for July and August"]
["2022-06-22",83,69,{"$f":"AVERAGE(KCITempAct[[#This Row],[KCIHigh]:[KCILow]]\n)","v":76},{"$f":"IF(KCITempAct[[#This Row],[KCIAve]]<65,(65-KCITempAct[[#This Row],[KCIAve]]),0)","v":0},{"$f":"IF(MONTH(KCITempAct[[#This Row],[Date]])=7,0,IF(MONTH(KCITempAct[[#This Row],[Date]])=8,0,KCITempAct[[#This Row],[KCIHDD]]))","v":0},{"$f":"SUMPRODUCT((KCINHDD[Month]=MONTH(KCITempAct[[#This Row],[Date]]))*(KCINHDD[Day]=DAY(KCITempAct[[#This Row],[Date]]))*KCINHDD[KCINHDD])","v":0},{"$f":"IF(MONTH(KCITempAct[[#This Row],[Date]])=7,0,IF(MONTH(KCITempAct[[#This Row],[Date]])=8,0,KCITempAct[[#This Row],[KCINHDD]]))","v":0},"Adj HDD and NDD =0 for July and August"]
["2022-06-23",82,68,{"$f":"AVERAGE(KCITempAct[[#This Row],[KCIHigh]:[KCILow]]\n)","v":75},{"$f":"IF(KCITempAct[[#This Row],[KCIAve]]<65,(65-KCITempAct[[#This Row],[KCIAve]]),0)","v":0},{"$f":"IF(MONTH(KCITempAct[[#This Row],[Date]])=7,0,IF(MONTH(KCITempAct[[#This Row],[Date]])=8,0,KCITempAct[[#This Row],[KCIHDD]]))","v":0},{"$f":"SUMPRODUCT((KCINHDD[Month]=MONTH(KCITempAct[[#This Row],[Date]]))*(KCINHDD[Day]=DAY(KCITempAct[[#This Row],[Date]]))*KCINHDD[KCINHDD])","v":0},{"$f":"IF(MONTH(KCITempAct[[#This Row],[Date]])=7,0,IF(MONTH(KCITempAct[[#This Row],[Date]])=8,0,KCITempAct[[#This Row],[KCINHDD]]))","v":0},"Adj HDD and NDD =0 for July and August"]
["2022-06-24",85,70,{"$f":"AVERAGE(KCITempAct[[#This Row],[KCIHigh]:[KCILow]]\n)","v":77.5},{"$f":"IF(KCITempAct[[#This Row],[KCIAve]]<65,(65-KCITempAct[[#This Row],[KCIAve]]),0)","v":0},{"$f":"IF(MONTH(KCITempAct[[#This Row],[Date]])=7,0,IF(MONTH(KCITempAct[[#This Row],[Date]])=8,0,KCITempAct[[#This Row],[KCIHDD]]))","v":0},{"$f":"SUMPRODUCT((KCINHDD[Month]=MONTH(KCITempAct[[#This Row],[Date]]))*(KCINHDD[Day]=DAY(KCITempAct[[#This Row],[Date]]))*KCINHDD[KCINHDD])","v":0},{"$f":"IF(MONTH(KCITempAct[[#This Row],[Date]])=7,0,IF(MONTH(KCITempAct[[#This Row],[Date]])=8,0,KCITempAct[[#This Row],[KCINHDD]]))","v":0},"Adj HDD and NDD =0 for July and August"]
["2022-06-25",92,76,{"$f":"AVERAGE(KCITempAct[[#This Row],[KCIHigh]:[KCILow]]\n)","v":84},{"$f":"IF(KCITempAct[[#This Row],[KCIAve]]<65,(65-KCITempAct[[#This Row],[KCIAve]]),0)","v":0},{"$f":"IF(MONTH(KCITempAct[[#This Row],[Date]])=7,0,IF(MONTH(KCITempAct[[#This Row],[Date]])=8,0,KCITempAct[[#This Row],[KCIHDD]]))","v":0},{"$f":"SUMPRODUCT((KCINHDD[Month]=MONTH(KCITempAct[[#This Row],[Date]]))*(KCINHDD[Day]=DAY(KCITempAct[[#This Row],[Date]]))*KCINHDD[KCINHDD])","v":0.1},{"$f":"IF(MONTH(KCITempAct[[#This Row],[Date]])=7,0,IF(MONTH(KCITempAct[[#This Row],[Date]])=8,0,KCITempAct[[#This Row],[KCINHDD]]))","v":0.1},"Adj HDD and NDD =0 for July and August"]
["2022-06-26",78,60,{"$f":"AVERAGE(KCITempAct[[#This Row],[KCIHigh]:[KCILow]]\n)","v":69},{"$f":"IF(KCITempAct[[#This Row],[KCIAve]]<65,(65-KCITempAct[[#This Row],[KCIAve]]),0)","v":0},{"$f":"IF(MONTH(KCITempAct[[#This Row],[Date]])=7,0,IF(MONTH(KCITempAct[[#This Row],[Date]])=8,0,KCITempAct[[#This Row],[KCIHDD]]))","v":0},{"$f":"SUMPRODUCT((KCINHDD[Month]=MONTH(KCITempAct[[#This Row],[Date]]))*(KCINHDD[Day]=DAY(KCITempAct[[#This Row],[Date]]))*KCINHDD[KCINHDD])","v":0.05},{"$f":"IF(MONTH(KCITempAct[[#This Row],[Date]])=7,0,IF(MONTH(KCITempAct[[#This Row],[Date]])=8,0,KCITempAct[[#This Row],[KCINHDD]]))","v":0.05},"Adj HDD and NDD =0 for July and August"]
["2022-06-27",81,57,{"$f":"AVERAGE(KCITempAct[[#This Row],[KCIHigh]:[KCILow]]\n)","v":69},{"$f":"IF(KCITempAct[[#This Row],[KCIAve]]<65,(65-KCITempAct[[#This Row],[KCIAve]]),0)","v":0},{"$f":"IF(MONTH(KCITempAct[[#This Row],[Date]])=7,0,IF(MONTH(KCITempAct[[#This Row],[Date]])=8,0,KCITempAct[[#This Row],[KCIHDD]]))","v":0},{"$f":"SUMPRODUCT((KCINHDD[Month]=MONTH(KCITempAct[[#This Row],[Date]]))*(KCINHDD[Day]=DAY(KCITempAct[[#This Row],[Date]]))*KCINHDD[KCINHDD])","v":3.3333333333333333E-2},{"$f":"IF(MONTH(KCITempAct[[#This Row],[Date]])=7,0,IF(MONTH(KCITempAct[[#This Row],[Date]])=8,0,KCITempAct[[#This Row],[KCINHDD]]))","v":3.3333333333333333E-2},"Adj HDD and NDD =0 for July and August"]
["2022-06-28",85,58,{"$f":"AVERAGE(KCITempAct[[#This Row],[KCIHigh]:[KCILow]]\n)","v":71.5},{"$f":"IF(KCITempAct[[#This Row],[KCIAve]]<65,(65-KCITempAct[[#This Row],[KCIAve]]),0)","v":0},{"$f":"IF(MONTH(KCITempAct[[#This Row],[Date]])=7,0,IF(MONTH(KCITempAct[[#This Row],[Date]])=8,0,KCITempAct[[#This Row],[KCIHDD]]))","v":0},{"$f":"SUMPRODUCT((KCINHDD[Month]=MONTH(KCITempAct[[#This Row],[Date]]))*(KCINHDD[Day]=DAY(KCITempAct[[#This Row],[Date]]))*KCINHDD[KCINHDD])","v":0},{"$f":"IF(MONTH(KCITempAct[[#This Row],[Date]])=7,0,IF(MONTH(KCITempAct[[#This Row],[Date]])=8,0,KCITempAct[[#This Row],[KCINHDD]]))","v":0},"Adj HDD and NDD =0 for July and August"]
["2022-06-29",89,63,{"$f":"AVERAGE(KCITempAct[[#This Row],[KCIHigh]:[KCILow]]\n)","v":76},{"$f":"IF(KCITempAct[[#This Row],[KCIAve]]<65,(65-KCITempAct[[#This Row],[KCIAve]]),0)","v":0},{"$f":"IF(MONTH(KCITempAct[[#This Row],[Date]])=7,0,IF(MONTH(KCITempAct[[#This Row],[Date]])=8,0,KCITempAct[[#This Row],[KCIHDD]]))","v":0},{"$f":"SUMPRODUCT((KCINHDD[Month]=MONTH(KCITempAct[[#This Row],[Date]]))*(KCINHDD[Day]=DAY(KCITempAct[[#This Row],[Date]]))*KCINHDD[KCINHDD])","v":1.6666666666666666E-2},{"$f":"IF(MONTH(KCITempAct[[#This Row],[Date]])=7,0,IF(MONTH(KCITempAct[[#This Row],[Date]])=8,0,KCITempAct[[#This Row],[KCINHDD]]))","v":1.6666666666666666E-2},"Adj HDD and NDD =0 for July and August"]
["2022-06-30",90,62,{"$f":"AVERAGE(KCITempAct[[#This Row],[KCIHigh]:[KCILow]]\n)","v":76},{"$f":"IF(KCITempAct[[#This Row],[KCIAve]]<65,(65-KCITempAct[[#This Row],[KCIAve]]),0)","v":0},{"$f":"IF(MONTH(KCITempAct[[#This Row],[Date]])=7,0,IF(MONTH(KCITempAct[[#This Row],[Date]])=8,0,KCITempAct[[#This Row],[KCIHDD]]))","v":0},{"$f":"SUMPRODUCT((KCINHDD[Month]=MONTH(KCITempAct[[#This Row],[Date]]))*(KCINHDD[Day]=DAY(KCITempAct[[#This Row],[Date]]))*KCINHDD[KCINHDD])","v":0},{"$f":"IF(MONTH(KCITempAct[[#This Row],[Date]])=7,0,IF(MONTH(KCITempAct[[#This Row],[Date]])=8,0,KCITempAct[[#This Row],[KCINHDD]]))","v":0},"Adj HDD and NDD =0 for July and August"]
["2022-07-01",86,73,{"$f":"AVERAGE(KCITempAct[[#This Row],[KCIHigh]:[KCILow]]\n)","v":79.5},{"$f":"IF(KCITempAct[[#This Row],[KCIAve]]<65,(65-KCITempAct[[#This Row],[KCIAve]]),0)","v":0},{"$f":"IF(MONTH(KCITempAct[[#This Row],[Date]])=7,0,IF(MONTH(KCITempAct[[#This Row],[Date]])=8,0,KCITempAct[[#This Row],[KCIHDD]]))","v":0},{"$f":"SUMPRODUCT((KCINHDD[Month]=MONTH(KCITempAct[[#This Row],[Date]]))*(KCINHDD[Day]=DAY(KCITempAct[[#This Row],[Date]]))*KCINHDD[KCINHDD])","v":1.6666666666666666E-2},{"$f":"IF(MONTH(KCITempAct[[#This Row],[Date]])=7,0,IF(MONTH(KCITempAct[[#This Row],[Date]])=8,0,KCITempAct[[#This Row],[KCINHDD]]))","v":0},"Adj HDD and NDD =0 for July and August"]
["2022-07-02",80,67,{"$f":"AVERAGE(KCITempAct[[#This Row],[KCIHigh]:[KCILow]]\n)","v":73.5},{"$f":"IF(KCITempAct[[#This Row],[KCIAve]]<65,(65-KCITempAct[[#This Row],[KCIAve]]),0)","v":0},{"$f":"IF(MONTH(KCITempAct[[#This Row],[Date]])=7,0,IF(MONTH(KCITempAct[[#This Row],[Date]])=8,0,KCITempAct[[#This Row],[KCIHDD]]))","v":0},{"$f":"SUMPRODUCT((KCINHDD[Month]=MONTH(KCITempAct[[#This Row],[Date]]))*(KCINHDD[Day]=DAY(KCITempAct[[#This Row],[Date]]))*KCINHDD[KCINHDD])","v":0.05},{"$f":"IF(MONTH(KCITempAct[[#This Row],[Date]])=7,0,IF(MONTH(KCITempAct[[#This Row],[Date]])=8,0,KCITempAct[[#This Row],[KCINHDD]]))","v":0},"Adj HDD and NDD =0 for July and August"]
["2022-07-03",89,69,{"$f":"AVERAGE(KCITempAct[[#This Row],[KCIHigh]:[KCILow]]\n)","v":79},{"$f":"IF(KCITempAct[[#This Row],[KCIAve]]<65,(65-KCITempAct[[#This Row],[KCIAve]]),0)","v":0},{"$f":"IF(MONTH(KCITempAct[[#This Row],[Date]])=7,0,IF(MONTH(KCITempAct[[#This Row],[Date]])=8,0,KCITempAct[[#This Row],[KCIHDD]]))","v":0},{"$f":"SUMPRODUCT((KCINHDD[Month]=MONTH(KCITempAct[[#This Row],[Date]]))*(KCINHDD[Day]=DAY(KCITempAct[[#This Row],[Date]]))*KCINHDD[KCINHDD])","v":3.3333333333333333E-2},{"$f":"IF(MONTH(KCITempAct[[#This Row],[Date]])=7,0,IF(MONTH(KCITempAct[[#This Row],[Date]])=8,0,KCITempAct[[#This Row],[KCINHDD]]))","v":0},"Adj HDD and NDD =0 for July and August"]
["2022-07-04",93,73,{"$f":"AVERAGE(KCITempAct[[#This Row],[KCIHigh]:[KCILow]]\n)","v":83},{"$f":"IF(KCITempAct[[#This Row],[KCIAve]]<65,(65-KCITempAct[[#This Row],[KCIAve]]),0)","v":0},{"$f":"IF(MONTH(KCITempAct[[#This Row],[Date]])=7,0,IF(MONTH(KCITempAct[[#This Row],[Date]])=8,0,KCITempAct[[#This Row],[KCIHDD]]))","v":0},{"$f":"SUMPRODUCT((KCINHDD[Month]=MONTH(KCITempAct[[#This Row],[Date]]))*(KCINHDD[Day]=DAY(KCITempAct[[#This Row],[Date]]))*KCINHDD[KCINHDD])","v":8.3333333333333329E-2},{"$f":"IF(MONTH(KCITempAct[[#This Row],[Date]])=7,0,IF(MONTH(KCITempAct[[#This Row],[Date]])=8,0,KCITempAct[[#This Row],[KCINHDD]]))","v":0},"Adj HDD and NDD =0 for July and August"]
["2022-07-05",94,74,{"$f":"AVERAGE(KCITempAct[[#This Row],[KCIHigh]:[KCILow]]\n)","v":84},{"$f":"IF(KCITempAct[[#This Row],[KCIAve]]<65,(65-KCITempAct[[#This Row],[KCIAve]]),0)","v":0},{"$f":"IF(MONTH(KCITempAct[[#This Row],[Date]])=7,0,IF(MONTH(KCITempAct[[#This Row],[Date]])=8,0,KCITempAct[[#This Row],[KCIHDD]]))","v":0},{"$f":"SUMPRODUCT((KCINHDD[Month]=MONTH(KCITempAct[[#This Row],[Date]]))*(KCINHDD[Day]=DAY(KCITempAct[[#This Row],[Date]]))*KCINHDD[KCINHDD])","v":1.6666666666666666E-2},{"$f":"IF(MONTH(KCITempAct[[#This Row],[Date]])=7,0,IF(MONTH(KCITempAct[[#This Row],[Date]])=8,0,KCITempAct[[#This Row],[KCINHDD]]))","v":0},"Adj HDD and NDD =0 for July and August"]
["2022-07-06",89,75,{"$f":"AVERAGE(KCITempAct[[#This Row],[KCIHigh]:[KCILow]]\n)","v":82},{"$f":"IF(KCITempAct[[#This Row],[KCIAve]]<65,(65-KCITempAct[[#This Row],[KCIAve]]),0)","v":0},{"$f":"IF(MONTH(KCITempAct[[#This Row],[Date]])=7,0,IF(MONTH(KCITempAct[[#This Row],[Date]])=8,0,KCITempAct[[#This Row],[KCIHDD]]))","v":0},{"$f":"SUMPRODUCT((KCINHDD[Month]=MONTH(KCITempAct[[#This Row],[Date]]))*(KCINHDD[Day]=DAY(KCITempAct[[#This Row],[Date]]))*KCINHDD[KCINHDD])","v":0},{"$f":"IF(MONTH(KCITempAct[[#This Row],[Date]])=7,0,IF(MONTH(KCITempAct[[#This Row],[Date]])=8,0,KCITempAct[[#This Row],[KCINHDD]]))","v":0},"Adj HDD and NDD =0 for July and August"]
["2022-07-07",89,72,{"$f":"AVERAGE(KCITempAct[[#This Row],[KCIHigh]:[KCILow]]\n)","v":80.5},{"$f":"IF(KCITempAct[[#This Row],[KCIAve]]<65,(65-KCITempAct[[#This Row],[KCIAve]]),0)","v":0},{"$f":"IF(MONTH(KCITempAct[[#This Row],[Date]])=7,0,IF(MONTH(KCITempAct[[#This Row],[Date]])=8,0,KCITempAct[[#This Row],[KCIHDD]]))","v":0},{"$f":"SUMPRODUCT((KCINHDD[Month]=MONTH(KCITempAct[[#This Row],[Date]]))*(KCINHDD[Day]=DAY(KCITempAct[[#This Row],[Date]]))*KCINHDD[KCINHDD])","v":0},{"$f":"IF(MONTH(KCITempAct[[#This Row],[Date]])=7,0,IF(MONTH(KCITempAct[[#This Row],[Date]])=8,0,KCITempAct[[#This Row],[KCINHDD]]))","v":0},"Adj HDD and NDD =0 for July and August"]
["2022-07-08",88,71,{"$f":"AVERAGE(KCITempAct[[#This Row],[KCIHigh]:[KCILow]]\n)","v":79.5},{"$f":"IF(KCITempAct[[#This Row],[KCIAve]]<65,(65-KCITempAct[[#This Row],[KCIAve]]),0)","v":0},{"$f":"IF(MONTH(KCITempAct[[#This Row],[Date]])=7,0,IF(MONTH(KCITempAct[[#This Row],[Date]])=8,0,KCITempAct[[#This Row],[KCIHDD]]))","v":0},{"$f":"SUMPRODUCT((KCINHDD[Month]=MONTH(KCITempAct[[#This Row],[Date]]))*(KCINHDD[Day]=DAY(KCITempAct[[#This Row],[Date]]))*KCINHDD[KCINHDD])","v":6.6666666666666666E-2},{"$f":"IF(MONTH(KCITempAct[[#This Row],[Date]])=7,0,IF(MONTH(KCITempAct[[#This Row],[Date]])=8,0,KCITempAct[[#This Row],[KCINHDD]]))","v":0},"Adj HDD and NDD =0 for July and August"]
["2022-07-09",86,72,{"$f":"AVERAGE(KCITempAct[[#This Row],[KCIHigh]:[KCILow]]\n)","v":79},{"$f":"IF(KCITempAct[[#This Row],[KCIAve]]<65,(65-KCITempAct[[#This Row],[KCIAve]]),0)","v":0},{"$f":"IF(MONTH(KCITempAct[[#This Row],[Date]])=7,0,IF(MONTH(KCITempAct[[#This Row],[Date]])=8,0,KCITempAct[[#This Row],[KCIHDD]]))","v":0},{"$f":"SUMPRODUCT((KCINHDD[Month]=MONTH(KCITempAct[[#This Row],[Date]]))*(KCINHDD[Day]=DAY(KCITempAct[[#This Row],[Date]]))*KCINHDD[KCINHDD])","v":0},{"$f":"IF(MONTH(KCITempAct[[#This Row],[Date]])=7,0,IF(MONTH(KCITempAct[[#This Row],[Date]])=8,0,KCITempAct[[#This Row],[KCINHDD]]))","v":0},"Adj HDD and NDD =0 for July and August"]
["2022-07-10",90,68,{"$f":"AVERAGE(KCITempAct[[#This Row],[KCIHigh]:[KCILow]]\n)","v":79},{"$f":"IF(KCITempAct[[#This Row],[KCIAve]]<65,(65-KCITempAct[[#This Row],[KCIAve]]),0)","v":0},{"$f":"IF(MONTH(KCITempAct[[#This Row],[Date]])=7,0,IF(MONTH(KCITempAct[[#This Row],[Date]])=8,0,KCITempAct[[#This Row],[KCIHDD]]))","v":0},{"$f":"SUMPRODUCT((KCINHDD[Month]=MONTH(KCITempAct[[#This Row],[Date]]))*(KCINHDD[Day]=DAY(KCITempAct[[#This Row],[Date]]))*KCINHDD[KCINHDD])","v":0},{"$f":"IF(MONTH(KCITempAct[[#This Row],[Date]])=7,0,IF(MONTH(KCITempAct[[#This Row],[Date]])=8,0,KCITempAct[[#This Row],[KCINHDD]]))","v":0},"Adj HDD and NDD =0 for July and August"]
["2022-07-11",93,69,{"$f":"AVERAGE(KCITempAct[[#This Row],[KCIHigh]:[KCILow]]\n)","v":81},{"$f":"IF(KCITempAct[[#This Row],[KCIAve]]<65,(65-KCITempAct[[#This Row],[KCIAve]]),0)","v":0},{"$f":"IF(MONTH(KCITempAct[[#This Row],[Date]])=7,0,IF(MONTH(KCITempAct[[#This Row],[Date]])=8,0,KCITempAct[[#This Row],[KCIHDD]]))","v":0},{"$f":"SUMPRODUCT((KCINHDD[Month]=MONTH(KCITempAct[[#This Row],[Date]]))*(KCINHDD[Day]=DAY(KCITempAct[[#This Row],[Date]]))*KCINHDD[KCINHDD])","v":0},{"$f":"IF(MONTH(KCITempAct[[#This Row],[Date]])=7,0,IF(MONTH(KCITempAct[[#This Row],[Date]])=8,0,KCITempAct[[#This Row],[KCINHDD]]))","v":0},"Adj HDD and NDD =0 for July and August"]
["2022-07-12",85,62,{"$f":"AVERAGE(KCITempAct[[#This Row],[KCIHigh]:[KCILow]]\n)","v":73.5},{"$f":"IF(KCITempAct[[#This Row],[KCIAve]]<65,(65-KCITempAct[[#This Row],[KCIAve]]),0)","v":0},{"$f":"IF(MONTH(KCITempAct[[#This Row],[Date]])=7,0,IF(MONTH(KCITempAct[[#This Row],[Date]])=8,0,KCITempAct[[#This Row],[KCIHDD]]))","v":0},{"$f":"SUMPRODUCT((KCINHDD[Month]=MONTH(KCITempAct[[#This Row],[Date]]))*(KCINHDD[Day]=DAY(KCITempAct[[#This Row],[Date]]))*KCINHDD[KCINHDD])","v":0},{"$f":"IF(MONTH(KCITempAct[[#This Row],[Date]])=7,0,IF(MONTH(KCITempAct[[#This Row],[Date]])=8,0,KCITempAct[[#This Row],[KCINHDD]]))","v":0},"Adj HDD and NDD =0 for July and August"]
["2022-07-13",91,62,{"$f":"AVERAGE(KCITempAct[[#This Row],[KCIHigh]:[KCILow]]\n)","v":76.5},{"$f":"IF(KCITempAct[[#This Row],[KCIAve]]<65,(65-KCITempAct[[#This Row],[KCIAve]]),0)","v":0},{"$f":"IF(MONTH(KCITempAct[[#This Row],[Date]])=7,0,IF(MONTH(KCITempAct[[#This Row],[Date]])=8,0,KCITempAct[[#This Row],[KCIHDD]]))","v":0},{"$f":"SUMPRODUCT((KCINHDD[Month]=MONTH(KCITempAct[[#This Row],[Date]]))*(KCINHDD[Day]=DAY(KCITempAct[[#This Row],[Date]]))*KCINHDD[KCINHDD])","v":0},{"$f":"IF(MONTH(KCITempAct[[#This Row],[Date]])=7,0,IF(MONTH(KCITempAct[[#This Row],[Date]])=8,0,KCITempAct[[#This Row],[KCINHDD]]))","v":0},"Adj HDD and NDD =0 for July and August"]
["2022-07-14",96,68,{"$f":"AVERAGE(KCITempAct[[#This Row],[KCIHigh]:[KCILow]]\n)","v":82},{"$f":"IF(KCITempAct[[#This Row],[KCIAve]]<65,(65-KCITempAct[[#This Row],[KCIAve]]),0)","v":0},{"$f":"IF(MONTH(KCITempAct[[#This Row],[Date]])=7,0,IF(MONTH(KCITempAct[[#This Row],[Date]])=8,0,KCITempAct[[#This Row],[KCIHDD]]))","v":0},{"$f":"SUMPRODUCT((KCINHDD[Month]=MONTH(KCITempAct[[#This Row],[Date]]))*(KCINHDD[Day]=DAY(KCITempAct[[#This Row],[Date]]))*KCINHDD[KCINHDD])","v":0},{"$f":"IF(MONTH(KCITempAct[[#This Row],[Date]])=7,0,IF(MONTH(KCITempAct[[#This Row],[Date]])=8,0,KCITempAct[[#This Row],[KCINHDD]]))","v":0},"Adj HDD and NDD =0 for July and August"]
["2022-07-15",98,74,{"$f":"AVERAGE(KCITempAct[[#This Row],[KCIHigh]:[KCILow]]\n)","v":86},{"$f":"IF(KCITempAct[[#This Row],[KCIAve]]<65,(65-KCITempAct[[#This Row],[KCIAve]]),0)","v":0},{"$f":"IF(MONTH(KCITempAct[[#This Row],[Date]])=7,0,IF(MONTH(KCITempAct[[#This Row],[Date]])=8,0,KCITempAct[[#This Row],[KCIHDD]]))","v":0},{"$f":"SUMPRODUCT((KCINHDD[Month]=MONTH(KCITempAct[[#This Row],[Date]]))*(KCINHDD[Day]=DAY(KCITempAct[[#This Row],[Date]]))*KCINHDD[KCINHDD])","v":3.3333333333333333E-2},{"$f":"IF(MONTH(KCITempAct[[#This Row],[Date]])=7,0,IF(MONTH(KCITempAct[[#This Row],[Date]])=8,0,KCITempAct[[#This Row],[KCINHDD]]))","v":0},"Adj HDD and NDD =0 for July and August"]
["2022-07-16",87,76,{"$f":"AVERAGE(KCITempAct[[#This Row],[KCIHigh]:[KCILow]]\n)","v":81.5},{"$f":"IF(KCITempAct[[#This Row],[KCIAve]]<65,(65-KCITempAct[[#This Row],[KCIAve]]),0)","v":0},{"$f":"IF(MONTH(KCITempAct[[#This Row],[Date]])=7,0,IF(MONTH(KCITempAct[[#This Row],[Date]])=8,0,KCITempAct[[#This Row],[KCIHDD]]))","v":0},{"$f":"SUMPRODUCT((KCINHDD[Month]=MONTH(KCITempAct[[#This Row],[Date]]))*(KCINHDD[Day]=DAY(KCITempAct[[#This Row],[Date]]))*KCINHDD[KCINHDD])","v":0},{"$f":"IF(MONTH(KCITempAct[[#This Row],[Date]])=7,0,IF(MONTH(KCITempAct[[#This Row],[Date]])=8,0,KCITempAct[[#This Row],[KCINHDD]]))","v":0},"Adj HDD and NDD =0 for July and August"]
["2022-07-17",87,71,{"$f":"AVERAGE(KCITempAct[[#This Row],[KCIHigh]:[KCILow]]\n)","v":79},{"$f":"IF(KCITempAct[[#This Row],[KCIAve]]<65,(65-KCITempAct[[#This Row],[KCIAve]]),0)","v":0},{"$f":"IF(MONTH(KCITempAct[[#This Row],[Date]])=7,0,IF(MONTH(KCITempAct[[#This Row],[Date]])=8,0,KCITempAct[[#This Row],[KCIHDD]]))","v":0},{"$f":"SUMPRODUCT((KCINHDD[Month]=MONTH(KCITempAct[[#This Row],[Date]]))*(KCINHDD[Day]=DAY(KCITempAct[[#This Row],[Date]]))*KCINHDD[KCINHDD])","v":0},{"$f":"IF(MONTH(KCITempAct[[#This Row],[Date]])=7,0,IF(MONTH(KCITempAct[[#This Row],[Date]])=8,0,KCITempAct[[#This Row],[KCINHDD]]))","v":0},"Adj HDD and NDD =0 for July and August"]
["2022-07-18",90,67,{"$f":"AVERAGE(KCITempAct[[#This Row],[KCIHigh]:[KCILow]]\n)","v":78.5},{"$f":"IF(KCITempAct[[#This Row],[KCIAve]]<65,(65-KCITempAct[[#This Row],[KCIAve]]),0)","v":0},{"$f":"IF(MONTH(KCITempAct[[#This Row],[Date]])=7,0,IF(MONTH(KCITempAct[[#This Row],[Date]])=8,0,KCITempAct[[#This Row],[KCIHDD]]))","v":0},{"$f":"SUMPRODUCT((KCINHDD[Month]=MONTH(KCITempAct[[#This Row],[Date]]))*(KCINHDD[Day]=DAY(KCITempAct[[#This Row],[Date]]))*KCINHDD[KCINHDD])","v":0},{"$f":"IF(MONTH(KCITempAct[[#This Row],[Date]])=7,0,IF(MONTH(KCITempAct[[#This Row],[Date]])=8,0,KCITempAct[[#This Row],[KCINHDD]]))","v":0},"Adj HDD and NDD =0 for July and August"]
["2022-07-19",98,68,{"$f":"AVERAGE(KCITempAct[[#This Row],[KCIHigh]:[KCILow]]\n)","v":83},{"$f":"IF(KCITempAct[[#This Row],[KCIAve]]<65,(65-KCITempAct[[#This Row],[KCIAve]]),0)","v":0},{"$f":"IF(MONTH(KCITempAct[[#This Row],[Date]])=7,0,IF(MONTH(KCITempAct[[#This Row],[Date]])=8,0,KCITempAct[[#This Row],[KCIHDD]]))","v":0},{"$f":"SUMPRODUCT((KCINHDD[Month]=MONTH(KCITempAct[[#This Row],[Date]]))*(KCINHDD[Day]=DAY(KCITempAct[[#This Row],[Date]]))*KCINHDD[KCINHDD])","v":0},{"$f":"IF(MONTH(KCITempAct[[#This Row],[Date]])=7,0,IF(MONTH(KCITempAct[[#This Row],[Date]])=8,0,KCITempAct[[#This Row],[KCINHDD]]))","v":0},"Adj HDD and NDD =0 for July and August"]
["2022-07-20",90,74,{"$f":"AVERAGE(KCITempAct[[#This Row],[KCIHigh]:[KCILow]]\n)","v":82},{"$f":"IF(KCITempAct[[#This Row],[KCIAve]]<65,(65-KCITempAct[[#This Row],[KCIAve]]),0)","v":0},{"$f":"IF(MONTH(KCITempAct[[#This Row],[Date]])=7,0,IF(MONTH(KCITempAct[[#This Row],[Date]])=8,0,KCITempAct[[#This Row],[KCIHDD]]))","v":0},{"$f":"SUMPRODUCT((KCINHDD[Month]=MONTH(KCITempAct[[#This Row],[Date]]))*(KCINHDD[Day]=DAY(KCITempAct[[#This Row],[Date]]))*KCINHDD[KCINHDD])","v":0},{"$f":"IF(MONTH(KCITempAct[[#This Row],[Date]])=7,0,IF(MONTH(KCITempAct[[#This Row],[Date]])=8,0,KCITempAct[[#This Row],[KCINHDD]]))","v":0},"Adj HDD and NDD =0 for July and August"]
["2022-07-21",97,63,{"$f":"AVERAGE(KCITempAct[[#This Row],[KCIHigh]:[KCILow]]\n)","v":80},{"$f":"IF(KCITempAct[[#This Row],[KCIAve]]<65,(65-KCITempAct[[#This Row],[KCIAve]]),0)","v":0},{"$f":"IF(MONTH(KCITempAct[[#This Row],[Date]])=7,0,IF(MONTH(KCITempAct[[#This Row],[Date]])=8,0,KCITempAct[[#This Row],[KCIHDD]]))","v":0},{"$f":"SUMPRODUCT((KCINHDD[Month]=MONTH(KCITempAct[[#This Row],[Date]]))*(KCINHDD[Day]=DAY(KCITempAct[[#This Row],[Date]]))*KCINHDD[KCINHDD])","v":0},{"$f":"IF(MONTH(KCITempAct[[#This Row],[Date]])=7,0,IF(MONTH(KCITempAct[[#This Row],[Date]])=8,0,KCITempAct[[#This Row],[KCINHDD]]))","v":0},"Adj HDD and NDD =0 for July and August"]
["2022-07-22",99,71,{"$f":"AVERAGE(KCITempAct[[#This Row],[KCIHigh]:[KCILow]]\n)","v":85},{"$f":"IF(KCITempAct[[#This Row],[KCIAve]]<65,(65-KCITempAct[[#This Row],[KCIAve]]),0)","v":0},{"$f":"IF(MONTH(KCITempAct[[#This Row],[Date]])=7,0,IF(MONTH(KCITempAct[[#This Row],[Date]])=8,0,KCITempAct[[#This Row],[KCIHDD]]))","v":0},{"$f":"SUMPRODUCT((KCINHDD[Month]=MONTH(KCITempAct[[#This Row],[Date]]))*(KCINHDD[Day]=DAY(KCITempAct[[#This Row],[Date]]))*KCINHDD[KCINHDD])","v":0},{"$f":"IF(MONTH(KCITempAct[[#This Row],[Date]])=7,0,IF(MONTH(KCITempAct[[#This Row],[Date]])=8,0,KCITempAct[[#This Row],[KCINHDD]]))","v":0},"Adj HDD and NDD =0 for July and August"]
["2022-07-23",101,78,{"$f":"AVERAGE(KCITempAct[[#This Row],[KCIHigh]:[KCILow]]\n)","v":89.5},{"$f":"IF(KCITempAct[[#This Row],[KCIAve]]<65,(65-KCITempAct[[#This Row],[KCIAve]]),0)","v":0},{"$f":"IF(MONTH(KCITempAct[[#This Row],[Date]])=7,0,IF(MONTH(KCITempAct[[#This Row],[Date]])=8,0,KCITempAct[[#This Row],[KCIHDD]]))","v":0},{"$f":"SUMPRODUCT((KCINHDD[Month]=MONTH(KCITempAct[[#This Row],[Date]]))*(KCINHDD[Day]=DAY(KCITempAct[[#This Row],[Date]]))*KCINHDD[KCINHDD])","v":0},{"$f":"IF(MONTH(KCITempAct[[#This Row],[Date]])=7,0,IF(MONTH(KCITempAct[[#This Row],[Date]])=8,0,KCITempAct[[#This Row],[KCINHDD]]))","v":0},"Adj HDD and NDD =0 for July and August"]
["2022-07-24",90,71,{"$f":"AVERAGE(KCITempAct[[#This Row],[KCIHigh]:[KCILow]]\n)","v":80.5},{"$f":"IF(KCITempAct[[#This Row],[KCIAve]]<65,(65-KCITempAct[[#This Row],[KCIAve]]),0)","v":0},{"$f":"IF(MONTH(KCITempAct[[#This Row],[Date]])=7,0,IF(MONTH(KCITempAct[[#This Row],[Date]])=8,0,KCITempAct[[#This Row],[KCIHDD]]))","v":0},{"$f":"SUMPRODUCT((KCINHDD[Month]=MONTH(KCITempAct[[#This Row],[Date]]))*(KCINHDD[Day]=DAY(KCITempAct[[#This Row],[Date]]))*KCINHDD[KCINHDD])","v":1.6666666666666666E-2},{"$f":"IF(MONTH(KCITempAct[[#This Row],[Date]])=7,0,IF(MONTH(KCITempAct[[#This Row],[Date]])=8,0,KCITempAct[[#This Row],[KCINHDD]]))","v":0},"Adj HDD and NDD =0 for July and August"]
["2022-07-25",72,66,{"$f":"AVERAGE(KCITempAct[[#This Row],[KCIHigh]:[KCILow]]\n)","v":69},{"$f":"IF(KCITempAct[[#This Row],[KCIAve]]<65,(65-KCITempAct[[#This Row],[KCIAve]]),0)","v":0},{"$f":"IF(MONTH(KCITempAct[[#This Row],[Date]])=7,0,IF(MONTH(KCITempAct[[#This Row],[Date]])=8,0,KCITempAct[[#This Row],[KCIHDD]]))","v":0},{"$f":"SUMPRODUCT((KCINHDD[Month]=MONTH(KCITempAct[[#This Row],[Date]]))*(KCINHDD[Day]=DAY(KCITempAct[[#This Row],[Date]]))*KCINHDD[KCINHDD])","v":0},{"$f":"IF(MONTH(KCITempAct[[#This Row],[Date]])=7,0,IF(MONTH(KCITempAct[[#This Row],[Date]])=8,0,KCITempAct[[#This Row],[KCINHDD]]))","v":0},"Adj HDD and NDD =0 for July and August"]
["2022-07-26",74,65,{"$f":"AVERAGE(KCITempAct[[#This Row],[KCIHigh]:[KCILow]]\n)","v":69.5},{"$f":"IF(KCITempAct[[#This Row],[KCIAve]]<65,(65-KCITempAct[[#This Row],[KCIAve]]),0)","v":0},{"$f":"IF(MONTH(KCITempAct[[#This Row],[Date]])=7,0,IF(MONTH(KCITempAct[[#This Row],[Date]])=8,0,KCITempAct[[#This Row],[KCIHDD]]))","v":0},{"$f":"SUMPRODUCT((KCINHDD[Month]=MONTH(KCITempAct[[#This Row],[Date]]))*(KCINHDD[Day]=DAY(KCITempAct[[#This Row],[Date]]))*KCINHDD[KCINHDD])","v":0},{"$f":"IF(MONTH(KCITempAct[[#This Row],[Date]])=7,0,IF(MONTH(KCITempAct[[#This Row],[Date]])=8,0,KCITempAct[[#This Row],[KCINHDD]]))","v":0},"Adj HDD and NDD =0 for July and August"]
["2022-07-27",89,69,{"$f":"AVERAGE(KCITempAct[[#This Row],[KCIHigh]:[KCILow]]\n)","v":79},{"$f":"IF(KCITempAct[[#This Row],[KCIAve]]<65,(65-KCITempAct[[#This Row],[KCIAve]]),0)","v":0},{"$f":"IF(MONTH(KCITempAct[[#This Row],[Date]])=7,0,IF(MONTH(KCITempAct[[#This Row],[Date]])=8,0,KCITempAct[[#This Row],[KCIHDD]]))","v":0},{"$f":"SUMPRODUCT((KCINHDD[Month]=MONTH(KCITempAct[[#This Row],[Date]]))*(KCINHDD[Day]=DAY(KCITempAct[[#This Row],[Date]]))*KCINHDD[KCINHDD])","v":0},{"$f":"IF(MONTH(KCITempAct[[#This Row],[Date]])=7,0,IF(MONTH(KCITempAct[[#This Row],[Date]])=8,0,KCITempAct[[#This Row],[KCINHDD]]))","v":0},"Adj HDD and NDD =0 for July and August"]
["2022-07-28",83,66,{"$f":"AVERAGE(KCITempAct[[#This Row],[KCIHigh]:[KCILow]]\n)","v":74.5},{"$f":"IF(KCITempAct[[#This Row],[KCIAve]]<65,(65-KCITempAct[[#This Row],[KCIAve]]),0)","v":0},{"$f":"IF(MONTH(KCITempAct[[#This Row],[Date]])=7,0,IF(MONTH(KCITempAct[[#This Row],[Date]])=8,0,KCITempAct[[#This Row],[KCIHDD]]))","v":0},{"$f":"SUMPRODUCT((KCINHDD[Month]=MONTH(KCITempAct[[#This Row],[Date]]))*(KCINHDD[Day]=DAY(KCITempAct[[#This Row],[Date]]))*KCINHDD[KCINHDD])","v":0},{"$f":"IF(MONTH(KCITempAct[[#This Row],[Date]])=7,0,IF(MONTH(KCITempAct[[#This Row],[Date]])=8,0,KCITempAct[[#This Row],[KCINHDD]]))","v":0},"Adj HDD and NDD =0 for July and August"]
["2022-07-29",80,60,{"$f":"AVERAGE(KCITempAct[[#This Row],[KCIHigh]:[KCILow]]\n)","v":70},{"$f":"IF(KCITempAct[[#This Row],[KCIAve]]<65,(65-KCITempAct[[#This Row],[KCIAve]]),0)","v":0},{"$f":"IF(MONTH(KCITempAct[[#This Row],[Date]])=7,0,IF(MONTH(KCITempAct[[#This Row],[Date]])=8,0,KCITempAct[[#This Row],[KCIHDD]]))","v":0},{"$f":"SUMPRODUCT((KCINHDD[Month]=MONTH(KCITempAct[[#This Row],[Date]]))*(KCINHDD[Day]=DAY(KCITempAct[[#This Row],[Date]]))*KCINHDD[KCINHDD])","v":0},{"$f":"IF(MONTH(KCITempAct[[#This Row],[Date]])=7,0,IF(MONTH(KCITempAct[[#This Row],[Date]])=8,0,KCITempAct[[#This Row],[KCINHDD]]))","v":0},"Adj HDD and NDD =0 for July and August"]
["2022-07-30",84,61,{"$f":"AVERAGE(KCITempAct[[#This Row],[KCIHigh]:[KCILow]]\n)","v":72.5},{"$f":"IF(KCITempAct[[#This Row],[KCIAve]]<65,(65-KCITempAct[[#This Row],[KCIAve]]),0)","v":0},{"$f":"IF(MONTH(KCITempAct[[#This Row],[Date]])=7,0,IF(MONTH(KCITempAct[[#This Row],[Date]])=8,0,KCITempAct[[#This Row],[KCIHDD]]))","v":0},{"$f":"SUMPRODUCT((KCINHDD[Month]=MONTH(KCITempAct[[#This Row],[Date]]))*(KCINHDD[Day]=DAY(KCITempAct[[#This Row],[Date]]))*KCINHDD[KCINHDD])","v":0},{"$f":"IF(MONTH(KCITempAct[[#This Row],[Date]])=7,0,IF(MONTH(KCITempAct[[#This Row],[Date]])=8,0,KCITempAct[[#This Row],[KCINHDD]]))","v":0},"Adj HDD and NDD =0 for July and August"]
["2022-07-31",90,70,{"$f":"AVERAGE(KCITempAct[[#This Row],[KCIHigh]:[KCILow]]\n)","v":80},{"$f":"IF(KCITempAct[[#This Row],[KCIAve]]<65,(65-KCITempAct[[#This Row],[KCIAve]]),0)","v":0},{"$f":"IF(MONTH(KCITempAct[[#This Row],[Date]])=7,0,IF(MONTH(KCITempAct[[#This Row],[Date]])=8,0,KCITempAct[[#This Row],[KCIHDD]]))","v":0},{"$f":"SUMPRODUCT((KCINHDD[Month]=MONTH(KCITempAct[[#This Row],[Date]]))*(KCINHDD[Day]=DAY(KCITempAct[[#This Row],[Date]]))*KCINHDD[KCINHDD])","v":0},{"$f":"IF(MONTH(KCITempAct[[#This Row],[Date]])=7,0,IF(MONTH(KCITempAct[[#This Row],[Date]])=8,0,KCITempAct[[#This Row],[KCINHDD]]))","v":0},"Adj HDD and NDD =0 for July and August"]
["2022-08-01",96,74,{"$f":"AVERAGE(KCITempAct[[#This Row],[KCIHigh]:[KCILow]]\n)","v":85},{"$f":"IF(KCITempAct[[#This Row],[KCIAve]]<65,(65-KCITempAct[[#This Row],[KCIAve]]),0)","v":0},{"$f":"IF(MONTH(KCITempAct[[#This Row],[Date]])=7,0,IF(MONTH(KCITempAct[[#This Row],[Date]])=8,0,KCITempAct[[#This Row],[KCIHDD]]))","v":0},{"$f":"SUMPRODUCT((KCINHDD[Month]=MONTH(KCITempAct[[#This Row],[Date]]))*(KCINHDD[Day]=DAY(KCITempAct[[#This Row],[Date]]))*KCINHDD[KCINHDD])","v":0},{"$f":"IF(MONTH(KCITempAct[[#This Row],[Date]])=7,0,IF(MONTH(KCITempAct[[#This Row],[Date]])=8,0,KCITempAct[[#This Row],[KCINHDD]]))","v":0},"Adj HDD and NDD =0 for July and August"]
["2022-08-02",100,76,{"$f":"AVERAGE(KCITempAct[[#This Row],[KCIHigh]:[KCILow]]\n)","v":88},{"$f":"IF(KCITempAct[[#This Row],[KCIAve]]<65,(65-KCITempAct[[#This Row],[KCIAve]]),0)","v":0},{"$f":"IF(MONTH(KCITempAct[[#This Row],[Date]])=7,0,IF(MONTH(KCITempAct[[#This Row],[Date]])=8,0,KCITempAct[[#This Row],[KCIHDD]]))","v":0},{"$f":"SUMPRODUCT((KCINHDD[Month]=MONTH(KCITempAct[[#This Row],[Date]]))*(KCINHDD[Day]=DAY(KCITempAct[[#This Row],[Date]]))*KCINHDD[KCINHDD])","v":0},{"$f":"IF(MONTH(KCITempAct[[#This Row],[Date]])=7,0,IF(MONTH(KCITempAct[[#This Row],[Date]])=8,0,KCITempAct[[#This Row],[KCINHDD]]))","v":0},"Adj HDD and NDD =0 for July and August"]
["2022-08-03",88,79,{"$f":"AVERAGE(KCITempAct[[#This Row],[KCIHigh]:[KCILow]]\n)","v":83.5},{"$f":"IF(KCITempAct[[#This Row],[KCIAve]]<65,(65-KCITempAct[[#This Row],[KCIAve]]),0)","v":0},{"$f":"IF(MONTH(KCITempAct[[#This Row],[Date]])=7,0,IF(MONTH(KCITempAct[[#This Row],[Date]])=8,0,KCITempAct[[#This Row],[KCIHDD]]))","v":0},{"$f":"SUMPRODUCT((KCINHDD[Month]=MONTH(KCITempAct[[#This Row],[Date]]))*(KCINHDD[Day]=DAY(KCITempAct[[#This Row],[Date]]))*KCINHDD[KCINHDD])","v":0},{"$f":"IF(MONTH(KCITempAct[[#This Row],[Date]])=7,0,IF(MONTH(KCITempAct[[#This Row],[Date]])=8,0,KCITempAct[[#This Row],[KCINHDD]]))","v":0},"Adj HDD and NDD =0 for July and August"]
["2022-08-04",93,74,{"$f":"AVERAGE(KCITempAct[[#This Row],[KCIHigh]:[KCILow]]\n)","v":83.5},{"$f":"IF(KCITempAct[[#This Row],[KCIAve]]<65,(65-KCITempAct[[#This Row],[KCIAve]]),0)","v":0},{"$f":"IF(MONTH(KCITempAct[[#This Row],[Date]])=7,0,IF(MONTH(KCITempAct[[#This Row],[Date]])=8,0,KCITempAct[[#This Row],[KCIHDD]]))","v":0},{"$f":"SUMPRODUCT((KCINHDD[Month]=MONTH(KCITempAct[[#This Row],[Date]]))*(KCINHDD[Day]=DAY(KCITempAct[[#This Row],[Date]]))*KCINHDD[KCINHDD])","v":3.3333333333333333E-2},{"$f":"IF(MONTH(KCITempAct[[#This Row],[Date]])=7,0,IF(MONTH(KCITempAct[[#This Row],[Date]])=8,0,KCITempAct[[#This Row],[KCINHDD]]))","v":0},"Adj HDD and NDD =0 for July and August"]
["2022-08-05",96,73,{"$f":"AVERAGE(KCITempAct[[#This Row],[KCIHigh]:[KCILow]]\n)","v":84.5},{"$f":"IF(KCITempAct[[#This Row],[KCIAve]]<65,(65-KCITempAct[[#This Row],[KCIAve]]),0)","v":0},{"$f":"IF(MONTH(KCITempAct[[#This Row],[Date]])=7,0,IF(MONTH(KCITempAct[[#This Row],[Date]])=8,0,KCITempAct[[#This Row],[KCIHDD]]))","v":0},{"$f":"SUMPRODUCT((KCINHDD[Month]=MONTH(KCITempAct[[#This Row],[Date]]))*(KCINHDD[Day]=DAY(KCITempAct[[#This Row],[Date]]))*KCINHDD[KCINHDD])","v":0.2},{"$f":"IF(MONTH(KCITempAct[[#This Row],[Date]])=7,0,IF(MONTH(KCITempAct[[#This Row],[Date]])=8,0,KCITempAct[[#This Row],[KCINHDD]]))","v":0},"Adj HDD and NDD =0 for July and August"]
["2022-08-06",100,79,{"$f":"AVERAGE(KCITempAct[[#This Row],[KCIHigh]:[KCILow]]\n)","v":89.5},{"$f":"IF(KCITempAct[[#This Row],[KCIAve]]<65,(65-KCITempAct[[#This Row],[KCIAve]]),0)","v":0},{"$f":"IF(MONTH(KCITempAct[[#This Row],[Date]])=7,0,IF(MONTH(KCITempAct[[#This Row],[Date]])=8,0,KCITempAct[[#This Row],[KCIHDD]]))","v":0},{"$f":"SUMPRODUCT((KCINHDD[Month]=MONTH(KCITempAct[[#This Row],[Date]]))*(KCINHDD[Day]=DAY(KCITempAct[[#This Row],[Date]]))*KCINHDD[KCINHDD])","v":0},{"$f":"IF(MONTH(KCITempAct[[#This Row],[Date]])=7,0,IF(MONTH(KCITempAct[[#This Row],[Date]])=8,0,KCITempAct[[#This Row],[KCINHDD]]))","v":0},"Adj HDD and NDD =0 for July and August"]
["2022-08-07",98,78,{"$f":"AVERAGE(KCITempAct[[#This Row],[KCIHigh]:[KCILow]]\n)","v":88},{"$f":"IF(KCITempAct[[#This Row],[KCIAve]]<65,(65-KCITempAct[[#This Row],[KCIAve]]),0)","v":0},{"$f":"IF(MONTH(KCITempAct[[#This Row],[Date]])=7,0,IF(MONTH(KCITempAct[[#This Row],[Date]])=8,0,KCITempAct[[#This Row],[KCIHDD]]))","v":0},{"$f":"SUMPRODUCT((KCINHDD[Month]=MONTH(KCITempAct[[#This Row],[Date]]))*(KCINHDD[Day]=DAY(KCITempAct[[#This Row],[Date]]))*KCINHDD[KCINHDD])","v":0},{"$f":"IF(MONTH(KCITempAct[[#This Row],[Date]])=7,0,IF(MONTH(KCITempAct[[#This Row],[Date]])=8,0,KCITempAct[[#This Row],[KCINHDD]]))","v":0},"Adj HDD and NDD =0 for July and August"]
["2022-08-08",84,69,{"$f":"AVERAGE(KCITempAct[[#This Row],[KCIHigh]:[KCILow]]\n)","v":76.5},{"$f":"IF(KCITempAct[[#This Row],[KCIAve]]<65,(65-KCITempAct[[#This Row],[KCIAve]]),0)","v":0},{"$f":"IF(MONTH(KCITempAct[[#This Row],[Date]])=7,0,IF(MONTH(KCITempAct[[#This Row],[Date]])=8,0,KCITempAct[[#This Row],[KCIHDD]]))","v":0},{"$f":"SUMPRODUCT((KCINHDD[Month]=MONTH(KCITempAct[[#This Row],[Date]]))*(KCINHDD[Day]=DAY(KCITempAct[[#This Row],[Date]]))*KCINHDD[KCINHDD])","v":0},{"$f":"IF(MONTH(KCITempAct[[#This Row],[Date]])=7,0,IF(MONTH(KCITempAct[[#This Row],[Date]])=8,0,KCITempAct[[#This Row],[KCINHDD]]))","v":0},"Adj HDD and NDD =0 for July and August"]
["2022-08-09",87,65,{"$f":"AVERAGE(KCITempAct[[#This Row],[KCIHigh]:[KCILow]]\n)","v":76},{"$f":"IF(KCITempAct[[#This Row],[KCIAve]]<65,(65-KCITempAct[[#This Row],[KCIAve]]),0)","v":0},{"$f":"IF(MONTH(KCITempAct[[#This Row],[Date]])=7,0,IF(MONTH(KCITempAct[[#This Row],[Date]])=8,0,KCITempAct[[#This Row],[KCIHDD]]))","v":0},{"$f":"SUMPRODUCT((KCINHDD[Month]=MONTH(KCITempAct[[#This Row],[Date]]))*(KCINHDD[Day]=DAY(KCITempAct[[#This Row],[Date]]))*KCINHDD[KCINHDD])","v":0},{"$f":"IF(MONTH(KCITempAct[[#This Row],[Date]])=7,0,IF(MONTH(KCITempAct[[#This Row],[Date]])=8,0,KCITempAct[[#This Row],[KCINHDD]]))","v":0},"Adj HDD and NDD =0 for July and August"]
["2022-08-10",89,63,{"$f":"AVERAGE(KCITempAct[[#This Row],[KCIHigh]:[KCILow]]\n)","v":76},{"$f":"IF(KCITempAct[[#This Row],[KCIAve]]<65,(65-KCITempAct[[#This Row],[KCIAve]]),0)","v":0},{"$f":"IF(MONTH(KCITempAct[[#This Row],[Date]])=7,0,IF(MONTH(KCITempAct[[#This Row],[Date]])=8,0,KCITempAct[[#This Row],[KCIHDD]]))","v":0},{"$f":"SUMPRODUCT((KCINHDD[Month]=MONTH(KCITempAct[[#This Row],[Date]]))*(KCINHDD[Day]=DAY(KCITempAct[[#This Row],[Date]]))*KCINHDD[KCINHDD])","v":0},{"$f":"IF(MONTH(KCITempAct[[#This Row],[Date]])=7,0,IF(MONTH(KCITempAct[[#This Row],[Date]])=8,0,KCITempAct[[#This Row],[KCINHDD]]))","v":0},"Adj HDD and NDD =0 for July and August"]
["2022-08-11",91,64,{"$f":"AVERAGE(KCITempAct[[#This Row],[KCIHigh]:[KCILow]]\n)","v":77.5},{"$f":"IF(KCITempAct[[#This Row],[KCIAve]]<65,(65-KCITempAct[[#This Row],[KCIAve]]),0)","v":0},{"$f":"IF(MONTH(KCITempAct[[#This Row],[Date]])=7,0,IF(MONTH(KCITempAct[[#This Row],[Date]])=8,0,KCITempAct[[#This Row],[KCIHDD]]))","v":0},{"$f":"SUMPRODUCT((KCINHDD[Month]=MONTH(KCITempAct[[#This Row],[Date]]))*(KCINHDD[Day]=DAY(KCITempAct[[#This Row],[Date]]))*KCINHDD[KCINHDD])","v":0.05},{"$f":"IF(MONTH(KCITempAct[[#This Row],[Date]])=7,0,IF(MONTH(KCITempAct[[#This Row],[Date]])=8,0,KCITempAct[[#This Row],[KCINHDD]]))","v":0},"Adj HDD and NDD =0 for July and August"]
["2022-08-12",94,66,{"$f":"AVERAGE(KCITempAct[[#This Row],[KCIHigh]:[KCILow]]\n)","v":80},{"$f":"IF(KCITempAct[[#This Row],[KCIAve]]<65,(65-KCITempAct[[#This Row],[KCIAve]]),0)","v":0},{"$f":"IF(MONTH(KCITempAct[[#This Row],[Date]])=7,0,IF(MONTH(KCITempAct[[#This Row],[Date]])=8,0,KCITempAct[[#This Row],[KCIHDD]]))","v":0},{"$f":"SUMPRODUCT((KCINHDD[Month]=MONTH(KCITempAct[[#This Row],[Date]]))*(KCINHDD[Day]=DAY(KCITempAct[[#This Row],[Date]]))*KCINHDD[KCINHDD])","v":0.11666666666666667},{"$f":"IF(MONTH(KCITempAct[[#This Row],[Date]])=7,0,IF(MONTH(KCITempAct[[#This Row],[Date]])=8,0,KCITempAct[[#This Row],[KCINHDD]]))","v":0},"Adj HDD and NDD =0 for July and August"]
["2022-08-13",98,68,{"$f":"AVERAGE(KCITempAct[[#This Row],[KCIHigh]:[KCILow]]\n)","v":83},{"$f":"IF(KCITempAct[[#This Row],[KCIAve]]<65,(65-KCITempAct[[#This Row],[KCIAve]]),0)","v":0},{"$f":"IF(MONTH(KCITempAct[[#This Row],[Date]])=7,0,IF(MONTH(KCITempAct[[#This Row],[Date]])=8,0,KCITempAct[[#This Row],[KCIHDD]]))","v":0},{"$f":"SUMPRODUCT((KCINHDD[Month]=MONTH(KCITempAct[[#This Row],[Date]]))*(KCINHDD[Day]=DAY(KCITempAct[[#This Row],[Date]]))*KCINHDD[KCINHDD])","v":1.6666666666666666E-2},{"$f":"IF(MONTH(KCITempAct[[#This Row],[Date]])=7,0,IF(MONTH(KCITempAct[[#This Row],[Date]])=8,0,KCITempAct[[#This Row],[KCINHDD]]))","v":0},"Adj HDD and NDD =0 for July and August"]
["2022-08-14",92,69,{"$f":"AVERAGE(KCITempAct[[#This Row],[KCIHigh]:[KCILow]]\n)","v":80.5},{"$f":"IF(KCITempAct[[#This Row],[KCIAve]]<65,(65-KCITempAct[[#This Row],[KCIAve]]),0)","v":0},{"$f":"IF(MONTH(KCITempAct[[#This Row],[Date]])=7,0,IF(MONTH(KCITempAct[[#This Row],[Date]])=8,0,KCITempAct[[#This Row],[KCIHDD]]))","v":0},{"$f":"SUMPRODUCT((KCINHDD[Month]=MONTH(KCITempAct[[#This Row],[Date]]))*(KCINHDD[Day]=DAY(KCITempAct[[#This Row],[Date]]))*KCINHDD[KCINHDD])","v":0},{"$f":"IF(MONTH(KCITempAct[[#This Row],[Date]])=7,0,IF(MONTH(KCITempAct[[#This Row],[Date]])=8,0,KCITempAct[[#This Row],[KCINHDD]]))","v":0},"Adj HDD and NDD =0 for July and August"]
["2022-08-15",87,71,{"$f":"AVERAGE(KCITempAct[[#This Row],[KCIHigh]:[KCILow]]\n)","v":79},{"$f":"IF(KCITempAct[[#This Row],[KCIAve]]<65,(65-KCITempAct[[#This Row],[KCIAve]]),0)","v":0},{"$f":"IF(MONTH(KCITempAct[[#This Row],[Date]])=7,0,IF(MONTH(KCITempAct[[#This Row],[Date]])=8,0,KCITempAct[[#This Row],[KCIHDD]]))","v":0},{"$f":"SUMPRODUCT((KCINHDD[Month]=MONTH(KCITempAct[[#This Row],[Date]]))*(KCINHDD[Day]=DAY(KCITempAct[[#This Row],[Date]]))*KCINHDD[KCINHDD])","v":8.3333333333333329E-2},{"$f":"IF(MONTH(KCITempAct[[#This Row],[Date]])=7,0,IF(MONTH(KCITempAct[[#This Row],[Date]])=8,0,KCITempAct[[#This Row],[KCINHDD]]))","v":0},"Adj HDD and NDD =0 for July and August"]
["2022-08-16",71,63,{"$f":"AVERAGE(KCITempAct[[#This Row],[KCIHigh]:[KCILow]]\n)","v":67},{"$f":"IF(KCITempAct[[#This Row],[KCIAve]]<65,(65-KCITempAct[[#This Row],[KCIAve]]),0)","v":0},{"$f":"IF(MONTH(KCITempAct[[#This Row],[Date]])=7,0,IF(MONTH(KCITempAct[[#This Row],[Date]])=8,0,KCITempAct[[#This Row],[KCIHDD]]))","v":0},{"$f":"SUMPRODUCT((KCINHDD[Month]=MONTH(KCITempAct[[#This Row],[Date]]))*(KCINHDD[Day]=DAY(KCITempAct[[#This Row],[Date]]))*KCINHDD[KCINHDD])","v":1.6666666666666666E-2},{"$f":"IF(MONTH(KCITempAct[[#This Row],[Date]])=7,0,IF(MONTH(KCITempAct[[#This Row],[Date]])=8,0,KCITempAct[[#This Row],[KCINHDD]]))","v":0},"Adj HDD and NDD =0 for July and August"]
["2022-08-17",84,63,{"$f":"AVERAGE(KCITempAct[[#This Row],[KCIHigh]:[KCILow]]\n)","v":73.5},{"$f":"IF(KCITempAct[[#This Row],[KCIAve]]<65,(65-KCITempAct[[#This Row],[KCIAve]]),0)","v":0},{"$f":"IF(MONTH(KCITempAct[[#This Row],[Date]])=7,0,IF(MONTH(KCITempAct[[#This Row],[Date]])=8,0,KCITempAct[[#This Row],[KCIHDD]]))","v":0},{"$f":"SUMPRODUCT((KCINHDD[Month]=MONTH(KCITempAct[[#This Row],[Date]]))*(KCINHDD[Day]=DAY(KCITempAct[[#This Row],[Date]]))*KCINHDD[KCINHDD])","v":0},{"$f":"IF(MONTH(KCITempAct[[#This Row],[Date]])=7,0,IF(MONTH(KCITempAct[[#This Row],[Date]])=8,0,KCITempAct[[#This Row],[KCINHDD]]))","v":0},"Adj HDD and NDD =0 for July and August"]
["2022-08-18",86,64,{"$f":"AVERAGE(KCITempAct[[#This Row],[KCIHigh]:[KCILow]]\n)","v":75},{"$f":"IF(KCITempAct[[#This Row],[KCIAve]]<65,(65-KCITempAct[[#This Row],[KCIAve]]),0)","v":0},{"$f":"IF(MONTH(KCITempAct[[#This Row],[Date]])=7,0,IF(MONTH(KCITempAct[[#This Row],[Date]])=8,0,KCITempAct[[#This Row],[KCIHDD]]))","v":0},{"$f":"SUMPRODUCT((KCINHDD[Month]=MONTH(KCITempAct[[#This Row],[Date]]))*(KCINHDD[Day]=DAY(KCITempAct[[#This Row],[Date]]))*KCINHDD[KCINHDD])","v":0},{"$f":"IF(MONTH(KCITempAct[[#This Row],[Date]])=7,0,IF(MONTH(KCITempAct[[#This Row],[Date]])=8,0,KCITempAct[[#This Row],[KCINHDD]]))","v":0},"Adj HDD and NDD =0 for July and August"]
["2022-08-19",80,66,{"$f":"AVERAGE(KCITempAct[[#This Row],[KCIHigh]:[KCILow]]\n)","v":73},{"$f":"IF(KCITempAct[[#This Row],[KCIAve]]<65,(65-KCITempAct[[#This Row],[KCIAve]]),0)","v":0},{"$f":"IF(MONTH(KCITempAct[[#This Row],[Date]])=7,0,IF(MONTH(KCITempAct[[#This Row],[Date]])=8,0,KCITempAct[[#This Row],[KCIHDD]]))","v":0},{"$f":"SUMPRODUCT((KCINHDD[Month]=MONTH(KCITempAct[[#This Row],[Date]]))*(KCINHDD[Day]=DAY(KCITempAct[[#This Row],[Date]]))*KCINHDD[KCINHDD])","v":0.05},{"$f":"IF(MONTH(KCITempAct[[#This Row],[Date]])=7,0,IF(MONTH(KCITempAct[[#This Row],[Date]])=8,0,KCITempAct[[#This Row],[KCINHDD]]))","v":0},"Adj HDD and NDD =0 for July and August"]
["2022-08-20",85,63,{"$f":"AVERAGE(KCITempAct[[#This Row],[KCIHigh]:[KCILow]]\n)","v":74},{"$f":"IF(KCITempAct[[#This Row],[KCIAve]]<65,(65-KCITempAct[[#This Row],[KCIAve]]),0)","v":0},{"$f":"IF(MONTH(KCITempAct[[#This Row],[Date]])=7,0,IF(MONTH(KCITempAct[[#This Row],[Date]])=8,0,KCITempAct[[#This Row],[KCIHDD]]))","v":0},{"$f":"SUMPRODUCT((KCINHDD[Month]=MONTH(KCITempAct[[#This Row],[Date]]))*(KCINHDD[Day]=DAY(KCITempAct[[#This Row],[Date]]))*KCINHDD[KCINHDD])","v":0},{"$f":"IF(MONTH(KCITempAct[[#This Row],[Date]])=7,0,IF(MONTH(KCITempAct[[#This Row],[Date]])=8,0,KCITempAct[[#This Row],[KCINHDD]]))","v":0},"Adj HDD and NDD =0 for July and August"]
["2022-08-21",85,62,{"$f":"AVERAGE(KCITempAct[[#This Row],[KCIHigh]:[KCILow]]\n)","v":73.5},{"$f":"IF(KCITempAct[[#This Row],[KCIAve]]<65,(65-KCITempAct[[#This Row],[KCIAve]]),0)","v":0},{"$f":"IF(MONTH(KCITempAct[[#This Row],[Date]])=7,0,IF(MONTH(KCITempAct[[#This Row],[Date]])=8,0,KCITempAct[[#This Row],[KCIHDD]]))","v":0},{"$f":"SUMPRODUCT((KCINHDD[Month]=MONTH(KCITempAct[[#This Row],[Date]]))*(KCINHDD[Day]=DAY(KCITempAct[[#This Row],[Date]]))*KCINHDD[KCINHDD])","v":0},{"$f":"IF(MONTH(KCITempAct[[#This Row],[Date]])=7,0,IF(MONTH(KCITempAct[[#This Row],[Date]])=8,0,KCITempAct[[#This Row],[KCINHDD]]))","v":0},"Adj HDD and NDD =0 for July and August"]
["2022-08-22",86,63,{"$f":"AVERAGE(KCITempAct[[#This Row],[KCIHigh]:[KCILow]]\n)","v":74.5},{"$f":"IF(KCITempAct[[#This Row],[KCIAve]]<65,(65-KCITempAct[[#This Row],[KCIAve]]),0)","v":0},{"$f":"IF(MONTH(KCITempAct[[#This Row],[Date]])=7,0,IF(MONTH(KCITempAct[[#This Row],[Date]])=8,0,KCITempAct[[#This Row],[KCIHDD]]))","v":0},{"$f":"SUMPRODUCT((KCINHDD[Month]=MONTH(KCITempAct[[#This Row],[Date]]))*(KCINHDD[Day]=DAY(KCITempAct[[#This Row],[Date]]))*KCINHDD[KCINHDD])","v":0},{"$f":"IF(MONTH(KCITempAct[[#This Row],[Date]])=7,0,IF(MONTH(KCITempAct[[#This Row],[Date]])=8,0,KCITempAct[[#This Row],[KCINHDD]]))","v":0},"Adj HDD and NDD =0 for July and August"]
["2022-08-23",86,64,{"$f":"AVERAGE(KCITempAct[[#This Row],[KCIHigh]:[KCILow]]\n)","v":75},{"$f":"IF(KCITempAct[[#This Row],[KCIAve]]<65,(65-KCITempAct[[#This Row],[KCIAve]]),0)","v":0},{"$f":"IF(MONTH(KCITempAct[[#This Row],[Date]])=7,0,IF(MONTH(KCITempAct[[#This Row],[Date]])=8,0,KCITempAct[[#This Row],[KCIHDD]]))","v":0},{"$f":"SUMPRODUCT((KCINHDD[Month]=MONTH(KCITempAct[[#This Row],[Date]]))*(KCINHDD[Day]=DAY(KCITempAct[[#This Row],[Date]]))*KCINHDD[KCINHDD])","v":1.6666666666666666E-2},{"$f":"IF(MONTH(KCITempAct[[#This Row],[Date]])=7,0,IF(MONTH(KCITempAct[[#This Row],[Date]])=8,0,KCITempAct[[#This Row],[KCINHDD]]))","v":0},"Adj HDD and NDD =0 for July and August"]
["2022-08-24",90,66,{"$f":"AVERAGE(KCITempAct[[#This Row],[KCIHigh]:[KCILow]]\n)","v":78},{"$f":"IF(KCITempAct[[#This Row],[KCIAve]]<65,(65-KCITempAct[[#This Row],[KCIAve]]),0)","v":0},{"$f":"IF(MONTH(KCITempAct[[#This Row],[Date]])=7,0,IF(MONTH(KCITempAct[[#This Row],[Date]])=8,0,KCITempAct[[#This Row],[KCIHDD]]))","v":0},{"$f":"SUMPRODUCT((KCINHDD[Month]=MONTH(KCITempAct[[#This Row],[Date]]))*(KCINHDD[Day]=DAY(KCITempAct[[#This Row],[Date]]))*KCINHDD[KCINHDD])","v":0},{"$f":"IF(MONTH(KCITempAct[[#This Row],[Date]])=7,0,IF(MONTH(KCITempAct[[#This Row],[Date]])=8,0,KCITempAct[[#This Row],[KCINHDD]]))","v":0},"Adj HDD and NDD =0 for July and August"]
["2022-08-25",92,64,{"$f":"AVERAGE(KCITempAct[[#This Row],[KCIHigh]:[KCILow]]\n)","v":78},{"$f":"IF(KCITempAct[[#This Row],[KCIAve]]<65,(65-KCITempAct[[#This Row],[KCIAve]]),0)","v":0},{"$f":"IF(MONTH(KCITempAct[[#This Row],[Date]])=7,0,IF(MONTH(KCITempAct[[#This Row],[Date]])=8,0,KCITempAct[[#This Row],[KCIHDD]]))","v":0},{"$f":"SUMPRODUCT((KCINHDD[Month]=MONTH(KCITempAct[[#This Row],[Date]]))*(KCINHDD[Day]=DAY(KCITempAct[[#This Row],[Date]]))*KCINHDD[KCINHDD])","v":0},{"$f":"IF(MONTH(KCITempAct[[#This Row],[Date]])=7,0,IF(MONTH(KCITempAct[[#This Row],[Date]])=8,0,KCITempAct[[#This Row],[KCINHDD]]))","v":0},"Adj HDD and NDD =0 for July and August"]
["2022-08-26",92,70,{"$f":"AVERAGE(KCITempAct[[#This Row],[KCIHigh]:[KCILow]]\n)","v":81},{"$f":"IF(KCITempAct[[#This Row],[KCIAve]]<65,(65-KCITempAct[[#This Row],[KCIAve]]),0)","v":0},{"$f":"IF(MONTH(KCITempAct[[#This Row],[Date]])=7,0,IF(MONTH(KCITempAct[[#This Row],[Date]])=8,0,KCITempAct[[#This Row],[KCIHDD]]))","v":0},{"$f":"SUMPRODUCT((KCINHDD[Month]=MONTH(KCITempAct[[#This Row],[Date]]))*(KCINHDD[Day]=DAY(KCITempAct[[#This Row],[Date]]))*KCINHDD[KCINHDD])","v":0.13333333333333333},{"$f":"IF(MONTH(KCITempAct[[#This Row],[Date]])=7,0,IF(MONTH(KCITempAct[[#This Row],[Date]])=8,0,KCITempAct[[#This Row],[KCINHDD]]))","v":0},"Adj HDD and NDD =0 for July and August"]
["2022-08-27",95,69,{"$f":"AVERAGE(KCITempAct[[#This Row],[KCIHigh]:[KCILow]]\n)","v":82},{"$f":"IF(KCITempAct[[#This Row],[KCIAve]]<65,(65-KCITempAct[[#This Row],[KCIAve]]),0)","v":0},{"$f":"IF(MONTH(KCITempAct[[#This Row],[Date]])=7,0,IF(MONTH(KCITempAct[[#This Row],[Date]])=8,0,KCITempAct[[#This Row],[KCIHDD]]))","v":0},{"$f":"SUMPRODUCT((KCINHDD[Month]=MONTH(KCITempAct[[#This Row],[Date]]))*(KCINHDD[Day]=DAY(KCITempAct[[#This Row],[Date]]))*KCINHDD[KCINHDD])","v":0.05},{"$f":"IF(MONTH(KCITempAct[[#This Row],[Date]])=7,0,IF(MONTH(KCITempAct[[#This Row],[Date]])=8,0,KCITempAct[[#This Row],[KCINHDD]]))","v":0},"Adj HDD and NDD =0 for July and August"]
["2022-08-28",89,69,{"$f":"AVERAGE(KCITempAct[[#This Row],[KCIHigh]:[KCILow]]\n)","v":79},{"$f":"IF(KCITempAct[[#This Row],[KCIAve]]<65,(65-KCITempAct[[#This Row],[KCIAve]]),0)","v":0},{"$f":"IF(MONTH(KCITempAct[[#This Row],[Date]])=7,0,IF(MONTH(KCITempAct[[#This Row],[Date]])=8,0,KCITempAct[[#This Row],[KCIHDD]]))","v":0},{"$f":"SUMPRODUCT((KCINHDD[Month]=MONTH(KCITempAct[[#This Row],[Date]]))*(KCINHDD[Day]=DAY(KCITempAct[[#This Row],[Date]]))*KCINHDD[KCINHDD])","v":0},{"$f":"IF(MONTH(KCITempAct[[#This Row],[Date]])=7,0,IF(MONTH(KCITempAct[[#This Row],[Date]])=8,0,KCITempAct[[#This Row],[KCINHDD]]))","v":0},"Adj HDD and NDD =0 for July and August"]
["2022-08-29",92,73,{"$f":"AVERAGE(KCITempAct[[#This Row],[KCIHigh]:[KCILow]]\n)","v":82.5},{"$f":"IF(KCITempAct[[#This Row],[KCIAve]]<65,(65-KCITempAct[[#This Row],[KCIAve]]),0)","v":0},{"$f":"IF(MONTH(KCITempAct[[#This Row],[Date]])=7,0,IF(MONTH(KCITempAct[[#This Row],[Date]])=8,0,KCITempAct[[#This Row],[KCIHDD]]))","v":0},{"$f":"SUMPRODUCT((KCINHDD[Month]=MONTH(KCITempAct[[#This Row],[Date]]))*(KCINHDD[Day]=DAY(KCITempAct[[#This Row],[Date]]))*KCINHDD[KCINHDD])","v":0.13333333333333333},{"$f":"IF(MONTH(KCITempAct[[#This Row],[Date]])=7,0,IF(MONTH(KCITempAct[[#This Row],[Date]])=8,0,KCITempAct[[#This Row],[KCINHDD]]))","v":0},"Adj HDD and NDD =0 for July and August"]
["2022-08-30",87,67,{"$f":"AVERAGE(KCITempAct[[#This Row],[KCIHigh]:[KCILow]]\n)","v":77},{"$f":"IF(KCITempAct[[#This Row],[KCIAve]]<65,(65-KCITempAct[[#This Row],[KCIAve]]),0)","v":0},{"$f":"IF(MONTH(KCITempAct[[#This Row],[Date]])=7,0,IF(MONTH(KCITempAct[[#This Row],[Date]])=8,0,KCITempAct[[#This Row],[KCIHDD]]))","v":0},{"$f":"SUMPRODUCT((KCINHDD[Month]=MONTH(KCITempAct[[#This Row],[Date]]))*(KCINHDD[Day]=DAY(KCITempAct[[#This Row],[Date]]))*KCINHDD[KCINHDD])","v":0.15},{"$f":"IF(MONTH(KCITempAct[[#This Row],[Date]])=7,0,IF(MONTH(KCITempAct[[#This Row],[Date]])=8,0,KCITempAct[[#This Row],[KCINHDD]]))","v":0},"Adj HDD and NDD =0 for July and August"]
["2022-08-31",89,59,{"$f":"AVERAGE(KCITempAct[[#This Row],[KCIHigh]:[KCILow]]\n)","v":74},{"$f":"IF(KCITempAct[[#This Row],[KCIAve]]<65,(65-KCITempAct[[#This Row],[KCIAve]]),0)","v":0},{"$f":"IF(MONTH(KCITempAct[[#This Row],[Date]])=7,0,IF(MONTH(KCITempAct[[#This Row],[Date]])=8,0,KCITempAct[[#This Row],[KCIHDD]]))","v":0},{"$f":"SUMPRODUCT((KCINHDD[Month]=MONTH(KCITempAct[[#This Row],[Date]]))*(KCINHDD[Day]=DAY(KCITempAct[[#This Row],[Date]]))*KCINHDD[KCINHDD])","v":8.3333333333333329E-2},{"$f":"IF(MONTH(KCITempAct[[#This Row],[Date]])=7,0,IF(MONTH(KCITempAct[[#This Row],[Date]])=8,0,KCITempAct[[#This Row],[KCINHDD]]))","v":0},"Adj HDD and NDD =0 for July and August"]
["2022-09-01",91,63,{"$f":"AVERAGE(KCITempAct[[#This Row],[KCIHigh]:[KCILow]]\n)","v":77},{"$f":"IF(KCITempAct[[#This Row],[KCIAve]]<65,(65-KCITempAct[[#This Row],[KCIAve]]),0)","v":0},{"$f":"IF(MONTH(KCITempAct[[#This Row],[Date]])=7,0,IF(MONTH(KCITempAct[[#This Row],[Date]])=8,0,KCITempAct[[#This Row],[KCIHDD]]))","v":0},{"$f":"SUMPRODUCT((KCINHDD[Month]=MONTH(KCITempAct[[#This Row],[Date]]))*(KCINHDD[Day]=DAY(KCITempAct[[#This Row],[Date]]))*KCINHDD[KCINHDD])","v":0.05},{"$f":"IF(MONTH(KCITempAct[[#This Row],[Date]])=7,0,IF(MONTH(KCITempAct[[#This Row],[Date]])=8,0,KCITempAct[[#This Row],[KCINHDD]]))","v":0.05},"Adj HDD and NDD =0 for July and August"]
["2022-09-02",89,66,{"$f":"AVERAGE(KCITempAct[[#This Row],[KCIHigh]:[KCILow]]\n)","v":77.5},{"$f":"IF(KCITempAct[[#This Row],[KCIAve]]<65,(65-KCITempAct[[#This Row],[KCIAve]]),0)","v":0},{"$f":"IF(MONTH(KCITempAct[[#This Row],[Date]])=7,0,IF(MONTH(KCITempAct[[#This Row],[Date]])=8,0,KCITempAct[[#This Row],[KCIHDD]]))","v":0},{"$f":"SUMPRODUCT((KCINHDD[Month]=MONTH(KCITempAct[[#This Row],[Date]]))*(KCINHDD[Day]=DAY(KCITempAct[[#This Row],[Date]]))*KCINHDD[KCINHDD])","v":3.3333333333333333E-2},{"$f":"IF(MONTH(KCITempAct[[#This Row],[Date]])=7,0,IF(MONTH(KCITempAct[[#This Row],[Date]])=8,0,KCITempAct[[#This Row],[KCINHDD]]))","v":3.3333333333333333E-2},"Adj HDD and NDD =0 for July and August"]
["2022-09-03",87,64,{"$f":"AVERAGE(KCITempAct[[#This Row],[KCIHigh]:[KCILow]]\n)","v":75.5},{"$f":"IF(KCITempAct[[#This Row],[KCIAve]]<65,(65-KCITempAct[[#This Row],[KCIAve]]),0)","v":0},{"$f":"IF(MONTH(KCITempAct[[#This Row],[Date]])=7,0,IF(MONTH(KCITempAct[[#This Row],[Date]])=8,0,KCITempAct[[#This Row],[KCIHDD]]))","v":0},{"$f":"SUMPRODUCT((KCINHDD[Month]=MONTH(KCITempAct[[#This Row],[Date]]))*(KCINHDD[Day]=DAY(KCITempAct[[#This Row],[Date]]))*KCINHDD[KCINHDD])","v":0.16666666666666666},{"$f":"IF(MONTH(KCITempAct[[#This Row],[Date]])=7,0,IF(MONTH(KCITempAct[[#This Row],[Date]])=8,0,KCITempAct[[#This Row],[KCINHDD]]))","v":0.16666666666666666},"Adj HDD and NDD =0 for July and August"]
["2022-09-04",84,62,{"$f":"AVERAGE(KCITempAct[[#This Row],[KCIHigh]:[KCILow]]\n)","v":73},{"$f":"IF(KCITempAct[[#This Row],[KCIAve]]<65,(65-KCITempAct[[#This Row],[KCIAve]]),0)","v":0},{"$f":"IF(MONTH(KCITempAct[[#This Row],[Date]])=7,0,IF(MONTH(KCITempAct[[#This Row],[Date]])=8,0,KCITempAct[[#This Row],[KCIHDD]]))","v":0},{"$f":"SUMPRODUCT((KCINHDD[Month]=MONTH(KCITempAct[[#This Row],[Date]]))*(KCINHDD[Day]=DAY(KCITempAct[[#This Row],[Date]]))*KCINHDD[KCINHDD])","v":0.3},{"$f":"IF(MONTH(KCITempAct[[#This Row],[Date]])=7,0,IF(MONTH(KCITempAct[[#This Row],[Date]])=8,0,KCITempAct[[#This Row],[KCINHDD]]))","v":0.3},"Adj HDD and NDD =0 for July and August"]
["2022-09-05",79,62,{"$f":"AVERAGE(KCITempAct[[#This Row],[KCIHigh]:[KCILow]]\n)","v":70.5},{"$f":"IF(KCITempAct[[#This Row],[KCIAve]]<65,(65-KCITempAct[[#This Row],[KCIAve]]),0)","v":0},{"$f":"IF(MONTH(KCITempAct[[#This Row],[Date]])=7,0,IF(MONTH(KCITempAct[[#This Row],[Date]])=8,0,KCITempAct[[#This Row],[KCIHDD]]))","v":0},{"$f":"SUMPRODUCT((KCINHDD[Month]=MONTH(KCITempAct[[#This Row],[Date]]))*(KCINHDD[Day]=DAY(KCITempAct[[#This Row],[Date]]))*KCINHDD[KCINHDD])","v":0.45},{"$f":"IF(MONTH(KCITempAct[[#This Row],[Date]])=7,0,IF(MONTH(KCITempAct[[#This Row],[Date]])=8,0,KCITempAct[[#This Row],[KCINHDD]]))","v":0.45},"Adj HDD and NDD =0 for July and August"]
["2022-09-06",85,63,{"$f":"AVERAGE(KCITempAct[[#This Row],[KCIHigh]:[KCILow]]\n)","v":74},{"$f":"IF(KCITempAct[[#This Row],[KCIAve]]<65,(65-KCITempAct[[#This Row],[KCIAve]]),0)","v":0},{"$f":"IF(MONTH(KCITempAct[[#This Row],[Date]])=7,0,IF(MONTH(KCITempAct[[#This Row],[Date]])=8,0,KCITempAct[[#This Row],[KCIHDD]]))","v":0},{"$f":"SUMPRODUCT((KCINHDD[Month]=MONTH(KCITempAct[[#This Row],[Date]]))*(KCINHDD[Day]=DAY(KCITempAct[[#This Row],[Date]]))*KCINHDD[KCINHDD])","v":0.48333333333333334},{"$f":"IF(MONTH(KCITempAct[[#This Row],[Date]])=7,0,IF(MONTH(KCITempAct[[#This Row],[Date]])=8,0,KCITempAct[[#This Row],[KCINHDD]]))","v":0.48333333333333334},"Adj HDD and NDD =0 for July and August"]
["2022-09-07",86,63,{"$f":"AVERAGE(KCITempAct[[#This Row],[KCIHigh]:[KCILow]]\n)","v":74.5},{"$f":"IF(KCITempAct[[#This Row],[KCIAve]]<65,(65-KCITempAct[[#This Row],[KCIAve]]),0)","v":0},{"$f":"IF(MONTH(KCITempAct[[#This Row],[Date]])=7,0,IF(MONTH(KCITempAct[[#This Row],[Date]])=8,0,KCITempAct[[#This Row],[KCIHDD]]))","v":0},{"$f":"SUMPRODUCT((KCINHDD[Month]=MONTH(KCITempAct[[#This Row],[Date]]))*(KCINHDD[Day]=DAY(KCITempAct[[#This Row],[Date]]))*KCINHDD[KCINHDD])","v":0.38333333333333336},{"$f":"IF(MONTH(KCITempAct[[#This Row],[Date]])=7,0,IF(MONTH(KCITempAct[[#This Row],[Date]])=8,0,KCITempAct[[#This Row],[KCINHDD]]))","v":0.38333333333333336},"Adj HDD and NDD =0 for July and August"]
["2022-09-08",87,59,{"$f":"AVERAGE(KCITempAct[[#This Row],[KCIHigh]:[KCILow]]\n)","v":73},{"$f":"IF(KCITempAct[[#This Row],[KCIAve]]<65,(65-KCITempAct[[#This Row],[KCIAve]]),0)","v":0},{"$f":"IF(MONTH(KCITempAct[[#This Row],[Date]])=7,0,IF(MONTH(KCITempAct[[#This Row],[Date]])=8,0,KCITempAct[[#This Row],[KCIHDD]]))","v":0},{"$f":"SUMPRODUCT((KCINHDD[Month]=MONTH(KCITempAct[[#This Row],[Date]]))*(KCINHDD[Day]=DAY(KCITempAct[[#This Row],[Date]]))*KCINHDD[KCINHDD])","v":1.0666666666666667},{"$f":"IF(MONTH(KCITempAct[[#This Row],[Date]])=7,0,IF(MONTH(KCITempAct[[#This Row],[Date]])=8,0,KCITempAct[[#This Row],[KCINHDD]]))","v":1.0666666666666667},"Adj HDD and NDD =0 for July and August"]
["2022-09-09",89,62,{"$f":"AVERAGE(KCITempAct[[#This Row],[KCIHigh]:[KCILow]]\n)","v":75.5},{"$f":"IF(KCITempAct[[#This Row],[KCIAve]]<65,(65-KCITempAct[[#This Row],[KCIAve]]),0)","v":0},{"$f":"IF(MONTH(KCITempAct[[#This Row],[Date]])=7,0,IF(MONTH(KCITempAct[[#This Row],[Date]])=8,0,KCITempAct[[#This Row],[KCIHDD]]))","v":0},{"$f":"SUMPRODUCT((KCINHDD[Month]=MONTH(KCITempAct[[#This Row],[Date]]))*(KCINHDD[Day]=DAY(KCITempAct[[#This Row],[Date]]))*KCINHDD[KCINHDD])","v":0.96666666666666667},{"$f":"IF(MONTH(KCITempAct[[#This Row],[Date]])=7,0,IF(MONTH(KCITempAct[[#This Row],[Date]])=8,0,KCITempAct[[#This Row],[KCINHDD]]))","v":0.96666666666666667},"Adj HDD and NDD =0 for July and August"]
["2022-09-10",70,57,{"$f":"AVERAGE(KCITempAct[[#This Row],[KCIHigh]:[KCILow]]\n)","v":63.5},{"$f":"IF(KCITempAct[[#This Row],[KCIAve]]<65,(65-KCITempAct[[#This Row],[KCIAve]]),0)","v":1.5},{"$f":"IF(MONTH(KCITempAct[[#This Row],[Date]])=7,0,IF(MONTH(KCITempAct[[#This Row],[Date]])=8,0,KCITempAct[[#This Row],[KCIHDD]]))","v":1.5},{"$f":"SUMPRODUCT((KCINHDD[Month]=MONTH(KCITempAct[[#This Row],[Date]]))*(KCINHDD[Day]=DAY(KCITempAct[[#This Row],[Date]]))*KCINHDD[KCINHDD])","v":0.85},{"$f":"IF(MONTH(KCITempAct[[#This Row],[Date]])=7,0,IF(MONTH(KCITempAct[[#This Row],[Date]])=8,0,KCITempAct[[#This Row],[KCINHDD]]))","v":0.85},"Adj HDD and NDD =0 for July and August"]
["2022-09-11",76,53,{"$f":"AVERAGE(KCITempAct[[#This Row],[KCIHigh]:[KCILow]]\n)","v":64.5},{"$f":"IF(KCITempAct[[#This Row],[KCIAve]]<65,(65-KCITempAct[[#This Row],[KCIAve]]),0)","v":0.5},{"$f":"IF(MONTH(KCITempAct[[#This Row],[Date]])=7,0,IF(MONTH(KCITempAct[[#This Row],[Date]])=8,0,KCITempAct[[#This Row],[KCIHDD]]))","v":0.5},{"$f":"SUMPRODUCT((KCINHDD[Month]=MONTH(KCITempAct[[#This Row],[Date]]))*(KCINHDD[Day]=DAY(KCITempAct[[#This Row],[Date]]))*KCINHDD[KCINHDD])","v":0.8666666666666667},{"$f":"IF(MONTH(KCITempAct[[#This Row],[Date]])=7,0,IF(MONTH(KCITempAct[[#This Row],[Date]])=8,0,KCITempAct[[#This Row],[KCINHDD]]))","v":0.8666666666666667},"Adj HDD and NDD =0 for July and August"]
["2022-09-12",84,51,{"$f":"AVERAGE(KCITempAct[[#This Row],[KCIHigh]:[KCILow]]\n)","v":67.5},{"$f":"IF(KCITempAct[[#This Row],[KCIAve]]<65,(65-KCITempAct[[#This Row],[KCIAve]]),0)","v":0},{"$f":"IF(MONTH(KCITempAct[[#This Row],[Date]])=7,0,IF(MONTH(KCITempAct[[#This Row],[Date]])=8,0,KCITempAct[[#This Row],[KCIHDD]]))","v":0},{"$f":"SUMPRODUCT((KCINHDD[Month]=MONTH(KCITempAct[[#This Row],[Date]]))*(KCINHDD[Day]=DAY(KCITempAct[[#This Row],[Date]]))*KCINHDD[KCINHDD])","v":1.0166666666666666},{"$f":"IF(MONTH(KCITempAct[[#This Row],[Date]])=7,0,IF(MONTH(KCITempAct[[#This Row],[Date]])=8,0,KCITempAct[[#This Row],[KCINHDD]]))","v":1.0166666666666666},"Adj HDD and NDD =0 for July and August"]
["2022-09-13",89,56,{"$f":"AVERAGE(KCITempAct[[#This Row],[KCIHigh]:[KCILow]]\n)","v":72.5},{"$f":"IF(KCITempAct[[#This Row],[KCIAve]]<65,(65-KCITempAct[[#This Row],[KCIAve]]),0)","v":0},{"$f":"IF(MONTH(KCITempAct[[#This Row],[Date]])=7,0,IF(MONTH(KCITempAct[[#This Row],[Date]])=8,0,KCITempAct[[#This Row],[KCIHDD]]))","v":0},{"$f":"SUMPRODUCT((KCINHDD[Month]=MONTH(KCITempAct[[#This Row],[Date]]))*(KCINHDD[Day]=DAY(KCITempAct[[#This Row],[Date]]))*KCINHDD[KCINHDD])","v":1.1166666666666667},{"$f":"IF(MONTH(KCITempAct[[#This Row],[Date]])=7,0,IF(MONTH(KCITempAct[[#This Row],[Date]])=8,0,KCITempAct[[#This Row],[KCINHDD]]))","v":1.1166666666666667},"Adj HDD and NDD =0 for July and August"]
["2022-09-14",89,59,{"$f":"AVERAGE(KCITempAct[[#This Row],[KCIHigh]:[KCILow]]\n)","v":74},{"$f":"IF(KCITempAct[[#This Row],[KCIAve]]<65,(65-KCITempAct[[#This Row],[KCIAve]]),0)","v":0},{"$f":"IF(MONTH(KCITempAct[[#This Row],[Date]])=7,0,IF(MONTH(KCITempAct[[#This Row],[Date]])=8,0,KCITempAct[[#This Row],[KCIHDD]]))","v":0},{"$f":"SUMPRODUCT((KCINHDD[Month]=MONTH(KCITempAct[[#This Row],[Date]]))*(KCINHDD[Day]=DAY(KCITempAct[[#This Row],[Date]]))*KCINHDD[KCINHDD])","v":2.0333333333333332},{"$f":"IF(MONTH(KCITempAct[[#This Row],[Date]])=7,0,IF(MONTH(KCITempAct[[#This Row],[Date]])=8,0,KCITempAct[[#This Row],[KCINHDD]]))","v":2.0333333333333332},"Adj HDD and NDD =0 for July and August"]
["2022-09-15",85,62,{"$f":"AVERAGE(KCITempAct[[#This Row],[KCIHigh]:[KCILow]]\n)","v":73.5},{"$f":"IF(KCITempAct[[#This Row],[KCIAve]]<65,(65-KCITempAct[[#This Row],[KCIAve]]),0)","v":0},{"$f":"IF(MONTH(KCITempAct[[#This Row],[Date]])=7,0,IF(MONTH(KCITempAct[[#This Row],[Date]])=8,0,KCITempAct[[#This Row],[KCIHDD]]))","v":0},{"$f":"SUMPRODUCT((KCINHDD[Month]=MONTH(KCITempAct[[#This Row],[Date]]))*(KCINHDD[Day]=DAY(KCITempAct[[#This Row],[Date]]))*KCINHDD[KCINHDD])","v":2.5833333333333335},{"$f":"IF(MONTH(KCITempAct[[#This Row],[Date]])=7,0,IF(MONTH(KCITempAct[[#This Row],[Date]])=8,0,KCITempAct[[#This Row],[KCINHDD]]))","v":2.5833333333333335},"Adj HDD and NDD =0 for July and August"]
["2022-09-16",81,60,{"$f":"AVERAGE(KCITempAct[[#This Row],[KCIHigh]:[KCILow]]\n)","v":70.5},{"$f":"IF(KCITempAct[[#This Row],[KCIAve]]<65,(65-KCITempAct[[#This Row],[KCIAve]]),0)","v":0},{"$f":"IF(MONTH(KCITempAct[[#This Row],[Date]])=7,0,IF(MONTH(KCITempAct[[#This Row],[Date]])=8,0,KCITempAct[[#This Row],[KCIHDD]]))","v":0},{"$f":"SUMPRODUCT((KCINHDD[Month]=MONTH(KCITempAct[[#This Row],[Date]]))*(KCINHDD[Day]=DAY(KCITempAct[[#This Row],[Date]]))*KCINHDD[KCINHDD])","v":1.7166666666666666},{"$f":"IF(MONTH(KCITempAct[[#This Row],[Date]])=7,0,IF(MONTH(KCITempAct[[#This Row],[Date]])=8,0,KCITempAct[[#This Row],[KCINHDD]]))","v":1.7166666666666666},"Adj HDD and NDD =0 for July and August"]
["2022-09-17",92,70,{"$f":"AVERAGE(KCITempAct[[#This Row],[KCIHigh]:[KCILow]]\n)","v":81},{"$f":"IF(KCITempAct[[#This Row],[KCIAve]]<65,(65-KCITempAct[[#This Row],[KCIAve]]),0)","v":0},{"$f":"IF(MONTH(KCITempAct[[#This Row],[Date]])=7,0,IF(MONTH(KCITempAct[[#This Row],[Date]])=8,0,KCITempAct[[#This Row],[KCIHDD]]))","v":0},{"$f":"SUMPRODUCT((KCINHDD[Month]=MONTH(KCITempAct[[#This Row],[Date]]))*(KCINHDD[Day]=DAY(KCITempAct[[#This Row],[Date]]))*KCINHDD[KCINHDD])","v":0.96666666666666667},{"$f":"IF(MONTH(KCITempAct[[#This Row],[Date]])=7,0,IF(MONTH(KCITempAct[[#This Row],[Date]])=8,0,KCITempAct[[#This Row],[KCINHDD]]))","v":0.96666666666666667},"Adj HDD and NDD =0 for July and August"]
["2022-09-18",96,68,{"$f":"AVERAGE(KCITempAct[[#This Row],[KCIHigh]:[KCILow]]\n)","v":82},{"$f":"IF(KCITempAct[[#This Row],[KCIAve]]<65,(65-KCITempAct[[#This Row],[KCIAve]]),0)","v":0},{"$f":"IF(MONTH(KCITempAct[[#This Row],[Date]])=7,0,IF(MONTH(KCITempAct[[#This Row],[Date]])=8,0,KCITempAct[[#This Row],[KCIHDD]]))","v":0},{"$f":"SUMPRODUCT((KCINHDD[Month]=MONTH(KCITempAct[[#This Row],[Date]]))*(KCINHDD[Day]=DAY(KCITempAct[[#This Row],[Date]]))*KCINHDD[KCINHDD])","v":1.25},{"$f":"IF(MONTH(KCITempAct[[#This Row],[Date]])=7,0,IF(MONTH(KCITempAct[[#This Row],[Date]])=8,0,KCITempAct[[#This Row],[KCINHDD]]))","v":1.25},"Adj HDD and NDD =0 for July and August"]
["2022-09-19",99,70,{"$f":"AVERAGE(KCITempAct[[#This Row],[KCIHigh]:[KCILow]]\n)","v":84.5},{"$f":"IF(KCITempAct[[#This Row],[KCIAve]]<65,(65-KCITempAct[[#This Row],[KCIAve]]),0)","v":0},{"$f":"IF(MONTH(KCITempAct[[#This Row],[Date]])=7,0,IF(MONTH(KCITempAct[[#This Row],[Date]])=8,0,KCITempAct[[#This Row],[KCIHDD]]))","v":0},{"$f":"SUMPRODUCT((KCINHDD[Month]=MONTH(KCITempAct[[#This Row],[Date]]))*(KCINHDD[Day]=DAY(KCITempAct[[#This Row],[Date]]))*KCINHDD[KCINHDD])","v":1.6166666666666667},{"$f":"IF(MONTH(KCITempAct[[#This Row],[Date]])=7,0,IF(MONTH(KCITempAct[[#This Row],[Date]])=8,0,KCITempAct[[#This Row],[KCINHDD]]))","v":1.6166666666666667},"Adj HDD and NDD =0 for July and August"]
["2022-09-20",99,72,{"$f":"AVERAGE(KCITempAct[[#This Row],[KCIHigh]:[KCILow]]\n)","v":85.5},{"$f":"IF(KCITempAct[[#This Row],[KCIAve]]<65,(65-KCITempAct[[#This Row],[KCIAve]]),0)","v":0},{"$f":"IF(MONTH(KCITempAct[[#This Row],[Date]])=7,0,IF(MONTH(KCITempAct[[#This Row],[Date]])=8,0,KCITempAct[[#This Row],[KCIHDD]]))","v":0},{"$f":"SUMPRODUCT((KCINHDD[Month]=MONTH(KCITempAct[[#This Row],[Date]]))*(KCINHDD[Day]=DAY(KCITempAct[[#This Row],[Date]]))*KCINHDD[KCINHDD])","v":2.1},{"$f":"IF(MONTH(KCITempAct[[#This Row],[Date]])=7,0,IF(MONTH(KCITempAct[[#This Row],[Date]])=8,0,KCITempAct[[#This Row],[KCINHDD]]))","v":2.1},"Adj HDD and NDD =0 for July and August"]
["2022-09-21",85,58,{"$f":"AVERAGE(KCITempAct[[#This Row],[KCIHigh]:[KCILow]]\n)","v":71.5},{"$f":"IF(KCITempAct[[#This Row],[KCIAve]]<65,(65-KCITempAct[[#This Row],[KCIAve]]),0)","v":0},{"$f":"IF(MONTH(KCITempAct[[#This Row],[Date]])=7,0,IF(MONTH(KCITempAct[[#This Row],[Date]])=8,0,KCITempAct[[#This Row],[KCIHDD]]))","v":0},{"$f":"SUMPRODUCT((KCINHDD[Month]=MONTH(KCITempAct[[#This Row],[Date]]))*(KCINHDD[Day]=DAY(KCITempAct[[#This Row],[Date]]))*KCINHDD[KCINHDD])","v":2.4333333333333331},{"$f":"IF(MONTH(KCITempAct[[#This Row],[Date]])=7,0,IF(MONTH(KCITempAct[[#This Row],[Date]])=8,0,KCITempAct[[#This Row],[KCINHDD]]))","v":2.4333333333333331},"Adj HDD and NDD =0 for July and August"]
["2022-09-22",66,55,{"$f":"AVERAGE(KCITempAct[[#This Row],[KCIHigh]:[KCILow]]\n)","v":60.5},{"$f":"IF(KCITempAct[[#This Row],[KCIAve]]<65,(65-KCITempAct[[#This Row],[KCIAve]]),0)","v":4.5},{"$f":"IF(MONTH(KCITempAct[[#This Row],[Date]])=7,0,IF(MONTH(KCITempAct[[#This Row],[Date]])=8,0,KCITempAct[[#This Row],[KCIHDD]]))","v":4.5},{"$f":"SUMPRODUCT((KCINHDD[Month]=MONTH(KCITempAct[[#This Row],[Date]]))*(KCINHDD[Day]=DAY(KCITempAct[[#This Row],[Date]]))*KCINHDD[KCINHDD])","v":3.45},{"$f":"IF(MONTH(KCITempAct[[#This Row],[Date]])=7,0,IF(MONTH(KCITempAct[[#This Row],[Date]])=8,0,KCITempAct[[#This Row],[KCINHDD]]))","v":3.45},"Adj HDD and NDD =0 for July and August"]
["2022-09-23",67,54,{"$f":"AVERAGE(KCITempAct[[#This Row],[KCIHigh]:[KCILow]]\n)","v":60.5},{"$f":"IF(KCITempAct[[#This Row],[KCIAve]]<65,(65-KCITempAct[[#This Row],[KCIAve]]),0)","v":4.5},{"$f":"IF(MONTH(KCITempAct[[#This Row],[Date]])=7,0,IF(MONTH(KCITempAct[[#This Row],[Date]])=8,0,KCITempAct[[#This Row],[KCIHDD]]))","v":4.5},{"$f":"SUMPRODUCT((KCINHDD[Month]=MONTH(KCITempAct[[#This Row],[Date]]))*(KCINHDD[Day]=DAY(KCITempAct[[#This Row],[Date]]))*KCINHDD[KCINHDD])","v":3.3},{"$f":"IF(MONTH(KCITempAct[[#This Row],[Date]])=7,0,IF(MONTH(KCITempAct[[#This Row],[Date]])=8,0,KCITempAct[[#This Row],[KCINHDD]]))","v":3.3},"Adj HDD and NDD =0 for July and August"]
["2022-09-24",90,48,{"$f":"AVERAGE(KCITempAct[[#This Row],[KCIHigh]:[KCILow]]\n)","v":69},{"$f":"IF(KCITempAct[[#This Row],[KCIAve]]<65,(65-KCITempAct[[#This Row],[KCIAve]]),0)","v":0},{"$f":"IF(MONTH(KCITempAct[[#This Row],[Date]])=7,0,IF(MONTH(KCITempAct[[#This Row],[Date]])=8,0,KCITempAct[[#This Row],[KCIHDD]]))","v":0},{"$f":"SUMPRODUCT((KCINHDD[Month]=MONTH(KCITempAct[[#This Row],[Date]]))*(KCINHDD[Day]=DAY(KCITempAct[[#This Row],[Date]]))*KCINHDD[KCINHDD])","v":3.1833333333333331},{"$f":"IF(MONTH(KCITempAct[[#This Row],[Date]])=7,0,IF(MONTH(KCITempAct[[#This Row],[Date]])=8,0,KCITempAct[[#This Row],[KCINHDD]]))","v":3.1833333333333331},"Adj HDD and NDD =0 for July and August"]
["2022-09-25",80,56,{"$f":"AVERAGE(KCITempAct[[#This Row],[KCIHigh]:[KCILow]]\n)","v":68},{"$f":"IF(KCITempAct[[#This Row],[KCIAve]]<65,(65-KCITempAct[[#This Row],[KCIAve]]),0)","v":0},{"$f":"IF(MONTH(KCITempAct[[#This Row],[Date]])=7,0,IF(MONTH(KCITempAct[[#This Row],[Date]])=8,0,KCITempAct[[#This Row],[KCIHDD]]))","v":0},{"$f":"SUMPRODUCT((KCINHDD[Month]=MONTH(KCITempAct[[#This Row],[Date]]))*(KCINHDD[Day]=DAY(KCITempAct[[#This Row],[Date]]))*KCINHDD[KCINHDD])","v":2.95},{"$f":"IF(MONTH(KCITempAct[[#This Row],[Date]])=7,0,IF(MONTH(KCITempAct[[#This Row],[Date]])=8,0,KCITempAct[[#This Row],[KCINHDD]]))","v":2.95},"Adj HDD and NDD =0 for July and August"]
["2022-09-26",76,49,{"$f":"AVERAGE(KCITempAct[[#This Row],[KCIHigh]:[KCILow]]\n)","v":62.5},{"$f":"IF(KCITempAct[[#This Row],[KCIAve]]<65,(65-KCITempAct[[#This Row],[KCIAve]]),0)","v":2.5},{"$f":"IF(MONTH(KCITempAct[[#This Row],[Date]])=7,0,IF(MONTH(KCITempAct[[#This Row],[Date]])=8,0,KCITempAct[[#This Row],[KCIHDD]]))","v":2.5},{"$f":"SUMPRODUCT((KCINHDD[Month]=MONTH(KCITempAct[[#This Row],[Date]]))*(KCINHDD[Day]=DAY(KCITempAct[[#This Row],[Date]]))*KCINHDD[KCINHDD])","v":3.1333333333333333},{"$f":"IF(MONTH(KCITempAct[[#This Row],[Date]])=7,0,IF(MONTH(KCITempAct[[#This Row],[Date]])=8,0,KCITempAct[[#This Row],[KCINHDD]]))","v":3.1333333333333333},"Adj HDD and NDD =0 for July and August"]
["2022-09-27",83,50,{"$f":"AVERAGE(KCITempAct[[#This Row],[KCIHigh]:[KCILow]]\n)","v":66.5},{"$f":"IF(KCITempAct[[#This Row],[KCIAve]]<65,(65-KCITempAct[[#This Row],[KCIAve]]),0)","v":0},{"$f":"IF(MONTH(KCITempAct[[#This Row],[Date]])=7,0,IF(MONTH(KCITempAct[[#This Row],[Date]])=8,0,KCITempAct[[#This Row],[KCIHDD]]))","v":0},{"$f":"SUMPRODUCT((KCINHDD[Month]=MONTH(KCITempAct[[#This Row],[Date]]))*(KCINHDD[Day]=DAY(KCITempAct[[#This Row],[Date]]))*KCINHDD[KCINHDD])","v":3.0666666666666669},{"$f":"IF(MONTH(KCITempAct[[#This Row],[Date]])=7,0,IF(MONTH(KCITempAct[[#This Row],[Date]])=8,0,KCITempAct[[#This Row],[KCINHDD]]))","v":3.0666666666666669},"Adj HDD and NDD =0 for July and August"]
["2022-09-28",73,49,{"$f":"AVERAGE(KCITempAct[[#This Row],[KCIHigh]:[KCILow]]\n)","v":61},{"$f":"IF(KCITempAct[[#This Row],[KCIAve]]<65,(65-KCITempAct[[#This Row],[KCIAve]]),0)","v":4},{"$f":"IF(MONTH(KCITempAct[[#This Row],[Date]])=7,0,IF(MONTH(KCITempAct[[#This Row],[Date]])=8,0,KCITempAct[[#This Row],[KCIHDD]]))","v":4},{"$f":"SUMPRODUCT((KCINHDD[Month]=MONTH(KCITempAct[[#This Row],[Date]]))*(KCINHDD[Day]=DAY(KCITempAct[[#This Row],[Date]]))*KCINHDD[KCINHDD])","v":3.5666666666666669},{"$f":"IF(MONTH(KCITempAct[[#This Row],[Date]])=7,0,IF(MONTH(KCITempAct[[#This Row],[Date]])=8,0,KCITempAct[[#This Row],[KCINHDD]]))","v":3.5666666666666669},"Adj HDD and NDD =0 for July and August"]
["2022-09-29",74,46,{"$f":"AVERAGE(KCITempAct[[#This Row],[KCIHigh]:[KCILow]]\n)","v":60},{"$f":"IF(KCITempAct[[#This Row],[KCIAve]]<65,(65-KCITempAct[[#This Row],[KCIAve]]),0)","v":5},{"$f":"IF(MONTH(KCITempAct[[#This Row],[Date]])=7,0,IF(MONTH(KCITempAct[[#This Row],[Date]])=8,0,KCITempAct[[#This Row],[KCIHDD]]))","v":5},{"$f":"SUMPRODUCT((KCINHDD[Month]=MONTH(KCITempAct[[#This Row],[Date]]))*(KCINHDD[Day]=DAY(KCITempAct[[#This Row],[Date]]))*KCINHDD[KCINHDD])","v":4.2666666666666666},{"$f":"IF(MONTH(KCITempAct[[#This Row],[Date]])=7,0,IF(MONTH(KCITempAct[[#This Row],[Date]])=8,0,KCITempAct[[#This Row],[KCINHDD]]))","v":4.2666666666666666},"Adj HDD and NDD =0 for July and August"]
["2022-09-30",76,47,{"$f":"AVERAGE(KCITempAct[[#This Row],[KCIHigh]:[KCILow]]\n)","v":61.5},{"$f":"IF(KCITempAct[[#This Row],[KCIAve]]<65,(65-KCITempAct[[#This Row],[KCIAve]]),0)","v":3.5},{"$f":"IF(MONTH(KCITempAct[[#This Row],[Date]])=7,0,IF(MONTH(KCITempAct[[#This Row],[Date]])=8,0,KCITempAct[[#This Row],[KCIHDD]]))","v":3.5},{"$f":"SUMPRODUCT((KCINHDD[Month]=MONTH(KCITempAct[[#This Row],[Date]]))*(KCINHDD[Day]=DAY(KCITempAct[[#This Row],[Date]]))*KCINHDD[KCINHDD])","v":2.4166666666666665},{"$f":"IF(MONTH(KCITempAct[[#This Row],[Date]])=7,0,IF(MONTH(KCITempAct[[#This Row],[Date]])=8,0,KCITempAct[[#This Row],[KCINHDD]]))","v":2.4166666666666665},"Adj HDD and NDD =0 for July and August"]
["2022-10-01",78,50,{"$f":"AVERAGE(KCITempAct[[#This Row],[KCIHigh]:[KCILow]]\n)","v":64},{"$f":"IF(KCITempAct[[#This Row],[KCIAve]]<65,(65-KCITempAct[[#This Row],[KCIAve]]),0)","v":1},{"$f":"IF(MONTH(KCITempAct[[#This Row],[Date]])=7,0,IF(MONTH(KCITempAct[[#This Row],[Date]])=8,0,KCITempAct[[#This Row],[KCIHDD]]))","v":1},{"$f":"SUMPRODUCT((KCINHDD[Month]=MONTH(KCITempAct[[#This Row],[Date]]))*(KCINHDD[Day]=DAY(KCITempAct[[#This Row],[Date]]))*KCINHDD[KCINHDD])","v":2.95},{"$f":"IF(MONTH(KCITempAct[[#This Row],[Date]])=7,0,IF(MONTH(KCITempAct[[#This Row],[Date]])=8,0,KCITempAct[[#This Row],[KCINHDD]]))","v":2.95},"Adj HDD and NDD =0 for July and August"]
["2022-10-02",80,50,{"$f":"AVERAGE(KCITempAct[[#This Row],[KCIHigh]:[KCILow]]\n)","v":65},{"$f":"IF(KCITempAct[[#This Row],[KCIAve]]<65,(65-KCITempAct[[#This Row],[KCIAve]]),0)","v":0},{"$f":"IF(MONTH(KCITempAct[[#This Row],[Date]])=7,0,IF(MONTH(KCITempAct[[#This Row],[Date]])=8,0,KCITempAct[[#This Row],[KCIHDD]]))","v":0},{"$f":"SUMPRODUCT((KCINHDD[Month]=MONTH(KCITempAct[[#This Row],[Date]]))*(KCINHDD[Day]=DAY(KCITempAct[[#This Row],[Date]]))*KCINHDD[KCINHDD])","v":5.1833333333333336},{"$f":"IF(MONTH(KCITempAct[[#This Row],[Date]])=7,0,IF(MONTH(KCITempAct[[#This Row],[Date]])=8,0,KCITempAct[[#This Row],[KCINHDD]]))","v":5.1833333333333336},"Adj HDD and NDD =0 for July and August"]
["2022-10-03",82,53,{"$f":"AVERAGE(KCITempAct[[#This Row],[KCIHigh]:[KCILow]]\n)","v":67.5},{"$f":"IF(KCITempAct[[#This Row],[KCIAve]]<65,(65-KCITempAct[[#This Row],[KCIAve]]),0)","v":0},{"$f":"IF(MONTH(KCITempAct[[#This Row],[Date]])=7,0,IF(MONTH(KCITempAct[[#This Row],[Date]])=8,0,KCITempAct[[#This Row],[KCIHDD]]))","v":0},{"$f":"SUMPRODUCT((KCINHDD[Month]=MONTH(KCITempAct[[#This Row],[Date]]))*(KCINHDD[Day]=DAY(KCITempAct[[#This Row],[Date]]))*KCINHDD[KCINHDD])","v":5.2166666666666668},{"$f":"IF(MONTH(KCITempAct[[#This Row],[Date]])=7,0,IF(MONTH(KCITempAct[[#This Row],[Date]])=8,0,KCITempAct[[#This Row],[KCINHDD]]))","v":5.2166666666666668},"Adj HDD and NDD =0 for July and August"]
["2022-10-04",83,55,{"$f":"AVERAGE(KCITempAct[[#This Row],[KCIHigh]:[KCILow]]\n)","v":69},{"$f":"IF(KCITempAct[[#This Row],[KCIAve]]<65,(65-KCITempAct[[#This Row],[KCIAve]]),0)","v":0},{"$f":"IF(MONTH(KCITempAct[[#This Row],[Date]])=7,0,IF(MONTH(KCITempAct[[#This Row],[Date]])=8,0,KCITempAct[[#This Row],[KCIHDD]]))","v":0},{"$f":"SUMPRODUCT((KCINHDD[Month]=MONTH(KCITempAct[[#This Row],[Date]]))*(KCINHDD[Day]=DAY(KCITempAct[[#This Row],[Date]]))*KCINHDD[KCINHDD])","v":6.083333333333333},{"$f":"IF(MONTH(KCITempAct[[#This Row],[Date]])=7,0,IF(MONTH(KCITempAct[[#This Row],[Date]])=8,0,KCITempAct[[#This Row],[KCINHDD]]))","v":6.083333333333333},"Adj HDD and NDD =0 for July and August"]
["2022-10-05",83,59,{"$f":"AVERAGE(KCITempAct[[#This Row],[KCIHigh]:[KCILow]]\n)","v":71},{"$f":"IF(KCITempAct[[#This Row],[KCIAve]]<65,(65-KCITempAct[[#This Row],[KCIAve]]),0)","v":0},{"$f":"IF(MONTH(KCITempAct[[#This Row],[Date]])=7,0,IF(MONTH(KCITempAct[[#This Row],[Date]])=8,0,KCITempAct[[#This Row],[KCIHDD]]))","v":0},{"$f":"SUMPRODUCT((KCINHDD[Month]=MONTH(KCITempAct[[#This Row],[Date]]))*(KCINHDD[Day]=DAY(KCITempAct[[#This Row],[Date]]))*KCINHDD[KCINHDD])","v":5.9333333333333336},{"$f":"IF(MONTH(KCITempAct[[#This Row],[Date]])=7,0,IF(MONTH(KCITempAct[[#This Row],[Date]])=8,0,KCITempAct[[#This Row],[KCINHDD]]))","v":5.9333333333333336},"Adj HDD and NDD =0 for July and August"]
["2022-10-06",84,51,{"$f":"AVERAGE(KCITempAct[[#This Row],[KCIHigh]:[KCILow]]\n)","v":67.5},{"$f":"IF(KCITempAct[[#This Row],[KCIAve]]<65,(65-KCITempAct[[#This Row],[KCIAve]]),0)","v":0},{"$f":"IF(MONTH(KCITempAct[[#This Row],[Date]])=7,0,IF(MONTH(KCITempAct[[#This Row],[Date]])=8,0,KCITempAct[[#This Row],[KCIHDD]]))","v":0},{"$f":"SUMPRODUCT((KCINHDD[Month]=MONTH(KCITempAct[[#This Row],[Date]]))*(KCINHDD[Day]=DAY(KCITempAct[[#This Row],[Date]]))*KCINHDD[KCINHDD])","v":6.6833333333333336},{"$f":"IF(MONTH(KCITempAct[[#This Row],[Date]])=7,0,IF(MONTH(KCITempAct[[#This Row],[Date]])=8,0,KCITempAct[[#This Row],[KCINHDD]]))","v":6.6833333333333336},"Adj HDD and NDD =0 for July and August"]
["2022-10-07",62,42,{"$f":"AVERAGE(KCITempAct[[#This Row],[KCIHigh]:[KCILow]]\n)","v":52},{"$f":"IF(KCITempAct[[#This Row],[KCIAve]]<65,(65-KCITempAct[[#This Row],[KCIAve]]),0)","v":13},{"$f":"IF(MONTH(KCITempAct[[#This Row],[Date]])=7,0,IF(MONTH(KCITempAct[[#This Row],[Date]])=8,0,KCITempAct[[#This Row],[KCIHDD]]))","v":13},{"$f":"SUMPRODUCT((KCINHDD[Month]=MONTH(KCITempAct[[#This Row],[Date]]))*(KCINHDD[Day]=DAY(KCITempAct[[#This Row],[Date]]))*KCINHDD[KCINHDD])","v":6.95},{"$f":"IF(MONTH(KCITempAct[[#This Row],[Date]])=7,0,IF(MONTH(KCITempAct[[#This Row],[Date]])=8,0,KCITempAct[[#This Row],[KCINHDD]]))","v":6.95},"Adj HDD and NDD =0 for July and August"]
["2022-10-08",66,35,{"$f":"AVERAGE(KCITempAct[[#This Row],[KCIHigh]:[KCILow]]\n)","v":50.5},{"$f":"IF(KCITempAct[[#This Row],[KCIAve]]<65,(65-KCITempAct[[#This Row],[KCIAve]]),0)","v":14.5},{"$f":"IF(MONTH(KCITempAct[[#This Row],[Date]])=7,0,IF(MONTH(KCITempAct[[#This Row],[Date]])=8,0,KCITempAct[[#This Row],[KCIHDD]]))","v":14.5},{"$f":"SUMPRODUCT((KCINHDD[Month]=MONTH(KCITempAct[[#This Row],[Date]]))*(KCINHDD[Day]=DAY(KCITempAct[[#This Row],[Date]]))*KCINHDD[KCINHDD])","v":6.35},{"$f":"IF(MONTH(KCITempAct[[#This Row],[Date]])=7,0,IF(MONTH(KCITempAct[[#This Row],[Date]])=8,0,KCITempAct[[#This Row],[KCINHDD]]))","v":6.35},"Adj HDD and NDD =0 for July and August"]
["2022-10-09",78,42,{"$f":"AVERAGE(KCITempAct[[#This Row],[KCIHigh]:[KCILow]]\n)","v":60},{"$f":"IF(KCITempAct[[#This Row],[KCIAve]]<65,(65-KCITempAct[[#This Row],[KCIAve]]),0)","v":5},{"$f":"IF(MONTH(KCITempAct[[#This Row],[Date]])=7,0,IF(MONTH(KCITempAct[[#This Row],[Date]])=8,0,KCITempAct[[#This Row],[KCIHDD]]))","v":5},{"$f":"SUMPRODUCT((KCINHDD[Month]=MONTH(KCITempAct[[#This Row],[Date]]))*(KCINHDD[Day]=DAY(KCITempAct[[#This Row],[Date]]))*KCINHDD[KCINHDD])","v":6.2833333333333332},{"$f":"IF(MONTH(KCITempAct[[#This Row],[Date]])=7,0,IF(MONTH(KCITempAct[[#This Row],[Date]])=8,0,KCITempAct[[#This Row],[KCINHDD]]))","v":6.2833333333333332},"Adj HDD and NDD =0 for July and August"]
["2022-10-10",82,49,{"$f":"AVERAGE(KCITempAct[[#This Row],[KCIHigh]:[KCILow]]\n)","v":65.5},{"$f":"IF(KCITempAct[[#This Row],[KCIAve]]<65,(65-KCITempAct[[#This Row],[KCIAve]]),0)","v":0},{"$f":"IF(MONTH(KCITempAct[[#This Row],[Date]])=7,0,IF(MONTH(KCITempAct[[#This Row],[Date]])=8,0,KCITempAct[[#This Row],[KCIHDD]]))","v":0},{"$f":"SUMPRODUCT((KCINHDD[Month]=MONTH(KCITempAct[[#This Row],[Date]]))*(KCINHDD[Day]=DAY(KCITempAct[[#This Row],[Date]]))*KCINHDD[KCINHDD])","v":8.1666666666666661},{"$f":"IF(MONTH(KCITempAct[[#This Row],[Date]])=7,0,IF(MONTH(KCITempAct[[#This Row],[Date]])=8,0,KCITempAct[[#This Row],[KCINHDD]]))","v":8.1666666666666661},"Adj HDD and NDD =0 for July and August"]
["2022-10-11",83,64,{"$f":"AVERAGE(KCITempAct[[#This Row],[KCIHigh]:[KCILow]]\n)","v":73.5},{"$f":"IF(KCITempAct[[#This Row],[KCIAve]]<65,(65-KCITempAct[[#This Row],[KCIAve]]),0)","v":0},{"$f":"IF(MONTH(KCITempAct[[#This Row],[Date]])=7,0,IF(MONTH(KCITempAct[[#This Row],[Date]])=8,0,KCITempAct[[#This Row],[KCIHDD]]))","v":0},{"$f":"SUMPRODUCT((KCINHDD[Month]=MONTH(KCITempAct[[#This Row],[Date]]))*(KCINHDD[Day]=DAY(KCITempAct[[#This Row],[Date]]))*KCINHDD[KCINHDD])","v":8.1333333333333329},{"$f":"IF(MONTH(KCITempAct[[#This Row],[Date]])=7,0,IF(MONTH(KCITempAct[[#This Row],[Date]])=8,0,KCITempAct[[#This Row],[KCINHDD]]))","v":8.1333333333333329},"Adj HDD and NDD =0 for July and August"]
["2022-10-12",73,46,{"$f":"AVERAGE(KCITempAct[[#This Row],[KCIHigh]:[KCILow]]\n)","v":59.5},{"$f":"IF(KCITempAct[[#This Row],[KCIAve]]<65,(65-KCITempAct[[#This Row],[KCIAve]]),0)","v":5.5},{"$f":"IF(MONTH(KCITempAct[[#This Row],[Date]])=7,0,IF(MONTH(KCITempAct[[#This Row],[Date]])=8,0,KCITempAct[[#This Row],[KCIHDD]]))","v":5.5},{"$f":"SUMPRODUCT((KCINHDD[Month]=MONTH(KCITempAct[[#This Row],[Date]]))*(KCINHDD[Day]=DAY(KCITempAct[[#This Row],[Date]]))*KCINHDD[KCINHDD])","v":7.75},{"$f":"IF(MONTH(KCITempAct[[#This Row],[Date]])=7,0,IF(MONTH(KCITempAct[[#This Row],[Date]])=8,0,KCITempAct[[#This Row],[KCINHDD]]))","v":7.75},"Adj HDD and NDD =0 for July and August"]
["2022-10-13",66,43,{"$f":"AVERAGE(KCITempAct[[#This Row],[KCIHigh]:[KCILow]]\n)","v":54.5},{"$f":"IF(KCITempAct[[#This Row],[KCIAve]]<65,(65-KCITempAct[[#This Row],[KCIAve]]),0)","v":10.5},{"$f":"IF(MONTH(KCITempAct[[#This Row],[Date]])=7,0,IF(MONTH(KCITempAct[[#This Row],[Date]])=8,0,KCITempAct[[#This Row],[KCIHDD]]))","v":10.5},{"$f":"SUMPRODUCT((KCINHDD[Month]=MONTH(KCITempAct[[#This Row],[Date]]))*(KCINHDD[Day]=DAY(KCITempAct[[#This Row],[Date]]))*KCINHDD[KCINHDD])","v":8.3666666666666671},{"$f":"IF(MONTH(KCITempAct[[#This Row],[Date]])=7,0,IF(MONTH(KCITempAct[[#This Row],[Date]])=8,0,KCITempAct[[#This Row],[KCINHDD]]))","v":8.3666666666666671},"Adj HDD and NDD =0 for July and August"]
["2022-10-14",75,40,{"$f":"AVERAGE(KCITempAct[[#This Row],[KCIHigh]:[KCILow]]\n)","v":57.5},{"$f":"IF(KCITempAct[[#This Row],[KCIAve]]<65,(65-KCITempAct[[#This Row],[KCIAve]]),0)","v":7.5},{"$f":"IF(MONTH(KCITempAct[[#This Row],[Date]])=7,0,IF(MONTH(KCITempAct[[#This Row],[Date]])=8,0,KCITempAct[[#This Row],[KCIHDD]]))","v":7.5},{"$f":"SUMPRODUCT((KCINHDD[Month]=MONTH(KCITempAct[[#This Row],[Date]]))*(KCINHDD[Day]=DAY(KCITempAct[[#This Row],[Date]]))*KCINHDD[KCINHDD])","v":8.0500000000000007},{"$f":"IF(MONTH(KCITempAct[[#This Row],[Date]])=7,0,IF(MONTH(KCITempAct[[#This Row],[Date]])=8,0,KCITempAct[[#This Row],[KCINHDD]]))","v":8.0500000000000007},"Adj HDD and NDD =0 for July and August"]
["2022-10-15",72,35,{"$f":"AVERAGE(KCITempAct[[#This Row],[KCIHigh]:[KCILow]]\n)","v":53.5},{"$f":"IF(KCITempAct[[#This Row],[KCIAve]]<65,(65-KCITempAct[[#This Row],[KCIAve]]),0)","v":11.5},{"$f":"IF(MONTH(KCITempAct[[#This Row],[Date]])=7,0,IF(MONTH(KCITempAct[[#This Row],[Date]])=8,0,KCITempAct[[#This Row],[KCIHDD]]))","v":11.5},{"$f":"SUMPRODUCT((KCINHDD[Month]=MONTH(KCITempAct[[#This Row],[Date]]))*(KCINHDD[Day]=DAY(KCITempAct[[#This Row],[Date]]))*KCINHDD[KCINHDD])","v":9.6},{"$f":"IF(MONTH(KCITempAct[[#This Row],[Date]])=7,0,IF(MONTH(KCITempAct[[#This Row],[Date]])=8,0,KCITempAct[[#This Row],[KCINHDD]]))","v":9.6},"Adj HDD and NDD =0 for July and August"]
["2022-10-16",66,42,{"$f":"AVERAGE(KCITempAct[[#This Row],[KCIHigh]:[KCILow]]\n)","v":54},{"$f":"IF(KCITempAct[[#This Row],[KCIAve]]<65,(65-KCITempAct[[#This Row],[KCIAve]]),0)","v":11},{"$f":"IF(MONTH(KCITempAct[[#This Row],[Date]])=7,0,IF(MONTH(KCITempAct[[#This Row],[Date]])=8,0,KCITempAct[[#This Row],[KCIHDD]]))","v":11},{"$f":"SUMPRODUCT((KCINHDD[Month]=MONTH(KCITempAct[[#This Row],[Date]]))*(KCINHDD[Day]=DAY(KCITempAct[[#This Row],[Date]]))*KCINHDD[KCINHDD])","v":9.9499999999999993},{"$f":"IF(MONTH(KCITempAct[[#This Row],[Date]])=7,0,IF(MONTH(KCITempAct[[#This Row],[Date]])=8,0,KCITempAct[[#This Row],[KCINHDD]]))","v":9.9499999999999993},"Adj HDD and NDD =0 for July and August"]
["2022-10-17",52,33,{"$f":"AVERAGE(KCITempAct[[#This Row],[KCIHigh]:[KCILow]]\n)","v":42.5},{"$f":"IF(KCITempAct[[#This Row],[KCIAve]]<65,(65-KCITempAct[[#This Row],[KCIAve]]),0)","v":22.5},{"$f":"IF(MONTH(KCITempAct[[#This Row],[Date]])=7,0,IF(MONTH(KCITempAct[[#This Row],[Date]])=8,0,KCITempAct[[#This Row],[KCIHDD]]))","v":22.5},{"$f":"SUMPRODUCT((KCINHDD[Month]=MONTH(KCITempAct[[#This Row],[Date]]))*(KCINHDD[Day]=DAY(KCITempAct[[#This Row],[Date]]))*KCINHDD[KCINHDD])","v":9.4833333333333325},{"$f":"IF(MONTH(KCITempAct[[#This Row],[Date]])=7,0,IF(MONTH(KCITempAct[[#This Row],[Date]])=8,0,KCITempAct[[#This Row],[KCINHDD]]))","v":9.4833333333333325},"Adj HDD and NDD =0 for July and August"]
["2022-10-18",47,25,{"$f":"AVERAGE(KCITempAct[[#This Row],[KCIHigh]:[KCILow]]\n)","v":36},{"$f":"IF(KCITempAct[[#This Row],[KCIAve]]<65,(65-KCITempAct[[#This Row],[KCIAve]]),0)","v":29},{"$f":"IF(MONTH(KCITempAct[[#This Row],[Date]])=7,0,IF(MONTH(KCITempAct[[#This Row],[Date]])=8,0,KCITempAct[[#This Row],[KCIHDD]]))","v":29},{"$f":"SUMPRODUCT((KCINHDD[Month]=MONTH(KCITempAct[[#This Row],[Date]]))*(KCINHDD[Day]=DAY(KCITempAct[[#This Row],[Date]]))*KCINHDD[KCINHDD])","v":10.65},{"$f":"IF(MONTH(KCITempAct[[#This Row],[Date]])=7,0,IF(MONTH(KCITempAct[[#This Row],[Date]])=8,0,KCITempAct[[#This Row],[KCINHDD]]))","v":10.65},"Adj HDD and NDD =0 for July and August"]
["2022-10-19",58,24,{"$f":"AVERAGE(KCITempAct[[#This Row],[KCIHigh]:[KCILow]]\n)","v":41},{"$f":"IF(KCITempAct[[#This Row],[KCIAve]]<65,(65-KCITempAct[[#This Row],[KCIAve]]),0)","v":24},{"$f":"IF(MONTH(KCITempAct[[#This Row],[Date]])=7,0,IF(MONTH(KCITempAct[[#This Row],[Date]])=8,0,KCITempAct[[#This Row],[KCIHDD]]))","v":24},{"$f":"SUMPRODUCT((KCINHDD[Month]=MONTH(KCITempAct[[#This Row],[Date]]))*(KCINHDD[Day]=DAY(KCITempAct[[#This Row],[Date]]))*KCINHDD[KCINHDD])","v":10.8},{"$f":"IF(MONTH(KCITempAct[[#This Row],[Date]])=7,0,IF(MONTH(KCITempAct[[#This Row],[Date]])=8,0,KCITempAct[[#This Row],[KCINHDD]]))","v":10.8},"Adj HDD and NDD =0 for July and August"]
["2022-10-20",79,41,{"$f":"AVERAGE(KCITempAct[[#This Row],[KCIHigh]:[KCILow]]\n)","v":60},{"$f":"IF(KCITempAct[[#This Row],[KCIAve]]<65,(65-KCITempAct[[#This Row],[KCIAve]]),0)","v":5},{"$f":"IF(MONTH(KCITempAct[[#This Row],[Date]])=7,0,IF(MONTH(KCITempAct[[#This Row],[Date]])=8,0,KCITempAct[[#This Row],[KCIHDD]]))","v":5},{"$f":"SUMPRODUCT((KCINHDD[Month]=MONTH(KCITempAct[[#This Row],[Date]]))*(KCINHDD[Day]=DAY(KCITempAct[[#This Row],[Date]]))*KCINHDD[KCINHDD])","v":9.4666666666666668},{"$f":"IF(MONTH(KCITempAct[[#This Row],[Date]])=7,0,IF(MONTH(KCITempAct[[#This Row],[Date]])=8,0,KCITempAct[[#This Row],[KCINHDD]]))","v":9.4666666666666668},"Adj HDD and NDD =0 for July and August"]
["2022-10-21",88,47,{"$f":"AVERAGE(KCITempAct[[#This Row],[KCIHigh]:[KCILow]]\n)","v":67.5},{"$f":"IF(KCITempAct[[#This Row],[KCIAve]]<65,(65-KCITempAct[[#This Row],[KCIAve]]),0)","v":0},{"$f":"IF(MONTH(KCITempAct[[#This Row],[Date]])=7,0,IF(MONTH(KCITempAct[[#This Row],[Date]])=8,0,KCITempAct[[#This Row],[KCIHDD]]))","v":0},{"$f":"SUMPRODUCT((KCINHDD[Month]=MONTH(KCITempAct[[#This Row],[Date]]))*(KCINHDD[Day]=DAY(KCITempAct[[#This Row],[Date]]))*KCINHDD[KCINHDD])","v":9.7166666666666668},{"$f":"IF(MONTH(KCITempAct[[#This Row],[Date]])=7,0,IF(MONTH(KCITempAct[[#This Row],[Date]])=8,0,KCITempAct[[#This Row],[KCINHDD]]))","v":9.7166666666666668},"Adj HDD and NDD =0 for July and August"]
["2022-10-22",83,65,{"$f":"AVERAGE(KCITempAct[[#This Row],[KCIHigh]:[KCILow]]\n)","v":74},{"$f":"IF(KCITempAct[[#This Row],[KCIAve]]<65,(65-KCITempAct[[#This Row],[KCIAve]]),0)","v":0},{"$f":"IF(MONTH(KCITempAct[[#This Row],[Date]])=7,0,IF(MONTH(KCITempAct[[#This Row],[Date]])=8,0,KCITempAct[[#This Row],[KCIHDD]]))","v":0},{"$f":"SUMPRODUCT((KCINHDD[Month]=MONTH(KCITempAct[[#This Row],[Date]]))*(KCINHDD[Day]=DAY(KCITempAct[[#This Row],[Date]]))*KCINHDD[KCINHDD])","v":9.5},{"$f":"IF(MONTH(KCITempAct[[#This Row],[Date]])=7,0,IF(MONTH(KCITempAct[[#This Row],[Date]])=8,0,KCITempAct[[#This Row],[KCINHDD]]))","v":9.5},"Adj HDD and NDD =0 for July and August"]
["2022-10-23",87,68,{"$f":"AVERAGE(KCITempAct[[#This Row],[KCIHigh]:[KCILow]]\n)","v":77.5},{"$f":"IF(KCITempAct[[#This Row],[KCIAve]]<65,(65-KCITempAct[[#This Row],[KCIAve]]),0)","v":0},{"$f":"IF(MONTH(KCITempAct[[#This Row],[Date]])=7,0,IF(MONTH(KCITempAct[[#This Row],[Date]])=8,0,KCITempAct[[#This Row],[KCIHDD]]))","v":0},{"$f":"SUMPRODUCT((KCINHDD[Month]=MONTH(KCITempAct[[#This Row],[Date]]))*(KCINHDD[Day]=DAY(KCITempAct[[#This Row],[Date]]))*KCINHDD[KCINHDD])","v":11.066666666666666},{"$f":"IF(MONTH(KCITempAct[[#This Row],[Date]])=7,0,IF(MONTH(KCITempAct[[#This Row],[Date]])=8,0,KCITempAct[[#This Row],[KCINHDD]]))","v":11.066666666666666},"Adj HDD and NDD =0 for July and August"]
["2022-10-24",76,45,{"$f":"AVERAGE(KCITempAct[[#This Row],[KCIHigh]:[KCILow]]\n)","v":60.5},{"$f":"IF(KCITempAct[[#This Row],[KCIAve]]<65,(65-KCITempAct[[#This Row],[KCIAve]]),0)","v":4.5},{"$f":"IF(MONTH(KCITempAct[[#This Row],[Date]])=7,0,IF(MONTH(KCITempAct[[#This Row],[Date]])=8,0,KCITempAct[[#This Row],[KCIHDD]]))","v":4.5},{"$f":"SUMPRODUCT((KCINHDD[Month]=MONTH(KCITempAct[[#This Row],[Date]]))*(KCINHDD[Day]=DAY(KCITempAct[[#This Row],[Date]]))*KCINHDD[KCINHDD])","v":12.433333333333334},{"$f":"IF(MONTH(KCITempAct[[#This Row],[Date]])=7,0,IF(MONTH(KCITempAct[[#This Row],[Date]])=8,0,KCITempAct[[#This Row],[KCINHDD]]))","v":12.433333333333334},"Adj HDD and NDD =0 for July and August"]
["2022-10-25",57,42,{"$f":"AVERAGE(KCITempAct[[#This Row],[KCIHigh]:[KCILow]]\n)","v":49.5},{"$f":"IF(KCITempAct[[#This Row],[KCIAve]]<65,(65-KCITempAct[[#This Row],[KCIAve]]),0)","v":15.5},{"$f":"IF(MONTH(KCITempAct[[#This Row],[Date]])=7,0,IF(MONTH(KCITempAct[[#This Row],[Date]])=8,0,KCITempAct[[#This Row],[KCIHDD]]))","v":15.5},{"$f":"SUMPRODUCT((KCINHDD[Month]=MONTH(KCITempAct[[#This Row],[Date]]))*(KCINHDD[Day]=DAY(KCITempAct[[#This Row],[Date]]))*KCINHDD[KCINHDD])","v":12.15},{"$f":"IF(MONTH(KCITempAct[[#This Row],[Date]])=7,0,IF(MONTH(KCITempAct[[#This Row],[Date]])=8,0,KCITempAct[[#This Row],[KCINHDD]]))","v":12.15},"Adj HDD and NDD =0 for July and August"]
["2022-10-26",65,38,{"$f":"AVERAGE(KCITempAct[[#This Row],[KCIHigh]:[KCILow]]\n)","v":51.5},{"$f":"IF(KCITempAct[[#This Row],[KCIAve]]<65,(65-KCITempAct[[#This Row],[KCIAve]]),0)","v":13.5},{"$f":"IF(MONTH(KCITempAct[[#This Row],[Date]])=7,0,IF(MONTH(KCITempAct[[#This Row],[Date]])=8,0,KCITempAct[[#This Row],[KCIHDD]]))","v":13.5},{"$f":"SUMPRODUCT((KCINHDD[Month]=MONTH(KCITempAct[[#This Row],[Date]]))*(KCINHDD[Day]=DAY(KCITempAct[[#This Row],[Date]]))*KCINHDD[KCINHDD])","v":13.983333333333333},{"$f":"IF(MONTH(KCITempAct[[#This Row],[Date]])=7,0,IF(MONTH(KCITempAct[[#This Row],[Date]])=8,0,KCITempAct[[#This Row],[KCINHDD]]))","v":13.983333333333333},"Adj HDD and NDD =0 for July and August"]
["2022-10-27",64,46,{"$f":"AVERAGE(KCITempAct[[#This Row],[KCIHigh]:[KCILow]]\n)","v":55},{"$f":"IF(KCITempAct[[#This Row],[KCIAve]]<65,(65-KCITempAct[[#This Row],[KCIAve]]),0)","v":10},{"$f":"IF(MONTH(KCITempAct[[#This Row],[Date]])=7,0,IF(MONTH(KCITempAct[[#This Row],[Date]])=8,0,KCITempAct[[#This Row],[KCIHDD]]))","v":10},{"$f":"SUMPRODUCT((KCINHDD[Month]=MONTH(KCITempAct[[#This Row],[Date]]))*(KCINHDD[Day]=DAY(KCITempAct[[#This Row],[Date]]))*KCINHDD[KCINHDD])","v":15.2},{"$f":"IF(MONTH(KCITempAct[[#This Row],[Date]])=7,0,IF(MONTH(KCITempAct[[#This Row],[Date]])=8,0,KCITempAct[[#This Row],[KCINHDD]]))","v":15.2},"Adj HDD and NDD =0 for July and August"]
["2022-10-28",69,48,{"$f":"AVERAGE(KCITempAct[[#This Row],[KCIHigh]:[KCILow]]\n)","v":58.5},{"$f":"IF(KCITempAct[[#This Row],[KCIAve]]<65,(65-KCITempAct[[#This Row],[KCIAve]]),0)","v":6.5},{"$f":"IF(MONTH(KCITempAct[[#This Row],[Date]])=7,0,IF(MONTH(KCITempAct[[#This Row],[Date]])=8,0,KCITempAct[[#This Row],[KCIHDD]]))","v":6.5},{"$f":"SUMPRODUCT((KCINHDD[Month]=MONTH(KCITempAct[[#This Row],[Date]]))*(KCINHDD[Day]=DAY(KCITempAct[[#This Row],[Date]]))*KCINHDD[KCINHDD])","v":13.066666666666666},{"$f":"IF(MONTH(KCITempAct[[#This Row],[Date]])=7,0,IF(MONTH(KCITempAct[[#This Row],[Date]])=8,0,KCITempAct[[#This Row],[KCINHDD]]))","v":13.066666666666666},"Adj HDD and NDD =0 for July and August"]
["2022-10-29",69,42,{"$f":"AVERAGE(KCITempAct[[#This Row],[KCIHigh]:[KCILow]]\n)","v":55.5},{"$f":"IF(KCITempAct[[#This Row],[KCIAve]]<65,(65-KCITempAct[[#This Row],[KCIAve]]),0)","v":9.5},{"$f":"IF(MONTH(KCITempAct[[#This Row],[Date]])=7,0,IF(MONTH(KCITempAct[[#This Row],[Date]])=8,0,KCITempAct[[#This Row],[KCIHDD]]))","v":9.5},{"$f":"SUMPRODUCT((KCINHDD[Month]=MONTH(KCITempAct[[#This Row],[Date]]))*(KCINHDD[Day]=DAY(KCITempAct[[#This Row],[Date]]))*KCINHDD[KCINHDD])","v":12.483333333333333},{"$f":"IF(MONTH(KCITempAct[[#This Row],[Date]])=7,0,IF(MONTH(KCITempAct[[#This Row],[Date]])=8,0,KCITempAct[[#This Row],[KCINHDD]]))","v":12.483333333333333},"Adj HDD and NDD =0 for July and August"]
["2022-10-30",68,49,{"$f":"AVERAGE(KCITempAct[[#This Row],[KCIHigh]:[KCILow]]\n)","v":58.5},{"$f":"IF(KCITempAct[[#This Row],[KCIAve]]<65,(65-KCITempAct[[#This Row],[KCIAve]]),0)","v":6.5},{"$f":"IF(MONTH(KCITempAct[[#This Row],[Date]])=7,0,IF(MONTH(KCITempAct[[#This Row],[Date]])=8,0,KCITempAct[[#This Row],[KCIHDD]]))","v":6.5},{"$f":"SUMPRODUCT((KCINHDD[Month]=MONTH(KCITempAct[[#This Row],[Date]]))*(KCINHDD[Day]=DAY(KCITempAct[[#This Row],[Date]]))*KCINHDD[KCINHDD])","v":13.8},{"$f":"IF(MONTH(KCITempAct[[#This Row],[Date]])=7,0,IF(MONTH(KCITempAct[[#This Row],[Date]])=8,0,KCITempAct[[#This Row],[KCINHDD]]))","v":13.8},"Adj HDD and NDD =0 for July and August"]
["2022-10-31",71,50,{"$f":"AVERAGE(KCITempAct[[#This Row],[KCIHigh]:[KCILow]]\n)","v":60.5},{"$f":"IF(KCITempAct[[#This Row],[KCIAve]]<65,(65-KCITempAct[[#This Row],[KCIAve]]),0)","v":4.5},{"$f":"IF(MONTH(KCITempAct[[#This Row],[Date]])=7,0,IF(MONTH(KCITempAct[[#This Row],[Date]])=8,0,KCITempAct[[#This Row],[KCIHDD]]))","v":4.5},{"$f":"SUMPRODUCT((KCINHDD[Month]=MONTH(KCITempAct[[#This Row],[Date]]))*(KCINHDD[Day]=DAY(KCITempAct[[#This Row],[Date]]))*KCINHDD[KCINHDD])","v":16.666666666666668},{"$f":"IF(MONTH(KCITempAct[[#This Row],[Date]])=7,0,IF(MONTH(KCITempAct[[#This Row],[Date]])=8,0,KCITempAct[[#This Row],[KCINHDD]]))","v":16.666666666666668},"Adj HDD and NDD =0 for July and August"]
["2022-11-01",80,46,{"$f":"AVERAGE(KCITempAct[[#This Row],[KCIHigh]:[KCILow]]\n)","v":63},{"$f":"IF(KCITempAct[[#This Row],[KCIAve]]<65,(65-KCITempAct[[#This Row],[KCIAve]]),0)","v":2},{"$f":"IF(MONTH(KCITempAct[[#This Row],[Date]])=7,0,IF(MONTH(KCITempAct[[#This Row],[Date]])=8,0,KCITempAct[[#This Row],[KCIHDD]]))","v":2},{"$f":"SUMPRODUCT((KCINHDD[Month]=MONTH(KCITempAct[[#This Row],[Date]]))*(KCINHDD[Day]=DAY(KCITempAct[[#This Row],[Date]]))*KCINHDD[KCINHDD])","v":15.466666666666667},{"$f":"IF(MONTH(KCITempAct[[#This Row],[Date]])=7,0,IF(MONTH(KCITempAct[[#This Row],[Date]])=8,0,KCITempAct[[#This Row],[KCINHDD]]))","v":15.466666666666667},"Adj HDD and NDD =0 for July and August"]
["2022-11-02",76,54,{"$f":"AVERAGE(KCITempAct[[#This Row],[KCIHigh]:[KCILow]]\n)","v":65},{"$f":"IF(KCITempAct[[#This Row],[KCIAve]]<65,(65-KCITempAct[[#This Row],[KCIAve]]),0)","v":0},{"$f":"IF(MONTH(KCITempAct[[#This Row],[Date]])=7,0,IF(MONTH(KCITempAct[[#This Row],[Date]])=8,0,KCITempAct[[#This Row],[KCIHDD]]))","v":0},{"$f":"SUMPRODUCT((KCINHDD[Month]=MONTH(KCITempAct[[#This Row],[Date]]))*(KCINHDD[Day]=DAY(KCITempAct[[#This Row],[Date]]))*KCINHDD[KCINHDD])","v":17.433333333333334},{"$f":"IF(MONTH(KCITempAct[[#This Row],[Date]])=7,0,IF(MONTH(KCITempAct[[#This Row],[Date]])=8,0,KCITempAct[[#This Row],[KCINHDD]]))","v":17.433333333333334},"Adj HDD and NDD =0 for July and August"]
["2022-11-03",77,61,{"$f":"AVERAGE(KCITempAct[[#This Row],[KCIHigh]:[KCILow]]\n)","v":69},{"$f":"IF(KCITempAct[[#This Row],[KCIAve]]<65,(65-KCITempAct[[#This Row],[KCIAve]]),0)","v":0},{"$f":"IF(MONTH(KCITempAct[[#This Row],[Date]])=7,0,IF(MONTH(KCITempAct[[#This Row],[Date]])=8,0,KCITempAct[[#This Row],[KCIHDD]]))","v":0},{"$f":"SUMPRODUCT((KCINHDD[Month]=MONTH(KCITempAct[[#This Row],[Date]]))*(KCINHDD[Day]=DAY(KCITempAct[[#This Row],[Date]]))*KCINHDD[KCINHDD])","v":16.816666666666666},{"$f":"IF(MONTH(KCITempAct[[#This Row],[Date]])=7,0,IF(MONTH(KCITempAct[[#This Row],[Date]])=8,0,KCITempAct[[#This Row],[KCINHDD]]))","v":16.816666666666666},"Adj HDD and NDD =0 for July and August"]
["2022-11-04",70,41,{"$f":"AVERAGE(KCITempAct[[#This Row],[KCIHigh]:[KCILow]]\n)","v":55.5},{"$f":"IF(KCITempAct[[#This Row],[KCIAve]]<65,(65-KCITempAct[[#This Row],[KCIAve]]),0)","v":9.5},{"$f":"IF(MONTH(KCITempAct[[#This Row],[Date]])=7,0,IF(MONTH(KCITempAct[[#This Row],[Date]])=8,0,KCITempAct[[#This Row],[KCIHDD]]))","v":9.5},{"$f":"SUMPRODUCT((KCINHDD[Month]=MONTH(KCITempAct[[#This Row],[Date]]))*(KCINHDD[Day]=DAY(KCITempAct[[#This Row],[Date]]))*KCINHDD[KCINHDD])","v":17.166666666666668},{"$f":"IF(MONTH(KCITempAct[[#This Row],[Date]])=7,0,IF(MONTH(KCITempAct[[#This Row],[Date]])=8,0,KCITempAct[[#This Row],[KCINHDD]]))","v":17.166666666666668},"Adj HDD and NDD =0 for July and August"]
["2022-11-05",57,38,{"$f":"AVERAGE(KCITempAct[[#This Row],[KCIHigh]:[KCILow]]\n)","v":47.5},{"$f":"IF(KCITempAct[[#This Row],[KCIAve]]<65,(65-KCITempAct[[#This Row],[KCIAve]]),0)","v":17.5},{"$f":"IF(MONTH(KCITempAct[[#This Row],[Date]])=7,0,IF(MONTH(KCITempAct[[#This Row],[Date]])=8,0,KCITempAct[[#This Row],[KCIHDD]]))","v":17.5},{"$f":"SUMPRODUCT((KCINHDD[Month]=MONTH(KCITempAct[[#This Row],[Date]]))*(KCINHDD[Day]=DAY(KCITempAct[[#This Row],[Date]]))*KCINHDD[KCINHDD])","v":17.383333333333333},{"$f":"IF(MONTH(KCITempAct[[#This Row],[Date]])=7,0,IF(MONTH(KCITempAct[[#This Row],[Date]])=8,0,KCITempAct[[#This Row],[KCINHDD]]))","v":17.383333333333333},"Adj HDD and NDD =0 for July and August"]
["2022-11-06",65,44,{"$f":"AVERAGE(KCITempAct[[#This Row],[KCIHigh]:[KCILow]]\n)","v":54.5},{"$f":"IF(KCITempAct[[#This Row],[KCIAve]]<65,(65-KCITempAct[[#This Row],[KCIAve]]),0)","v":10.5},{"$f":"IF(MONTH(KCITempAct[[#This Row],[Date]])=7,0,IF(MONTH(KCITempAct[[#This Row],[Date]])=8,0,KCITempAct[[#This Row],[KCIHDD]]))","v":10.5},{"$f":"SUMPRODUCT((KCINHDD[Month]=MONTH(KCITempAct[[#This Row],[Date]]))*(KCINHDD[Day]=DAY(KCITempAct[[#This Row],[Date]]))*KCINHDD[KCINHDD])","v":18.55},{"$f":"IF(MONTH(KCITempAct[[#This Row],[Date]])=7,0,IF(MONTH(KCITempAct[[#This Row],[Date]])=8,0,KCITempAct[[#This Row],[KCINHDD]]))","v":18.55},"Adj HDD and NDD =0 for July and August"]
["2022-11-07",58,40,{"$f":"AVERAGE(KCITempAct[[#This Row],[KCIHigh]:[KCILow]]\n)","v":49},{"$f":"IF(KCITempAct[[#This Row],[KCIAve]]<65,(65-KCITempAct[[#This Row],[KCIAve]]),0)","v":16},{"$f":"IF(MONTH(KCITempAct[[#This Row],[Date]])=7,0,IF(MONTH(KCITempAct[[#This Row],[Date]])=8,0,KCITempAct[[#This Row],[KCIHDD]]))","v":16},{"$f":"SUMPRODUCT((KCINHDD[Month]=MONTH(KCITempAct[[#This Row],[Date]]))*(KCINHDD[Day]=DAY(KCITempAct[[#This Row],[Date]]))*KCINHDD[KCINHDD])","v":18.600000000000001},{"$f":"IF(MONTH(KCITempAct[[#This Row],[Date]])=7,0,IF(MONTH(KCITempAct[[#This Row],[Date]])=8,0,KCITempAct[[#This Row],[KCINHDD]]))","v":18.600000000000001},"Adj HDD and NDD =0 for July and August"]
["2022-11-08",67,49,{"$f":"AVERAGE(KCITempAct[[#This Row],[KCIHigh]:[KCILow]]\n)","v":58},{"$f":"IF(KCITempAct[[#This Row],[KCIAve]]<65,(65-KCITempAct[[#This Row],[KCIAve]]),0)","v":7},{"$f":"IF(MONTH(KCITempAct[[#This Row],[Date]])=7,0,IF(MONTH(KCITempAct[[#This Row],[Date]])=8,0,KCITempAct[[#This Row],[KCIHDD]]))","v":7},{"$f":"SUMPRODUCT((KCINHDD[Month]=MONTH(KCITempAct[[#This Row],[Date]]))*(KCINHDD[Day]=DAY(KCITempAct[[#This Row],[Date]]))*KCINHDD[KCINHDD])","v":18.333333333333332},{"$f":"IF(MONTH(KCITempAct[[#This Row],[Date]])=7,0,IF(MONTH(KCITempAct[[#This Row],[Date]])=8,0,KCITempAct[[#This Row],[KCINHDD]]))","v":18.333333333333332},"Adj HDD and NDD =0 for July and August"]
["2022-11-09",72,60,{"$f":"AVERAGE(KCITempAct[[#This Row],[KCIHigh]:[KCILow]]\n)","v":66},{"$f":"IF(KCITempAct[[#This Row],[KCIAve]]<65,(65-KCITempAct[[#This Row],[KCIAve]]),0)","v":0},{"$f":"IF(MONTH(KCITempAct[[#This Row],[Date]])=7,0,IF(MONTH(KCITempAct[[#This Row],[Date]])=8,0,KCITempAct[[#This Row],[KCIHDD]]))","v":0},{"$f":"SUMPRODUCT((KCINHDD[Month]=MONTH(KCITempAct[[#This Row],[Date]]))*(KCINHDD[Day]=DAY(KCITempAct[[#This Row],[Date]]))*KCINHDD[KCINHDD])","v":16.733333333333334},{"$f":"IF(MONTH(KCITempAct[[#This Row],[Date]])=7,0,IF(MONTH(KCITempAct[[#This Row],[Date]])=8,0,KCITempAct[[#This Row],[KCINHDD]]))","v":16.733333333333334},"Adj HDD and NDD =0 for July and August"]
["2022-11-10",74,38,{"$f":"AVERAGE(KCITempAct[[#This Row],[KCIHigh]:[KCILow]]\n)","v":56},{"$f":"IF(KCITempAct[[#This Row],[KCIAve]]<65,(65-KCITempAct[[#This Row],[KCIAve]]),0)","v":9},{"$f":"IF(MONTH(KCITempAct[[#This Row],[Date]])=7,0,IF(MONTH(KCITempAct[[#This Row],[Date]])=8,0,KCITempAct[[#This Row],[KCIHDD]]))","v":9},{"$f":"SUMPRODUCT((KCINHDD[Month]=MONTH(KCITempAct[[#This Row],[Date]]))*(KCINHDD[Day]=DAY(KCITempAct[[#This Row],[Date]]))*KCINHDD[KCINHDD])","v":19.783333333333335},{"$f":"IF(MONTH(KCITempAct[[#This Row],[Date]])=7,0,IF(MONTH(KCITempAct[[#This Row],[Date]])=8,0,KCITempAct[[#This Row],[KCINHDD]]))","v":19.783333333333335},"Adj HDD and NDD =0 for July and August"]
["2022-11-11",38,25,{"$f":"AVERAGE(KCITempAct[[#This Row],[KCIHigh]:[KCILow]]\n)","v":31.5},{"$f":"IF(KCITempAct[[#This Row],[KCIAve]]<65,(65-KCITempAct[[#This Row],[KCIAve]]),0)","v":33.5},{"$f":"IF(MONTH(KCITempAct[[#This Row],[Date]])=7,0,IF(MONTH(KCITempAct[[#This Row],[Date]])=8,0,KCITempAct[[#This Row],[KCIHDD]]))","v":33.5},{"$f":"SUMPRODUCT((KCINHDD[Month]=MONTH(KCITempAct[[#This Row],[Date]]))*(KCINHDD[Day]=DAY(KCITempAct[[#This Row],[Date]]))*KCINHDD[KCINHDD])","v":22.15},{"$f":"IF(MONTH(KCITempAct[[#This Row],[Date]])=7,0,IF(MONTH(KCITempAct[[#This Row],[Date]])=8,0,KCITempAct[[#This Row],[KCINHDD]]))","v":22.15},"Adj HDD and NDD =0 for July and August"]
["2022-11-12",30,22,{"$f":"AVERAGE(KCITempAct[[#This Row],[KCIHigh]:[KCILow]]\n)","v":26},{"$f":"IF(KCITempAct[[#This Row],[KCIAve]]<65,(65-KCITempAct[[#This Row],[KCIAve]]),0)","v":39},{"$f":"IF(MONTH(KCITempAct[[#This Row],[Date]])=7,0,IF(MONTH(KCITempAct[[#This Row],[Date]])=8,0,KCITempAct[[#This Row],[KCIHDD]]))","v":39},{"$f":"SUMPRODUCT((KCINHDD[Month]=MONTH(KCITempAct[[#This Row],[Date]]))*(KCINHDD[Day]=DAY(KCITempAct[[#This Row],[Date]]))*KCINHDD[KCINHDD])","v":22.6},{"$f":"IF(MONTH(KCITempAct[[#This Row],[Date]])=7,0,IF(MONTH(KCITempAct[[#This Row],[Date]])=8,0,KCITempAct[[#This Row],[KCINHDD]]))","v":22.6},"Adj HDD and NDD =0 for July and August"]
["2022-11-13",42,17,{"$f":"AVERAGE(KCITempAct[[#This Row],[KCIHigh]:[KCILow]]\n)","v":29.5},{"$f":"IF(KCITempAct[[#This Row],[KCIAve]]<65,(65-KCITempAct[[#This Row],[KCIAve]]),0)","v":35.5},{"$f":"IF(MONTH(KCITempAct[[#This Row],[Date]])=7,0,IF(MONTH(KCITempAct[[#This Row],[Date]])=8,0,KCITempAct[[#This Row],[KCIHDD]]))","v":35.5},{"$f":"SUMPRODUCT((KCINHDD[Month]=MONTH(KCITempAct[[#This Row],[Date]]))*(KCINHDD[Day]=DAY(KCITempAct[[#This Row],[Date]]))*KCINHDD[KCINHDD])","v":21.8},{"$f":"IF(MONTH(KCITempAct[[#This Row],[Date]])=7,0,IF(MONTH(KCITempAct[[#This Row],[Date]])=8,0,KCITempAct[[#This Row],[KCINHDD]]))","v":21.8},"Adj HDD and NDD =0 for July and August"]
["2022-11-14",44,29,{"$f":"AVERAGE(KCITempAct[[#This Row],[KCIHigh]:[KCILow]]\n)","v":36.5},{"$f":"IF(KCITempAct[[#This Row],[KCIAve]]<65,(65-KCITempAct[[#This Row],[KCIAve]]),0)","v":28.5},{"$f":"IF(MONTH(KCITempAct[[#This Row],[Date]])=7,0,IF(MONTH(KCITempAct[[#This Row],[Date]])=8,0,KCITempAct[[#This Row],[KCIHDD]]))","v":28.5},{"$f":"SUMPRODUCT((KCINHDD[Month]=MONTH(KCITempAct[[#This Row],[Date]]))*(KCINHDD[Day]=DAY(KCITempAct[[#This Row],[Date]]))*KCINHDD[KCINHDD])","v":20.316666666666666},{"$f":"IF(MONTH(KCITempAct[[#This Row],[Date]])=7,0,IF(MONTH(KCITempAct[[#This Row],[Date]])=8,0,KCITempAct[[#This Row],[KCINHDD]]))","v":20.316666666666666},"Adj HDD and NDD =0 for July and August"]
["2022-11-15",39,27,{"$f":"AVERAGE(KCITempAct[[#This Row],[KCIHigh]:[KCILow]]\n)","v":33},{"$f":"IF(KCITempAct[[#This Row],[KCIAve]]<65,(65-KCITempAct[[#This Row],[KCIAve]]),0)","v":32},{"$f":"IF(MONTH(KCITempAct[[#This Row],[Date]])=7,0,IF(MONTH(KCITempAct[[#This Row],[Date]])=8,0,KCITempAct[[#This Row],[KCIHDD]]))","v":32},{"$f":"SUMPRODUCT((KCINHDD[Month]=MONTH(KCITempAct[[#This Row],[Date]]))*(KCINHDD[Day]=DAY(KCITempAct[[#This Row],[Date]]))*KCINHDD[KCINHDD])","v":21.883333333333333},{"$f":"IF(MONTH(KCITempAct[[#This Row],[Date]])=7,0,IF(MONTH(KCITempAct[[#This Row],[Date]])=8,0,KCITempAct[[#This Row],[KCINHDD]]))","v":21.883333333333333},"Adj HDD and NDD =0 for July and August"]
["2022-11-16",35,20,{"$f":"AVERAGE(KCITempAct[[#This Row],[KCIHigh]:[KCILow]]\n)","v":27.5},{"$f":"IF(KCITempAct[[#This Row],[KCIAve]]<65,(65-KCITempAct[[#This Row],[KCIAve]]),0)","v":37.5},{"$f":"IF(MONTH(KCITempAct[[#This Row],[Date]])=7,0,IF(MONTH(KCITempAct[[#This Row],[Date]])=8,0,KCITempAct[[#This Row],[KCIHDD]]))","v":37.5},{"$f":"SUMPRODUCT((KCINHDD[Month]=MONTH(KCITempAct[[#This Row],[Date]]))*(KCINHDD[Day]=DAY(KCITempAct[[#This Row],[Date]]))*KCINHDD[KCINHDD])","v":20.916666666666668},{"$f":"IF(MONTH(KCITempAct[[#This Row],[Date]])=7,0,IF(MONTH(KCITempAct[[#This Row],[Date]])=8,0,KCITempAct[[#This Row],[KCINHDD]]))","v":20.916666666666668},"Adj HDD and NDD =0 for July and August"]
["2022-11-17",45,21,{"$f":"AVERAGE(KCITempAct[[#This Row],[KCIHigh]:[KCILow]]\n)","v":33},{"$f":"IF(KCITempAct[[#This Row],[KCIAve]]<65,(65-KCITempAct[[#This Row],[KCIAve]]),0)","v":32},{"$f":"IF(MONTH(KCITempAct[[#This Row],[Date]])=7,0,IF(MONTH(KCITempAct[[#This Row],[Date]])=8,0,KCITempAct[[#This Row],[KCIHDD]]))","v":32},{"$f":"SUMPRODUCT((KCINHDD[Month]=MONTH(KCITempAct[[#This Row],[Date]]))*(KCINHDD[Day]=DAY(KCITempAct[[#This Row],[Date]]))*KCINHDD[KCINHDD])","v":20.066666666666666},{"$f":"IF(MONTH(KCITempAct[[#This Row],[Date]])=7,0,IF(MONTH(KCITempAct[[#This Row],[Date]])=8,0,KCITempAct[[#This Row],[KCINHDD]]))","v":20.066666666666666},"Adj HDD and NDD =0 for July and August"]
["2022-11-18",28,16,{"$f":"AVERAGE(KCITempAct[[#This Row],[KCIHigh]:[KCILow]]\n)","v":22},{"$f":"IF(KCITempAct[[#This Row],[KCIAve]]<65,(65-KCITempAct[[#This Row],[KCIAve]]),0)","v":43},{"$f":"IF(MONTH(KCITempAct[[#This Row],[Date]])=7,0,IF(MONTH(KCITempAct[[#This Row],[Date]])=8,0,KCITempAct[[#This Row],[KCIHDD]]))","v":43},{"$f":"SUMPRODUCT((KCINHDD[Month]=MONTH(KCITempAct[[#This Row],[Date]]))*(KCINHDD[Day]=DAY(KCITempAct[[#This Row],[Date]]))*KCINHDD[KCINHDD])","v":20.8},{"$f":"IF(MONTH(KCITempAct[[#This Row],[Date]])=7,0,IF(MONTH(KCITempAct[[#This Row],[Date]])=8,0,KCITempAct[[#This Row],[KCINHDD]]))","v":20.8},"Adj HDD and NDD =0 for July and August"]
["2022-11-19",36,21,{"$f":"AVERAGE(KCITempAct[[#This Row],[KCIHigh]:[KCILow]]\n)","v":28.5},{"$f":"IF(KCITempAct[[#This Row],[KCIAve]]<65,(65-KCITempAct[[#This Row],[KCIAve]]),0)","v":36.5},{"$f":"IF(MONTH(KCITempAct[[#This Row],[Date]])=7,0,IF(MONTH(KCITempAct[[#This Row],[Date]])=8,0,KCITempAct[[#This Row],[KCIHDD]]))","v":36.5},{"$f":"SUMPRODUCT((KCINHDD[Month]=MONTH(KCITempAct[[#This Row],[Date]]))*(KCINHDD[Day]=DAY(KCITempAct[[#This Row],[Date]]))*KCINHDD[KCINHDD])","v":19.616666666666667},{"$f":"IF(MONTH(KCITempAct[[#This Row],[Date]])=7,0,IF(MONTH(KCITempAct[[#This Row],[Date]])=8,0,KCITempAct[[#This Row],[KCINHDD]]))","v":19.616666666666667},"Adj HDD and NDD =0 for July and August"]
["2022-11-20",50,18,{"$f":"AVERAGE(KCITempAct[[#This Row],[KCIHigh]:[KCILow]]\n)","v":34},{"$f":"IF(KCITempAct[[#This Row],[KCIAve]]<65,(65-KCITempAct[[#This Row],[KCIAve]]),0)","v":31},{"$f":"IF(MONTH(KCITempAct[[#This Row],[Date]])=7,0,IF(MONTH(KCITempAct[[#This Row],[Date]])=8,0,KCITempAct[[#This Row],[KCIHDD]]))","v":31},{"$f":"SUMPRODUCT((KCINHDD[Month]=MONTH(KCITempAct[[#This Row],[Date]]))*(KCINHDD[Day]=DAY(KCITempAct[[#This Row],[Date]]))*KCINHDD[KCINHDD])","v":21.8},{"$f":"IF(MONTH(KCITempAct[[#This Row],[Date]])=7,0,IF(MONTH(KCITempAct[[#This Row],[Date]])=8,0,KCITempAct[[#This Row],[KCINHDD]]))","v":21.8},"Adj HDD and NDD =0 for July and August"]
["2022-11-21",57,30,{"$f":"AVERAGE(KCITempAct[[#This Row],[KCIHigh]:[KCILow]]\n)","v":43.5},{"$f":"IF(KCITempAct[[#This Row],[KCIAve]]<65,(65-KCITempAct[[#This Row],[KCIAve]]),0)","v":21.5},{"$f":"IF(MONTH(KCITempAct[[#This Row],[Date]])=7,0,IF(MONTH(KCITempAct[[#This Row],[Date]])=8,0,KCITempAct[[#This Row],[KCIHDD]]))","v":21.5},{"$f":"SUMPRODUCT((KCINHDD[Month]=MONTH(KCITempAct[[#This Row],[Date]]))*(KCINHDD[Day]=DAY(KCITempAct[[#This Row],[Date]]))*KCINHDD[KCINHDD])","v":22.783333333333335},{"$f":"IF(MONTH(KCITempAct[[#This Row],[Date]])=7,0,IF(MONTH(KCITempAct[[#This Row],[Date]])=8,0,KCITempAct[[#This Row],[KCINHDD]]))","v":22.783333333333335},"Adj HDD and NDD =0 for July and August"]
["2022-11-22",63,28,{"$f":"AVERAGE(KCITempAct[[#This Row],[KCIHigh]:[KCILow]]\n)","v":45.5},{"$f":"IF(KCITempAct[[#This Row],[KCIAve]]<65,(65-KCITempAct[[#This Row],[KCIAve]]),0)","v":19.5},{"$f":"IF(MONTH(KCITempAct[[#This Row],[Date]])=7,0,IF(MONTH(KCITempAct[[#This Row],[Date]])=8,0,KCITempAct[[#This Row],[KCIHDD]]))","v":19.5},{"$f":"SUMPRODUCT((KCINHDD[Month]=MONTH(KCITempAct[[#This Row],[Date]]))*(KCINHDD[Day]=DAY(KCITempAct[[#This Row],[Date]]))*KCINHDD[KCINHDD])","v":22.95},{"$f":"IF(MONTH(KCITempAct[[#This Row],[Date]])=7,0,IF(MONTH(KCITempAct[[#This Row],[Date]])=8,0,KCITempAct[[#This Row],[KCINHDD]]))","v":22.95},"Adj HDD and NDD =0 for July and August"]
["2022-11-23",60,38,{"$f":"AVERAGE(KCITempAct[[#This Row],[KCIHigh]:[KCILow]]\n)","v":49},{"$f":"IF(KCITempAct[[#This Row],[KCIAve]]<65,(65-KCITempAct[[#This Row],[KCIAve]]),0)","v":16},{"$f":"IF(MONTH(KCITempAct[[#This Row],[Date]])=7,0,IF(MONTH(KCITempAct[[#This Row],[Date]])=8,0,KCITempAct[[#This Row],[KCIHDD]]))","v":16},{"$f":"SUMPRODUCT((KCINHDD[Month]=MONTH(KCITempAct[[#This Row],[Date]]))*(KCINHDD[Day]=DAY(KCITempAct[[#This Row],[Date]]))*KCINHDD[KCINHDD])","v":23.95},{"$f":"IF(MONTH(KCITempAct[[#This Row],[Date]])=7,0,IF(MONTH(KCITempAct[[#This Row],[Date]])=8,0,KCITempAct[[#This Row],[KCINHDD]]))","v":23.95},"Adj HDD and NDD =0 for July and August"]
["2022-11-24",60,37,{"$f":"AVERAGE(KCITempAct[[#This Row],[KCIHigh]:[KCILow]]\n)","v":48.5},{"$f":"IF(KCITempAct[[#This Row],[KCIAve]]<65,(65-KCITempAct[[#This Row],[KCIAve]]),0)","v":16.5},{"$f":"IF(MONTH(KCITempAct[[#This Row],[Date]])=7,0,IF(MONTH(KCITempAct[[#This Row],[Date]])=8,0,KCITempAct[[#This Row],[KCIHDD]]))","v":16.5},{"$f":"SUMPRODUCT((KCINHDD[Month]=MONTH(KCITempAct[[#This Row],[Date]]))*(KCINHDD[Day]=DAY(KCITempAct[[#This Row],[Date]]))*KCINHDD[KCINHDD])","v":25},{"$f":"IF(MONTH(KCITempAct[[#This Row],[Date]])=7,0,IF(MONTH(KCITempAct[[#This Row],[Date]])=8,0,KCITempAct[[#This Row],[KCINHDD]]))","v":25},"Adj HDD and NDD =0 for July and August"]
["2022-11-25",56,31,{"$f":"AVERAGE(KCITempAct[[#This Row],[KCIHigh]:[KCILow]]\n)","v":43.5},{"$f":"IF(KCITempAct[[#This Row],[KCIAve]]<65,(65-KCITempAct[[#This Row],[KCIAve]]),0)","v":21.5},{"$f":"IF(MONTH(KCITempAct[[#This Row],[Date]])=7,0,IF(MONTH(KCITempAct[[#This Row],[Date]])=8,0,KCITempAct[[#This Row],[KCIHDD]]))","v":21.5},{"$f":"SUMPRODUCT((KCINHDD[Month]=MONTH(KCITempAct[[#This Row],[Date]]))*(KCINHDD[Day]=DAY(KCITempAct[[#This Row],[Date]]))*KCINHDD[KCINHDD])","v":25.85},{"$f":"IF(MONTH(KCITempAct[[#This Row],[Date]])=7,0,IF(MONTH(KCITempAct[[#This Row],[Date]])=8,0,KCITempAct[[#This Row],[KCINHDD]]))","v":25.85},"Adj HDD and NDD =0 for July and August"]
["2022-11-26",54,30,{"$f":"AVERAGE(KCITempAct[[#This Row],[KCIHigh]:[KCILow]]\n)","v":42},{"$f":"IF(KCITempAct[[#This Row],[KCIAve]]<65,(65-KCITempAct[[#This Row],[KCIAve]]),0)","v":23},{"$f":"IF(MONTH(KCITempAct[[#This Row],[Date]])=7,0,IF(MONTH(KCITempAct[[#This Row],[Date]])=8,0,KCITempAct[[#This Row],[KCIHDD]]))","v":23},{"$f":"SUMPRODUCT((KCINHDD[Month]=MONTH(KCITempAct[[#This Row],[Date]]))*(KCINHDD[Day]=DAY(KCITempAct[[#This Row],[Date]]))*KCINHDD[KCINHDD])","v":24.583333333333332},{"$f":"IF(MONTH(KCITempAct[[#This Row],[Date]])=7,0,IF(MONTH(KCITempAct[[#This Row],[Date]])=8,0,KCITempAct[[#This Row],[KCINHDD]]))","v":24.583333333333332},"Adj HDD and NDD =0 for July and August"]
["2022-11-27",47,36,{"$f":"AVERAGE(KCITempAct[[#This Row],[KCIHigh]:[KCILow]]\n)","v":41.5},{"$f":"IF(KCITempAct[[#This Row],[KCIAve]]<65,(65-KCITempAct[[#This Row],[KCIAve]]),0)","v":23.5},{"$f":"IF(MONTH(KCITempAct[[#This Row],[Date]])=7,0,IF(MONTH(KCITempAct[[#This Row],[Date]])=8,0,KCITempAct[[#This Row],[KCIHDD]]))","v":23.5},{"$f":"SUMPRODUCT((KCINHDD[Month]=MONTH(KCITempAct[[#This Row],[Date]]))*(KCINHDD[Day]=DAY(KCITempAct[[#This Row],[Date]]))*KCINHDD[KCINHDD])","v":26.733333333333334},{"$f":"IF(MONTH(KCITempAct[[#This Row],[Date]])=7,0,IF(MONTH(KCITempAct[[#This Row],[Date]])=8,0,KCITempAct[[#This Row],[KCINHDD]]))","v":26.733333333333334},"Adj HDD and NDD =0 for July and August"]
["2022-11-28",57,26,{"$f":"AVERAGE(KCITempAct[[#This Row],[KCIHigh]:[KCILow]]\n)","v":41.5},{"$f":"IF(KCITempAct[[#This Row],[KCIAve]]<65,(65-KCITempAct[[#This Row],[KCIAve]]),0)","v":23.5},{"$f":"IF(MONTH(KCITempAct[[#This Row],[Date]])=7,0,IF(MONTH(KCITempAct[[#This Row],[Date]])=8,0,KCITempAct[[#This Row],[KCIHDD]]))","v":23.5},{"$f":"SUMPRODUCT((KCINHDD[Month]=MONTH(KCITempAct[[#This Row],[Date]]))*(KCINHDD[Day]=DAY(KCITempAct[[#This Row],[Date]]))*KCINHDD[KCINHDD])","v":24.916666666666668},{"$f":"IF(MONTH(KCITempAct[[#This Row],[Date]])=7,0,IF(MONTH(KCITempAct[[#This Row],[Date]])=8,0,KCITempAct[[#This Row],[KCINHDD]]))","v":24.916666666666668},"Adj HDD and NDD =0 for July and August"]
["2022-11-29",60,26,{"$f":"AVERAGE(KCITempAct[[#This Row],[KCIHigh]:[KCILow]]\n)","v":43},{"$f":"IF(KCITempAct[[#This Row],[KCIAve]]<65,(65-KCITempAct[[#This Row],[KCIAve]]),0)","v":22},{"$f":"IF(MONTH(KCITempAct[[#This Row],[Date]])=7,0,IF(MONTH(KCITempAct[[#This Row],[Date]])=8,0,KCITempAct[[#This Row],[KCIHDD]]))","v":22},{"$f":"SUMPRODUCT((KCINHDD[Month]=MONTH(KCITempAct[[#This Row],[Date]]))*(KCINHDD[Day]=DAY(KCITempAct[[#This Row],[Date]]))*KCINHDD[KCINHDD])","v":25},{"$f":"IF(MONTH(KCITempAct[[#This Row],[Date]])=7,0,IF(MONTH(KCITempAct[[#This Row],[Date]])=8,0,KCITempAct[[#This Row],[KCINHDD]]))","v":25},"Adj HDD and NDD =0 for July and August"]
["2022-11-30",38,21,{"$f":"AVERAGE(KCITempAct[[#This Row],[KCIHigh]:[KCILow]]\n)","v":29.5},{"$f":"IF(KCITempAct[[#This Row],[KCIAve]]<65,(65-KCITempAct[[#This Row],[KCIAve]]),0)","v":35.5},{"$f":"IF(MONTH(KCITempAct[[#This Row],[Date]])=7,0,IF(MONTH(KCITempAct[[#This Row],[Date]])=8,0,KCITempAct[[#This Row],[KCIHDD]]))","v":35.5},{"$f":"SUMPRODUCT((KCINHDD[Month]=MONTH(KCITempAct[[#This Row],[Date]]))*(KCINHDD[Day]=DAY(KCITempAct[[#This Row],[Date]]))*KCINHDD[KCINHDD])","v":27.8},{"$f":"IF(MONTH(KCITempAct[[#This Row],[Date]])=7,0,IF(MONTH(KCITempAct[[#This Row],[Date]])=8,0,KCITempAct[[#This Row],[KCINHDD]]))","v":27.8},"Adj HDD and NDD =0 for July and August"]
["2022-12-01",51,21,{"$f":"AVERAGE(KCITempAct[[#This Row],[KCIHigh]:[KCILow]]\n)","v":36},{"$f":"IF(KCITempAct[[#This Row],[KCIAve]]<65,(65-KCITempAct[[#This Row],[KCIAve]]),0)","v":29},{"$f":"IF(MONTH(KCITempAct[[#This Row],[Date]])=7,0,IF(MONTH(KCITempAct[[#This Row],[Date]])=8,0,KCITempAct[[#This Row],[KCIHDD]]))","v":29},{"$f":"SUMPRODUCT((KCINHDD[Month]=MONTH(KCITempAct[[#This Row],[Date]]))*(KCINHDD[Day]=DAY(KCITempAct[[#This Row],[Date]]))*KCINHDD[KCINHDD])","v":26.983333333333334},{"$f":"IF(MONTH(KCITempAct[[#This Row],[Date]])=7,0,IF(MONTH(KCITempAct[[#This Row],[Date]])=8,0,KCITempAct[[#This Row],[KCINHDD]]))","v":26.983333333333334},"Adj HDD and NDD =0 for July and August"]
["2022-12-02",61,29,{"$f":"AVERAGE(KCITempAct[[#This Row],[KCIHigh]:[KCILow]]\n)","v":45},{"$f":"IF(KCITempAct[[#This Row],[KCIAve]]<65,(65-KCITempAct[[#This Row],[KCIAve]]),0)","v":20},{"$f":"IF(MONTH(KCITempAct[[#This Row],[Date]])=7,0,IF(MONTH(KCITempAct[[#This Row],[Date]])=8,0,KCITempAct[[#This Row],[KCIHDD]]))","v":20},{"$f":"SUMPRODUCT((KCINHDD[Month]=MONTH(KCITempAct[[#This Row],[Date]]))*(KCINHDD[Day]=DAY(KCITempAct[[#This Row],[Date]]))*KCINHDD[KCINHDD])","v":25.366666666666667},{"$f":"IF(MONTH(KCITempAct[[#This Row],[Date]])=7,0,IF(MONTH(KCITempAct[[#This Row],[Date]])=8,0,KCITempAct[[#This Row],[KCINHDD]]))","v":25.366666666666667},"Adj HDD and NDD =0 for July and August"]
["2022-12-03",34,18,{"$f":"AVERAGE(KCITempAct[[#This Row],[KCIHigh]:[KCILow]]\n)","v":26},{"$f":"IF(KCITempAct[[#This Row],[KCIAve]]<65,(65-KCITempAct[[#This Row],[KCIAve]]),0)","v":39},{"$f":"IF(MONTH(KCITempAct[[#This Row],[Date]])=7,0,IF(MONTH(KCITempAct[[#This Row],[Date]])=8,0,KCITempAct[[#This Row],[KCIHDD]]))","v":39},{"$f":"SUMPRODUCT((KCINHDD[Month]=MONTH(KCITempAct[[#This Row],[Date]]))*(KCINHDD[Day]=DAY(KCITempAct[[#This Row],[Date]]))*KCINHDD[KCINHDD])","v":26.733333333333334},{"$f":"IF(MONTH(KCITempAct[[#This Row],[Date]])=7,0,IF(MONTH(KCITempAct[[#This Row],[Date]])=8,0,KCITempAct[[#This Row],[KCINHDD]]))","v":26.733333333333334},"Adj HDD and NDD =0 for July and August"]
["2022-12-04",47,24,{"$f":"AVERAGE(KCITempAct[[#This Row],[KCIHigh]:[KCILow]]\n)","v":35.5},{"$f":"IF(KCITempAct[[#This Row],[KCIAve]]<65,(65-KCITempAct[[#This Row],[KCIAve]]),0)","v":29.5},{"$f":"IF(MONTH(KCITempAct[[#This Row],[Date]])=7,0,IF(MONTH(KCITempAct[[#This Row],[Date]])=8,0,KCITempAct[[#This Row],[KCIHDD]]))","v":29.5},{"$f":"SUMPRODUCT((KCINHDD[Month]=MONTH(KCITempAct[[#This Row],[Date]]))*(KCINHDD[Day]=DAY(KCITempAct[[#This Row],[Date]]))*KCINHDD[KCINHDD])","v":28.15},{"$f":"IF(MONTH(KCITempAct[[#This Row],[Date]])=7,0,IF(MONTH(KCITempAct[[#This Row],[Date]])=8,0,KCITempAct[[#This Row],[KCINHDD]]))","v":28.15},"Adj HDD and NDD =0 for July and August"]
["2022-12-05",54,34,{"$f":"AVERAGE(KCITempAct[[#This Row],[KCIHigh]:[KCILow]]\n)","v":44},{"$f":"IF(KCITempAct[[#This Row],[KCIAve]]<65,(65-KCITempAct[[#This Row],[KCIAve]]),0)","v":21},{"$f":"IF(MONTH(KCITempAct[[#This Row],[Date]])=7,0,IF(MONTH(KCITempAct[[#This Row],[Date]])=8,0,KCITempAct[[#This Row],[KCIHDD]]))","v":21},{"$f":"SUMPRODUCT((KCINHDD[Month]=MONTH(KCITempAct[[#This Row],[Date]]))*(KCINHDD[Day]=DAY(KCITempAct[[#This Row],[Date]]))*KCINHDD[KCINHDD])","v":30.233333333333334},{"$f":"IF(MONTH(KCITempAct[[#This Row],[Date]])=7,0,IF(MONTH(KCITempAct[[#This Row],[Date]])=8,0,KCITempAct[[#This Row],[KCINHDD]]))","v":30.233333333333334},"Adj HDD and NDD =0 for July and August"]
["2022-12-06",45,33,{"$f":"AVERAGE(KCITempAct[[#This Row],[KCIHigh]:[KCILow]]\n)","v":39},{"$f":"IF(KCITempAct[[#This Row],[KCIAve]]<65,(65-KCITempAct[[#This Row],[KCIAve]]),0)","v":26},{"$f":"IF(MONTH(KCITempAct[[#This Row],[Date]])=7,0,IF(MONTH(KCITempAct[[#This Row],[Date]])=8,0,KCITempAct[[#This Row],[KCIHDD]]))","v":26},{"$f":"SUMPRODUCT((KCINHDD[Month]=MONTH(KCITempAct[[#This Row],[Date]]))*(KCINHDD[Day]=DAY(KCITempAct[[#This Row],[Date]]))*KCINHDD[KCINHDD])","v":31.733333333333334},{"$f":"IF(MONTH(KCITempAct[[#This Row],[Date]])=7,0,IF(MONTH(KCITempAct[[#This Row],[Date]])=8,0,KCITempAct[[#This Row],[KCINHDD]]))","v":31.733333333333334},"Adj HDD and NDD =0 for July and August"]
["2022-12-07",51,36,{"$f":"AVERAGE(KCITempAct[[#This Row],[KCIHigh]:[KCILow]]\n)","v":43.5},{"$f":"IF(KCITempAct[[#This Row],[KCIAve]]<65,(65-KCITempAct[[#This Row],[KCIAve]]),0)","v":21.5},{"$f":"IF(MONTH(KCITempAct[[#This Row],[Date]])=7,0,IF(MONTH(KCITempAct[[#This Row],[Date]])=8,0,KCITempAct[[#This Row],[KCIHDD]]))","v":21.5},{"$f":"SUMPRODUCT((KCINHDD[Month]=MONTH(KCITempAct[[#This Row],[Date]]))*(KCINHDD[Day]=DAY(KCITempAct[[#This Row],[Date]]))*KCINHDD[KCINHDD])","v":32.200000000000003},{"$f":"IF(MONTH(KCITempAct[[#This Row],[Date]])=7,0,IF(MONTH(KCITempAct[[#This Row],[Date]])=8,0,KCITempAct[[#This Row],[KCINHDD]]))","v":32.200000000000003},"Adj HDD and NDD =0 for July and August"]
["2022-12-08",49,42,{"$f":"AVERAGE(KCITempAct[[#This Row],[KCIHigh]:[KCILow]]\n)","v":45.5},{"$f":"IF(KCITempAct[[#This Row],[KCIAve]]<65,(65-KCITempAct[[#This Row],[KCIAve]]),0)","v":19.5},{"$f":"IF(MONTH(KCITempAct[[#This Row],[Date]])=7,0,IF(MONTH(KCITempAct[[#This Row],[Date]])=8,0,KCITempAct[[#This Row],[KCIHDD]]))","v":19.5},{"$f":"SUMPRODUCT((KCINHDD[Month]=MONTH(KCITempAct[[#This Row],[Date]]))*(KCINHDD[Day]=DAY(KCITempAct[[#This Row],[Date]]))*KCINHDD[KCINHDD])","v":31.333333333333332},{"$f":"IF(MONTH(KCITempAct[[#This Row],[Date]])=7,0,IF(MONTH(KCITempAct[[#This Row],[Date]])=8,0,KCITempAct[[#This Row],[KCINHDD]]))","v":31.333333333333332},"Adj HDD and NDD =0 for July and August"]
["2022-12-09",48,34,{"$f":"AVERAGE(KCITempAct[[#This Row],[KCIHigh]:[KCILow]]\n)","v":41},{"$f":"IF(KCITempAct[[#This Row],[KCIAve]]<65,(65-KCITempAct[[#This Row],[KCIAve]]),0)","v":24},{"$f":"IF(MONTH(KCITempAct[[#This Row],[Date]])=7,0,IF(MONTH(KCITempAct[[#This Row],[Date]])=8,0,KCITempAct[[#This Row],[KCIHDD]]))","v":24},{"$f":"SUMPRODUCT((KCINHDD[Month]=MONTH(KCITempAct[[#This Row],[Date]]))*(KCINHDD[Day]=DAY(KCITempAct[[#This Row],[Date]]))*KCINHDD[KCINHDD])","v":32.866666666666667},{"$f":"IF(MONTH(KCITempAct[[#This Row],[Date]])=7,0,IF(MONTH(KCITempAct[[#This Row],[Date]])=8,0,KCITempAct[[#This Row],[KCINHDD]]))","v":32.866666666666667},"Adj HDD and NDD =0 for July and August"]
["2022-12-10",43,28,{"$f":"AVERAGE(KCITempAct[[#This Row],[KCIHigh]:[KCILow]]\n)","v":35.5},{"$f":"IF(KCITempAct[[#This Row],[KCIAve]]<65,(65-KCITempAct[[#This Row],[KCIAve]]),0)","v":29.5},{"$f":"IF(MONTH(KCITempAct[[#This Row],[Date]])=7,0,IF(MONTH(KCITempAct[[#This Row],[Date]])=8,0,KCITempAct[[#This Row],[KCIHDD]]))","v":29.5},{"$f":"SUMPRODUCT((KCINHDD[Month]=MONTH(KCITempAct[[#This Row],[Date]]))*(KCINHDD[Day]=DAY(KCITempAct[[#This Row],[Date]]))*KCINHDD[KCINHDD])","v":32.266666666666666},{"$f":"IF(MONTH(KCITempAct[[#This Row],[Date]])=7,0,IF(MONTH(KCITempAct[[#This Row],[Date]])=8,0,KCITempAct[[#This Row],[KCINHDD]]))","v":32.266666666666666},"Adj HDD and NDD =0 for July and August"]
["2022-12-11",39,24,{"$f":"AVERAGE(KCITempAct[[#This Row],[KCIHigh]:[KCILow]]\n)","v":31.5},{"$f":"IF(KCITempAct[[#This Row],[KCIAve]]<65,(65-KCITempAct[[#This Row],[KCIAve]]),0)","v":33.5},{"$f":"IF(MONTH(KCITempAct[[#This Row],[Date]])=7,0,IF(MONTH(KCITempAct[[#This Row],[Date]])=8,0,KCITempAct[[#This Row],[KCIHDD]]))","v":33.5},{"$f":"SUMPRODUCT((KCINHDD[Month]=MONTH(KCITempAct[[#This Row],[Date]]))*(KCINHDD[Day]=DAY(KCITempAct[[#This Row],[Date]]))*KCINHDD[KCINHDD])","v":31.366666666666667},{"$f":"IF(MONTH(KCITempAct[[#This Row],[Date]])=7,0,IF(MONTH(KCITempAct[[#This Row],[Date]])=8,0,KCITempAct[[#This Row],[KCINHDD]]))","v":31.366666666666667},"Adj HDD and NDD =0 for July and August"]
["2022-12-12",44,37,{"$f":"AVERAGE(KCITempAct[[#This Row],[KCIHigh]:[KCILow]]\n)","v":40.5},{"$f":"IF(KCITempAct[[#This Row],[KCIAve]]<65,(65-KCITempAct[[#This Row],[KCIAve]]),0)","v":24.5},{"$f":"IF(MONTH(KCITempAct[[#This Row],[Date]])=7,0,IF(MONTH(KCITempAct[[#This Row],[Date]])=8,0,KCITempAct[[#This Row],[KCIHDD]]))","v":24.5},{"$f":"SUMPRODUCT((KCINHDD[Month]=MONTH(KCITempAct[[#This Row],[Date]]))*(KCINHDD[Day]=DAY(KCITempAct[[#This Row],[Date]]))*KCINHDD[KCINHDD])","v":30.233333333333334},{"$f":"IF(MONTH(KCITempAct[[#This Row],[Date]])=7,0,IF(MONTH(KCITempAct[[#This Row],[Date]])=8,0,KCITempAct[[#This Row],[KCINHDD]]))","v":30.233333333333334},"Adj HDD and NDD =0 for July and August"]
["2022-12-13",58,40,{"$f":"AVERAGE(KCITempAct[[#This Row],[KCIHigh]:[KCILow]]\n)","v":49},{"$f":"IF(KCITempAct[[#This Row],[KCIAve]]<65,(65-KCITempAct[[#This Row],[KCIAve]]),0)","v":16},{"$f":"IF(MONTH(KCITempAct[[#This Row],[Date]])=7,0,IF(MONTH(KCITempAct[[#This Row],[Date]])=8,0,KCITempAct[[#This Row],[KCIHDD]]))","v":16},{"$f":"SUMPRODUCT((KCINHDD[Month]=MONTH(KCITempAct[[#This Row],[Date]]))*(KCINHDD[Day]=DAY(KCITempAct[[#This Row],[Date]]))*KCINHDD[KCINHDD])","v":28.566666666666666},{"$f":"IF(MONTH(KCITempAct[[#This Row],[Date]])=7,0,IF(MONTH(KCITempAct[[#This Row],[Date]])=8,0,KCITempAct[[#This Row],[KCINHDD]]))","v":28.566666666666666},"Adj HDD and NDD =0 for July and August"]
["2022-12-14",42,28,{"$f":"AVERAGE(KCITempAct[[#This Row],[KCIHigh]:[KCILow]]\n)","v":35},{"$f":"IF(KCITempAct[[#This Row],[KCIAve]]<65,(65-KCITempAct[[#This Row],[KCIAve]]),0)","v":30},{"$f":"IF(MONTH(KCITempAct[[#This Row],[Date]])=7,0,IF(MONTH(KCITempAct[[#This Row],[Date]])=8,0,KCITempAct[[#This Row],[KCIHDD]]))","v":30},{"$f":"SUMPRODUCT((KCINHDD[Month]=MONTH(KCITempAct[[#This Row],[Date]]))*(KCINHDD[Day]=DAY(KCITempAct[[#This Row],[Date]]))*KCINHDD[KCINHDD])","v":30.1},{"$f":"IF(MONTH(KCITempAct[[#This Row],[Date]])=7,0,IF(MONTH(KCITempAct[[#This Row],[Date]])=8,0,KCITempAct[[#This Row],[KCINHDD]]))","v":30.1},"Adj HDD and NDD =0 for July and August"]
["2022-12-15",35,29,{"$f":"AVERAGE(KCITempAct[[#This Row],[KCIHigh]:[KCILow]]\n)","v":32},{"$f":"IF(KCITempAct[[#This Row],[KCIAve]]<65,(65-KCITempAct[[#This Row],[KCIAve]]),0)","v":33},{"$f":"IF(MONTH(KCITempAct[[#This Row],[Date]])=7,0,IF(MONTH(KCITempAct[[#This Row],[Date]])=8,0,KCITempAct[[#This Row],[KCIHDD]]))","v":33},{"$f":"SUMPRODUCT((KCINHDD[Month]=MONTH(KCITempAct[[#This Row],[Date]]))*(KCINHDD[Day]=DAY(KCITempAct[[#This Row],[Date]]))*KCINHDD[KCINHDD])","v":31.4},{"$f":"IF(MONTH(KCITempAct[[#This Row],[Date]])=7,0,IF(MONTH(KCITempAct[[#This Row],[Date]])=8,0,KCITempAct[[#This Row],[KCINHDD]]))","v":31.4},"Adj HDD and NDD =0 for July and August"]
["2022-12-16",33,24,{"$f":"AVERAGE(KCITempAct[[#This Row],[KCIHigh]:[KCILow]]\n)","v":28.5},{"$f":"IF(KCITempAct[[#This Row],[KCIAve]]<65,(65-KCITempAct[[#This Row],[KCIAve]]),0)","v":36.5},{"$f":"IF(MONTH(KCITempAct[[#This Row],[Date]])=7,0,IF(MONTH(KCITempAct[[#This Row],[Date]])=8,0,KCITempAct[[#This Row],[KCIHDD]]))","v":36.5},{"$f":"SUMPRODUCT((KCINHDD[Month]=MONTH(KCITempAct[[#This Row],[Date]]))*(KCINHDD[Day]=DAY(KCITempAct[[#This Row],[Date]]))*KCINHDD[KCINHDD])","v":31.716666666666665},{"$f":"IF(MONTH(KCITempAct[[#This Row],[Date]])=7,0,IF(MONTH(KCITempAct[[#This Row],[Date]])=8,0,KCITempAct[[#This Row],[KCINHDD]]))","v":31.716666666666665},"Adj HDD and NDD =0 for July and August"]
["2022-12-17",33,20,{"$f":"AVERAGE(KCITempAct[[#This Row],[KCIHigh]:[KCILow]]\n)","v":26.5},{"$f":"IF(KCITempAct[[#This Row],[KCIAve]]<65,(65-KCITempAct[[#This Row],[KCIAve]]),0)","v":38.5},{"$f":"IF(MONTH(KCITempAct[[#This Row],[Date]])=7,0,IF(MONTH(KCITempAct[[#This Row],[Date]])=8,0,KCITempAct[[#This Row],[KCIHDD]]))","v":38.5},{"$f":"SUMPRODUCT((KCINHDD[Month]=MONTH(KCITempAct[[#This Row],[Date]]))*(KCINHDD[Day]=DAY(KCITempAct[[#This Row],[Date]]))*KCINHDD[KCINHDD])","v":32.716666666666669},{"$f":"IF(MONTH(KCITempAct[[#This Row],[Date]])=7,0,IF(MONTH(KCITempAct[[#This Row],[Date]])=8,0,KCITempAct[[#This Row],[KCINHDD]]))","v":32.716666666666669},"Adj HDD and NDD =0 for July and August"]
["2022-12-18",37,13,{"$f":"AVERAGE(KCITempAct[[#This Row],[KCIHigh]:[KCILow]]\n)","v":25},{"$f":"IF(KCITempAct[[#This Row],[KCIAve]]<65,(65-KCITempAct[[#This Row],[KCIAve]]),0)","v":40},{"$f":"IF(MONTH(KCITempAct[[#This Row],[Date]])=7,0,IF(MONTH(KCITempAct[[#This Row],[Date]])=8,0,KCITempAct[[#This Row],[KCIHDD]]))","v":40},{"$f":"SUMPRODUCT((KCINHDD[Month]=MONTH(KCITempAct[[#This Row],[Date]]))*(KCINHDD[Day]=DAY(KCITempAct[[#This Row],[Date]]))*KCINHDD[KCINHDD])","v":31.9},{"$f":"IF(MONTH(KCITempAct[[#This Row],[Date]])=7,0,IF(MONTH(KCITempAct[[#This Row],[Date]])=8,0,KCITempAct[[#This Row],[KCINHDD]]))","v":31.9},"Adj HDD and NDD =0 for July and August"]
["2022-12-19",40,31,{"$f":"AVERAGE(KCITempAct[[#This Row],[KCIHigh]:[KCILow]]\n)","v":35.5},{"$f":"IF(KCITempAct[[#This Row],[KCIAve]]<65,(65-KCITempAct[[#This Row],[KCIAve]]),0)","v":29.5},{"$f":"IF(MONTH(KCITempAct[[#This Row],[Date]])=7,0,IF(MONTH(KCITempAct[[#This Row],[Date]])=8,0,KCITempAct[[#This Row],[KCIHDD]]))","v":29.5},{"$f":"SUMPRODUCT((KCINHDD[Month]=MONTH(KCITempAct[[#This Row],[Date]]))*(KCINHDD[Day]=DAY(KCITempAct[[#This Row],[Date]]))*KCINHDD[KCINHDD])","v":32.983333333333334},{"$f":"IF(MONTH(KCITempAct[[#This Row],[Date]])=7,0,IF(MONTH(KCITempAct[[#This Row],[Date]])=8,0,KCITempAct[[#This Row],[KCINHDD]]))","v":32.983333333333334},"Adj HDD and NDD =0 for July and August"]
["2022-12-20",34,20,{"$f":"AVERAGE(KCITempAct[[#This Row],[KCIHigh]:[KCILow]]\n)","v":27},{"$f":"IF(KCITempAct[[#This Row],[KCIAve]]<65,(65-KCITempAct[[#This Row],[KCIAve]]),0)","v":38},{"$f":"IF(MONTH(KCITempAct[[#This Row],[Date]])=7,0,IF(MONTH(KCITempAct[[#This Row],[Date]])=8,0,KCITempAct[[#This Row],[KCIHDD]]))","v":38},{"$f":"SUMPRODUCT((KCINHDD[Month]=MONTH(KCITempAct[[#This Row],[Date]]))*(KCINHDD[Day]=DAY(KCITempAct[[#This Row],[Date]]))*KCINHDD[KCINHDD])","v":32.43333333333333},{"$f":"IF(MONTH(KCITempAct[[#This Row],[Date]])=7,0,IF(MONTH(KCITempAct[[#This Row],[Date]])=8,0,KCITempAct[[#This Row],[KCINHDD]]))","v":32.43333333333333},"Adj HDD and NDD =0 for July and August"]
["2022-12-21",35,22,{"$f":"AVERAGE(KCITempAct[[#This Row],[KCIHigh]:[KCILow]]\n)","v":28.5},{"$f":"IF(KCITempAct[[#This Row],[KCIAve]]<65,(65-KCITempAct[[#This Row],[KCIAve]]),0)","v":36.5},{"$f":"IF(MONTH(KCITempAct[[#This Row],[Date]])=7,0,IF(MONTH(KCITempAct[[#This Row],[Date]])=8,0,KCITempAct[[#This Row],[KCIHDD]]))","v":36.5},{"$f":"SUMPRODUCT((KCINHDD[Month]=MONTH(KCITempAct[[#This Row],[Date]]))*(KCINHDD[Day]=DAY(KCITempAct[[#This Row],[Date]]))*KCINHDD[KCINHDD])","v":31.933333333333334},{"$f":"IF(MONTH(KCITempAct[[#This Row],[Date]])=7,0,IF(MONTH(KCITempAct[[#This Row],[Date]])=8,0,KCITempAct[[#This Row],[KCINHDD]]))","v":31.933333333333334},"Adj HDD and NDD =0 for July and August"]
["2022-12-22",26,-4,{"$f":"AVERAGE(KCITempAct[[#This Row],[KCIHigh]:[KCILow]]\n)","v":11},{"$f":"IF(KCITempAct[[#This Row],[KCIAve]]<65,(65-KCITempAct[[#This Row],[KCIAve]]),0)","v":54},{"$f":"IF(MONTH(KCITempAct[[#This Row],[Date]])=7,0,IF(MONTH(KCITempAct[[#This Row],[Date]])=8,0,KCITempAct[[#This Row],[KCIHDD]]))","v":54},{"$f":"SUMPRODUCT((KCINHDD[Month]=MONTH(KCITempAct[[#This Row],[Date]]))*(KCINHDD[Day]=DAY(KCITempAct[[#This Row],[Date]]))*KCINHDD[KCINHDD])","v":34.25},{"$f":"IF(MONTH(KCITempAct[[#This Row],[Date]])=7,0,IF(MONTH(KCITempAct[[#This Row],[Date]])=8,0,KCITempAct[[#This Row],[KCINHDD]]))","v":34.25},"Adj HDD and NDD =0 for July and August"]
["2022-12-23",11,-4,{"$f":"AVERAGE(KCITempAct[[#This Row],[KCIHigh]:[KCILow]]\n)","v":3.5},{"$f":"IF(KCITempAct[[#This Row],[KCIAve]]<65,(65-KCITempAct[[#This Row],[KCIAve]]),0)","v":61.5},{"$f":"IF(MONTH(KCITempAct[[#This Row],[Date]])=7,0,IF(MONTH(KCITempAct[[#This Row],[Date]])=8,0,KCITempAct[[#This Row],[KCIHDD]]))","v":61.5},{"$f":"SUMPRODUCT((KCINHDD[Month]=MONTH(KCITempAct[[#This Row],[Date]]))*(KCINHDD[Day]=DAY(KCITempAct[[#This Row],[Date]]))*KCINHDD[KCINHDD])","v":35.56666666666667},{"$f":"IF(MONTH(KCITempAct[[#This Row],[Date]])=7,0,IF(MONTH(KCITempAct[[#This Row],[Date]])=8,0,KCITempAct[[#This Row],[KCINHDD]]))","v":35.56666666666667},"Adj HDD and NDD =0 for July and August"]
["2022-12-24",20,5,{"$f":"AVERAGE(KCITempAct[[#This Row],[KCIHigh]:[KCILow]]\n)","v":12.5},{"$f":"IF(KCITempAct[[#This Row],[KCIAve]]<65,(65-KCITempAct[[#This Row],[KCIAve]]),0)","v":52.5},{"$f":"IF(MONTH(KCITempAct[[#This Row],[Date]])=7,0,IF(MONTH(KCITempAct[[#This Row],[Date]])=8,0,KCITempAct[[#This Row],[KCIHDD]]))","v":52.5},{"$f":"SUMPRODUCT((KCINHDD[Month]=MONTH(KCITempAct[[#This Row],[Date]]))*(KCINHDD[Day]=DAY(KCITempAct[[#This Row],[Date]]))*KCINHDD[KCINHDD])","v":38.18333333333333},{"$f":"IF(MONTH(KCITempAct[[#This Row],[Date]])=7,0,IF(MONTH(KCITempAct[[#This Row],[Date]])=8,0,KCITempAct[[#This Row],[KCINHDD]]))","v":38.18333333333333},"Adj HDD and NDD =0 for July and August"]
["2022-12-25",28,0,{"$f":"AVERAGE(KCITempAct[[#This Row],[KCIHigh]:[KCILow]]\n)","v":14},{"$f":"IF(KCITempAct[[#This Row],[KCIAve]]<65,(65-KCITempAct[[#This Row],[KCIAve]]),0)","v":51},{"$f":"IF(MONTH(KCITempAct[[#This Row],[Date]])=7,0,IF(MONTH(KCITempAct[[#This Row],[Date]])=8,0,KCITempAct[[#This Row],[KCIHDD]]))","v":51},{"$f":"SUMPRODUCT((KCINHDD[Month]=MONTH(KCITempAct[[#This Row],[Date]]))*(KCINHDD[Day]=DAY(KCITempAct[[#This Row],[Date]]))*KCINHDD[KCINHDD])","v":34.833333333333336},{"$f":"IF(MONTH(KCITempAct[[#This Row],[Date]])=7,0,IF(MONTH(KCITempAct[[#This Row],[Date]])=8,0,KCITempAct[[#This Row],[KCINHDD]]))","v":34.833333333333336},"Adj HDD and NDD =0 for July and August"]
["2022-12-26",36,9,{"$f":"AVERAGE(KCITempAct[[#This Row],[KCIHigh]:[KCILow]]\n)","v":22.5},{"$f":"IF(KCITempAct[[#This Row],[KCIAve]]<65,(65-KCITempAct[[#This Row],[KCIAve]]),0)","v":42.5},{"$f":"IF(MONTH(KCITempAct[[#This Row],[Date]])=7,0,IF(MONTH(KCITempAct[[#This Row],[Date]])=8,0,KCITempAct[[#This Row],[KCIHDD]]))","v":42.5},{"$f":"SUMPRODUCT((KCINHDD[Month]=MONTH(KCITempAct[[#This Row],[Date]]))*(KCINHDD[Day]=DAY(KCITempAct[[#This Row],[Date]]))*KCINHDD[KCINHDD])","v":32.5},{"$f":"IF(MONTH(KCITempAct[[#This Row],[Date]])=7,0,IF(MONTH(KCITempAct[[#This Row],[Date]])=8,0,KCITempAct[[#This Row],[KCINHDD]]))","v":32.5},"Adj HDD and NDD =0 for July and August"]
["2022-12-27",40,8,{"$f":"AVERAGE(KCITempAct[[#This Row],[KCIHigh]:[KCILow]]\n)","v":24},{"$f":"IF(KCITempAct[[#This Row],[KCIAve]]<65,(65-KCITempAct[[#This Row],[KCIAve]]),0)","v":41},{"$f":"IF(MONTH(KCITempAct[[#This Row],[Date]])=7,0,IF(MONTH(KCITempAct[[#This Row],[Date]])=8,0,KCITempAct[[#This Row],[KCIHDD]]))","v":41},{"$f":"SUMPRODUCT((KCINHDD[Month]=MONTH(KCITempAct[[#This Row],[Date]]))*(KCINHDD[Day]=DAY(KCITempAct[[#This Row],[Date]]))*KCINHDD[KCINHDD])","v":31.9},{"$f":"IF(MONTH(KCITempAct[[#This Row],[Date]])=7,0,IF(MONTH(KCITempAct[[#This Row],[Date]])=8,0,KCITempAct[[#This Row],[KCINHDD]]))","v":31.9},"Adj HDD and NDD =0 for July and August"]
["2022-12-28",59,39,{"$f":"AVERAGE(KCITempAct[[#This Row],[KCIHigh]:[KCILow]]\n)","v":49},{"$f":"IF(KCITempAct[[#This Row],[KCIAve]]<65,(65-KCITempAct[[#This Row],[KCIAve]]),0)","v":16},{"$f":"IF(MONTH(KCITempAct[[#This Row],[Date]])=7,0,IF(MONTH(KCITempAct[[#This Row],[Date]])=8,0,KCITempAct[[#This Row],[KCIHDD]]))","v":16},{"$f":"SUMPRODUCT((KCINHDD[Month]=MONTH(KCITempAct[[#This Row],[Date]]))*(KCINHDD[Day]=DAY(KCITempAct[[#This Row],[Date]]))*KCINHDD[KCINHDD])","v":32.266666666666666},{"$f":"IF(MONTH(KCITempAct[[#This Row],[Date]])=7,0,IF(MONTH(KCITempAct[[#This Row],[Date]])=8,0,KCITempAct[[#This Row],[KCINHDD]]))","v":32.266666666666666},"Adj HDD and NDD =0 for July and August"]
["2022-12-29",68,37,{"$f":"AVERAGE(KCITempAct[[#This Row],[KCIHigh]:[KCILow]]\n)","v":52.5},{"$f":"IF(KCITempAct[[#This Row],[KCIAve]]<65,(65-KCITempAct[[#This Row],[KCIAve]]),0)","v":12.5},{"$f":"IF(MONTH(KCITempAct[[#This Row],[Date]])=7,0,IF(MONTH(KCITempAct[[#This Row],[Date]])=8,0,KCITempAct[[#This Row],[KCIHDD]]))","v":12.5},{"$f":"SUMPRODUCT((KCINHDD[Month]=MONTH(KCITempAct[[#This Row],[Date]]))*(KCINHDD[Day]=DAY(KCITempAct[[#This Row],[Date]]))*KCINHDD[KCINHDD])","v":33.083333333333336},{"$f":"IF(MONTH(KCITempAct[[#This Row],[Date]])=7,0,IF(MONTH(KCITempAct[[#This Row],[Date]])=8,0,KCITempAct[[#This Row],[KCINHDD]]))","v":33.083333333333336},"Adj HDD and NDD =0 for July and August"]
["2022-12-30",48,32,{"$f":"AVERAGE(KCITempAct[[#This Row],[KCIHigh]:[KCILow]]\n)","v":40},{"$f":"IF(KCITempAct[[#This Row],[KCIAve]]<65,(65-KCITempAct[[#This Row],[KCIAve]]),0)","v":25},{"$f":"IF(MONTH(KCITempAct[[#This Row],[Date]])=7,0,IF(MONTH(KCITempAct[[#This Row],[Date]])=8,0,KCITempAct[[#This Row],[KCIHDD]]))","v":25},{"$f":"SUMPRODUCT((KCINHDD[Month]=MONTH(KCITempAct[[#This Row],[Date]]))*(KCINHDD[Day]=DAY(KCITempAct[[#This Row],[Date]]))*KCINHDD[KCINHDD])","v":32.366666666666667},{"$f":"IF(MONTH(KCITempAct[[#This Row],[Date]])=7,0,IF(MONTH(KCITempAct[[#This Row],[Date]])=8,0,KCITempAct[[#This Row],[KCINHDD]]))","v":32.366666666666667},"Adj HDD and NDD =0 for July and August"]
["2022-12-31",63,31,{"$f":"AVERAGE(KCITempAct[[#This Row],[KCIHigh]:[KCILow]]\n)","v":47},{"$f":"IF(KCITempAct[[#This Row],[KCIAve]]<65,(65-KCITempAct[[#This Row],[KCIAve]]),0)","v":18},{"$f":"IF(MONTH(KCITempAct[[#This Row],[Date]])=7,0,IF(MONTH(KCITempAct[[#This Row],[Date]])=8,0,KCITempAct[[#This Row],[KCIHDD]]))","v":18},{"$f":"SUMPRODUCT((KCINHDD[Month]=MONTH(KCITempAct[[#This Row],[Date]]))*(KCINHDD[Day]=DAY(KCITempAct[[#This Row],[Date]]))*KCINHDD[KCINHDD])","v":36.033333333333331},{"$f":"IF(MONTH(KCITempAct[[#This Row],[Date]])=7,0,IF(MONTH(KCITempAct[[#This Row],[Date]])=8,0,KCITempAct[[#This Row],[KCINHDD]]))","v":36.033333333333331},"Adj HDD and NDD =0 for July and August"]
["2023-01-01",62,37,{"$f":"AVERAGE(KCITempAct[[#This Row],[KCIHigh]:[KCILow]]\n)","v":49.5},{"$f":"IF(KCITempAct[[#This Row],[KCIAve]]<65,(65-KCITempAct[[#This Row],[KCIAve]]),0)","v":15.5},{"$f":"IF(MONTH(KCITempAct[[#This Row],[Date]])=7,0,IF(MONTH(KCITempAct[[#This Row],[Date]])=8,0,KCITempAct[[#This Row],[KCIHDD]]))","v":15.5},{"$f":"SUMPRODUCT((KCINHDD[Month]=MONTH(KCITempAct[[#This Row],[Date]]))*(KCINHDD[Day]=DAY(KCITempAct[[#This Row],[Date]]))*KCINHDD[KCINHDD])","v":36.4},{"$f":"IF(MONTH(KCITempAct[[#This Row],[Date]])=7,0,IF(MONTH(KCITempAct[[#This Row],[Date]])=8,0,KCITempAct[[#This Row],[KCINHDD]]))","v":36.4},"Adj HDD and NDD =0 for July and August"]
["2023-01-02",58,40,{"$f":"AVERAGE(KCITempAct[[#This Row],[KCIHigh]:[KCILow]]\n)","v":49},{"$f":"IF(KCITempAct[[#This Row],[KCIAve]]<65,(65-KCITempAct[[#This Row],[KCIAve]]),0)","v":16},{"$f":"IF(MONTH(KCITempAct[[#This Row],[Date]])=7,0,IF(MONTH(KCITempAct[[#This Row],[Date]])=8,0,KCITempAct[[#This Row],[KCIHDD]]))","v":16},{"$f":"SUMPRODUCT((KCINHDD[Month]=MONTH(KCITempAct[[#This Row],[Date]]))*(KCINHDD[Day]=DAY(KCITempAct[[#This Row],[Date]]))*KCINHDD[KCINHDD])","v":35.583333333333336},{"$f":"IF(MONTH(KCITempAct[[#This Row],[Date]])=7,0,IF(MONTH(KCITempAct[[#This Row],[Date]])=8,0,KCITempAct[[#This Row],[KCINHDD]]))","v":35.583333333333336},"Adj HDD and NDD =0 for July and August"]
["2023-01-03",57,33,{"$f":"AVERAGE(KCITempAct[[#This Row],[KCIHigh]:[KCILow]]\n)","v":45},{"$f":"IF(KCITempAct[[#This Row],[KCIAve]]<65,(65-KCITempAct[[#This Row],[KCIAve]]),0)","v":20},{"$f":"IF(MONTH(KCITempAct[[#This Row],[Date]])=7,0,IF(MONTH(KCITempAct[[#This Row],[Date]])=8,0,KCITempAct[[#This Row],[KCIHDD]]))","v":20},{"$f":"SUMPRODUCT((KCINHDD[Month]=MONTH(KCITempAct[[#This Row],[Date]]))*(KCINHDD[Day]=DAY(KCITempAct[[#This Row],[Date]]))*KCINHDD[KCINHDD])","v":35.616666666666667},{"$f":"IF(MONTH(KCITempAct[[#This Row],[Date]])=7,0,IF(MONTH(KCITempAct[[#This Row],[Date]])=8,0,KCITempAct[[#This Row],[KCINHDD]]))","v":35.616666666666667},"Adj HDD and NDD =0 for July and August"]
["2023-01-04",46,33,{"$f":"AVERAGE(KCITempAct[[#This Row],[KCIHigh]:[KCILow]]\n)","v":39.5},{"$f":"IF(KCITempAct[[#This Row],[KCIAve]]<65,(65-KCITempAct[[#This Row],[KCIAve]]),0)","v":25.5},{"$f":"IF(MONTH(KCITempAct[[#This Row],[Date]])=7,0,IF(MONTH(KCITempAct[[#This Row],[Date]])=8,0,KCITempAct[[#This Row],[KCIHDD]]))","v":25.5},{"$f":"SUMPRODUCT((KCINHDD[Month]=MONTH(KCITempAct[[#This Row],[Date]]))*(KCINHDD[Day]=DAY(KCITempAct[[#This Row],[Date]]))*KCINHDD[KCINHDD])","v":37.56666666666667},{"$f":"IF(MONTH(KCITempAct[[#This Row],[Date]])=7,0,IF(MONTH(KCITempAct[[#This Row],[Date]])=8,0,KCITempAct[[#This Row],[KCINHDD]]))","v":37.56666666666667},"Adj HDD and NDD =0 for July and August"]
["2023-01-05",45,32,{"$f":"AVERAGE(KCITempAct[[#This Row],[KCIHigh]:[KCILow]]\n)","v":38.5},{"$f":"IF(KCITempAct[[#This Row],[KCIAve]]<65,(65-KCITempAct[[#This Row],[KCIAve]]),0)","v":26.5},{"$f":"IF(MONTH(KCITempAct[[#This Row],[Date]])=7,0,IF(MONTH(KCITempAct[[#This Row],[Date]])=8,0,KCITempAct[[#This Row],[KCIHDD]]))","v":26.5},{"$f":"SUMPRODUCT((KCINHDD[Month]=MONTH(KCITempAct[[#This Row],[Date]]))*(KCINHDD[Day]=DAY(KCITempAct[[#This Row],[Date]]))*KCINHDD[KCINHDD])","v":36.75},{"$f":"IF(MONTH(KCITempAct[[#This Row],[Date]])=7,0,IF(MONTH(KCITempAct[[#This Row],[Date]])=8,0,KCITempAct[[#This Row],[KCINHDD]]))","v":36.75},"Adj HDD and NDD =0 for July and August"]
["2023-01-06",50,25,{"$f":"AVERAGE(KCITempAct[[#This Row],[KCIHigh]:[KCILow]]\n)","v":37.5},{"$f":"IF(KCITempAct[[#This Row],[KCIAve]]<65,(65-KCITempAct[[#This Row],[KCIAve]]),0)","v":27.5},{"$f":"IF(MONTH(KCITempAct[[#This Row],[Date]])=7,0,IF(MONTH(KCITempAct[[#This Row],[Date]])=8,0,KCITempAct[[#This Row],[KCIHDD]]))","v":27.5},{"$f":"SUMPRODUCT((KCINHDD[Month]=MONTH(KCITempAct[[#This Row],[Date]]))*(KCINHDD[Day]=DAY(KCITempAct[[#This Row],[Date]]))*KCINHDD[KCINHDD])","v":37.416666666666664},{"$f":"IF(MONTH(KCITempAct[[#This Row],[Date]])=7,0,IF(MONTH(KCITempAct[[#This Row],[Date]])=8,0,KCITempAct[[#This Row],[KCINHDD]]))","v":37.416666666666664},"Adj HDD and NDD =0 for July and August"]
["2023-01-07",36,30,{"$f":"AVERAGE(KCITempAct[[#This Row],[KCIHigh]:[KCILow]]\n)","v":33},{"$f":"IF(KCITempAct[[#This Row],[KCIAve]]<65,(65-KCITempAct[[#This Row],[KCIAve]]),0)","v":32},{"$f":"IF(MONTH(KCITempAct[[#This Row],[Date]])=7,0,IF(MONTH(KCITempAct[[#This Row],[Date]])=8,0,KCITempAct[[#This Row],[KCIHDD]]))","v":32},{"$f":"SUMPRODUCT((KCINHDD[Month]=MONTH(KCITempAct[[#This Row],[Date]]))*(KCINHDD[Day]=DAY(KCITempAct[[#This Row],[Date]]))*KCINHDD[KCINHDD])","v":37.016666666666666},{"$f":"IF(MONTH(KCITempAct[[#This Row],[Date]])=7,0,IF(MONTH(KCITempAct[[#This Row],[Date]])=8,0,KCITempAct[[#This Row],[KCINHDD]]))","v":37.016666666666666},"Adj HDD and NDD =0 for July and August"]
["2023-01-08",49,23,{"$f":"AVERAGE(KCITempAct[[#This Row],[KCIHigh]:[KCILow]]\n)","v":36},{"$f":"IF(KCITempAct[[#This Row],[KCIAve]]<65,(65-KCITempAct[[#This Row],[KCIAve]]),0)","v":29},{"$f":"IF(MONTH(KCITempAct[[#This Row],[Date]])=7,0,IF(MONTH(KCITempAct[[#This Row],[Date]])=8,0,KCITempAct[[#This Row],[KCIHDD]]))","v":29},{"$f":"SUMPRODUCT((KCINHDD[Month]=MONTH(KCITempAct[[#This Row],[Date]]))*(KCINHDD[Day]=DAY(KCITempAct[[#This Row],[Date]]))*KCINHDD[KCINHDD])","v":34.483333333333334},{"$f":"IF(MONTH(KCITempAct[[#This Row],[Date]])=7,0,IF(MONTH(KCITempAct[[#This Row],[Date]])=8,0,KCITempAct[[#This Row],[KCINHDD]]))","v":34.483333333333334},"Adj HDD and NDD =0 for July and August"]
["2023-01-09",61,31,{"$f":"AVERAGE(KCITempAct[[#This Row],[KCIHigh]:[KCILow]]\n)","v":46},{"$f":"IF(KCITempAct[[#This Row],[KCIAve]]<65,(65-KCITempAct[[#This Row],[KCIAve]]),0)","v":19},{"$f":"IF(MONTH(KCITempAct[[#This Row],[Date]])=7,0,IF(MONTH(KCITempAct[[#This Row],[Date]])=8,0,KCITempAct[[#This Row],[KCIHDD]]))","v":19},{"$f":"SUMPRODUCT((KCINHDD[Month]=MONTH(KCITempAct[[#This Row],[Date]]))*(KCINHDD[Day]=DAY(KCITempAct[[#This Row],[Date]]))*KCINHDD[KCINHDD])","v":35.333333333333336},{"$f":"IF(MONTH(KCITempAct[[#This Row],[Date]])=7,0,IF(MONTH(KCITempAct[[#This Row],[Date]])=8,0,KCITempAct[[#This Row],[KCINHDD]]))","v":35.333333333333336},"Adj HDD and NDD =0 for July and August"]
["2023-01-10",59,30,{"$f":"AVERAGE(KCITempAct[[#This Row],[KCIHigh]:[KCILow]]\n)","v":44.5},{"$f":"IF(KCITempAct[[#This Row],[KCIAve]]<65,(65-KCITempAct[[#This Row],[KCIAve]]),0)","v":20.5},{"$f":"IF(MONTH(KCITempAct[[#This Row],[Date]])=7,0,IF(MONTH(KCITempAct[[#This Row],[Date]])=8,0,KCITempAct[[#This Row],[KCIHDD]]))","v":20.5},{"$f":"SUMPRODUCT((KCINHDD[Month]=MONTH(KCITempAct[[#This Row],[Date]]))*(KCINHDD[Day]=DAY(KCITempAct[[#This Row],[Date]]))*KCINHDD[KCINHDD])","v":35.466666666666669},{"$f":"IF(MONTH(KCITempAct[[#This Row],[Date]])=7,0,IF(MONTH(KCITempAct[[#This Row],[Date]])=8,0,KCITempAct[[#This Row],[KCINHDD]]))","v":35.466666666666669},"Adj HDD and NDD =0 for July and August"]
["2023-01-11",54,34,{"$f":"AVERAGE(KCITempAct[[#This Row],[KCIHigh]:[KCILow]]\n)","v":44},{"$f":"IF(KCITempAct[[#This Row],[KCIAve]]<65,(65-KCITempAct[[#This Row],[KCIAve]]),0)","v":21},{"$f":"IF(MONTH(KCITempAct[[#This Row],[Date]])=7,0,IF(MONTH(KCITempAct[[#This Row],[Date]])=8,0,KCITempAct[[#This Row],[KCIHDD]]))","v":21},{"$f":"SUMPRODUCT((KCINHDD[Month]=MONTH(KCITempAct[[#This Row],[Date]]))*(KCINHDD[Day]=DAY(KCITempAct[[#This Row],[Date]]))*KCINHDD[KCINHDD])","v":33.033333333333331},{"$f":"IF(MONTH(KCITempAct[[#This Row],[Date]])=7,0,IF(MONTH(KCITempAct[[#This Row],[Date]])=8,0,KCITempAct[[#This Row],[KCINHDD]]))","v":33.033333333333331},"Adj HDD and NDD =0 for July and August"]
["2023-01-12",37,27,{"$f":"AVERAGE(KCITempAct[[#This Row],[KCIHigh]:[KCILow]]\n)","v":32},{"$f":"IF(KCITempAct[[#This Row],[KCIAve]]<65,(65-KCITempAct[[#This Row],[KCIAve]]),0)","v":33},{"$f":"IF(MONTH(KCITempAct[[#This Row],[Date]])=7,0,IF(MONTH(KCITempAct[[#This Row],[Date]])=8,0,KCITempAct[[#This Row],[KCIHDD]]))","v":33},{"$f":"SUMPRODUCT((KCINHDD[Month]=MONTH(KCITempAct[[#This Row],[Date]]))*(KCINHDD[Day]=DAY(KCITempAct[[#This Row],[Date]]))*KCINHDD[KCINHDD])","v":35.31666666666667},{"$f":"IF(MONTH(KCITempAct[[#This Row],[Date]])=7,0,IF(MONTH(KCITempAct[[#This Row],[Date]])=8,0,KCITempAct[[#This Row],[KCINHDD]]))","v":35.31666666666667},"Adj HDD and NDD =0 for July and August"]
["2023-01-13",37,23,{"$f":"AVERAGE(KCITempAct[[#This Row],[KCIHigh]:[KCILow]]\n)","v":30},{"$f":"IF(KCITempAct[[#This Row],[KCIAve]]<65,(65-KCITempAct[[#This Row],[KCIAve]]),0)","v":35},{"$f":"IF(MONTH(KCITempAct[[#This Row],[Date]])=7,0,IF(MONTH(KCITempAct[[#This Row],[Date]])=8,0,KCITempAct[[#This Row],[KCIHDD]]))","v":35},{"$f":"SUMPRODUCT((KCINHDD[Month]=MONTH(KCITempAct[[#This Row],[Date]]))*(KCINHDD[Day]=DAY(KCITempAct[[#This Row],[Date]]))*KCINHDD[KCINHDD])","v":38.450000000000003},{"$f":"IF(MONTH(KCITempAct[[#This Row],[Date]])=7,0,IF(MONTH(KCITempAct[[#This Row],[Date]])=8,0,KCITempAct[[#This Row],[KCINHDD]]))","v":38.450000000000003},"Adj HDD and NDD =0 for July and August"]
["2023-01-14",50,20,{"$f":"AVERAGE(KCITempAct[[#This Row],[KCIHigh]:[KCILow]]\n)","v":35},{"$f":"IF(KCITempAct[[#This Row],[KCIAve]]<65,(65-KCITempAct[[#This Row],[KCIAve]]),0)","v":30},{"$f":"IF(MONTH(KCITempAct[[#This Row],[Date]])=7,0,IF(MONTH(KCITempAct[[#This Row],[Date]])=8,0,KCITempAct[[#This Row],[KCIHDD]]))","v":30},{"$f":"SUMPRODUCT((KCINHDD[Month]=MONTH(KCITempAct[[#This Row],[Date]]))*(KCINHDD[Day]=DAY(KCITempAct[[#This Row],[Date]]))*KCINHDD[KCINHDD])","v":36.016666666666666},{"$f":"IF(MONTH(KCITempAct[[#This Row],[Date]])=7,0,IF(MONTH(KCITempAct[[#This Row],[Date]])=8,0,KCITempAct[[#This Row],[KCINHDD]]))","v":36.016666666666666},"Adj HDD and NDD =0 for July and August"]
["2023-01-15",59,41,{"$f":"AVERAGE(KCITempAct[[#This Row],[KCIHigh]:[KCILow]]\n)","v":50},{"$f":"IF(KCITempAct[[#This Row],[KCIAve]]<65,(65-KCITempAct[[#This Row],[KCIAve]]),0)","v":15},{"$f":"IF(MONTH(KCITempAct[[#This Row],[Date]])=7,0,IF(MONTH(KCITempAct[[#This Row],[Date]])=8,0,KCITempAct[[#This Row],[KCIHDD]]))","v":15},{"$f":"SUMPRODUCT((KCINHDD[Month]=MONTH(KCITempAct[[#This Row],[Date]]))*(KCINHDD[Day]=DAY(KCITempAct[[#This Row],[Date]]))*KCINHDD[KCINHDD])","v":37.25},{"$f":"IF(MONTH(KCITempAct[[#This Row],[Date]])=7,0,IF(MONTH(KCITempAct[[#This Row],[Date]])=8,0,KCITempAct[[#This Row],[KCINHDD]]))","v":37.25},"Adj HDD and NDD =0 for July and August"]
["2023-01-16",60,39,{"$f":"AVERAGE(KCITempAct[[#This Row],[KCIHigh]:[KCILow]]\n)","v":49.5},{"$f":"IF(KCITempAct[[#This Row],[KCIAve]]<65,(65-KCITempAct[[#This Row],[KCIAve]]),0)","v":15.5},{"$f":"IF(MONTH(KCITempAct[[#This Row],[Date]])=7,0,IF(MONTH(KCITempAct[[#This Row],[Date]])=8,0,KCITempAct[[#This Row],[KCIHDD]]))","v":15.5},{"$f":"SUMPRODUCT((KCINHDD[Month]=MONTH(KCITempAct[[#This Row],[Date]]))*(KCINHDD[Day]=DAY(KCITempAct[[#This Row],[Date]]))*KCINHDD[KCINHDD])","v":36.733333333333334},{"$f":"IF(MONTH(KCITempAct[[#This Row],[Date]])=7,0,IF(MONTH(KCITempAct[[#This Row],[Date]])=8,0,KCITempAct[[#This Row],[KCINHDD]]))","v":36.733333333333334},"Adj HDD and NDD =0 for July and August"]
["2023-01-17",49,34,{"$f":"AVERAGE(KCITempAct[[#This Row],[KCIHigh]:[KCILow]]\n)","v":41.5},{"$f":"IF(KCITempAct[[#This Row],[KCIAve]]<65,(65-KCITempAct[[#This Row],[KCIAve]]),0)","v":23.5},{"$f":"IF(MONTH(KCITempAct[[#This Row],[Date]])=7,0,IF(MONTH(KCITempAct[[#This Row],[Date]])=8,0,KCITempAct[[#This Row],[KCIHDD]]))","v":23.5},{"$f":"SUMPRODUCT((KCINHDD[Month]=MONTH(KCITempAct[[#This Row],[Date]]))*(KCINHDD[Day]=DAY(KCITempAct[[#This Row],[Date]]))*KCINHDD[KCINHDD])","v":37.75},{"$f":"IF(MONTH(KCITempAct[[#This Row],[Date]])=7,0,IF(MONTH(KCITempAct[[#This Row],[Date]])=8,0,KCITempAct[[#This Row],[KCINHDD]]))","v":37.75},"Adj HDD and NDD =0 for July and August"]
["2023-01-18",41,37,{"$f":"AVERAGE(KCITempAct[[#This Row],[KCIHigh]:[KCILow]]\n)","v":39},{"$f":"IF(KCITempAct[[#This Row],[KCIAve]]<65,(65-KCITempAct[[#This Row],[KCIAve]]),0)","v":26},{"$f":"IF(MONTH(KCITempAct[[#This Row],[Date]])=7,0,IF(MONTH(KCITempAct[[#This Row],[Date]])=8,0,KCITempAct[[#This Row],[KCIHDD]]))","v":26},{"$f":"SUMPRODUCT((KCINHDD[Month]=MONTH(KCITempAct[[#This Row],[Date]]))*(KCINHDD[Day]=DAY(KCITempAct[[#This Row],[Date]]))*KCINHDD[KCINHDD])","v":37.166666666666664},{"$f":"IF(MONTH(KCITempAct[[#This Row],[Date]])=7,0,IF(MONTH(KCITempAct[[#This Row],[Date]])=8,0,KCITempAct[[#This Row],[KCINHDD]]))","v":37.166666666666664},"Adj HDD and NDD =0 for July and August"]
["2023-01-19",40,28,{"$f":"AVERAGE(KCITempAct[[#This Row],[KCIHigh]:[KCILow]]\n)","v":34},{"$f":"IF(KCITempAct[[#This Row],[KCIAve]]<65,(65-KCITempAct[[#This Row],[KCIAve]]),0)","v":31},{"$f":"IF(MONTH(KCITempAct[[#This Row],[Date]])=7,0,IF(MONTH(KCITempAct[[#This Row],[Date]])=8,0,KCITempAct[[#This Row],[KCIHDD]]))","v":31},{"$f":"SUMPRODUCT((KCINHDD[Month]=MONTH(KCITempAct[[#This Row],[Date]]))*(KCINHDD[Day]=DAY(KCITempAct[[#This Row],[Date]]))*KCINHDD[KCINHDD])","v":35.983333333333334},{"$f":"IF(MONTH(KCITempAct[[#This Row],[Date]])=7,0,IF(MONTH(KCITempAct[[#This Row],[Date]])=8,0,KCITempAct[[#This Row],[KCINHDD]]))","v":35.983333333333334},"Adj HDD and NDD =0 for July and August"]
["2023-01-20",45,27,{"$f":"AVERAGE(KCITempAct[[#This Row],[KCIHigh]:[KCILow]]\n)","v":36},{"$f":"IF(KCITempAct[[#This Row],[KCIAve]]<65,(65-KCITempAct[[#This Row],[KCIAve]]),0)","v":29},{"$f":"IF(MONTH(KCITempAct[[#This Row],[Date]])=7,0,IF(MONTH(KCITempAct[[#This Row],[Date]])=8,0,KCITempAct[[#This Row],[KCIHDD]]))","v":29},{"$f":"SUMPRODUCT((KCINHDD[Month]=MONTH(KCITempAct[[#This Row],[Date]]))*(KCINHDD[Day]=DAY(KCITempAct[[#This Row],[Date]]))*KCINHDD[KCINHDD])","v":35.93333333333333},{"$f":"IF(MONTH(KCITempAct[[#This Row],[Date]])=7,0,IF(MONTH(KCITempAct[[#This Row],[Date]])=8,0,KCITempAct[[#This Row],[KCINHDD]]))","v":35.93333333333333},"Adj HDD and NDD =0 for July and August"]
["2023-01-21",38,27,{"$f":"AVERAGE(KCITempAct[[#This Row],[KCIHigh]:[KCILow]]\n)","v":32.5},{"$f":"IF(KCITempAct[[#This Row],[KCIAve]]<65,(65-KCITempAct[[#This Row],[KCIAve]]),0)","v":32.5},{"$f":"IF(MONTH(KCITempAct[[#This Row],[Date]])=7,0,IF(MONTH(KCITempAct[[#This Row],[Date]])=8,0,KCITempAct[[#This Row],[KCIHDD]]))","v":32.5},{"$f":"SUMPRODUCT((KCINHDD[Month]=MONTH(KCITempAct[[#This Row],[Date]]))*(KCINHDD[Day]=DAY(KCITempAct[[#This Row],[Date]]))*KCINHDD[KCINHDD])","v":33.799999999999997},{"$f":"IF(MONTH(KCITempAct[[#This Row],[Date]])=7,0,IF(MONTH(KCITempAct[[#This Row],[Date]])=8,0,KCITempAct[[#This Row],[KCINHDD]]))","v":33.799999999999997},"Adj HDD and NDD =0 for July and August"]
["2023-01-22",34,26,{"$f":"AVERAGE(KCITempAct[[#This Row],[KCIHigh]:[KCILow]]\n)","v":30},{"$f":"IF(KCITempAct[[#This Row],[KCIAve]]<65,(65-KCITempAct[[#This Row],[KCIAve]]),0)","v":35},{"$f":"IF(MONTH(KCITempAct[[#This Row],[Date]])=7,0,IF(MONTH(KCITempAct[[#This Row],[Date]])=8,0,KCITempAct[[#This Row],[KCIHDD]]))","v":35},{"$f":"SUMPRODUCT((KCINHDD[Month]=MONTH(KCITempAct[[#This Row],[Date]]))*(KCINHDD[Day]=DAY(KCITempAct[[#This Row],[Date]]))*KCINHDD[KCINHDD])","v":33.43333333333333},{"$f":"IF(MONTH(KCITempAct[[#This Row],[Date]])=7,0,IF(MONTH(KCITempAct[[#This Row],[Date]])=8,0,KCITempAct[[#This Row],[KCINHDD]]))","v":33.43333333333333},"Adj HDD and NDD =0 for July and August"]
["2023-01-23",44,23,{"$f":"AVERAGE(KCITempAct[[#This Row],[KCIHigh]:[KCILow]]\n)","v":33.5},{"$f":"IF(KCITempAct[[#This Row],[KCIAve]]<65,(65-KCITempAct[[#This Row],[KCIAve]]),0)","v":31.5},{"$f":"IF(MONTH(KCITempAct[[#This Row],[Date]])=7,0,IF(MONTH(KCITempAct[[#This Row],[Date]])=8,0,KCITempAct[[#This Row],[KCIHDD]]))","v":31.5},{"$f":"SUMPRODUCT((KCINHDD[Month]=MONTH(KCITempAct[[#This Row],[Date]]))*(KCINHDD[Day]=DAY(KCITempAct[[#This Row],[Date]]))*KCINHDD[KCINHDD])","v":36.416666666666664},{"$f":"IF(MONTH(KCITempAct[[#This Row],[Date]])=7,0,IF(MONTH(KCITempAct[[#This Row],[Date]])=8,0,KCITempAct[[#This Row],[KCINHDD]]))","v":36.416666666666664},"Adj HDD and NDD =0 for July and August"]
["2023-01-24",40,27,{"$f":"AVERAGE(KCITempAct[[#This Row],[KCIHigh]:[KCILow]]\n)","v":33.5},{"$f":"IF(KCITempAct[[#This Row],[KCIAve]]<65,(65-KCITempAct[[#This Row],[KCIAve]]),0)","v":31.5},{"$f":"IF(MONTH(KCITempAct[[#This Row],[Date]])=7,0,IF(MONTH(KCITempAct[[#This Row],[Date]])=8,0,KCITempAct[[#This Row],[KCIHDD]]))","v":31.5},{"$f":"SUMPRODUCT((KCINHDD[Month]=MONTH(KCITempAct[[#This Row],[Date]]))*(KCINHDD[Day]=DAY(KCITempAct[[#This Row],[Date]]))*KCINHDD[KCINHDD])","v":35.799999999999997},{"$f":"IF(MONTH(KCITempAct[[#This Row],[Date]])=7,0,IF(MONTH(KCITempAct[[#This Row],[Date]])=8,0,KCITempAct[[#This Row],[KCINHDD]]))","v":35.799999999999997},"Adj HDD and NDD =0 for July and August"]
["2023-01-25",36,22,{"$f":"AVERAGE(KCITempAct[[#This Row],[KCIHigh]:[KCILow]]\n)","v":29},{"$f":"IF(KCITempAct[[#This Row],[KCIAve]]<65,(65-KCITempAct[[#This Row],[KCIAve]]),0)","v":36},{"$f":"IF(MONTH(KCITempAct[[#This Row],[Date]])=7,0,IF(MONTH(KCITempAct[[#This Row],[Date]])=8,0,KCITempAct[[#This Row],[KCIHDD]]))","v":36},{"$f":"SUMPRODUCT((KCINHDD[Month]=MONTH(KCITempAct[[#This Row],[Date]]))*(KCINHDD[Day]=DAY(KCITempAct[[#This Row],[Date]]))*KCINHDD[KCINHDD])","v":34.06666666666667},{"$f":"IF(MONTH(KCITempAct[[#This Row],[Date]])=7,0,IF(MONTH(KCITempAct[[#This Row],[Date]])=8,0,KCITempAct[[#This Row],[KCINHDD]]))","v":34.06666666666667},"Adj HDD and NDD =0 for July and August"]
["2023-01-26",30,15,{"$f":"AVERAGE(KCITempAct[[#This Row],[KCIHigh]:[KCILow]]\n)","v":22.5},{"$f":"IF(KCITempAct[[#This Row],[KCIAve]]<65,(65-KCITempAct[[#This Row],[KCIAve]]),0)","v":42.5},{"$f":"IF(MONTH(KCITempAct[[#This Row],[Date]])=7,0,IF(MONTH(KCITempAct[[#This Row],[Date]])=8,0,KCITempAct[[#This Row],[KCIHDD]]))","v":42.5},{"$f":"SUMPRODUCT((KCINHDD[Month]=MONTH(KCITempAct[[#This Row],[Date]]))*(KCINHDD[Day]=DAY(KCITempAct[[#This Row],[Date]]))*KCINHDD[KCINHDD])","v":33.049999999999997},{"$f":"IF(MONTH(KCITempAct[[#This Row],[Date]])=7,0,IF(MONTH(KCITempAct[[#This Row],[Date]])=8,0,KCITempAct[[#This Row],[KCINHDD]]))","v":33.049999999999997},"Adj HDD and NDD =0 for July and August"]
["2023-01-27",50,30,{"$f":"AVERAGE(KCITempAct[[#This Row],[KCIHigh]:[KCILow]]\n)","v":40},{"$f":"IF(KCITempAct[[#This Row],[KCIAve]]<65,(65-KCITempAct[[#This Row],[KCIAve]]),0)","v":25},{"$f":"IF(MONTH(KCITempAct[[#This Row],[Date]])=7,0,IF(MONTH(KCITempAct[[#This Row],[Date]])=8,0,KCITempAct[[#This Row],[KCIHDD]]))","v":25},{"$f":"SUMPRODUCT((KCINHDD[Month]=MONTH(KCITempAct[[#This Row],[Date]]))*(KCINHDD[Day]=DAY(KCITempAct[[#This Row],[Date]]))*KCINHDD[KCINHDD])","v":33.5},{"$f":"IF(MONTH(KCITempAct[[#This Row],[Date]])=7,0,IF(MONTH(KCITempAct[[#This Row],[Date]])=8,0,KCITempAct[[#This Row],[KCINHDD]]))","v":33.5},"Adj HDD and NDD =0 for July and August"]
["2023-01-28",55,20,{"$f":"AVERAGE(KCITempAct[[#This Row],[KCIHigh]:[KCILow]]\n)","v":37.5},{"$f":"IF(KCITempAct[[#This Row],[KCIAve]]<65,(65-KCITempAct[[#This Row],[KCIAve]]),0)","v":27.5},{"$f":"IF(MONTH(KCITempAct[[#This Row],[Date]])=7,0,IF(MONTH(KCITempAct[[#This Row],[Date]])=8,0,KCITempAct[[#This Row],[KCIHDD]]))","v":27.5},{"$f":"SUMPRODUCT((KCINHDD[Month]=MONTH(KCITempAct[[#This Row],[Date]]))*(KCINHDD[Day]=DAY(KCITempAct[[#This Row],[Date]]))*KCINHDD[KCINHDD])","v":33.06666666666667},{"$f":"IF(MONTH(KCITempAct[[#This Row],[Date]])=7,0,IF(MONTH(KCITempAct[[#This Row],[Date]])=8,0,KCITempAct[[#This Row],[KCINHDD]]))","v":33.06666666666667},"Adj HDD and NDD =0 for July and August"]
["2023-01-29",24,13,{"$f":"AVERAGE(KCITempAct[[#This Row],[KCIHigh]:[KCILow]]\n)","v":18.5},{"$f":"IF(KCITempAct[[#This Row],[KCIAve]]<65,(65-KCITempAct[[#This Row],[KCIAve]]),0)","v":46.5},{"$f":"IF(MONTH(KCITempAct[[#This Row],[Date]])=7,0,IF(MONTH(KCITempAct[[#This Row],[Date]])=8,0,KCITempAct[[#This Row],[KCIHDD]]))","v":46.5},{"$f":"SUMPRODUCT((KCINHDD[Month]=MONTH(KCITempAct[[#This Row],[Date]]))*(KCINHDD[Day]=DAY(KCITempAct[[#This Row],[Date]]))*KCINHDD[KCINHDD])","v":34.866666666666667},{"$f":"IF(MONTH(KCITempAct[[#This Row],[Date]])=7,0,IF(MONTH(KCITempAct[[#This Row],[Date]])=8,0,KCITempAct[[#This Row],[KCINHDD]]))","v":34.866666666666667},"Adj HDD and NDD =0 for July and August"]
["2023-01-30",22,13,{"$f":"AVERAGE(KCITempAct[[#This Row],[KCIHigh]:[KCILow]]\n)","v":17.5},{"$f":"IF(KCITempAct[[#This Row],[KCIAve]]<65,(65-KCITempAct[[#This Row],[KCIAve]]),0)","v":47.5},{"$f":"IF(MONTH(KCITempAct[[#This Row],[Date]])=7,0,IF(MONTH(KCITempAct[[#This Row],[Date]])=8,0,KCITempAct[[#This Row],[KCIHDD]]))","v":47.5},{"$f":"SUMPRODUCT((KCINHDD[Month]=MONTH(KCITempAct[[#This Row],[Date]]))*(KCINHDD[Day]=DAY(KCITempAct[[#This Row],[Date]]))*KCINHDD[KCINHDD])","v":36.31666666666667},{"$f":"IF(MONTH(KCITempAct[[#This Row],[Date]])=7,0,IF(MONTH(KCITempAct[[#This Row],[Date]])=8,0,KCITempAct[[#This Row],[KCINHDD]]))","v":36.31666666666667},"Adj HDD and NDD =0 for July and August"]
["2023-01-31",28,8,{"$f":"AVERAGE(KCITempAct[[#This Row],[KCIHigh]:[KCILow]]\n)","v":18},{"$f":"IF(KCITempAct[[#This Row],[KCIAve]]<65,(65-KCITempAct[[#This Row],[KCIAve]]),0)","v":47},{"$f":"IF(MONTH(KCITempAct[[#This Row],[Date]])=7,0,IF(MONTH(KCITempAct[[#This Row],[Date]])=8,0,KCITempAct[[#This Row],[KCIHDD]]))","v":47},{"$f":"SUMPRODUCT((KCINHDD[Month]=MONTH(KCITempAct[[#This Row],[Date]]))*(KCINHDD[Day]=DAY(KCITempAct[[#This Row],[Date]]))*KCINHDD[KCINHDD])","v":32.700000000000003},{"$f":"IF(MONTH(KCITempAct[[#This Row],[Date]])=7,0,IF(MONTH(KCITempAct[[#This Row],[Date]])=8,0,KCITempAct[[#This Row],[KCINHDD]]))","v":32.700000000000003},"Adj HDD and NDD =0 for July and August"]
["2023-02-01",41,10,{"$f":"AVERAGE(KCITempAct[[#This Row],[KCIHigh]:[KCILow]]\n)","v":25.5},{"$f":"IF(KCITempAct[[#This Row],[KCIAve]]<65,(65-KCITempAct[[#This Row],[KCIAve]]),0)","v":39.5},{"$f":"IF(MONTH(KCITempAct[[#This Row],[Date]])=7,0,IF(MONTH(KCITempAct[[#This Row],[Date]])=8,0,KCITempAct[[#This Row],[KCIHDD]]))","v":39.5},{"$f":"SUMPRODUCT((KCINHDD[Month]=MONTH(KCITempAct[[#This Row],[Date]]))*(KCINHDD[Day]=DAY(KCITempAct[[#This Row],[Date]]))*KCINHDD[KCINHDD])","v":33.266666666666666},{"$f":"IF(MONTH(KCITempAct[[#This Row],[Date]])=7,0,IF(MONTH(KCITempAct[[#This Row],[Date]])=8,0,KCITempAct[[#This Row],[KCINHDD]]))","v":33.266666666666666},"Adj HDD and NDD =0 for July and August"]
["2023-02-02",52,15,{"$f":"AVERAGE(KCITempAct[[#This Row],[KCIHigh]:[KCILow]]\n)","v":33.5},{"$f":"IF(KCITempAct[[#This Row],[KCIAve]]<65,(65-KCITempAct[[#This Row],[KCIAve]]),0)","v":31.5},{"$f":"IF(MONTH(KCITempAct[[#This Row],[Date]])=7,0,IF(MONTH(KCITempAct[[#This Row],[Date]])=8,0,KCITempAct[[#This Row],[KCIHDD]]))","v":31.5},{"$f":"SUMPRODUCT((KCINHDD[Month]=MONTH(KCITempAct[[#This Row],[Date]]))*(KCINHDD[Day]=DAY(KCITempAct[[#This Row],[Date]]))*KCINHDD[KCINHDD])","v":33.700000000000003},{"$f":"IF(MONTH(KCITempAct[[#This Row],[Date]])=7,0,IF(MONTH(KCITempAct[[#This Row],[Date]])=8,0,KCITempAct[[#This Row],[KCINHDD]]))","v":33.700000000000003},"Adj HDD and NDD =0 for July and August"]
["2023-02-03",35,9,{"$f":"AVERAGE(KCITempAct[[#This Row],[KCIHigh]:[KCILow]]\n)","v":22},{"$f":"IF(KCITempAct[[#This Row],[KCIAve]]<65,(65-KCITempAct[[#This Row],[KCIAve]]),0)","v":43},{"$f":"IF(MONTH(KCITempAct[[#This Row],[Date]])=7,0,IF(MONTH(KCITempAct[[#This Row],[Date]])=8,0,KCITempAct[[#This Row],[KCIHDD]]))","v":43},{"$f":"SUMPRODUCT((KCINHDD[Month]=MONTH(KCITempAct[[#This Row],[Date]]))*(KCINHDD[Day]=DAY(KCITempAct[[#This Row],[Date]]))*KCINHDD[KCINHDD])","v":32.666666666666664},{"$f":"IF(MONTH(KCITempAct[[#This Row],[Date]])=7,0,IF(MONTH(KCITempAct[[#This Row],[Date]])=8,0,KCITempAct[[#This Row],[KCINHDD]]))","v":32.666666666666664},"Adj HDD and NDD =0 for July and August"]
["2023-02-04",56,29,{"$f":"AVERAGE(KCITempAct[[#This Row],[KCIHigh]:[KCILow]]\n)","v":42.5},{"$f":"IF(KCITempAct[[#This Row],[KCIAve]]<65,(65-KCITempAct[[#This Row],[KCIAve]]),0)","v":22.5},{"$f":"IF(MONTH(KCITempAct[[#This Row],[Date]])=7,0,IF(MONTH(KCITempAct[[#This Row],[Date]])=8,0,KCITempAct[[#This Row],[KCIHDD]]))","v":22.5},{"$f":"SUMPRODUCT((KCINHDD[Month]=MONTH(KCITempAct[[#This Row],[Date]]))*(KCINHDD[Day]=DAY(KCITempAct[[#This Row],[Date]]))*KCINHDD[KCINHDD])","v":35.5},{"$f":"IF(MONTH(KCITempAct[[#This Row],[Date]])=7,0,IF(MONTH(KCITempAct[[#This Row],[Date]])=8,0,KCITempAct[[#This Row],[KCINHDD]]))","v":35.5},"Adj HDD and NDD =0 for July and August"]
["2023-02-05",65,28,{"$f":"AVERAGE(KCITempAct[[#This Row],[KCIHigh]:[KCILow]]\n)","v":46.5},{"$f":"IF(KCITempAct[[#This Row],[KCIAve]]<65,(65-KCITempAct[[#This Row],[KCIAve]]),0)","v":18.5},{"$f":"IF(MONTH(KCITempAct[[#This Row],[Date]])=7,0,IF(MONTH(KCITempAct[[#This Row],[Date]])=8,0,KCITempAct[[#This Row],[KCIHDD]]))","v":18.5},{"$f":"SUMPRODUCT((KCINHDD[Month]=MONTH(KCITempAct[[#This Row],[Date]]))*(KCINHDD[Day]=DAY(KCITempAct[[#This Row],[Date]]))*KCINHDD[KCINHDD])","v":35.616666666666667},{"$f":"IF(MONTH(KCITempAct[[#This Row],[Date]])=7,0,IF(MONTH(KCITempAct[[#This Row],[Date]])=8,0,KCITempAct[[#This Row],[KCINHDD]]))","v":35.616666666666667},"Adj HDD and NDD =0 for July and August"]
["2023-02-06",72,36,{"$f":"AVERAGE(KCITempAct[[#This Row],[KCIHigh]:[KCILow]]\n)","v":54},{"$f":"IF(KCITempAct[[#This Row],[KCIAve]]<65,(65-KCITempAct[[#This Row],[KCIAve]]),0)","v":11},{"$f":"IF(MONTH(KCITempAct[[#This Row],[Date]])=7,0,IF(MONTH(KCITempAct[[#This Row],[Date]])=8,0,KCITempAct[[#This Row],[KCIHDD]]))","v":11},{"$f":"SUMPRODUCT((KCINHDD[Month]=MONTH(KCITempAct[[#This Row],[Date]]))*(KCINHDD[Day]=DAY(KCITempAct[[#This Row],[Date]]))*KCINHDD[KCINHDD])","v":32.716666666666669},{"$f":"IF(MONTH(KCITempAct[[#This Row],[Date]])=7,0,IF(MONTH(KCITempAct[[#This Row],[Date]])=8,0,KCITempAct[[#This Row],[KCINHDD]]))","v":32.716666666666669},"Adj HDD and NDD =0 for July and August"]
["2023-02-07",51,33,{"$f":"AVERAGE(KCITempAct[[#This Row],[KCIHigh]:[KCILow]]\n)","v":42},{"$f":"IF(KCITempAct[[#This Row],[KCIAve]]<65,(65-KCITempAct[[#This Row],[KCIAve]]),0)","v":23},{"$f":"IF(MONTH(KCITempAct[[#This Row],[Date]])=7,0,IF(MONTH(KCITempAct[[#This Row],[Date]])=8,0,KCITempAct[[#This Row],[KCIHDD]]))","v":23},{"$f":"SUMPRODUCT((KCINHDD[Month]=MONTH(KCITempAct[[#This Row],[Date]]))*(KCINHDD[Day]=DAY(KCITempAct[[#This Row],[Date]]))*KCINHDD[KCINHDD])","v":34.333333333333336},{"$f":"IF(MONTH(KCITempAct[[#This Row],[Date]])=7,0,IF(MONTH(KCITempAct[[#This Row],[Date]])=8,0,KCITempAct[[#This Row],[KCINHDD]]))","v":34.333333333333336},"Adj HDD and NDD =0 for July and August"]
["2023-02-08",45,27,{"$f":"AVERAGE(KCITempAct[[#This Row],[KCIHigh]:[KCILow]]\n)","v":36},{"$f":"IF(KCITempAct[[#This Row],[KCIAve]]<65,(65-KCITempAct[[#This Row],[KCIAve]]),0)","v":29},{"$f":"IF(MONTH(KCITempAct[[#This Row],[Date]])=7,0,IF(MONTH(KCITempAct[[#This Row],[Date]])=8,0,KCITempAct[[#This Row],[KCIHDD]]))","v":29},{"$f":"SUMPRODUCT((KCINHDD[Month]=MONTH(KCITempAct[[#This Row],[Date]]))*(KCINHDD[Day]=DAY(KCITempAct[[#This Row],[Date]]))*KCINHDD[KCINHDD])","v":36.266666666666666},{"$f":"IF(MONTH(KCITempAct[[#This Row],[Date]])=7,0,IF(MONTH(KCITempAct[[#This Row],[Date]])=8,0,KCITempAct[[#This Row],[KCINHDD]]))","v":36.266666666666666},"Adj HDD and NDD =0 for July and August"]
["2023-02-09",39,32,{"$f":"AVERAGE(KCITempAct[[#This Row],[KCIHigh]:[KCILow]]\n)","v":35.5},{"$f":"IF(KCITempAct[[#This Row],[KCIAve]]<65,(65-KCITempAct[[#This Row],[KCIAve]]),0)","v":29.5},{"$f":"IF(MONTH(KCITempAct[[#This Row],[Date]])=7,0,IF(MONTH(KCITempAct[[#This Row],[Date]])=8,0,KCITempAct[[#This Row],[KCIHDD]]))","v":29.5},{"$f":"SUMPRODUCT((KCINHDD[Month]=MONTH(KCITempAct[[#This Row],[Date]]))*(KCINHDD[Day]=DAY(KCITempAct[[#This Row],[Date]]))*KCINHDD[KCINHDD])","v":34.516666666666666},{"$f":"IF(MONTH(KCITempAct[[#This Row],[Date]])=7,0,IF(MONTH(KCITempAct[[#This Row],[Date]])=8,0,KCITempAct[[#This Row],[KCINHDD]]))","v":34.516666666666666},"Adj HDD and NDD =0 for July and August"]
["2023-02-10",34,19,{"$f":"AVERAGE(KCITempAct[[#This Row],[KCIHigh]:[KCILow]]\n)","v":26.5},{"$f":"IF(KCITempAct[[#This Row],[KCIAve]]<65,(65-KCITempAct[[#This Row],[KCIAve]]),0)","v":38.5},{"$f":"IF(MONTH(KCITempAct[[#This Row],[Date]])=7,0,IF(MONTH(KCITempAct[[#This Row],[Date]])=8,0,KCITempAct[[#This Row],[KCIHDD]]))","v":38.5},{"$f":"SUMPRODUCT((KCINHDD[Month]=MONTH(KCITempAct[[#This Row],[Date]]))*(KCINHDD[Day]=DAY(KCITempAct[[#This Row],[Date]]))*KCINHDD[KCINHDD])","v":33.883333333333333},{"$f":"IF(MONTH(KCITempAct[[#This Row],[Date]])=7,0,IF(MONTH(KCITempAct[[#This Row],[Date]])=8,0,KCITempAct[[#This Row],[KCINHDD]]))","v":33.883333333333333},"Adj HDD and NDD =0 for July and August"]
["2023-02-11",46,16,{"$f":"AVERAGE(KCITempAct[[#This Row],[KCIHigh]:[KCILow]]\n)","v":31},{"$f":"IF(KCITempAct[[#This Row],[KCIAve]]<65,(65-KCITempAct[[#This Row],[KCIAve]]),0)","v":34},{"$f":"IF(MONTH(KCITempAct[[#This Row],[Date]])=7,0,IF(MONTH(KCITempAct[[#This Row],[Date]])=8,0,KCITempAct[[#This Row],[KCIHDD]]))","v":34},{"$f":"SUMPRODUCT((KCINHDD[Month]=MONTH(KCITempAct[[#This Row],[Date]]))*(KCINHDD[Day]=DAY(KCITempAct[[#This Row],[Date]]))*KCINHDD[KCINHDD])","v":35.083333333333336},{"$f":"IF(MONTH(KCITempAct[[#This Row],[Date]])=7,0,IF(MONTH(KCITempAct[[#This Row],[Date]])=8,0,KCITempAct[[#This Row],[KCINHDD]]))","v":35.083333333333336},"Adj HDD and NDD =0 for July and August"]
["2023-02-12",58,28,{"$f":"AVERAGE(KCITempAct[[#This Row],[KCIHigh]:[KCILow]]\n)","v":43},{"$f":"IF(KCITempAct[[#This Row],[KCIAve]]<65,(65-KCITempAct[[#This Row],[KCIAve]]),0)","v":22},{"$f":"IF(MONTH(KCITempAct[[#This Row],[Date]])=7,0,IF(MONTH(KCITempAct[[#This Row],[Date]])=8,0,KCITempAct[[#This Row],[KCIHDD]]))","v":22},{"$f":"SUMPRODUCT((KCINHDD[Month]=MONTH(KCITempAct[[#This Row],[Date]]))*(KCINHDD[Day]=DAY(KCITempAct[[#This Row],[Date]]))*KCINHDD[KCINHDD])","v":36.6},{"$f":"IF(MONTH(KCITempAct[[#This Row],[Date]])=7,0,IF(MONTH(KCITempAct[[#This Row],[Date]])=8,0,KCITempAct[[#This Row],[KCINHDD]]))","v":36.6},"Adj HDD and NDD =0 for July and August"]
["2023-02-13",58,27,{"$f":"AVERAGE(KCITempAct[[#This Row],[KCIHigh]:[KCILow]]\n)","v":42.5},{"$f":"IF(KCITempAct[[#This Row],[KCIAve]]<65,(65-KCITempAct[[#This Row],[KCIAve]]),0)","v":22.5},{"$f":"IF(MONTH(KCITempAct[[#This Row],[Date]])=7,0,IF(MONTH(KCITempAct[[#This Row],[Date]])=8,0,KCITempAct[[#This Row],[KCIHDD]]))","v":22.5},{"$f":"SUMPRODUCT((KCINHDD[Month]=MONTH(KCITempAct[[#This Row],[Date]]))*(KCINHDD[Day]=DAY(KCITempAct[[#This Row],[Date]]))*KCINHDD[KCINHDD])","v":33.266666666666666},{"$f":"IF(MONTH(KCITempAct[[#This Row],[Date]])=7,0,IF(MONTH(KCITempAct[[#This Row],[Date]])=8,0,KCITempAct[[#This Row],[KCINHDD]]))","v":33.266666666666666},"Adj HDD and NDD =0 for July and August"]
["2023-02-14",54,41,{"$f":"AVERAGE(KCITempAct[[#This Row],[KCIHigh]:[KCILow]]\n)","v":47.5},{"$f":"IF(KCITempAct[[#This Row],[KCIAve]]<65,(65-KCITempAct[[#This Row],[KCIAve]]),0)","v":17.5},{"$f":"IF(MONTH(KCITempAct[[#This Row],[Date]])=7,0,IF(MONTH(KCITempAct[[#This Row],[Date]])=8,0,KCITempAct[[#This Row],[KCIHDD]]))","v":17.5},{"$f":"SUMPRODUCT((KCINHDD[Month]=MONTH(KCITempAct[[#This Row],[Date]]))*(KCINHDD[Day]=DAY(KCITempAct[[#This Row],[Date]]))*KCINHDD[KCINHDD])","v":30.716666666666665},{"$f":"IF(MONTH(KCITempAct[[#This Row],[Date]])=7,0,IF(MONTH(KCITempAct[[#This Row],[Date]])=8,0,KCITempAct[[#This Row],[KCINHDD]]))","v":30.716666666666665},"Adj HDD and NDD =0 for July and August"]
["2023-02-15",41,31,{"$f":"AVERAGE(KCITempAct[[#This Row],[KCIHigh]:[KCILow]]\n)","v":36},{"$f":"IF(KCITempAct[[#This Row],[KCIAve]]<65,(65-KCITempAct[[#This Row],[KCIAve]]),0)","v":29},{"$f":"IF(MONTH(KCITempAct[[#This Row],[Date]])=7,0,IF(MONTH(KCITempAct[[#This Row],[Date]])=8,0,KCITempAct[[#This Row],[KCIHDD]]))","v":29},{"$f":"SUMPRODUCT((KCINHDD[Month]=MONTH(KCITempAct[[#This Row],[Date]]))*(KCINHDD[Day]=DAY(KCITempAct[[#This Row],[Date]]))*KCINHDD[KCINHDD])","v":33.766666666666666},{"$f":"IF(MONTH(KCITempAct[[#This Row],[Date]])=7,0,IF(MONTH(KCITempAct[[#This Row],[Date]])=8,0,KCITempAct[[#This Row],[KCINHDD]]))","v":33.766666666666666},"Adj HDD and NDD =0 for July and August"]
["2023-02-16",31,18,{"$f":"AVERAGE(KCITempAct[[#This Row],[KCIHigh]:[KCILow]]\n)","v":24.5},{"$f":"IF(KCITempAct[[#This Row],[KCIAve]]<65,(65-KCITempAct[[#This Row],[KCIAve]]),0)","v":40.5},{"$f":"IF(MONTH(KCITempAct[[#This Row],[Date]])=7,0,IF(MONTH(KCITempAct[[#This Row],[Date]])=8,0,KCITempAct[[#This Row],[KCIHDD]]))","v":40.5},{"$f":"SUMPRODUCT((KCINHDD[Month]=MONTH(KCITempAct[[#This Row],[Date]]))*(KCINHDD[Day]=DAY(KCITempAct[[#This Row],[Date]]))*KCINHDD[KCINHDD])","v":34.56666666666667},{"$f":"IF(MONTH(KCITempAct[[#This Row],[Date]])=7,0,IF(MONTH(KCITempAct[[#This Row],[Date]])=8,0,KCITempAct[[#This Row],[KCINHDD]]))","v":34.56666666666667},"Adj HDD and NDD =0 for July and August"]
["2023-02-17",44,11,{"$f":"AVERAGE(KCITempAct[[#This Row],[KCIHigh]:[KCILow]]\n)","v":27.5},{"$f":"IF(KCITempAct[[#This Row],[KCIAve]]<65,(65-KCITempAct[[#This Row],[KCIAve]]),0)","v":37.5},{"$f":"IF(MONTH(KCITempAct[[#This Row],[Date]])=7,0,IF(MONTH(KCITempAct[[#This Row],[Date]])=8,0,KCITempAct[[#This Row],[KCIHDD]]))","v":37.5},{"$f":"SUMPRODUCT((KCINHDD[Month]=MONTH(KCITempAct[[#This Row],[Date]]))*(KCINHDD[Day]=DAY(KCITempAct[[#This Row],[Date]]))*KCINHDD[KCINHDD])","v":29.55},{"$f":"IF(MONTH(KCITempAct[[#This Row],[Date]])=7,0,IF(MONTH(KCITempAct[[#This Row],[Date]])=8,0,KCITempAct[[#This Row],[KCINHDD]]))","v":29.55},"Adj HDD and NDD =0 for July and August"]
["2023-02-18",55,32,{"$f":"AVERAGE(KCITempAct[[#This Row],[KCIHigh]:[KCILow]]\n)","v":43.5},{"$f":"IF(KCITempAct[[#This Row],[KCIAve]]<65,(65-KCITempAct[[#This Row],[KCIAve]]),0)","v":21.5},{"$f":"IF(MONTH(KCITempAct[[#This Row],[Date]])=7,0,IF(MONTH(KCITempAct[[#This Row],[Date]])=8,0,KCITempAct[[#This Row],[KCIHDD]]))","v":21.5},{"$f":"SUMPRODUCT((KCINHDD[Month]=MONTH(KCITempAct[[#This Row],[Date]]))*(KCINHDD[Day]=DAY(KCITempAct[[#This Row],[Date]]))*KCINHDD[KCINHDD])","v":28.05},{"$f":"IF(MONTH(KCITempAct[[#This Row],[Date]])=7,0,IF(MONTH(KCITempAct[[#This Row],[Date]])=8,0,KCITempAct[[#This Row],[KCINHDD]]))","v":28.05},"Adj HDD and NDD =0 for July and August"]
["2023-02-19",56,33,{"$f":"AVERAGE(KCITempAct[[#This Row],[KCIHigh]:[KCILow]]\n)","v":44.5},{"$f":"IF(KCITempAct[[#This Row],[KCIAve]]<65,(65-KCITempAct[[#This Row],[KCIAve]]),0)","v":20.5},{"$f":"IF(MONTH(KCITempAct[[#This Row],[Date]])=7,0,IF(MONTH(KCITempAct[[#This Row],[Date]])=8,0,KCITempAct[[#This Row],[KCIHDD]]))","v":20.5},{"$f":"SUMPRODUCT((KCINHDD[Month]=MONTH(KCITempAct[[#This Row],[Date]]))*(KCINHDD[Day]=DAY(KCITempAct[[#This Row],[Date]]))*KCINHDD[KCINHDD])","v":27.25},{"$f":"IF(MONTH(KCITempAct[[#This Row],[Date]])=7,0,IF(MONTH(KCITempAct[[#This Row],[Date]])=8,0,KCITempAct[[#This Row],[KCINHDD]]))","v":27.25},"Adj HDD and NDD =0 for July and August"]
["2023-02-20",62,28,{"$f":"AVERAGE(KCITempAct[[#This Row],[KCIHigh]:[KCILow]]\n)","v":45},{"$f":"IF(KCITempAct[[#This Row],[KCIAve]]<65,(65-KCITempAct[[#This Row],[KCIAve]]),0)","v":20},{"$f":"IF(MONTH(KCITempAct[[#This Row],[Date]])=7,0,IF(MONTH(KCITempAct[[#This Row],[Date]])=8,0,KCITempAct[[#This Row],[KCIHDD]]))","v":20},{"$f":"SUMPRODUCT((KCINHDD[Month]=MONTH(KCITempAct[[#This Row],[Date]]))*(KCINHDD[Day]=DAY(KCITempAct[[#This Row],[Date]]))*KCINHDD[KCINHDD])","v":26.1},{"$f":"IF(MONTH(KCITempAct[[#This Row],[Date]])=7,0,IF(MONTH(KCITempAct[[#This Row],[Date]])=8,0,KCITempAct[[#This Row],[KCINHDD]]))","v":26.1},"Adj HDD and NDD =0 for July and August"]
["2023-02-21",58,27,{"$f":"AVERAGE(KCITempAct[[#This Row],[KCIHigh]:[KCILow]]\n)","v":42.5},{"$f":"IF(KCITempAct[[#This Row],[KCIAve]]<65,(65-KCITempAct[[#This Row],[KCIAve]]),0)","v":22.5},{"$f":"IF(MONTH(KCITempAct[[#This Row],[Date]])=7,0,IF(MONTH(KCITempAct[[#This Row],[Date]])=8,0,KCITempAct[[#This Row],[KCIHDD]]))","v":22.5},{"$f":"SUMPRODUCT((KCINHDD[Month]=MONTH(KCITempAct[[#This Row],[Date]]))*(KCINHDD[Day]=DAY(KCITempAct[[#This Row],[Date]]))*KCINHDD[KCINHDD])","v":29.15},{"$f":"IF(MONTH(KCITempAct[[#This Row],[Date]])=7,0,IF(MONTH(KCITempAct[[#This Row],[Date]])=8,0,KCITempAct[[#This Row],[KCINHDD]]))","v":29.15},"Adj HDD and NDD =0 for July and August"]
["2023-02-22",62,29,{"$f":"AVERAGE(KCITempAct[[#This Row],[KCIHigh]:[KCILow]]\n)","v":45.5},{"$f":"IF(KCITempAct[[#This Row],[KCIAve]]<65,(65-KCITempAct[[#This Row],[KCIAve]]),0)","v":19.5},{"$f":"IF(MONTH(KCITempAct[[#This Row],[Date]])=7,0,IF(MONTH(KCITempAct[[#This Row],[Date]])=8,0,KCITempAct[[#This Row],[KCIHDD]]))","v":19.5},{"$f":"SUMPRODUCT((KCINHDD[Month]=MONTH(KCITempAct[[#This Row],[Date]]))*(KCINHDD[Day]=DAY(KCITempAct[[#This Row],[Date]]))*KCINHDD[KCINHDD])","v":27.783333333333335},{"$f":"IF(MONTH(KCITempAct[[#This Row],[Date]])=7,0,IF(MONTH(KCITempAct[[#This Row],[Date]])=8,0,KCITempAct[[#This Row],[KCINHDD]]))","v":27.783333333333335},"Adj HDD and NDD =0 for July and August"]
["2023-02-23",29,14,{"$f":"AVERAGE(KCITempAct[[#This Row],[KCIHigh]:[KCILow]]\n)","v":21.5},{"$f":"IF(KCITempAct[[#This Row],[KCIAve]]<65,(65-KCITempAct[[#This Row],[KCIAve]]),0)","v":43.5},{"$f":"IF(MONTH(KCITempAct[[#This Row],[Date]])=7,0,IF(MONTH(KCITempAct[[#This Row],[Date]])=8,0,KCITempAct[[#This Row],[KCIHDD]]))","v":43.5},{"$f":"SUMPRODUCT((KCINHDD[Month]=MONTH(KCITempAct[[#This Row],[Date]]))*(KCINHDD[Day]=DAY(KCITempAct[[#This Row],[Date]]))*KCINHDD[KCINHDD])","v":27.9},{"$f":"IF(MONTH(KCITempAct[[#This Row],[Date]])=7,0,IF(MONTH(KCITempAct[[#This Row],[Date]])=8,0,KCITempAct[[#This Row],[KCINHDD]]))","v":27.9},"Adj HDD and NDD =0 for July and August"]
["2023-02-24",29,11,{"$f":"AVERAGE(KCITempAct[[#This Row],[KCIHigh]:[KCILow]]\n)","v":20},{"$f":"IF(KCITempAct[[#This Row],[KCIAve]]<65,(65-KCITempAct[[#This Row],[KCIAve]]),0)","v":45},{"$f":"IF(MONTH(KCITempAct[[#This Row],[Date]])=7,0,IF(MONTH(KCITempAct[[#This Row],[Date]])=8,0,KCITempAct[[#This Row],[KCIHDD]]))","v":45},{"$f":"SUMPRODUCT((KCINHDD[Month]=MONTH(KCITempAct[[#This Row],[Date]]))*(KCINHDD[Day]=DAY(KCITempAct[[#This Row],[Date]]))*KCINHDD[KCINHDD])","v":29.4},{"$f":"IF(MONTH(KCITempAct[[#This Row],[Date]])=7,0,IF(MONTH(KCITempAct[[#This Row],[Date]])=8,0,KCITempAct[[#This Row],[KCINHDD]]))","v":29.4},"Adj HDD and NDD =0 for July and August"]
["2023-02-25",46,16,{"$f":"AVERAGE(KCITempAct[[#This Row],[KCIHigh]:[KCILow]]\n)","v":31},{"$f":"IF(KCITempAct[[#This Row],[KCIAve]]<65,(65-KCITempAct[[#This Row],[KCIAve]]),0)","v":34},{"$f":"IF(MONTH(KCITempAct[[#This Row],[Date]])=7,0,IF(MONTH(KCITempAct[[#This Row],[Date]])=8,0,KCITempAct[[#This Row],[KCIHDD]]))","v":34},{"$f":"SUMPRODUCT((KCINHDD[Month]=MONTH(KCITempAct[[#This Row],[Date]]))*(KCINHDD[Day]=DAY(KCITempAct[[#This Row],[Date]]))*KCINHDD[KCINHDD])","v":29.683333333333334},{"$f":"IF(MONTH(KCITempAct[[#This Row],[Date]])=7,0,IF(MONTH(KCITempAct[[#This Row],[Date]])=8,0,KCITempAct[[#This Row],[KCINHDD]]))","v":29.683333333333334},"Adj HDD and NDD =0 for July and August"]
["2023-02-26",59,30,{"$f":"AVERAGE(KCITempAct[[#This Row],[KCIHigh]:[KCILow]]\n)","v":44.5},{"$f":"IF(KCITempAct[[#This Row],[KCIAve]]<65,(65-KCITempAct[[#This Row],[KCIAve]]),0)","v":20.5},{"$f":"IF(MONTH(KCITempAct[[#This Row],[Date]])=7,0,IF(MONTH(KCITempAct[[#This Row],[Date]])=8,0,KCITempAct[[#This Row],[KCIHDD]]))","v":20.5},{"$f":"SUMPRODUCT((KCINHDD[Month]=MONTH(KCITempAct[[#This Row],[Date]]))*(KCINHDD[Day]=DAY(KCITempAct[[#This Row],[Date]]))*KCINHDD[KCINHDD])","v":30.3},{"$f":"IF(MONTH(KCITempAct[[#This Row],[Date]])=7,0,IF(MONTH(KCITempAct[[#This Row],[Date]])=8,0,KCITempAct[[#This Row],[KCINHDD]]))","v":30.3},"Adj HDD and NDD =0 for July and August"]
["2023-02-27",63,41,{"$f":"AVERAGE(KCITempAct[[#This Row],[KCIHigh]:[KCILow]]\n)","v":52},{"$f":"IF(KCITempAct[[#This Row],[KCIAve]]<65,(65-KCITempAct[[#This Row],[KCIAve]]),0)","v":13},{"$f":"IF(MONTH(KCITempAct[[#This Row],[Date]])=7,0,IF(MONTH(KCITempAct[[#This Row],[Date]])=8,0,KCITempAct[[#This Row],[KCIHDD]]))","v":13},{"$f":"SUMPRODUCT((KCINHDD[Month]=MONTH(KCITempAct[[#This Row],[Date]]))*(KCINHDD[Day]=DAY(KCITempAct[[#This Row],[Date]]))*KCINHDD[KCINHDD])","v":30.65},{"$f":"IF(MONTH(KCITempAct[[#This Row],[Date]])=7,0,IF(MONTH(KCITempAct[[#This Row],[Date]])=8,0,KCITempAct[[#This Row],[KCINHDD]]))","v":30.65},"Adj HDD and NDD =0 for July and August"]
["2023-02-28",60,32,{"$f":"AVERAGE(KCITempAct[[#This Row],[KCIHigh]:[KCILow]]\n)","v":46},{"$f":"IF(KCITempAct[[#This Row],[KCIAve]]<65,(65-KCITempAct[[#This Row],[KCIAve]]),0)","v":19},{"$f":"IF(MONTH(KCITempAct[[#This Row],[Date]])=7,0,IF(MONTH(KCITempAct[[#This Row],[Date]])=8,0,KCITempAct[[#This Row],[KCIHDD]]))","v":19},{"$f":"SUMPRODUCT((KCINHDD[Month]=MONTH(KCITempAct[[#This Row],[Date]]))*(KCINHDD[Day]=DAY(KCITempAct[[#This Row],[Date]]))*KCINHDD[KCINHDD])","v":27.9},{"$f":"IF(MONTH(KCITempAct[[#This Row],[Date]])=7,0,IF(MONTH(KCITempAct[[#This Row],[Date]])=8,0,KCITempAct[[#This Row],[KCINHDD]]))","v":27.9},"Adj HDD and NDD =0 for July and August"]
["2023-03-01",60,34,{"$f":"AVERAGE(KCITempAct[[#This Row],[KCIHigh]:[KCILow]]\n)","v":47},{"$f":"IF(KCITempAct[[#This Row],[KCIAve]]<65,(65-KCITempAct[[#This Row],[KCIAve]]),0)","v":18},{"$f":"IF(MONTH(KCITempAct[[#This Row],[Date]])=7,0,IF(MONTH(KCITempAct[[#This Row],[Date]])=8,0,KCITempAct[[#This Row],[KCIHDD]]))","v":18},{"$f":"SUMPRODUCT((KCINHDD[Month]=MONTH(KCITempAct[[#This Row],[Date]]))*(KCINHDD[Day]=DAY(KCITempAct[[#This Row],[Date]]))*KCINHDD[KCINHDD])","v":27.533333333333335},{"$f":"IF(MONTH(KCITempAct[[#This Row],[Date]])=7,0,IF(MONTH(KCITempAct[[#This Row],[Date]])=8,0,KCITempAct[[#This Row],[KCINHDD]]))","v":27.533333333333335},"Adj HDD and NDD =0 for July and August"]
["2023-03-02",44,29,{"$f":"AVERAGE(KCITempAct[[#This Row],[KCIHigh]:[KCILow]]\n)","v":36.5},{"$f":"IF(KCITempAct[[#This Row],[KCIAve]]<65,(65-KCITempAct[[#This Row],[KCIAve]]),0)","v":28.5},{"$f":"IF(MONTH(KCITempAct[[#This Row],[Date]])=7,0,IF(MONTH(KCITempAct[[#This Row],[Date]])=8,0,KCITempAct[[#This Row],[KCIHDD]]))","v":28.5},{"$f":"SUMPRODUCT((KCINHDD[Month]=MONTH(KCITempAct[[#This Row],[Date]]))*(KCINHDD[Day]=DAY(KCITempAct[[#This Row],[Date]]))*KCINHDD[KCINHDD])","v":30.35},{"$f":"IF(MONTH(KCITempAct[[#This Row],[Date]])=7,0,IF(MONTH(KCITempAct[[#This Row],[Date]])=8,0,KCITempAct[[#This Row],[KCINHDD]]))","v":30.35},"Adj HDD and NDD =0 for July and August"]
["2023-03-03",55,34,{"$f":"AVERAGE(KCITempAct[[#This Row],[KCIHigh]:[KCILow]]\n)","v":44.5},{"$f":"IF(KCITempAct[[#This Row],[KCIAve]]<65,(65-KCITempAct[[#This Row],[KCIAve]]),0)","v":20.5},{"$f":"IF(MONTH(KCITempAct[[#This Row],[Date]])=7,0,IF(MONTH(KCITempAct[[#This Row],[Date]])=8,0,KCITempAct[[#This Row],[KCIHDD]]))","v":20.5},{"$f":"SUMPRODUCT((KCINHDD[Month]=MONTH(KCITempAct[[#This Row],[Date]]))*(KCINHDD[Day]=DAY(KCITempAct[[#This Row],[Date]]))*KCINHDD[KCINHDD])","v":28.8},{"$f":"IF(MONTH(KCITempAct[[#This Row],[Date]])=7,0,IF(MONTH(KCITempAct[[#This Row],[Date]])=8,0,KCITempAct[[#This Row],[KCINHDD]]))","v":28.8},"Adj HDD and NDD =0 for July and August"]
["2023-03-04",61,33,{"$f":"AVERAGE(KCITempAct[[#This Row],[KCIHigh]:[KCILow]]\n)","v":47},{"$f":"IF(KCITempAct[[#This Row],[KCIAve]]<65,(65-KCITempAct[[#This Row],[KCIAve]]),0)","v":18},{"$f":"IF(MONTH(KCITempAct[[#This Row],[Date]])=7,0,IF(MONTH(KCITempAct[[#This Row],[Date]])=8,0,KCITempAct[[#This Row],[KCIHDD]]))","v":18},{"$f":"SUMPRODUCT((KCINHDD[Month]=MONTH(KCITempAct[[#This Row],[Date]]))*(KCINHDD[Day]=DAY(KCITempAct[[#This Row],[Date]]))*KCINHDD[KCINHDD])","v":25.116666666666667},{"$f":"IF(MONTH(KCITempAct[[#This Row],[Date]])=7,0,IF(MONTH(KCITempAct[[#This Row],[Date]])=8,0,KCITempAct[[#This Row],[KCINHDD]]))","v":25.116666666666667},"Adj HDD and NDD =0 for July and August"]
["2023-03-05",71,41,{"$f":"AVERAGE(KCITempAct[[#This Row],[KCIHigh]:[KCILow]]\n)","v":56},{"$f":"IF(KCITempAct[[#This Row],[KCIAve]]<65,(65-KCITempAct[[#This Row],[KCIAve]]),0)","v":9},{"$f":"IF(MONTH(KCITempAct[[#This Row],[Date]])=7,0,IF(MONTH(KCITempAct[[#This Row],[Date]])=8,0,KCITempAct[[#This Row],[KCIHDD]]))","v":9},{"$f":"SUMPRODUCT((KCINHDD[Month]=MONTH(KCITempAct[[#This Row],[Date]]))*(KCINHDD[Day]=DAY(KCITempAct[[#This Row],[Date]]))*KCINHDD[KCINHDD])","v":23.933333333333334},{"$f":"IF(MONTH(KCITempAct[[#This Row],[Date]])=7,0,IF(MONTH(KCITempAct[[#This Row],[Date]])=8,0,KCITempAct[[#This Row],[KCINHDD]]))","v":23.933333333333334},"Adj HDD and NDD =0 for July and August"]
["2023-03-06",62,38,{"$f":"AVERAGE(KCITempAct[[#This Row],[KCIHigh]:[KCILow]]\n)","v":50},{"$f":"IF(KCITempAct[[#This Row],[KCIAve]]<65,(65-KCITempAct[[#This Row],[KCIAve]]),0)","v":15},{"$f":"IF(MONTH(KCITempAct[[#This Row],[Date]])=7,0,IF(MONTH(KCITempAct[[#This Row],[Date]])=8,0,KCITempAct[[#This Row],[KCIHDD]]))","v":15},{"$f":"SUMPRODUCT((KCINHDD[Month]=MONTH(KCITempAct[[#This Row],[Date]]))*(KCINHDD[Day]=DAY(KCITempAct[[#This Row],[Date]]))*KCINHDD[KCINHDD])","v":22.666666666666668},{"$f":"IF(MONTH(KCITempAct[[#This Row],[Date]])=7,0,IF(MONTH(KCITempAct[[#This Row],[Date]])=8,0,KCITempAct[[#This Row],[KCINHDD]]))","v":22.666666666666668},"Adj HDD and NDD =0 for July and August"]
["2023-03-07",49,36,{"$f":"AVERAGE(KCITempAct[[#This Row],[KCIHigh]:[KCILow]]\n)","v":42.5},{"$f":"IF(KCITempAct[[#This Row],[KCIAve]]<65,(65-KCITempAct[[#This Row],[KCIAve]]),0)","v":22.5},{"$f":"IF(MONTH(KCITempAct[[#This Row],[Date]])=7,0,IF(MONTH(KCITempAct[[#This Row],[Date]])=8,0,KCITempAct[[#This Row],[KCIHDD]]))","v":22.5},{"$f":"SUMPRODUCT((KCINHDD[Month]=MONTH(KCITempAct[[#This Row],[Date]]))*(KCINHDD[Day]=DAY(KCITempAct[[#This Row],[Date]]))*KCINHDD[KCINHDD])","v":22.05},{"$f":"IF(MONTH(KCITempAct[[#This Row],[Date]])=7,0,IF(MONTH(KCITempAct[[#This Row],[Date]])=8,0,KCITempAct[[#This Row],[KCINHDD]]))","v":22.05},"Adj HDD and NDD =0 for July and August"]
["2023-03-08",43,41,{"$f":"AVERAGE(KCITempAct[[#This Row],[KCIHigh]:[KCILow]]\n)","v":42},{"$f":"IF(KCITempAct[[#This Row],[KCIAve]]<65,(65-KCITempAct[[#This Row],[KCIAve]]),0)","v":23},{"$f":"IF(MONTH(KCITempAct[[#This Row],[Date]])=7,0,IF(MONTH(KCITempAct[[#This Row],[Date]])=8,0,KCITempAct[[#This Row],[KCIHDD]]))","v":23},{"$f":"SUMPRODUCT((KCINHDD[Month]=MONTH(KCITempAct[[#This Row],[Date]]))*(KCINHDD[Day]=DAY(KCITempAct[[#This Row],[Date]]))*KCINHDD[KCINHDD])","v":22.65},{"$f":"IF(MONTH(KCITempAct[[#This Row],[Date]])=7,0,IF(MONTH(KCITempAct[[#This Row],[Date]])=8,0,KCITempAct[[#This Row],[KCINHDD]]))","v":22.65},"Adj HDD and NDD =0 for July and August"]
["2023-03-09",42,36,{"$f":"AVERAGE(KCITempAct[[#This Row],[KCIHigh]:[KCILow]]\n)","v":39},{"$f":"IF(KCITempAct[[#This Row],[KCIAve]]<65,(65-KCITempAct[[#This Row],[KCIAve]]),0)","v":26},{"$f":"IF(MONTH(KCITempAct[[#This Row],[Date]])=7,0,IF(MONTH(KCITempAct[[#This Row],[Date]])=8,0,KCITempAct[[#This Row],[KCIHDD]]))","v":26},{"$f":"SUMPRODUCT((KCINHDD[Month]=MONTH(KCITempAct[[#This Row],[Date]]))*(KCINHDD[Day]=DAY(KCITempAct[[#This Row],[Date]]))*KCINHDD[KCINHDD])","v":24.183333333333334},{"$f":"IF(MONTH(KCITempAct[[#This Row],[Date]])=7,0,IF(MONTH(KCITempAct[[#This Row],[Date]])=8,0,KCITempAct[[#This Row],[KCINHDD]]))","v":24.183333333333334},"Adj HDD and NDD =0 for July and August"]
["2023-03-10",39,33,{"$f":"AVERAGE(KCITempAct[[#This Row],[KCIHigh]:[KCILow]]\n)","v":36},{"$f":"IF(KCITempAct[[#This Row],[KCIAve]]<65,(65-KCITempAct[[#This Row],[KCIAve]]),0)","v":29},{"$f":"IF(MONTH(KCITempAct[[#This Row],[Date]])=7,0,IF(MONTH(KCITempAct[[#This Row],[Date]])=8,0,KCITempAct[[#This Row],[KCIHDD]]))","v":29},{"$f":"SUMPRODUCT((KCINHDD[Month]=MONTH(KCITempAct[[#This Row],[Date]]))*(KCINHDD[Day]=DAY(KCITempAct[[#This Row],[Date]]))*KCINHDD[KCINHDD])","v":23.583333333333332},{"$f":"IF(MONTH(KCITempAct[[#This Row],[Date]])=7,0,IF(MONTH(KCITempAct[[#This Row],[Date]])=8,0,KCITempAct[[#This Row],[KCINHDD]]))","v":23.583333333333332},"Adj HDD and NDD =0 for July and August"]
["2023-03-11",39,33,{"$f":"AVERAGE(KCITempAct[[#This Row],[KCIHigh]:[KCILow]]\n)","v":36},{"$f":"IF(KCITempAct[[#This Row],[KCIAve]]<65,(65-KCITempAct[[#This Row],[KCIAve]]),0)","v":29},{"$f":"IF(MONTH(KCITempAct[[#This Row],[Date]])=7,0,IF(MONTH(KCITempAct[[#This Row],[Date]])=8,0,KCITempAct[[#This Row],[KCIHDD]]))","v":29},{"$f":"SUMPRODUCT((KCINHDD[Month]=MONTH(KCITempAct[[#This Row],[Date]]))*(KCINHDD[Day]=DAY(KCITempAct[[#This Row],[Date]]))*KCINHDD[KCINHDD])","v":22.616666666666667},{"$f":"IF(MONTH(KCITempAct[[#This Row],[Date]])=7,0,IF(MONTH(KCITempAct[[#This Row],[Date]])=8,0,KCITempAct[[#This Row],[KCINHDD]]))","v":22.616666666666667},"Adj HDD and NDD =0 for July and August"]
["2023-03-12",44,28,{"$f":"AVERAGE(KCITempAct[[#This Row],[KCIHigh]:[KCILow]]\n)","v":36},{"$f":"IF(KCITempAct[[#This Row],[KCIAve]]<65,(65-KCITempAct[[#This Row],[KCIAve]]),0)","v":29},{"$f":"IF(MONTH(KCITempAct[[#This Row],[Date]])=7,0,IF(MONTH(KCITempAct[[#This Row],[Date]])=8,0,KCITempAct[[#This Row],[KCIHDD]]))","v":29},{"$f":"SUMPRODUCT((KCINHDD[Month]=MONTH(KCITempAct[[#This Row],[Date]]))*(KCINHDD[Day]=DAY(KCITempAct[[#This Row],[Date]]))*KCINHDD[KCINHDD])","v":20.350000000000001},{"$f":"IF(MONTH(KCITempAct[[#This Row],[Date]])=7,0,IF(MONTH(KCITempAct[[#This Row],[Date]])=8,0,KCITempAct[[#This Row],[KCINHDD]]))","v":20.350000000000001},"Adj HDD and NDD =0 for July and August"]
["2023-03-13",34,24,{"$f":"AVERAGE(KCITempAct[[#This Row],[KCIHigh]:[KCILow]]\n)","v":29},{"$f":"IF(KCITempAct[[#This Row],[KCIAve]]<65,(65-KCITempAct[[#This Row],[KCIAve]]),0)","v":36},{"$f":"IF(MONTH(KCITempAct[[#This Row],[Date]])=7,0,IF(MONTH(KCITempAct[[#This Row],[Date]])=8,0,KCITempAct[[#This Row],[KCIHDD]]))","v":36},{"$f":"SUMPRODUCT((KCINHDD[Month]=MONTH(KCITempAct[[#This Row],[Date]]))*(KCINHDD[Day]=DAY(KCITempAct[[#This Row],[Date]]))*KCINHDD[KCINHDD])","v":19.5},{"$f":"IF(MONTH(KCITempAct[[#This Row],[Date]])=7,0,IF(MONTH(KCITempAct[[#This Row],[Date]])=8,0,KCITempAct[[#This Row],[KCINHDD]]))","v":19.5},"Adj HDD and NDD =0 for July and August"]
["2023-03-14",48,20,{"$f":"AVERAGE(KCITempAct[[#This Row],[KCIHigh]:[KCILow]]\n)","v":34},{"$f":"IF(KCITempAct[[#This Row],[KCIAve]]<65,(65-KCITempAct[[#This Row],[KCIAve]]),0)","v":31},{"$f":"IF(MONTH(KCITempAct[[#This Row],[Date]])=7,0,IF(MONTH(KCITempAct[[#This Row],[Date]])=8,0,KCITempAct[[#This Row],[KCIHDD]]))","v":31},{"$f":"SUMPRODUCT((KCINHDD[Month]=MONTH(KCITempAct[[#This Row],[Date]]))*(KCINHDD[Day]=DAY(KCITempAct[[#This Row],[Date]]))*KCINHDD[KCINHDD])","v":18.45},{"$f":"IF(MONTH(KCITempAct[[#This Row],[Date]])=7,0,IF(MONTH(KCITempAct[[#This Row],[Date]])=8,0,KCITempAct[[#This Row],[KCINHDD]]))","v":18.45},"Adj HDD and NDD =0 for July and August"]
["2023-03-15",64,36,{"$f":"AVERAGE(KCITempAct[[#This Row],[KCIHigh]:[KCILow]]\n)","v":50},{"$f":"IF(KCITempAct[[#This Row],[KCIAve]]<65,(65-KCITempAct[[#This Row],[KCIAve]]),0)","v":15},{"$f":"IF(MONTH(KCITempAct[[#This Row],[Date]])=7,0,IF(MONTH(KCITempAct[[#This Row],[Date]])=8,0,KCITempAct[[#This Row],[KCIHDD]]))","v":15},{"$f":"SUMPRODUCT((KCINHDD[Month]=MONTH(KCITempAct[[#This Row],[Date]]))*(KCINHDD[Day]=DAY(KCITempAct[[#This Row],[Date]]))*KCINHDD[KCINHDD])","v":19.149999999999999},{"$f":"IF(MONTH(KCITempAct[[#This Row],[Date]])=7,0,IF(MONTH(KCITempAct[[#This Row],[Date]])=8,0,KCITempAct[[#This Row],[KCINHDD]]))","v":19.149999999999999},"Adj HDD and NDD =0 for July and August"]
["2023-03-16",57,28,{"$f":"AVERAGE(KCITempAct[[#This Row],[KCIHigh]:[KCILow]]\n)","v":42.5},{"$f":"IF(KCITempAct[[#This Row],[KCIAve]]<65,(65-KCITempAct[[#This Row],[KCIAve]]),0)","v":22.5},{"$f":"IF(MONTH(KCITempAct[[#This Row],[Date]])=7,0,IF(MONTH(KCITempAct[[#This Row],[Date]])=8,0,KCITempAct[[#This Row],[KCIHDD]]))","v":22.5},{"$f":"SUMPRODUCT((KCINHDD[Month]=MONTH(KCITempAct[[#This Row],[Date]]))*(KCINHDD[Day]=DAY(KCITempAct[[#This Row],[Date]]))*KCINHDD[KCINHDD])","v":19.316666666666666},{"$f":"IF(MONTH(KCITempAct[[#This Row],[Date]])=7,0,IF(MONTH(KCITempAct[[#This Row],[Date]])=8,0,KCITempAct[[#This Row],[KCINHDD]]))","v":19.316666666666666},"Adj HDD and NDD =0 for July and August"]
["2023-03-17",42,23,{"$f":"AVERAGE(KCITempAct[[#This Row],[KCIHigh]:[KCILow]]\n)","v":32.5},{"$f":"IF(KCITempAct[[#This Row],[KCIAve]]<65,(65-KCITempAct[[#This Row],[KCIAve]]),0)","v":32.5},{"$f":"IF(MONTH(KCITempAct[[#This Row],[Date]])=7,0,IF(MONTH(KCITempAct[[#This Row],[Date]])=8,0,KCITempAct[[#This Row],[KCIHDD]]))","v":32.5},{"$f":"SUMPRODUCT((KCINHDD[Month]=MONTH(KCITempAct[[#This Row],[Date]]))*(KCINHDD[Day]=DAY(KCITempAct[[#This Row],[Date]]))*KCINHDD[KCINHDD])","v":17.983333333333334},{"$f":"IF(MONTH(KCITempAct[[#This Row],[Date]])=7,0,IF(MONTH(KCITempAct[[#This Row],[Date]])=8,0,KCITempAct[[#This Row],[KCINHDD]]))","v":17.983333333333334},"Adj HDD and NDD =0 for July and August"]
["2023-03-18",27,15,{"$f":"AVERAGE(KCITempAct[[#This Row],[KCIHigh]:[KCILow]]\n)","v":21},{"$f":"IF(KCITempAct[[#This Row],[KCIAve]]<65,(65-KCITempAct[[#This Row],[KCIAve]]),0)","v":44},{"$f":"IF(MONTH(KCITempAct[[#This Row],[Date]])=7,0,IF(MONTH(KCITempAct[[#This Row],[Date]])=8,0,KCITempAct[[#This Row],[KCIHDD]]))","v":44},{"$f":"SUMPRODUCT((KCINHDD[Month]=MONTH(KCITempAct[[#This Row],[Date]]))*(KCINHDD[Day]=DAY(KCITempAct[[#This Row],[Date]]))*KCINHDD[KCINHDD])","v":18.883333333333333},{"$f":"IF(MONTH(KCITempAct[[#This Row],[Date]])=7,0,IF(MONTH(KCITempAct[[#This Row],[Date]])=8,0,KCITempAct[[#This Row],[KCINHDD]]))","v":18.883333333333333},"Adj HDD and NDD =0 for July and August"]
["2023-03-19",44,14,{"$f":"AVERAGE(KCITempAct[[#This Row],[KCIHigh]:[KCILow]]\n)","v":29},{"$f":"IF(KCITempAct[[#This Row],[KCIAve]]<65,(65-KCITempAct[[#This Row],[KCIAve]]),0)","v":36},{"$f":"IF(MONTH(KCITempAct[[#This Row],[Date]])=7,0,IF(MONTH(KCITempAct[[#This Row],[Date]])=8,0,KCITempAct[[#This Row],[KCIHDD]]))","v":36},{"$f":"SUMPRODUCT((KCINHDD[Month]=MONTH(KCITempAct[[#This Row],[Date]]))*(KCINHDD[Day]=DAY(KCITempAct[[#This Row],[Date]]))*KCINHDD[KCINHDD])","v":19.166666666666668},{"$f":"IF(MONTH(KCITempAct[[#This Row],[Date]])=7,0,IF(MONTH(KCITempAct[[#This Row],[Date]])=8,0,KCITempAct[[#This Row],[KCINHDD]]))","v":19.166666666666668},"Adj HDD and NDD =0 for July and August"]
["2023-03-20",62,32,{"$f":"AVERAGE(KCITempAct[[#This Row],[KCIHigh]:[KCILow]]\n)","v":47},{"$f":"IF(KCITempAct[[#This Row],[KCIAve]]<65,(65-KCITempAct[[#This Row],[KCIAve]]),0)","v":18},{"$f":"IF(MONTH(KCITempAct[[#This Row],[Date]])=7,0,IF(MONTH(KCITempAct[[#This Row],[Date]])=8,0,KCITempAct[[#This Row],[KCIHDD]]))","v":18},{"$f":"SUMPRODUCT((KCINHDD[Month]=MONTH(KCITempAct[[#This Row],[Date]]))*(KCINHDD[Day]=DAY(KCITempAct[[#This Row],[Date]]))*KCINHDD[KCINHDD])","v":18.8},{"$f":"IF(MONTH(KCITempAct[[#This Row],[Date]])=7,0,IF(MONTH(KCITempAct[[#This Row],[Date]])=8,0,KCITempAct[[#This Row],[KCINHDD]]))","v":18.8},"Adj HDD and NDD =0 for July and August"]
["2023-03-21",47,41,{"$f":"AVERAGE(KCITempAct[[#This Row],[KCIHigh]:[KCILow]]\n)","v":44},{"$f":"IF(KCITempAct[[#This Row],[KCIAve]]<65,(65-KCITempAct[[#This Row],[KCIAve]]),0)","v":21},{"$f":"IF(MONTH(KCITempAct[[#This Row],[Date]])=7,0,IF(MONTH(KCITempAct[[#This Row],[Date]])=8,0,KCITempAct[[#This Row],[KCIHDD]]))","v":21},{"$f":"SUMPRODUCT((KCINHDD[Month]=MONTH(KCITempAct[[#This Row],[Date]]))*(KCINHDD[Day]=DAY(KCITempAct[[#This Row],[Date]]))*KCINHDD[KCINHDD])","v":18.649999999999999},{"$f":"IF(MONTH(KCITempAct[[#This Row],[Date]])=7,0,IF(MONTH(KCITempAct[[#This Row],[Date]])=8,0,KCITempAct[[#This Row],[KCINHDD]]))","v":18.649999999999999},"Adj HDD and NDD =0 for July and August"]
["2023-03-22",54,45,{"$f":"AVERAGE(KCITempAct[[#This Row],[KCIHigh]:[KCILow]]\n)","v":49.5},{"$f":"IF(KCITempAct[[#This Row],[KCIAve]]<65,(65-KCITempAct[[#This Row],[KCIAve]]),0)","v":15.5},{"$f":"IF(MONTH(KCITempAct[[#This Row],[Date]])=7,0,IF(MONTH(KCITempAct[[#This Row],[Date]])=8,0,KCITempAct[[#This Row],[KCIHDD]]))","v":15.5},{"$f":"SUMPRODUCT((KCINHDD[Month]=MONTH(KCITempAct[[#This Row],[Date]]))*(KCINHDD[Day]=DAY(KCITempAct[[#This Row],[Date]]))*KCINHDD[KCINHDD])","v":17.616666666666667},{"$f":"IF(MONTH(KCITempAct[[#This Row],[Date]])=7,0,IF(MONTH(KCITempAct[[#This Row],[Date]])=8,0,KCITempAct[[#This Row],[KCINHDD]]))","v":17.616666666666667},"Adj HDD and NDD =0 for July and August"]
["2023-03-23",50,36,{"$f":"AVERAGE(KCITempAct[[#This Row],[KCIHigh]:[KCILow]]\n)","v":43},{"$f":"IF(KCITempAct[[#This Row],[KCIAve]]<65,(65-KCITempAct[[#This Row],[KCIAve]]),0)","v":22},{"$f":"IF(MONTH(KCITempAct[[#This Row],[Date]])=7,0,IF(MONTH(KCITempAct[[#This Row],[Date]])=8,0,KCITempAct[[#This Row],[KCIHDD]]))","v":22},{"$f":"SUMPRODUCT((KCINHDD[Month]=MONTH(KCITempAct[[#This Row],[Date]]))*(KCINHDD[Day]=DAY(KCITempAct[[#This Row],[Date]]))*KCINHDD[KCINHDD])","v":15.4},{"$f":"IF(MONTH(KCITempAct[[#This Row],[Date]])=7,0,IF(MONTH(KCITempAct[[#This Row],[Date]])=8,0,KCITempAct[[#This Row],[KCINHDD]]))","v":15.4},"Adj HDD and NDD =0 for July and August"]
["2023-03-24",54,35,{"$f":"AVERAGE(KCITempAct[[#This Row],[KCIHigh]:[KCILow]]\n)","v":44.5},{"$f":"IF(KCITempAct[[#This Row],[KCIAve]]<65,(65-KCITempAct[[#This Row],[KCIAve]]),0)","v":20.5},{"$f":"IF(MONTH(KCITempAct[[#This Row],[Date]])=7,0,IF(MONTH(KCITempAct[[#This Row],[Date]])=8,0,KCITempAct[[#This Row],[KCIHDD]]))","v":20.5},{"$f":"SUMPRODUCT((KCINHDD[Month]=MONTH(KCITempAct[[#This Row],[Date]]))*(KCINHDD[Day]=DAY(KCITempAct[[#This Row],[Date]]))*KCINHDD[KCINHDD])","v":18.216666666666665},{"$f":"IF(MONTH(KCITempAct[[#This Row],[Date]])=7,0,IF(MONTH(KCITempAct[[#This Row],[Date]])=8,0,KCITempAct[[#This Row],[KCINHDD]]))","v":18.216666666666665},"Adj HDD and NDD =0 for July and August"]
["2023-03-25",61,35,{"$f":"AVERAGE(KCITempAct[[#This Row],[KCIHigh]:[KCILow]]\n)","v":48},{"$f":"IF(KCITempAct[[#This Row],[KCIAve]]<65,(65-KCITempAct[[#This Row],[KCIAve]]),0)","v":17},{"$f":"IF(MONTH(KCITempAct[[#This Row],[Date]])=7,0,IF(MONTH(KCITempAct[[#This Row],[Date]])=8,0,KCITempAct[[#This Row],[KCIHDD]]))","v":17},{"$f":"SUMPRODUCT((KCINHDD[Month]=MONTH(KCITempAct[[#This Row],[Date]]))*(KCINHDD[Day]=DAY(KCITempAct[[#This Row],[Date]]))*KCINHDD[KCINHDD])","v":19.916666666666668},{"$f":"IF(MONTH(KCITempAct[[#This Row],[Date]])=7,0,IF(MONTH(KCITempAct[[#This Row],[Date]])=8,0,KCITempAct[[#This Row],[KCINHDD]]))","v":19.916666666666668},"Adj HDD and NDD =0 for July and August"]
["2023-03-26",45,32,{"$f":"AVERAGE(KCITempAct[[#This Row],[KCIHigh]:[KCILow]]\n)","v":38.5},{"$f":"IF(KCITempAct[[#This Row],[KCIAve]]<65,(65-KCITempAct[[#This Row],[KCIAve]]),0)","v":26.5},{"$f":"IF(MONTH(KCITempAct[[#This Row],[Date]])=7,0,IF(MONTH(KCITempAct[[#This Row],[Date]])=8,0,KCITempAct[[#This Row],[KCIHDD]]))","v":26.5},{"$f":"SUMPRODUCT((KCINHDD[Month]=MONTH(KCITempAct[[#This Row],[Date]]))*(KCINHDD[Day]=DAY(KCITempAct[[#This Row],[Date]]))*KCINHDD[KCINHDD])","v":17.866666666666667},{"$f":"IF(MONTH(KCITempAct[[#This Row],[Date]])=7,0,IF(MONTH(KCITempAct[[#This Row],[Date]])=8,0,KCITempAct[[#This Row],[KCINHDD]]))","v":17.866666666666667},"Adj HDD and NDD =0 for July and August"]
["2023-03-27",51,27,{"$f":"AVERAGE(KCITempAct[[#This Row],[KCIHigh]:[KCILow]]\n)","v":39},{"$f":"IF(KCITempAct[[#This Row],[KCIAve]]<65,(65-KCITempAct[[#This Row],[KCIAve]]),0)","v":26},{"$f":"IF(MONTH(KCITempAct[[#This Row],[Date]])=7,0,IF(MONTH(KCITempAct[[#This Row],[Date]])=8,0,KCITempAct[[#This Row],[KCIHDD]]))","v":26},{"$f":"SUMPRODUCT((KCINHDD[Month]=MONTH(KCITempAct[[#This Row],[Date]]))*(KCINHDD[Day]=DAY(KCITempAct[[#This Row],[Date]]))*KCINHDD[KCINHDD])","v":17.266666666666666},{"$f":"IF(MONTH(KCITempAct[[#This Row],[Date]])=7,0,IF(MONTH(KCITempAct[[#This Row],[Date]])=8,0,KCITempAct[[#This Row],[KCINHDD]]))","v":17.266666666666666},"Adj HDD and NDD =0 for July and August"]
["2023-03-28",51,32,{"$f":"AVERAGE(KCITempAct[[#This Row],[KCIHigh]:[KCILow]]\n)","v":41.5},{"$f":"IF(KCITempAct[[#This Row],[KCIAve]]<65,(65-KCITempAct[[#This Row],[KCIAve]]),0)","v":23.5},{"$f":"IF(MONTH(KCITempAct[[#This Row],[Date]])=7,0,IF(MONTH(KCITempAct[[#This Row],[Date]])=8,0,KCITempAct[[#This Row],[KCIHDD]]))","v":23.5},{"$f":"SUMPRODUCT((KCINHDD[Month]=MONTH(KCITempAct[[#This Row],[Date]]))*(KCINHDD[Day]=DAY(KCITempAct[[#This Row],[Date]]))*KCINHDD[KCINHDD])","v":16.716666666666665},{"$f":"IF(MONTH(KCITempAct[[#This Row],[Date]])=7,0,IF(MONTH(KCITempAct[[#This Row],[Date]])=8,0,KCITempAct[[#This Row],[KCINHDD]]))","v":16.716666666666665},"Adj HDD and NDD =0 for July and August"]
["2023-03-29",58,31,{"$f":"AVERAGE(KCITempAct[[#This Row],[KCIHigh]:[KCILow]]\n)","v":44.5},{"$f":"IF(KCITempAct[[#This Row],[KCIAve]]<65,(65-KCITempAct[[#This Row],[KCIAve]]),0)","v":20.5},{"$f":"IF(MONTH(KCITempAct[[#This Row],[Date]])=7,0,IF(MONTH(KCITempAct[[#This Row],[Date]])=8,0,KCITempAct[[#This Row],[KCIHDD]]))","v":20.5},{"$f":"SUMPRODUCT((KCINHDD[Month]=MONTH(KCITempAct[[#This Row],[Date]]))*(KCINHDD[Day]=DAY(KCITempAct[[#This Row],[Date]]))*KCINHDD[KCINHDD])","v":14.566666666666666},{"$f":"IF(MONTH(KCITempAct[[#This Row],[Date]])=7,0,IF(MONTH(KCITempAct[[#This Row],[Date]])=8,0,KCITempAct[[#This Row],[KCINHDD]]))","v":14.566666666666666},"Adj HDD and NDD =0 for July and August"]
["2023-03-30",71,39,{"$f":"AVERAGE(KCITempAct[[#This Row],[KCIHigh]:[KCILow]]\n)","v":55},{"$f":"IF(KCITempAct[[#This Row],[KCIAve]]<65,(65-KCITempAct[[#This Row],[KCIAve]]),0)","v":10},{"$f":"IF(MONTH(KCITempAct[[#This Row],[Date]])=7,0,IF(MONTH(KCITempAct[[#This Row],[Date]])=8,0,KCITempAct[[#This Row],[KCIHDD]]))","v":10},{"$f":"SUMPRODUCT((KCINHDD[Month]=MONTH(KCITempAct[[#This Row],[Date]]))*(KCINHDD[Day]=DAY(KCITempAct[[#This Row],[Date]]))*KCINHDD[KCINHDD])","v":13.9},{"$f":"IF(MONTH(KCITempAct[[#This Row],[Date]])=7,0,IF(MONTH(KCITempAct[[#This Row],[Date]])=8,0,KCITempAct[[#This Row],[KCINHDD]]))","v":13.9},"Adj HDD and NDD =0 for July and August"]
["2023-03-31",79,40,{"$f":"AVERAGE(KCITempAct[[#This Row],[KCIHigh]:[KCILow]]\n)","v":59.5},{"$f":"IF(KCITempAct[[#This Row],[KCIAve]]<65,(65-KCITempAct[[#This Row],[KCIAve]]),0)","v":5.5},{"$f":"IF(MONTH(KCITempAct[[#This Row],[Date]])=7,0,IF(MONTH(KCITempAct[[#This Row],[Date]])=8,0,KCITempAct[[#This Row],[KCIHDD]]))","v":5.5},{"$f":"SUMPRODUCT((KCINHDD[Month]=MONTH(KCITempAct[[#This Row],[Date]]))*(KCINHDD[Day]=DAY(KCITempAct[[#This Row],[Date]]))*KCINHDD[KCINHDD])","v":15.366666666666667},{"$f":"IF(MONTH(KCITempAct[[#This Row],[Date]])=7,0,IF(MONTH(KCITempAct[[#This Row],[Date]])=8,0,KCITempAct[[#This Row],[KCINHDD]]))","v":15.366666666666667},"Adj HDD and NDD =0 for July and August"]
["2023-04-01",59,34,{"$f":"AVERAGE(KCITempAct[[#This Row],[KCIHigh]:[KCILow]]\n)","v":46.5},{"$f":"IF(KCITempAct[[#This Row],[KCIAve]]<65,(65-KCITempAct[[#This Row],[KCIAve]]),0)","v":18.5},{"$f":"IF(MONTH(KCITempAct[[#This Row],[Date]])=7,0,IF(MONTH(KCITempAct[[#This Row],[Date]])=8,0,KCITempAct[[#This Row],[KCIHDD]]))","v":18.5},{"$f":"SUMPRODUCT((KCINHDD[Month]=MONTH(KCITempAct[[#This Row],[Date]]))*(KCINHDD[Day]=DAY(KCITempAct[[#This Row],[Date]]))*KCINHDD[KCINHDD])","v":16.066666666666666},{"$f":"IF(MONTH(KCITempAct[[#This Row],[Date]])=7,0,IF(MONTH(KCITempAct[[#This Row],[Date]])=8,0,KCITempAct[[#This Row],[KCINHDD]]))","v":16.066666666666666},"Adj HDD and NDD =0 for July and August"]
["2023-04-02",77,39,{"$f":"AVERAGE(KCITempAct[[#This Row],[KCIHigh]:[KCILow]]\n)","v":58},{"$f":"IF(KCITempAct[[#This Row],[KCIAve]]<65,(65-KCITempAct[[#This Row],[KCIAve]]),0)","v":7},{"$f":"IF(MONTH(KCITempAct[[#This Row],[Date]])=7,0,IF(MONTH(KCITempAct[[#This Row],[Date]])=8,0,KCITempAct[[#This Row],[KCIHDD]]))","v":7},{"$f":"SUMPRODUCT((KCINHDD[Month]=MONTH(KCITempAct[[#This Row],[Date]]))*(KCINHDD[Day]=DAY(KCITempAct[[#This Row],[Date]]))*KCINHDD[KCINHDD])","v":13.633333333333333},{"$f":"IF(MONTH(KCITempAct[[#This Row],[Date]])=7,0,IF(MONTH(KCITempAct[[#This Row],[Date]])=8,0,KCITempAct[[#This Row],[KCINHDD]]))","v":13.633333333333333},"Adj HDD and NDD =0 for July and August"]
["2023-04-03",71,51,{"$f":"AVERAGE(KCITempAct[[#This Row],[KCIHigh]:[KCILow]]\n)","v":61},{"$f":"IF(KCITempAct[[#This Row],[KCIAve]]<65,(65-KCITempAct[[#This Row],[KCIAve]]),0)","v":4},{"$f":"IF(MONTH(KCITempAct[[#This Row],[Date]])=7,0,IF(MONTH(KCITempAct[[#This Row],[Date]])=8,0,KCITempAct[[#This Row],[KCIHDD]]))","v":4},{"$f":"SUMPRODUCT((KCINHDD[Month]=MONTH(KCITempAct[[#This Row],[Date]]))*(KCINHDD[Day]=DAY(KCITempAct[[#This Row],[Date]]))*KCINHDD[KCINHDD])","v":14},{"$f":"IF(MONTH(KCITempAct[[#This Row],[Date]])=7,0,IF(MONTH(KCITempAct[[#This Row],[Date]])=8,0,KCITempAct[[#This Row],[KCINHDD]]))","v":14},"Adj HDD and NDD =0 for July and August"]
["2023-04-04",85,43,{"$f":"AVERAGE(KCITempAct[[#This Row],[KCIHigh]:[KCILow]]\n)","v":64},{"$f":"IF(KCITempAct[[#This Row],[KCIAve]]<65,(65-KCITempAct[[#This Row],[KCIAve]]),0)","v":1},{"$f":"IF(MONTH(KCITempAct[[#This Row],[Date]])=7,0,IF(MONTH(KCITempAct[[#This Row],[Date]])=8,0,KCITempAct[[#This Row],[KCIHDD]]))","v":1},{"$f":"SUMPRODUCT((KCINHDD[Month]=MONTH(KCITempAct[[#This Row],[Date]]))*(KCINHDD[Day]=DAY(KCITempAct[[#This Row],[Date]]))*KCINHDD[KCINHDD])","v":15.95},{"$f":"IF(MONTH(KCITempAct[[#This Row],[Date]])=7,0,IF(MONTH(KCITempAct[[#This Row],[Date]])=8,0,KCITempAct[[#This Row],[KCINHDD]]))","v":15.95},"Adj HDD and NDD =0 for July and August"]
["2023-04-05",52,33,{"$f":"AVERAGE(KCITempAct[[#This Row],[KCIHigh]:[KCILow]]\n)","v":42.5},{"$f":"IF(KCITempAct[[#This Row],[KCIAve]]<65,(65-KCITempAct[[#This Row],[KCIAve]]),0)","v":22.5},{"$f":"IF(MONTH(KCITempAct[[#This Row],[Date]])=7,0,IF(MONTH(KCITempAct[[#This Row],[Date]])=8,0,KCITempAct[[#This Row],[KCIHDD]]))","v":22.5},{"$f":"SUMPRODUCT((KCINHDD[Month]=MONTH(KCITempAct[[#This Row],[Date]]))*(KCINHDD[Day]=DAY(KCITempAct[[#This Row],[Date]]))*KCINHDD[KCINHDD])","v":13.583333333333334},{"$f":"IF(MONTH(KCITempAct[[#This Row],[Date]])=7,0,IF(MONTH(KCITempAct[[#This Row],[Date]])=8,0,KCITempAct[[#This Row],[KCINHDD]]))","v":13.583333333333334},"Adj HDD and NDD =0 for July and August"]
["2023-04-06",59,27,{"$f":"AVERAGE(KCITempAct[[#This Row],[KCIHigh]:[KCILow]]\n)","v":43},{"$f":"IF(KCITempAct[[#This Row],[KCIAve]]<65,(65-KCITempAct[[#This Row],[KCIAve]]),0)","v":22},{"$f":"IF(MONTH(KCITempAct[[#This Row],[Date]])=7,0,IF(MONTH(KCITempAct[[#This Row],[Date]])=8,0,KCITempAct[[#This Row],[KCIHDD]]))","v":22},{"$f":"SUMPRODUCT((KCINHDD[Month]=MONTH(KCITempAct[[#This Row],[Date]]))*(KCINHDD[Day]=DAY(KCITempAct[[#This Row],[Date]]))*KCINHDD[KCINHDD])","v":11.633333333333333},{"$f":"IF(MONTH(KCITempAct[[#This Row],[Date]])=7,0,IF(MONTH(KCITempAct[[#This Row],[Date]])=8,0,KCITempAct[[#This Row],[KCINHDD]]))","v":11.633333333333333},"Adj HDD and NDD =0 for July and August"]
["2023-04-07",65,34,{"$f":"AVERAGE(KCITempAct[[#This Row],[KCIHigh]:[KCILow]]\n)","v":49.5},{"$f":"IF(KCITempAct[[#This Row],[KCIAve]]<65,(65-KCITempAct[[#This Row],[KCIAve]]),0)","v":15.5},{"$f":"IF(MONTH(KCITempAct[[#This Row],[Date]])=7,0,IF(MONTH(KCITempAct[[#This Row],[Date]])=8,0,KCITempAct[[#This Row],[KCIHDD]]))","v":15.5},{"$f":"SUMPRODUCT((KCINHDD[Month]=MONTH(KCITempAct[[#This Row],[Date]]))*(KCINHDD[Day]=DAY(KCITempAct[[#This Row],[Date]]))*KCINHDD[KCINHDD])","v":13.083333333333334},{"$f":"IF(MONTH(KCITempAct[[#This Row],[Date]])=7,0,IF(MONTH(KCITempAct[[#This Row],[Date]])=8,0,KCITempAct[[#This Row],[KCINHDD]]))","v":13.083333333333334},"Adj HDD and NDD =0 for July and August"]
["2023-04-08",68,40,{"$f":"AVERAGE(KCITempAct[[#This Row],[KCIHigh]:[KCILow]]\n)","v":54},{"$f":"IF(KCITempAct[[#This Row],[KCIAve]]<65,(65-KCITempAct[[#This Row],[KCIAve]]),0)","v":11},{"$f":"IF(MONTH(KCITempAct[[#This Row],[Date]])=7,0,IF(MONTH(KCITempAct[[#This Row],[Date]])=8,0,KCITempAct[[#This Row],[KCIHDD]]))","v":11},{"$f":"SUMPRODUCT((KCINHDD[Month]=MONTH(KCITempAct[[#This Row],[Date]]))*(KCINHDD[Day]=DAY(KCITempAct[[#This Row],[Date]]))*KCINHDD[KCINHDD])","v":13.666666666666666},{"$f":"IF(MONTH(KCITempAct[[#This Row],[Date]])=7,0,IF(MONTH(KCITempAct[[#This Row],[Date]])=8,0,KCITempAct[[#This Row],[KCINHDD]]))","v":13.666666666666666},"Adj HDD and NDD =0 for July and August"]
["2023-04-09",73,46,{"$f":"AVERAGE(KCITempAct[[#This Row],[KCIHigh]:[KCILow]]\n)","v":59.5},{"$f":"IF(KCITempAct[[#This Row],[KCIAve]]<65,(65-KCITempAct[[#This Row],[KCIAve]]),0)","v":5.5},{"$f":"IF(MONTH(KCITempAct[[#This Row],[Date]])=7,0,IF(MONTH(KCITempAct[[#This Row],[Date]])=8,0,KCITempAct[[#This Row],[KCIHDD]]))","v":5.5},{"$f":"SUMPRODUCT((KCINHDD[Month]=MONTH(KCITempAct[[#This Row],[Date]]))*(KCINHDD[Day]=DAY(KCITempAct[[#This Row],[Date]]))*KCINHDD[KCINHDD])","v":13.05},{"$f":"IF(MONTH(KCITempAct[[#This Row],[Date]])=7,0,IF(MONTH(KCITempAct[[#This Row],[Date]])=8,0,KCITempAct[[#This Row],[KCINHDD]]))","v":13.05},"Adj HDD and NDD =0 for July and August"]
["2023-04-10",69,52,{"$f":"AVERAGE(KCITempAct[[#This Row],[KCIHigh]:[KCILow]]\n)","v":60.5},{"$f":"IF(KCITempAct[[#This Row],[KCIAve]]<65,(65-KCITempAct[[#This Row],[KCIAve]]),0)","v":4.5},{"$f":"IF(MONTH(KCITempAct[[#This Row],[Date]])=7,0,IF(MONTH(KCITempAct[[#This Row],[Date]])=8,0,KCITempAct[[#This Row],[KCIHDD]]))","v":4.5},{"$f":"SUMPRODUCT((KCINHDD[Month]=MONTH(KCITempAct[[#This Row],[Date]]))*(KCINHDD[Day]=DAY(KCITempAct[[#This Row],[Date]]))*KCINHDD[KCINHDD])","v":11.066666666666666},{"$f":"IF(MONTH(KCITempAct[[#This Row],[Date]])=7,0,IF(MONTH(KCITempAct[[#This Row],[Date]])=8,0,KCITempAct[[#This Row],[KCINHDD]]))","v":11.066666666666666},"Adj HDD and NDD =0 for July and August"]
["2023-04-11",77,46,{"$f":"AVERAGE(KCITempAct[[#This Row],[KCIHigh]:[KCILow]]\n)","v":61.5},{"$f":"IF(KCITempAct[[#This Row],[KCIAve]]<65,(65-KCITempAct[[#This Row],[KCIAve]]),0)","v":3.5},{"$f":"IF(MONTH(KCITempAct[[#This Row],[Date]])=7,0,IF(MONTH(KCITempAct[[#This Row],[Date]])=8,0,KCITempAct[[#This Row],[KCIHDD]]))","v":3.5},{"$f":"SUMPRODUCT((KCINHDD[Month]=MONTH(KCITempAct[[#This Row],[Date]]))*(KCINHDD[Day]=DAY(KCITempAct[[#This Row],[Date]]))*KCINHDD[KCINHDD])","v":12.016666666666667},{"$f":"IF(MONTH(KCITempAct[[#This Row],[Date]])=7,0,IF(MONTH(KCITempAct[[#This Row],[Date]])=8,0,KCITempAct[[#This Row],[KCINHDD]]))","v":12.016666666666667},"Adj HDD and NDD =0 for July and August"]
["2023-04-12",78,57,{"$f":"AVERAGE(KCITempAct[[#This Row],[KCIHigh]:[KCILow]]\n)","v":67.5},{"$f":"IF(KCITempAct[[#This Row],[KCIAve]]<65,(65-KCITempAct[[#This Row],[KCIAve]]),0)","v":0},{"$f":"IF(MONTH(KCITempAct[[#This Row],[Date]])=7,0,IF(MONTH(KCITempAct[[#This Row],[Date]])=8,0,KCITempAct[[#This Row],[KCIHDD]]))","v":0},{"$f":"SUMPRODUCT((KCINHDD[Month]=MONTH(KCITempAct[[#This Row],[Date]]))*(KCINHDD[Day]=DAY(KCITempAct[[#This Row],[Date]]))*KCINHDD[KCINHDD])","v":13.85},{"$f":"IF(MONTH(KCITempAct[[#This Row],[Date]])=7,0,IF(MONTH(KCITempAct[[#This Row],[Date]])=8,0,KCITempAct[[#This Row],[KCINHDD]]))","v":13.85},"Adj HDD and NDD =0 for July and August"]
["2023-04-13",80,56,{"$f":"AVERAGE(KCITempAct[[#This Row],[KCIHigh]:[KCILow]]\n)","v":68},{"$f":"IF(KCITempAct[[#This Row],[KCIAve]]<65,(65-KCITempAct[[#This Row],[KCIAve]]),0)","v":0},{"$f":"IF(MONTH(KCITempAct[[#This Row],[Date]])=7,0,IF(MONTH(KCITempAct[[#This Row],[Date]])=8,0,KCITempAct[[#This Row],[KCIHDD]]))","v":0},{"$f":"SUMPRODUCT((KCINHDD[Month]=MONTH(KCITempAct[[#This Row],[Date]]))*(KCINHDD[Day]=DAY(KCITempAct[[#This Row],[Date]]))*KCINHDD[KCINHDD])","v":12.1},{"$f":"IF(MONTH(KCITempAct[[#This Row],[Date]])=7,0,IF(MONTH(KCITempAct[[#This Row],[Date]])=8,0,KCITempAct[[#This Row],[KCINHDD]]))","v":12.1},"Adj HDD and NDD =0 for July and August"]
["2023-04-14",81,54,{"$f":"AVERAGE(KCITempAct[[#This Row],[KCIHigh]:[KCILow]]\n)","v":67.5},{"$f":"IF(KCITempAct[[#This Row],[KCIAve]]<65,(65-KCITempAct[[#This Row],[KCIAve]]),0)","v":0},{"$f":"IF(MONTH(KCITempAct[[#This Row],[Date]])=7,0,IF(MONTH(KCITempAct[[#This Row],[Date]])=8,0,KCITempAct[[#This Row],[KCIHDD]]))","v":0},{"$f":"SUMPRODUCT((KCINHDD[Month]=MONTH(KCITempAct[[#This Row],[Date]]))*(KCINHDD[Day]=DAY(KCITempAct[[#This Row],[Date]]))*KCINHDD[KCINHDD])","v":10.199999999999999},{"$f":"IF(MONTH(KCITempAct[[#This Row],[Date]])=7,0,IF(MONTH(KCITempAct[[#This Row],[Date]])=8,0,KCITempAct[[#This Row],[KCINHDD]]))","v":10.199999999999999},"Adj HDD and NDD =0 for July and August"]
["2023-04-15",64,41,{"$f":"AVERAGE(KCITempAct[[#This Row],[KCIHigh]:[KCILow]]\n)","v":52.5},{"$f":"IF(KCITempAct[[#This Row],[KCIAve]]<65,(65-KCITempAct[[#This Row],[KCIAve]]),0)","v":12.5},{"$f":"IF(MONTH(KCITempAct[[#This Row],[Date]])=7,0,IF(MONTH(KCITempAct[[#This Row],[Date]])=8,0,KCITempAct[[#This Row],[KCIHDD]]))","v":12.5},{"$f":"SUMPRODUCT((KCINHDD[Month]=MONTH(KCITempAct[[#This Row],[Date]]))*(KCINHDD[Day]=DAY(KCITempAct[[#This Row],[Date]]))*KCINHDD[KCINHDD])","v":10.533333333333333},{"$f":"IF(MONTH(KCITempAct[[#This Row],[Date]])=7,0,IF(MONTH(KCITempAct[[#This Row],[Date]])=8,0,KCITempAct[[#This Row],[KCINHDD]]))","v":10.533333333333333},"Adj HDD and NDD =0 for July and August"]
["2023-04-16",58,38,{"$f":"AVERAGE(KCITempAct[[#This Row],[KCIHigh]:[KCILow]]\n)","v":48},{"$f":"IF(KCITempAct[[#This Row],[KCIAve]]<65,(65-KCITempAct[[#This Row],[KCIAve]]),0)","v":17},{"$f":"IF(MONTH(KCITempAct[[#This Row],[Date]])=7,0,IF(MONTH(KCITempAct[[#This Row],[Date]])=8,0,KCITempAct[[#This Row],[KCIHDD]]))","v":17},{"$f":"SUMPRODUCT((KCINHDD[Month]=MONTH(KCITempAct[[#This Row],[Date]]))*(KCINHDD[Day]=DAY(KCITempAct[[#This Row],[Date]]))*KCINHDD[KCINHDD])","v":10.483333333333333},{"$f":"IF(MONTH(KCITempAct[[#This Row],[Date]])=7,0,IF(MONTH(KCITempAct[[#This Row],[Date]])=8,0,KCITempAct[[#This Row],[KCINHDD]]))","v":10.483333333333333},"Adj HDD and NDD =0 for July and August"]
["2023-04-17",68,35,{"$f":"AVERAGE(KCITempAct[[#This Row],[KCIHigh]:[KCILow]]\n)","v":51.5},{"$f":"IF(KCITempAct[[#This Row],[KCIAve]]<65,(65-KCITempAct[[#This Row],[KCIAve]]),0)","v":13.5},{"$f":"IF(MONTH(KCITempAct[[#This Row],[Date]])=7,0,IF(MONTH(KCITempAct[[#This Row],[Date]])=8,0,KCITempAct[[#This Row],[KCIHDD]]))","v":13.5},{"$f":"SUMPRODUCT((KCINHDD[Month]=MONTH(KCITempAct[[#This Row],[Date]]))*(KCINHDD[Day]=DAY(KCITempAct[[#This Row],[Date]]))*KCINHDD[KCINHDD])","v":10.5},{"$f":"IF(MONTH(KCITempAct[[#This Row],[Date]])=7,0,IF(MONTH(KCITempAct[[#This Row],[Date]])=8,0,KCITempAct[[#This Row],[KCINHDD]]))","v":10.5},"Adj HDD and NDD =0 for July and August"]
["2023-04-18",80,51,{"$f":"AVERAGE(KCITempAct[[#This Row],[KCIHigh]:[KCILow]]\n)","v":65.5},{"$f":"IF(KCITempAct[[#This Row],[KCIAve]]<65,(65-KCITempAct[[#This Row],[KCIAve]]),0)","v":0},{"$f":"IF(MONTH(KCITempAct[[#This Row],[Date]])=7,0,IF(MONTH(KCITempAct[[#This Row],[Date]])=8,0,KCITempAct[[#This Row],[KCIHDD]]))","v":0},{"$f":"SUMPRODUCT((KCINHDD[Month]=MONTH(KCITempAct[[#This Row],[Date]]))*(KCINHDD[Day]=DAY(KCITempAct[[#This Row],[Date]]))*KCINHDD[KCINHDD])","v":7.9833333333333334},{"$f":"IF(MONTH(KCITempAct[[#This Row],[Date]])=7,0,IF(MONTH(KCITempAct[[#This Row],[Date]])=8,0,KCITempAct[[#This Row],[KCINHDD]]))","v":7.9833333333333334},"Adj HDD and NDD =0 for July and August"]
["2023-04-19",79,58,{"$f":"AVERAGE(KCITempAct[[#This Row],[KCIHigh]:[KCILow]]\n)","v":68.5},{"$f":"IF(KCITempAct[[#This Row],[KCIAve]]<65,(65-KCITempAct[[#This Row],[KCIAve]]),0)","v":0},{"$f":"IF(MONTH(KCITempAct[[#This Row],[Date]])=7,0,IF(MONTH(KCITempAct[[#This Row],[Date]])=8,0,KCITempAct[[#This Row],[KCIHDD]]))","v":0},{"$f":"SUMPRODUCT((KCINHDD[Month]=MONTH(KCITempAct[[#This Row],[Date]]))*(KCINHDD[Day]=DAY(KCITempAct[[#This Row],[Date]]))*KCINHDD[KCINHDD])","v":8.1166666666666671},{"$f":"IF(MONTH(KCITempAct[[#This Row],[Date]])=7,0,IF(MONTH(KCITempAct[[#This Row],[Date]])=8,0,KCITempAct[[#This Row],[KCINHDD]]))","v":8.1166666666666671},"Adj HDD and NDD =0 for July and August"]
["2023-04-20",68,41,{"$f":"AVERAGE(KCITempAct[[#This Row],[KCIHigh]:[KCILow]]\n)","v":54.5},{"$f":"IF(KCITempAct[[#This Row],[KCIAve]]<65,(65-KCITempAct[[#This Row],[KCIAve]]),0)","v":10.5},{"$f":"IF(MONTH(KCITempAct[[#This Row],[Date]])=7,0,IF(MONTH(KCITempAct[[#This Row],[Date]])=8,0,KCITempAct[[#This Row],[KCIHDD]]))","v":10.5},{"$f":"SUMPRODUCT((KCINHDD[Month]=MONTH(KCITempAct[[#This Row],[Date]]))*(KCINHDD[Day]=DAY(KCITempAct[[#This Row],[Date]]))*KCINHDD[KCINHDD])","v":9.6999999999999993},{"$f":"IF(MONTH(KCITempAct[[#This Row],[Date]])=7,0,IF(MONTH(KCITempAct[[#This Row],[Date]])=8,0,KCITempAct[[#This Row],[KCINHDD]]))","v":9.6999999999999993},"Adj HDD and NDD =0 for July and August"]
["2023-04-21",57,40,{"$f":"AVERAGE(KCITempAct[[#This Row],[KCIHigh]:[KCILow]]\n)","v":48.5},{"$f":"IF(KCITempAct[[#This Row],[KCIAve]]<65,(65-KCITempAct[[#This Row],[KCIAve]]),0)","v":16.5},{"$f":"IF(MONTH(KCITempAct[[#This Row],[Date]])=7,0,IF(MONTH(KCITempAct[[#This Row],[Date]])=8,0,KCITempAct[[#This Row],[KCIHDD]]))","v":16.5},{"$f":"SUMPRODUCT((KCINHDD[Month]=MONTH(KCITempAct[[#This Row],[Date]]))*(KCINHDD[Day]=DAY(KCITempAct[[#This Row],[Date]]))*KCINHDD[KCINHDD])","v":9.3666666666666671},{"$f":"IF(MONTH(KCITempAct[[#This Row],[Date]])=7,0,IF(MONTH(KCITempAct[[#This Row],[Date]])=8,0,KCITempAct[[#This Row],[KCINHDD]]))","v":9.3666666666666671},"Adj HDD and NDD =0 for July and August"]
["2023-04-22",48,33,{"$f":"AVERAGE(KCITempAct[[#This Row],[KCIHigh]:[KCILow]]\n)","v":40.5},{"$f":"IF(KCITempAct[[#This Row],[KCIAve]]<65,(65-KCITempAct[[#This Row],[KCIAve]]),0)","v":24.5},{"$f":"IF(MONTH(KCITempAct[[#This Row],[Date]])=7,0,IF(MONTH(KCITempAct[[#This Row],[Date]])=8,0,KCITempAct[[#This Row],[KCIHDD]]))","v":24.5},{"$f":"SUMPRODUCT((KCINHDD[Month]=MONTH(KCITempAct[[#This Row],[Date]]))*(KCINHDD[Day]=DAY(KCITempAct[[#This Row],[Date]]))*KCINHDD[KCINHDD])","v":9.4},{"$f":"IF(MONTH(KCITempAct[[#This Row],[Date]])=7,0,IF(MONTH(KCITempAct[[#This Row],[Date]])=8,0,KCITempAct[[#This Row],[KCINHDD]]))","v":9.4},"Adj HDD and NDD =0 for July and August"]
["2023-04-23",57,31,{"$f":"AVERAGE(KCITempAct[[#This Row],[KCIHigh]:[KCILow]]\n)","v":44},{"$f":"IF(KCITempAct[[#This Row],[KCIAve]]<65,(65-KCITempAct[[#This Row],[KCIAve]]),0)","v":21},{"$f":"IF(MONTH(KCITempAct[[#This Row],[Date]])=7,0,IF(MONTH(KCITempAct[[#This Row],[Date]])=8,0,KCITempAct[[#This Row],[KCIHDD]]))","v":21},{"$f":"SUMPRODUCT((KCINHDD[Month]=MONTH(KCITempAct[[#This Row],[Date]]))*(KCINHDD[Day]=DAY(KCITempAct[[#This Row],[Date]]))*KCINHDD[KCINHDD])","v":8.15},{"$f":"IF(MONTH(KCITempAct[[#This Row],[Date]])=7,0,IF(MONTH(KCITempAct[[#This Row],[Date]])=8,0,KCITempAct[[#This Row],[KCINHDD]]))","v":8.15},"Adj HDD and NDD =0 for July and August"]
["2023-04-24",67,34,{"$f":"AVERAGE(KCITempAct[[#This Row],[KCIHigh]:[KCILow]]\n)","v":50.5},{"$f":"IF(KCITempAct[[#This Row],[KCIAve]]<65,(65-KCITempAct[[#This Row],[KCIAve]]),0)","v":14.5},{"$f":"IF(MONTH(KCITempAct[[#This Row],[Date]])=7,0,IF(MONTH(KCITempAct[[#This Row],[Date]])=8,0,KCITempAct[[#This Row],[KCIHDD]]))","v":14.5},{"$f":"SUMPRODUCT((KCINHDD[Month]=MONTH(KCITempAct[[#This Row],[Date]]))*(KCINHDD[Day]=DAY(KCITempAct[[#This Row],[Date]]))*KCINHDD[KCINHDD])","v":7.4},{"$f":"IF(MONTH(KCITempAct[[#This Row],[Date]])=7,0,IF(MONTH(KCITempAct[[#This Row],[Date]])=8,0,KCITempAct[[#This Row],[KCINHDD]]))","v":7.4},"Adj HDD and NDD =0 for July and August"]
["2023-04-25",67,42,{"$f":"AVERAGE(KCITempAct[[#This Row],[KCIHigh]:[KCILow]]\n)","v":54.5},{"$f":"IF(KCITempAct[[#This Row],[KCIAve]]<65,(65-KCITempAct[[#This Row],[KCIAve]]),0)","v":10.5},{"$f":"IF(MONTH(KCITempAct[[#This Row],[Date]])=7,0,IF(MONTH(KCITempAct[[#This Row],[Date]])=8,0,KCITempAct[[#This Row],[KCIHDD]]))","v":10.5},{"$f":"SUMPRODUCT((KCINHDD[Month]=MONTH(KCITempAct[[#This Row],[Date]]))*(KCINHDD[Day]=DAY(KCITempAct[[#This Row],[Date]]))*KCINHDD[KCINHDD])","v":8.2833333333333332},{"$f":"IF(MONTH(KCITempAct[[#This Row],[Date]])=7,0,IF(MONTH(KCITempAct[[#This Row],[Date]])=8,0,KCITempAct[[#This Row],[KCINHDD]]))","v":8.2833333333333332},"Adj HDD and NDD =0 for July and August"]
["2023-04-26",65,46,{"$f":"AVERAGE(KCITempAct[[#This Row],[KCIHigh]:[KCILow]]\n)","v":55.5},{"$f":"IF(KCITempAct[[#This Row],[KCIAve]]<65,(65-KCITempAct[[#This Row],[KCIAve]]),0)","v":9.5},{"$f":"IF(MONTH(KCITempAct[[#This Row],[Date]])=7,0,IF(MONTH(KCITempAct[[#This Row],[Date]])=8,0,KCITempAct[[#This Row],[KCIHDD]]))","v":9.5},{"$f":"SUMPRODUCT((KCINHDD[Month]=MONTH(KCITempAct[[#This Row],[Date]]))*(KCINHDD[Day]=DAY(KCITempAct[[#This Row],[Date]]))*KCINHDD[KCINHDD])","v":9.4833333333333325},{"$f":"IF(MONTH(KCITempAct[[#This Row],[Date]])=7,0,IF(MONTH(KCITempAct[[#This Row],[Date]])=8,0,KCITempAct[[#This Row],[KCINHDD]]))","v":9.4833333333333325},"Adj HDD and NDD =0 for July and August"]
["2023-04-27",67,51,{"$f":"AVERAGE(KCITempAct[[#This Row],[KCIHigh]:[KCILow]]\n)","v":59},{"$f":"IF(KCITempAct[[#This Row],[KCIAve]]<65,(65-KCITempAct[[#This Row],[KCIAve]]),0)","v":6},{"$f":"IF(MONTH(KCITempAct[[#This Row],[Date]])=7,0,IF(MONTH(KCITempAct[[#This Row],[Date]])=8,0,KCITempAct[[#This Row],[KCIHDD]]))","v":6},{"$f":"SUMPRODUCT((KCINHDD[Month]=MONTH(KCITempAct[[#This Row],[Date]]))*(KCINHDD[Day]=DAY(KCITempAct[[#This Row],[Date]]))*KCINHDD[KCINHDD])","v":9.5666666666666664},{"$f":"IF(MONTH(KCITempAct[[#This Row],[Date]])=7,0,IF(MONTH(KCITempAct[[#This Row],[Date]])=8,0,KCITempAct[[#This Row],[KCINHDD]]))","v":9.5666666666666664},"Adj HDD and NDD =0 for July and August"]
["2023-04-28",65,51,{"$f":"AVERAGE(KCITempAct[[#This Row],[KCIHigh]:[KCILow]]\n)","v":58},{"$f":"IF(KCITempAct[[#This Row],[KCIAve]]<65,(65-KCITempAct[[#This Row],[KCIAve]]),0)","v":7},{"$f":"IF(MONTH(KCITempAct[[#This Row],[Date]])=7,0,IF(MONTH(KCITempAct[[#This Row],[Date]])=8,0,KCITempAct[[#This Row],[KCIHDD]]))","v":7},{"$f":"SUMPRODUCT((KCINHDD[Month]=MONTH(KCITempAct[[#This Row],[Date]]))*(KCINHDD[Day]=DAY(KCITempAct[[#This Row],[Date]]))*KCINHDD[KCINHDD])","v":9.25},{"$f":"IF(MONTH(KCITempAct[[#This Row],[Date]])=7,0,IF(MONTH(KCITempAct[[#This Row],[Date]])=8,0,KCITempAct[[#This Row],[KCINHDD]]))","v":9.25},"Adj HDD and NDD =0 for July and August"]
["2023-04-29",74,44,{"$f":"AVERAGE(KCITempAct[[#This Row],[KCIHigh]:[KCILow]]\n)","v":59},{"$f":"IF(KCITempAct[[#This Row],[KCIAve]]<65,(65-KCITempAct[[#This Row],[KCIAve]]),0)","v":6},{"$f":"IF(MONTH(KCITempAct[[#This Row],[Date]])=7,0,IF(MONTH(KCITempAct[[#This Row],[Date]])=8,0,KCITempAct[[#This Row],[KCIHDD]]))","v":6},{"$f":"SUMPRODUCT((KCINHDD[Month]=MONTH(KCITempAct[[#This Row],[Date]]))*(KCINHDD[Day]=DAY(KCITempAct[[#This Row],[Date]]))*KCINHDD[KCINHDD])","v":7.916666666666667},{"$f":"IF(MONTH(KCITempAct[[#This Row],[Date]])=7,0,IF(MONTH(KCITempAct[[#This Row],[Date]])=8,0,KCITempAct[[#This Row],[KCINHDD]]))","v":7.916666666666667},"Adj HDD and NDD =0 for July and August"]
["2023-04-30",60,42,{"$f":"AVERAGE(KCITempAct[[#This Row],[KCIHigh]:[KCILow]]\n)","v":51},{"$f":"IF(KCITempAct[[#This Row],[KCIAve]]<65,(65-KCITempAct[[#This Row],[KCIAve]]),0)","v":14},{"$f":"IF(MONTH(KCITempAct[[#This Row],[Date]])=7,0,IF(MONTH(KCITempAct[[#This Row],[Date]])=8,0,KCITempAct[[#This Row],[KCIHDD]]))","v":14},{"$f":"SUMPRODUCT((KCINHDD[Month]=MONTH(KCITempAct[[#This Row],[Date]]))*(KCINHDD[Day]=DAY(KCITempAct[[#This Row],[Date]]))*KCINHDD[KCINHDD])","v":6.4833333333333334},{"$f":"IF(MONTH(KCITempAct[[#This Row],[Date]])=7,0,IF(MONTH(KCITempAct[[#This Row],[Date]])=8,0,KCITempAct[[#This Row],[KCINHDD]]))","v":6.4833333333333334},"Adj HDD and NDD =0 for July and August"]
["2023-05-01",64,39,{"$f":"AVERAGE(KCITempAct[[#This Row],[KCIHigh]:[KCILow]]\n)","v":51.5},{"$f":"IF(KCITempAct[[#This Row],[KCIAve]]<65,(65-KCITempAct[[#This Row],[KCIAve]]),0)","v":13.5},{"$f":"IF(MONTH(KCITempAct[[#This Row],[Date]])=7,0,IF(MONTH(KCITempAct[[#This Row],[Date]])=8,0,KCITempAct[[#This Row],[KCIHDD]]))","v":13.5},{"$f":"SUMPRODUCT((KCINHDD[Month]=MONTH(KCITempAct[[#This Row],[Date]]))*(KCINHDD[Day]=DAY(KCITempAct[[#This Row],[Date]]))*KCINHDD[KCINHDD])","v":7.5666666666666664},{"$f":"IF(MONTH(KCITempAct[[#This Row],[Date]])=7,0,IF(MONTH(KCITempAct[[#This Row],[Date]])=8,0,KCITempAct[[#This Row],[KCINHDD]]))","v":7.5666666666666664},"Adj HDD and NDD =0 for July and August"]
["2023-05-02",66,42,{"$f":"AVERAGE(KCITempAct[[#This Row],[KCIHigh]:[KCILow]]\n)","v":54},{"$f":"IF(KCITempAct[[#This Row],[KCIAve]]<65,(65-KCITempAct[[#This Row],[KCIAve]]),0)","v":11},{"$f":"IF(MONTH(KCITempAct[[#This Row],[Date]])=7,0,IF(MONTH(KCITempAct[[#This Row],[Date]])=8,0,KCITempAct[[#This Row],[KCIHDD]]))","v":11},{"$f":"SUMPRODUCT((KCINHDD[Month]=MONTH(KCITempAct[[#This Row],[Date]]))*(KCINHDD[Day]=DAY(KCITempAct[[#This Row],[Date]]))*KCINHDD[KCINHDD])","v":8.0500000000000007},{"$f":"IF(MONTH(KCITempAct[[#This Row],[Date]])=7,0,IF(MONTH(KCITempAct[[#This Row],[Date]])=8,0,KCITempAct[[#This Row],[KCINHDD]]))","v":8.0500000000000007},"Adj HDD and NDD =0 for July and August"]
["2023-05-03",73,40,{"$f":"AVERAGE(KCITempAct[[#This Row],[KCIHigh]:[KCILow]]\n)","v":56.5},{"$f":"IF(KCITempAct[[#This Row],[KCIAve]]<65,(65-KCITempAct[[#This Row],[KCIAve]]),0)","v":8.5},{"$f":"IF(MONTH(KCITempAct[[#This Row],[Date]])=7,0,IF(MONTH(KCITempAct[[#This Row],[Date]])=8,0,KCITempAct[[#This Row],[KCIHDD]]))","v":8.5},{"$f":"SUMPRODUCT((KCINHDD[Month]=MONTH(KCITempAct[[#This Row],[Date]]))*(KCINHDD[Day]=DAY(KCITempAct[[#This Row],[Date]]))*KCINHDD[KCINHDD])","v":7.0166666666666666},{"$f":"IF(MONTH(KCITempAct[[#This Row],[Date]])=7,0,IF(MONTH(KCITempAct[[#This Row],[Date]])=8,0,KCITempAct[[#This Row],[KCINHDD]]))","v":7.0166666666666666},"Adj HDD and NDD =0 for July and August"]
["2023-05-04",74,44,{"$f":"AVERAGE(KCITempAct[[#This Row],[KCIHigh]:[KCILow]]\n)","v":59},{"$f":"IF(KCITempAct[[#This Row],[KCIAve]]<65,(65-KCITempAct[[#This Row],[KCIAve]]),0)","v":6},{"$f":"IF(MONTH(KCITempAct[[#This Row],[Date]])=7,0,IF(MONTH(KCITempAct[[#This Row],[Date]])=8,0,KCITempAct[[#This Row],[KCIHDD]]))","v":6},{"$f":"SUMPRODUCT((KCINHDD[Month]=MONTH(KCITempAct[[#This Row],[Date]]))*(KCINHDD[Day]=DAY(KCITempAct[[#This Row],[Date]]))*KCINHDD[KCINHDD])","v":5.0333333333333332},{"$f":"IF(MONTH(KCITempAct[[#This Row],[Date]])=7,0,IF(MONTH(KCITempAct[[#This Row],[Date]])=8,0,KCITempAct[[#This Row],[KCINHDD]]))","v":5.0333333333333332},"Adj HDD and NDD =0 for July and August"]
["2023-05-05",76,56,{"$f":"AVERAGE(KCITempAct[[#This Row],[KCIHigh]:[KCILow]]\n)","v":66},{"$f":"IF(KCITempAct[[#This Row],[KCIAve]]<65,(65-KCITempAct[[#This Row],[KCIAve]]),0)","v":0},{"$f":"IF(MONTH(KCITempAct[[#This Row],[Date]])=7,0,IF(MONTH(KCITempAct[[#This Row],[Date]])=8,0,KCITempAct[[#This Row],[KCIHDD]]))","v":0},{"$f":"SUMPRODUCT((KCINHDD[Month]=MONTH(KCITempAct[[#This Row],[Date]]))*(KCINHDD[Day]=DAY(KCITempAct[[#This Row],[Date]]))*KCINHDD[KCINHDD])","v":4.25},{"$f":"IF(MONTH(KCITempAct[[#This Row],[Date]])=7,0,IF(MONTH(KCITempAct[[#This Row],[Date]])=8,0,KCITempAct[[#This Row],[KCINHDD]]))","v":4.25},"Adj HDD and NDD =0 for July and August"]
["2023-05-06",91,62,{"$f":"AVERAGE(KCITempAct[[#This Row],[KCIHigh]:[KCILow]]\n)","v":76.5},{"$f":"IF(KCITempAct[[#This Row],[KCIAve]]<65,(65-KCITempAct[[#This Row],[KCIAve]]),0)","v":0},{"$f":"IF(MONTH(KCITempAct[[#This Row],[Date]])=7,0,IF(MONTH(KCITempAct[[#This Row],[Date]])=8,0,KCITempAct[[#This Row],[KCIHDD]]))","v":0},{"$f":"SUMPRODUCT((KCINHDD[Month]=MONTH(KCITempAct[[#This Row],[Date]]))*(KCINHDD[Day]=DAY(KCITempAct[[#This Row],[Date]]))*KCINHDD[KCINHDD])","v":3.3833333333333333},{"$f":"IF(MONTH(KCITempAct[[#This Row],[Date]])=7,0,IF(MONTH(KCITempAct[[#This Row],[Date]])=8,0,KCITempAct[[#This Row],[KCINHDD]]))","v":3.3833333333333333},"Adj HDD and NDD =0 for July and August"]
["2023-05-07",89,63,{"$f":"AVERAGE(KCITempAct[[#This Row],[KCIHigh]:[KCILow]]\n)","v":76},{"$f":"IF(KCITempAct[[#This Row],[KCIAve]]<65,(65-KCITempAct[[#This Row],[KCIAve]]),0)","v":0},{"$f":"IF(MONTH(KCITempAct[[#This Row],[Date]])=7,0,IF(MONTH(KCITempAct[[#This Row],[Date]])=8,0,KCITempAct[[#This Row],[KCIHDD]]))","v":0},{"$f":"SUMPRODUCT((KCINHDD[Month]=MONTH(KCITempAct[[#This Row],[Date]]))*(KCINHDD[Day]=DAY(KCITempAct[[#This Row],[Date]]))*KCINHDD[KCINHDD])","v":3.4833333333333334},{"$f":"IF(MONTH(KCITempAct[[#This Row],[Date]])=7,0,IF(MONTH(KCITempAct[[#This Row],[Date]])=8,0,KCITempAct[[#This Row],[KCINHDD]]))","v":3.4833333333333334},"Adj HDD and NDD =0 for July and August"]
["2023-05-08",83,57,{"$f":"AVERAGE(KCITempAct[[#This Row],[KCIHigh]:[KCILow]]\n)","v":70},{"$f":"IF(KCITempAct[[#This Row],[KCIAve]]<65,(65-KCITempAct[[#This Row],[KCIAve]]),0)","v":0},{"$f":"IF(MONTH(KCITempAct[[#This Row],[Date]])=7,0,IF(MONTH(KCITempAct[[#This Row],[Date]])=8,0,KCITempAct[[#This Row],[KCIHDD]]))","v":0},{"$f":"SUMPRODUCT((KCINHDD[Month]=MONTH(KCITempAct[[#This Row],[Date]]))*(KCINHDD[Day]=DAY(KCITempAct[[#This Row],[Date]]))*KCINHDD[KCINHDD])","v":2.4333333333333331},{"$f":"IF(MONTH(KCITempAct[[#This Row],[Date]])=7,0,IF(MONTH(KCITempAct[[#This Row],[Date]])=8,0,KCITempAct[[#This Row],[KCINHDD]]))","v":2.4333333333333331},"Adj HDD and NDD =0 for July and August"]
["2023-05-09",79,61,{"$f":"AVERAGE(KCITempAct[[#This Row],[KCIHigh]:[KCILow]]\n)","v":70},{"$f":"IF(KCITempAct[[#This Row],[KCIAve]]<65,(65-KCITempAct[[#This Row],[KCIAve]]),0)","v":0},{"$f":"IF(MONTH(KCITempAct[[#This Row],[Date]])=7,0,IF(MONTH(KCITempAct[[#This Row],[Date]])=8,0,KCITempAct[[#This Row],[KCIHDD]]))","v":0},{"$f":"SUMPRODUCT((KCINHDD[Month]=MONTH(KCITempAct[[#This Row],[Date]]))*(KCINHDD[Day]=DAY(KCITempAct[[#This Row],[Date]]))*KCINHDD[KCINHDD])","v":4.2166666666666668},{"$f":"IF(MONTH(KCITempAct[[#This Row],[Date]])=7,0,IF(MONTH(KCITempAct[[#This Row],[Date]])=8,0,KCITempAct[[#This Row],[KCINHDD]]))","v":4.2166666666666668},"Adj HDD and NDD =0 for July and August"]
["2023-05-10",83,58,{"$f":"AVERAGE(KCITempAct[[#This Row],[KCIHigh]:[KCILow]]\n)","v":70.5},{"$f":"IF(KCITempAct[[#This Row],[KCIAve]]<65,(65-KCITempAct[[#This Row],[KCIAve]]),0)","v":0},{"$f":"IF(MONTH(KCITempAct[[#This Row],[Date]])=7,0,IF(MONTH(KCITempAct[[#This Row],[Date]])=8,0,KCITempAct[[#This Row],[KCIHDD]]))","v":0},{"$f":"SUMPRODUCT((KCINHDD[Month]=MONTH(KCITempAct[[#This Row],[Date]]))*(KCINHDD[Day]=DAY(KCITempAct[[#This Row],[Date]]))*KCINHDD[KCINHDD])","v":4.2833333333333332},{"$f":"IF(MONTH(KCITempAct[[#This Row],[Date]])=7,0,IF(MONTH(KCITempAct[[#This Row],[Date]])=8,0,KCITempAct[[#This Row],[KCINHDD]]))","v":4.2833333333333332},"Adj HDD and NDD =0 for July and August"]
["2023-05-11",71,63,{"$f":"AVERAGE(KCITempAct[[#This Row],[KCIHigh]:[KCILow]]\n)","v":67},{"$f":"IF(KCITempAct[[#This Row],[KCIAve]]<65,(65-KCITempAct[[#This Row],[KCIAve]]),0)","v":0},{"$f":"IF(MONTH(KCITempAct[[#This Row],[Date]])=7,0,IF(MONTH(KCITempAct[[#This Row],[Date]])=8,0,KCITempAct[[#This Row],[KCIHDD]]))","v":0},{"$f":"SUMPRODUCT((KCINHDD[Month]=MONTH(KCITempAct[[#This Row],[Date]]))*(KCINHDD[Day]=DAY(KCITempAct[[#This Row],[Date]]))*KCINHDD[KCINHDD])","v":4.7333333333333334},{"$f":"IF(MONTH(KCITempAct[[#This Row],[Date]])=7,0,IF(MONTH(KCITempAct[[#This Row],[Date]])=8,0,KCITempAct[[#This Row],[KCINHDD]]))","v":4.7333333333333334},"Adj HDD and NDD =0 for July and August"]
["2023-05-12",82,66,{"$f":"AVERAGE(KCITempAct[[#This Row],[KCIHigh]:[KCILow]]\n)","v":74},{"$f":"IF(KCITempAct[[#This Row],[KCIAve]]<65,(65-KCITempAct[[#This Row],[KCIAve]]),0)","v":0},{"$f":"IF(MONTH(KCITempAct[[#This Row],[Date]])=7,0,IF(MONTH(KCITempAct[[#This Row],[Date]])=8,0,KCITempAct[[#This Row],[KCIHDD]]))","v":0},{"$f":"SUMPRODUCT((KCINHDD[Month]=MONTH(KCITempAct[[#This Row],[Date]]))*(KCINHDD[Day]=DAY(KCITempAct[[#This Row],[Date]]))*KCINHDD[KCINHDD])","v":5.5333333333333332},{"$f":"IF(MONTH(KCITempAct[[#This Row],[Date]])=7,0,IF(MONTH(KCITempAct[[#This Row],[Date]])=8,0,KCITempAct[[#This Row],[KCINHDD]]))","v":5.5333333333333332},"Adj HDD and NDD =0 for July and August"]
["2023-05-13",83,65,{"$f":"AVERAGE(KCITempAct[[#This Row],[KCIHigh]:[KCILow]]\n)","v":74},{"$f":"IF(KCITempAct[[#This Row],[KCIAve]]<65,(65-KCITempAct[[#This Row],[KCIAve]]),0)","v":0},{"$f":"IF(MONTH(KCITempAct[[#This Row],[Date]])=7,0,IF(MONTH(KCITempAct[[#This Row],[Date]])=8,0,KCITempAct[[#This Row],[KCIHDD]]))","v":0},{"$f":"SUMPRODUCT((KCINHDD[Month]=MONTH(KCITempAct[[#This Row],[Date]]))*(KCINHDD[Day]=DAY(KCITempAct[[#This Row],[Date]]))*KCINHDD[KCINHDD])","v":4.8166666666666664},{"$f":"IF(MONTH(KCITempAct[[#This Row],[Date]])=7,0,IF(MONTH(KCITempAct[[#This Row],[Date]])=8,0,KCITempAct[[#This Row],[KCINHDD]]))","v":4.8166666666666664},"Adj HDD and NDD =0 for July and August"]
["2023-05-14",87,62,{"$f":"AVERAGE(KCITempAct[[#This Row],[KCIHigh]:[KCILow]]\n)","v":74.5},{"$f":"IF(KCITempAct[[#This Row],[KCIAve]]<65,(65-KCITempAct[[#This Row],[KCIAve]]),0)","v":0},{"$f":"IF(MONTH(KCITempAct[[#This Row],[Date]])=7,0,IF(MONTH(KCITempAct[[#This Row],[Date]])=8,0,KCITempAct[[#This Row],[KCIHDD]]))","v":0},{"$f":"SUMPRODUCT((KCINHDD[Month]=MONTH(KCITempAct[[#This Row],[Date]]))*(KCINHDD[Day]=DAY(KCITempAct[[#This Row],[Date]]))*KCINHDD[KCINHDD])","v":5.05},{"$f":"IF(MONTH(KCITempAct[[#This Row],[Date]])=7,0,IF(MONTH(KCITempAct[[#This Row],[Date]])=8,0,KCITempAct[[#This Row],[KCINHDD]]))","v":5.05},"Adj HDD and NDD =0 for July and August"]
["2023-05-15",68,57,{"$f":"AVERAGE(KCITempAct[[#This Row],[KCIHigh]:[KCILow]]\n)","v":62.5},{"$f":"IF(KCITempAct[[#This Row],[KCIAve]]<65,(65-KCITempAct[[#This Row],[KCIAve]]),0)","v":2.5},{"$f":"IF(MONTH(KCITempAct[[#This Row],[Date]])=7,0,IF(MONTH(KCITempAct[[#This Row],[Date]])=8,0,KCITempAct[[#This Row],[KCIHDD]]))","v":2.5},{"$f":"SUMPRODUCT((KCINHDD[Month]=MONTH(KCITempAct[[#This Row],[Date]]))*(KCINHDD[Day]=DAY(KCITempAct[[#This Row],[Date]]))*KCINHDD[KCINHDD])","v":3.6},{"$f":"IF(MONTH(KCITempAct[[#This Row],[Date]])=7,0,IF(MONTH(KCITempAct[[#This Row],[Date]])=8,0,KCITempAct[[#This Row],[KCINHDD]]))","v":3.6},"Adj HDD and NDD =0 for July and August"]
["2023-05-16",71,56,{"$f":"AVERAGE(KCITempAct[[#This Row],[KCIHigh]:[KCILow]]\n)","v":63.5},{"$f":"IF(KCITempAct[[#This Row],[KCIAve]]<65,(65-KCITempAct[[#This Row],[KCIAve]]),0)","v":1.5},{"$f":"IF(MONTH(KCITempAct[[#This Row],[Date]])=7,0,IF(MONTH(KCITempAct[[#This Row],[Date]])=8,0,KCITempAct[[#This Row],[KCIHDD]]))","v":1.5},{"$f":"SUMPRODUCT((KCINHDD[Month]=MONTH(KCITempAct[[#This Row],[Date]]))*(KCINHDD[Day]=DAY(KCITempAct[[#This Row],[Date]]))*KCINHDD[KCINHDD])","v":3.35},{"$f":"IF(MONTH(KCITempAct[[#This Row],[Date]])=7,0,IF(MONTH(KCITempAct[[#This Row],[Date]])=8,0,KCITempAct[[#This Row],[KCINHDD]]))","v":3.35},"Adj HDD and NDD =0 for July and August"]
["2023-05-17",82,53,{"$f":"AVERAGE(KCITempAct[[#This Row],[KCIHigh]:[KCILow]]\n)","v":67.5},{"$f":"IF(KCITempAct[[#This Row],[KCIAve]]<65,(65-KCITempAct[[#This Row],[KCIAve]]),0)","v":0},{"$f":"IF(MONTH(KCITempAct[[#This Row],[Date]])=7,0,IF(MONTH(KCITempAct[[#This Row],[Date]])=8,0,KCITempAct[[#This Row],[KCIHDD]]))","v":0},{"$f":"SUMPRODUCT((KCINHDD[Month]=MONTH(KCITempAct[[#This Row],[Date]]))*(KCINHDD[Day]=DAY(KCITempAct[[#This Row],[Date]]))*KCINHDD[KCINHDD])","v":2.8},{"$f":"IF(MONTH(KCITempAct[[#This Row],[Date]])=7,0,IF(MONTH(KCITempAct[[#This Row],[Date]])=8,0,KCITempAct[[#This Row],[KCINHDD]]))","v":2.8},"Adj HDD and NDD =0 for July and August"]
["2023-05-18",82,58,{"$f":"AVERAGE(KCITempAct[[#This Row],[KCIHigh]:[KCILow]]\n)","v":70},{"$f":"IF(KCITempAct[[#This Row],[KCIAve]]<65,(65-KCITempAct[[#This Row],[KCIAve]]),0)","v":0},{"$f":"IF(MONTH(KCITempAct[[#This Row],[Date]])=7,0,IF(MONTH(KCITempAct[[#This Row],[Date]])=8,0,KCITempAct[[#This Row],[KCIHDD]]))","v":0},{"$f":"SUMPRODUCT((KCINHDD[Month]=MONTH(KCITempAct[[#This Row],[Date]]))*(KCINHDD[Day]=DAY(KCITempAct[[#This Row],[Date]]))*KCINHDD[KCINHDD])","v":2.7},{"$f":"IF(MONTH(KCITempAct[[#This Row],[Date]])=7,0,IF(MONTH(KCITempAct[[#This Row],[Date]])=8,0,KCITempAct[[#This Row],[KCINHDD]]))","v":2.7},"Adj HDD and NDD =0 for July and August"]
["2023-05-19",67,49,{"$f":"AVERAGE(KCITempAct[[#This Row],[KCIHigh]:[KCILow]]\n)","v":58},{"$f":"IF(KCITempAct[[#This Row],[KCIAve]]<65,(65-KCITempAct[[#This Row],[KCIAve]]),0)","v":7},{"$f":"IF(MONTH(KCITempAct[[#This Row],[Date]])=7,0,IF(MONTH(KCITempAct[[#This Row],[Date]])=8,0,KCITempAct[[#This Row],[KCIHDD]]))","v":7},{"$f":"SUMPRODUCT((KCINHDD[Month]=MONTH(KCITempAct[[#This Row],[Date]]))*(KCINHDD[Day]=DAY(KCITempAct[[#This Row],[Date]]))*KCINHDD[KCINHDD])","v":3.35},{"$f":"IF(MONTH(KCITempAct[[#This Row],[Date]])=7,0,IF(MONTH(KCITempAct[[#This Row],[Date]])=8,0,KCITempAct[[#This Row],[KCINHDD]]))","v":3.35},"Adj HDD and NDD =0 for July and August"]
["2023-05-20",71,44,{"$f":"AVERAGE(KCITempAct[[#This Row],[KCIHigh]:[KCILow]]\n)","v":57.5},{"$f":"IF(KCITempAct[[#This Row],[KCIAve]]<65,(65-KCITempAct[[#This Row],[KCIAve]]),0)","v":7.5},{"$f":"IF(MONTH(KCITempAct[[#This Row],[Date]])=7,0,IF(MONTH(KCITempAct[[#This Row],[Date]])=8,0,KCITempAct[[#This Row],[KCIHDD]]))","v":7.5},{"$f":"SUMPRODUCT((KCINHDD[Month]=MONTH(KCITempAct[[#This Row],[Date]]))*(KCINHDD[Day]=DAY(KCITempAct[[#This Row],[Date]]))*KCINHDD[KCINHDD])","v":3.1333333333333333},{"$f":"IF(MONTH(KCITempAct[[#This Row],[Date]])=7,0,IF(MONTH(KCITempAct[[#This Row],[Date]])=8,0,KCITempAct[[#This Row],[KCINHDD]]))","v":3.1333333333333333},"Adj HDD and NDD =0 for July and August"]
["2023-05-21",75,50,{"$f":"AVERAGE(KCITempAct[[#This Row],[KCIHigh]:[KCILow]]\n)","v":62.5},{"$f":"IF(KCITempAct[[#This Row],[KCIAve]]<65,(65-KCITempAct[[#This Row],[KCIAve]]),0)","v":2.5},{"$f":"IF(MONTH(KCITempAct[[#This Row],[Date]])=7,0,IF(MONTH(KCITempAct[[#This Row],[Date]])=8,0,KCITempAct[[#This Row],[KCIHDD]]))","v":2.5},{"$f":"SUMPRODUCT((KCINHDD[Month]=MONTH(KCITempAct[[#This Row],[Date]]))*(KCINHDD[Day]=DAY(KCITempAct[[#This Row],[Date]]))*KCINHDD[KCINHDD])","v":2.6166666666666667},{"$f":"IF(MONTH(KCITempAct[[#This Row],[Date]])=7,0,IF(MONTH(KCITempAct[[#This Row],[Date]])=8,0,KCITempAct[[#This Row],[KCINHDD]]))","v":2.6166666666666667},"Adj HDD and NDD =0 for July and August"]
["2023-05-22",77,53,{"$f":"AVERAGE(KCITempAct[[#This Row],[KCIHigh]:[KCILow]]\n)","v":65},{"$f":"IF(KCITempAct[[#This Row],[KCIAve]]<65,(65-KCITempAct[[#This Row],[KCIAve]]),0)","v":0},{"$f":"IF(MONTH(KCITempAct[[#This Row],[Date]])=7,0,IF(MONTH(KCITempAct[[#This Row],[Date]])=8,0,KCITempAct[[#This Row],[KCIHDD]]))","v":0},{"$f":"SUMPRODUCT((KCINHDD[Month]=MONTH(KCITempAct[[#This Row],[Date]]))*(KCINHDD[Day]=DAY(KCITempAct[[#This Row],[Date]]))*KCINHDD[KCINHDD])","v":1.4333333333333333},{"$f":"IF(MONTH(KCITempAct[[#This Row],[Date]])=7,0,IF(MONTH(KCITempAct[[#This Row],[Date]])=8,0,KCITempAct[[#This Row],[KCINHDD]]))","v":1.4333333333333333},"Adj HDD and NDD =0 for July and August"]
["2023-05-23",81,58,{"$f":"AVERAGE(KCITempAct[[#This Row],[KCIHigh]:[KCILow]]\n)","v":69.5},{"$f":"IF(KCITempAct[[#This Row],[KCIAve]]<65,(65-KCITempAct[[#This Row],[KCIAve]]),0)","v":0},{"$f":"IF(MONTH(KCITempAct[[#This Row],[Date]])=7,0,IF(MONTH(KCITempAct[[#This Row],[Date]])=8,0,KCITempAct[[#This Row],[KCIHDD]]))","v":0},{"$f":"SUMPRODUCT((KCINHDD[Month]=MONTH(KCITempAct[[#This Row],[Date]]))*(KCINHDD[Day]=DAY(KCITempAct[[#This Row],[Date]]))*KCINHDD[KCINHDD])","v":1.5666666666666667},{"$f":"IF(MONTH(KCITempAct[[#This Row],[Date]])=7,0,IF(MONTH(KCITempAct[[#This Row],[Date]])=8,0,KCITempAct[[#This Row],[KCINHDD]]))","v":1.5666666666666667},"Adj HDD and NDD =0 for July and August"]
["2023-05-24",85,56,{"$f":"AVERAGE(KCITempAct[[#This Row],[KCIHigh]:[KCILow]]\n)","v":70.5},{"$f":"IF(KCITempAct[[#This Row],[KCIAve]]<65,(65-KCITempAct[[#This Row],[KCIAve]]),0)","v":0},{"$f":"IF(MONTH(KCITempAct[[#This Row],[Date]])=7,0,IF(MONTH(KCITempAct[[#This Row],[Date]])=8,0,KCITempAct[[#This Row],[KCIHDD]]))","v":0},{"$f":"SUMPRODUCT((KCINHDD[Month]=MONTH(KCITempAct[[#This Row],[Date]]))*(KCINHDD[Day]=DAY(KCITempAct[[#This Row],[Date]]))*KCINHDD[KCINHDD])","v":2.2999999999999998},{"$f":"IF(MONTH(KCITempAct[[#This Row],[Date]])=7,0,IF(MONTH(KCITempAct[[#This Row],[Date]])=8,0,KCITempAct[[#This Row],[KCINHDD]]))","v":2.2999999999999998},"Adj HDD and NDD =0 for July and August"]
["2023-05-25",83,62,{"$f":"AVERAGE(KCITempAct[[#This Row],[KCIHigh]:[KCILow]]\n)","v":72.5},{"$f":"IF(KCITempAct[[#This Row],[KCIAve]]<65,(65-KCITempAct[[#This Row],[KCIAve]]),0)","v":0},{"$f":"IF(MONTH(KCITempAct[[#This Row],[Date]])=7,0,IF(MONTH(KCITempAct[[#This Row],[Date]])=8,0,KCITempAct[[#This Row],[KCIHDD]]))","v":0},{"$f":"SUMPRODUCT((KCINHDD[Month]=MONTH(KCITempAct[[#This Row],[Date]]))*(KCINHDD[Day]=DAY(KCITempAct[[#This Row],[Date]]))*KCINHDD[KCINHDD])","v":1.8833333333333333},{"$f":"IF(MONTH(KCITempAct[[#This Row],[Date]])=7,0,IF(MONTH(KCITempAct[[#This Row],[Date]])=8,0,KCITempAct[[#This Row],[KCINHDD]]))","v":1.8833333333333333},"Adj HDD and NDD =0 for July and August"]
["2023-05-26",78,59,{"$f":"AVERAGE(KCITempAct[[#This Row],[KCIHigh]:[KCILow]]\n)","v":68.5},{"$f":"IF(KCITempAct[[#This Row],[KCIAve]]<65,(65-KCITempAct[[#This Row],[KCIAve]]),0)","v":0},{"$f":"IF(MONTH(KCITempAct[[#This Row],[Date]])=7,0,IF(MONTH(KCITempAct[[#This Row],[Date]])=8,0,KCITempAct[[#This Row],[KCIHDD]]))","v":0},{"$f":"SUMPRODUCT((KCINHDD[Month]=MONTH(KCITempAct[[#This Row],[Date]]))*(KCINHDD[Day]=DAY(KCITempAct[[#This Row],[Date]]))*KCINHDD[KCINHDD])","v":2.0333333333333332},{"$f":"IF(MONTH(KCITempAct[[#This Row],[Date]])=7,0,IF(MONTH(KCITempAct[[#This Row],[Date]])=8,0,KCITempAct[[#This Row],[KCINHDD]]))","v":2.0333333333333332},"Adj HDD and NDD =0 for July and August"]
["2023-05-27",78,55,{"$f":"AVERAGE(KCITempAct[[#This Row],[KCIHigh]:[KCILow]]\n)","v":66.5},{"$f":"IF(KCITempAct[[#This Row],[KCIAve]]<65,(65-KCITempAct[[#This Row],[KCIAve]]),0)","v":0},{"$f":"IF(MONTH(KCITempAct[[#This Row],[Date]])=7,0,IF(MONTH(KCITempAct[[#This Row],[Date]])=8,0,KCITempAct[[#This Row],[KCIHDD]]))","v":0},{"$f":"SUMPRODUCT((KCINHDD[Month]=MONTH(KCITempAct[[#This Row],[Date]]))*(KCINHDD[Day]=DAY(KCITempAct[[#This Row],[Date]]))*KCINHDD[KCINHDD])","v":1.7333333333333334},{"$f":"IF(MONTH(KCITempAct[[#This Row],[Date]])=7,0,IF(MONTH(KCITempAct[[#This Row],[Date]])=8,0,KCITempAct[[#This Row],[KCINHDD]]))","v":1.7333333333333334},"Adj HDD and NDD =0 for July and August"]
["2023-05-28",81,56,{"$f":"AVERAGE(KCITempAct[[#This Row],[KCIHigh]:[KCILow]]\n)","v":68.5},{"$f":"IF(KCITempAct[[#This Row],[KCIAve]]<65,(65-KCITempAct[[#This Row],[KCIAve]]),0)","v":0},{"$f":"IF(MONTH(KCITempAct[[#This Row],[Date]])=7,0,IF(MONTH(KCITempAct[[#This Row],[Date]])=8,0,KCITempAct[[#This Row],[KCIHDD]]))","v":0},{"$f":"SUMPRODUCT((KCINHDD[Month]=MONTH(KCITempAct[[#This Row],[Date]]))*(KCINHDD[Day]=DAY(KCITempAct[[#This Row],[Date]]))*KCINHDD[KCINHDD])","v":1.85},{"$f":"IF(MONTH(KCITempAct[[#This Row],[Date]])=7,0,IF(MONTH(KCITempAct[[#This Row],[Date]])=8,0,KCITempAct[[#This Row],[KCINHDD]]))","v":1.85},"Adj HDD and NDD =0 for July and August"]
["2023-05-29",84,59,{"$f":"AVERAGE(KCITempAct[[#This Row],[KCIHigh]:[KCILow]]\n)","v":71.5},{"$f":"IF(KCITempAct[[#This Row],[KCIAve]]<65,(65-KCITempAct[[#This Row],[KCIAve]]),0)","v":0},{"$f":"IF(MONTH(KCITempAct[[#This Row],[Date]])=7,0,IF(MONTH(KCITempAct[[#This Row],[Date]])=8,0,KCITempAct[[#This Row],[KCIHDD]]))","v":0},{"$f":"SUMPRODUCT((KCINHDD[Month]=MONTH(KCITempAct[[#This Row],[Date]]))*(KCINHDD[Day]=DAY(KCITempAct[[#This Row],[Date]]))*KCINHDD[KCINHDD])","v":1.1666666666666667},{"$f":"IF(MONTH(KCITempAct[[#This Row],[Date]])=7,0,IF(MONTH(KCITempAct[[#This Row],[Date]])=8,0,KCITempAct[[#This Row],[KCINHDD]]))","v":1.1666666666666667},"Adj HDD and NDD =0 for July and August"]
["2023-05-30",85,62,{"$f":"AVERAGE(KCITempAct[[#This Row],[KCIHigh]:[KCILow]]\n)","v":73.5},{"$f":"IF(KCITempAct[[#This Row],[KCIAve]]<65,(65-KCITempAct[[#This Row],[KCIAve]]),0)","v":0},{"$f":"IF(MONTH(KCITempAct[[#This Row],[Date]])=7,0,IF(MONTH(KCITempAct[[#This Row],[Date]])=8,0,KCITempAct[[#This Row],[KCIHDD]]))","v":0},{"$f":"SUMPRODUCT((KCINHDD[Month]=MONTH(KCITempAct[[#This Row],[Date]]))*(KCINHDD[Day]=DAY(KCITempAct[[#This Row],[Date]]))*KCINHDD[KCINHDD])","v":0.8},{"$f":"IF(MONTH(KCITempAct[[#This Row],[Date]])=7,0,IF(MONTH(KCITempAct[[#This Row],[Date]])=8,0,KCITempAct[[#This Row],[KCINHDD]]))","v":0.8},"Adj HDD and NDD =0 for July and August"]
["2023-05-31",79,62,{"$f":"AVERAGE(KCITempAct[[#This Row],[KCIHigh]:[KCILow]]\n)","v":70.5},{"$f":"IF(KCITempAct[[#This Row],[KCIAve]]<65,(65-KCITempAct[[#This Row],[KCIAve]]),0)","v":0},{"$f":"IF(MONTH(KCITempAct[[#This Row],[Date]])=7,0,IF(MONTH(KCITempAct[[#This Row],[Date]])=8,0,KCITempAct[[#This Row],[KCIHDD]]))","v":0},{"$f":"SUMPRODUCT((KCINHDD[Month]=MONTH(KCITempAct[[#This Row],[Date]]))*(KCINHDD[Day]=DAY(KCITempAct[[#This Row],[Date]]))*KCINHDD[KCINHDD])","v":1.2},{"$f":"IF(MONTH(KCITempAct[[#This Row],[Date]])=7,0,IF(MONTH(KCITempAct[[#This Row],[Date]])=8,0,KCITempAct[[#This Row],[KCINHDD]]))","v":1.2},"Adj HDD and NDD =0 for July and August"]
["2023-06-01",85,65,{"$f":"AVERAGE(KCITempAct[[#This Row],[KCIHigh]:[KCILow]]\n)","v":75},{"$f":"IF(KCITempAct[[#This Row],[KCIAve]]<65,(65-KCITempAct[[#This Row],[KCIAve]]),0)","v":0},{"$f":"IF(MONTH(KCITempAct[[#This Row],[Date]])=7,0,IF(MONTH(KCITempAct[[#This Row],[Date]])=8,0,KCITempAct[[#This Row],[KCIHDD]]))","v":0},{"$f":"SUMPRODUCT((KCINHDD[Month]=MONTH(KCITempAct[[#This Row],[Date]]))*(KCINHDD[Day]=DAY(KCITempAct[[#This Row],[Date]]))*KCINHDD[KCINHDD])","v":0.8833333333333333},{"$f":"IF(MONTH(KCITempAct[[#This Row],[Date]])=7,0,IF(MONTH(KCITempAct[[#This Row],[Date]])=8,0,KCITempAct[[#This Row],[KCINHDD]]))","v":0.8833333333333333},"Adj HDD and NDD =0 for July and August"]
["2023-06-02",87,65,{"$f":"AVERAGE(KCITempAct[[#This Row],[KCIHigh]:[KCILow]]\n)","v":76},{"$f":"IF(KCITempAct[[#This Row],[KCIAve]]<65,(65-KCITempAct[[#This Row],[KCIAve]]),0)","v":0},{"$f":"IF(MONTH(KCITempAct[[#This Row],[Date]])=7,0,IF(MONTH(KCITempAct[[#This Row],[Date]])=8,0,KCITempAct[[#This Row],[KCIHDD]]))","v":0},{"$f":"SUMPRODUCT((KCINHDD[Month]=MONTH(KCITempAct[[#This Row],[Date]]))*(KCINHDD[Day]=DAY(KCITempAct[[#This Row],[Date]]))*KCINHDD[KCINHDD])","v":0.65},{"$f":"IF(MONTH(KCITempAct[[#This Row],[Date]])=7,0,IF(MONTH(KCITempAct[[#This Row],[Date]])=8,0,KCITempAct[[#This Row],[KCINHDD]]))","v":0.65},"Adj HDD and NDD =0 for July and August"]
["2023-06-03",88,66,{"$f":"AVERAGE(KCITempAct[[#This Row],[KCIHigh]:[KCILow]]\n)","v":77},{"$f":"IF(KCITempAct[[#This Row],[KCIAve]]<65,(65-KCITempAct[[#This Row],[KCIAve]]),0)","v":0},{"$f":"IF(MONTH(KCITempAct[[#This Row],[Date]])=7,0,IF(MONTH(KCITempAct[[#This Row],[Date]])=8,0,KCITempAct[[#This Row],[KCIHDD]]))","v":0},{"$f":"SUMPRODUCT((KCINHDD[Month]=MONTH(KCITempAct[[#This Row],[Date]]))*(KCINHDD[Day]=DAY(KCITempAct[[#This Row],[Date]]))*KCINHDD[KCINHDD])","v":0.91666666666666663},{"$f":"IF(MONTH(KCITempAct[[#This Row],[Date]])=7,0,IF(MONTH(KCITempAct[[#This Row],[Date]])=8,0,KCITempAct[[#This Row],[KCINHDD]]))","v":0.91666666666666663},"Adj HDD and NDD =0 for July and August"]
["2023-06-04",89,63,{"$f":"AVERAGE(KCITempAct[[#This Row],[KCIHigh]:[KCILow]]\n)","v":76},{"$f":"IF(KCITempAct[[#This Row],[KCIAve]]<65,(65-KCITempAct[[#This Row],[KCIAve]]),0)","v":0},{"$f":"IF(MONTH(KCITempAct[[#This Row],[Date]])=7,0,IF(MONTH(KCITempAct[[#This Row],[Date]])=8,0,KCITempAct[[#This Row],[KCIHDD]]))","v":0},{"$f":"SUMPRODUCT((KCINHDD[Month]=MONTH(KCITempAct[[#This Row],[Date]]))*(KCINHDD[Day]=DAY(KCITempAct[[#This Row],[Date]]))*KCINHDD[KCINHDD])","v":1.2},{"$f":"IF(MONTH(KCITempAct[[#This Row],[Date]])=7,0,IF(MONTH(KCITempAct[[#This Row],[Date]])=8,0,KCITempAct[[#This Row],[KCINHDD]]))","v":1.2},"Adj HDD and NDD =0 for July and August"]
["2023-06-05",88,65,{"$f":"AVERAGE(KCITempAct[[#This Row],[KCIHigh]:[KCILow]]\n)","v":76.5},{"$f":"IF(KCITempAct[[#This Row],[KCIAve]]<65,(65-KCITempAct[[#This Row],[KCIAve]]),0)","v":0},{"$f":"IF(MONTH(KCITempAct[[#This Row],[Date]])=7,0,IF(MONTH(KCITempAct[[#This Row],[Date]])=8,0,KCITempAct[[#This Row],[KCIHDD]]))","v":0},{"$f":"SUMPRODUCT((KCINHDD[Month]=MONTH(KCITempAct[[#This Row],[Date]]))*(KCINHDD[Day]=DAY(KCITempAct[[#This Row],[Date]]))*KCINHDD[KCINHDD])","v":0.68333333333333335},{"$f":"IF(MONTH(KCITempAct[[#This Row],[Date]])=7,0,IF(MONTH(KCITempAct[[#This Row],[Date]])=8,0,KCITempAct[[#This Row],[KCINHDD]]))","v":0.68333333333333335},"Adj HDD and NDD =0 for July and August"]
["2023-06-06",88,62,{"$f":"AVERAGE(KCITempAct[[#This Row],[KCIHigh]:[KCILow]]\n)","v":75},{"$f":"IF(KCITempAct[[#This Row],[KCIAve]]<65,(65-KCITempAct[[#This Row],[KCIAve]]),0)","v":0},{"$f":"IF(MONTH(KCITempAct[[#This Row],[Date]])=7,0,IF(MONTH(KCITempAct[[#This Row],[Date]])=8,0,KCITempAct[[#This Row],[KCIHDD]]))","v":0},{"$f":"SUMPRODUCT((KCINHDD[Month]=MONTH(KCITempAct[[#This Row],[Date]]))*(KCINHDD[Day]=DAY(KCITempAct[[#This Row],[Date]]))*KCINHDD[KCINHDD])","v":0.31666666666666665},{"$f":"IF(MONTH(KCITempAct[[#This Row],[Date]])=7,0,IF(MONTH(KCITempAct[[#This Row],[Date]])=8,0,KCITempAct[[#This Row],[KCINHDD]]))","v":0.31666666666666665},"Adj HDD and NDD =0 for July and August"]
["2023-06-07",91,66,{"$f":"AVERAGE(KCITempAct[[#This Row],[KCIHigh]:[KCILow]]\n)","v":78.5},{"$f":"IF(KCITempAct[[#This Row],[KCIAve]]<65,(65-KCITempAct[[#This Row],[KCIAve]]),0)","v":0},{"$f":"IF(MONTH(KCITempAct[[#This Row],[Date]])=7,0,IF(MONTH(KCITempAct[[#This Row],[Date]])=8,0,KCITempAct[[#This Row],[KCIHDD]]))","v":0},{"$f":"SUMPRODUCT((KCINHDD[Month]=MONTH(KCITempAct[[#This Row],[Date]]))*(KCINHDD[Day]=DAY(KCITempAct[[#This Row],[Date]]))*KCINHDD[KCINHDD])","v":0.3},{"$f":"IF(MONTH(KCITempAct[[#This Row],[Date]])=7,0,IF(MONTH(KCITempAct[[#This Row],[Date]])=8,0,KCITempAct[[#This Row],[KCINHDD]]))","v":0.3},"Adj HDD and NDD =0 for July and August"]
["2023-06-08",77,67,{"$f":"AVERAGE(KCITempAct[[#This Row],[KCIHigh]:[KCILow]]\n)","v":72},{"$f":"IF(KCITempAct[[#This Row],[KCIAve]]<65,(65-KCITempAct[[#This Row],[KCIAve]]),0)","v":0},{"$f":"IF(MONTH(KCITempAct[[#This Row],[Date]])=7,0,IF(MONTH(KCITempAct[[#This Row],[Date]])=8,0,KCITempAct[[#This Row],[KCIHDD]]))","v":0},{"$f":"SUMPRODUCT((KCINHDD[Month]=MONTH(KCITempAct[[#This Row],[Date]]))*(KCINHDD[Day]=DAY(KCITempAct[[#This Row],[Date]]))*KCINHDD[KCINHDD])","v":0.21666666666666667},{"$f":"IF(MONTH(KCITempAct[[#This Row],[Date]])=7,0,IF(MONTH(KCITempAct[[#This Row],[Date]])=8,0,KCITempAct[[#This Row],[KCINHDD]]))","v":0.21666666666666667},"Adj HDD and NDD =0 for July and August"]
["2023-06-09",82,64,{"$f":"AVERAGE(KCITempAct[[#This Row],[KCIHigh]:[KCILow]]\n)","v":73},{"$f":"IF(KCITempAct[[#This Row],[KCIAve]]<65,(65-KCITempAct[[#This Row],[KCIAve]]),0)","v":0},{"$f":"IF(MONTH(KCITempAct[[#This Row],[Date]])=7,0,IF(MONTH(KCITempAct[[#This Row],[Date]])=8,0,KCITempAct[[#This Row],[KCIHDD]]))","v":0},{"$f":"SUMPRODUCT((KCINHDD[Month]=MONTH(KCITempAct[[#This Row],[Date]]))*(KCINHDD[Day]=DAY(KCITempAct[[#This Row],[Date]]))*KCINHDD[KCINHDD])","v":0.16666666666666666},{"$f":"IF(MONTH(KCITempAct[[#This Row],[Date]])=7,0,IF(MONTH(KCITempAct[[#This Row],[Date]])=8,0,KCITempAct[[#This Row],[KCINHDD]]))","v":0.16666666666666666},"Adj HDD and NDD =0 for July and August"]
["2023-06-10",71,65,{"$f":"AVERAGE(KCITempAct[[#This Row],[KCIHigh]:[KCILow]]\n)","v":68},{"$f":"IF(KCITempAct[[#This Row],[KCIAve]]<65,(65-KCITempAct[[#This Row],[KCIAve]]),0)","v":0},{"$f":"IF(MONTH(KCITempAct[[#This Row],[Date]])=7,0,IF(MONTH(KCITempAct[[#This Row],[Date]])=8,0,KCITempAct[[#This Row],[KCIHDD]]))","v":0},{"$f":"SUMPRODUCT((KCINHDD[Month]=MONTH(KCITempAct[[#This Row],[Date]]))*(KCINHDD[Day]=DAY(KCITempAct[[#This Row],[Date]]))*KCINHDD[KCINHDD])","v":3.3333333333333333E-2},{"$f":"IF(MONTH(KCITempAct[[#This Row],[Date]])=7,0,IF(MONTH(KCITempAct[[#This Row],[Date]])=8,0,KCITempAct[[#This Row],[KCINHDD]]))","v":3.3333333333333333E-2},"Adj HDD and NDD =0 for July and August"]
["2023-06-11",74,56,{"$f":"AVERAGE(KCITempAct[[#This Row],[KCIHigh]:[KCILow]]\n)","v":65},{"$f":"IF(KCITempAct[[#This Row],[KCIAve]]<65,(65-KCITempAct[[#This Row],[KCIAve]]),0)","v":0},{"$f":"IF(MONTH(KCITempAct[[#This Row],[Date]])=7,0,IF(MONTH(KCITempAct[[#This Row],[Date]])=8,0,KCITempAct[[#This Row],[KCIHDD]]))","v":0},{"$f":"SUMPRODUCT((KCINHDD[Month]=MONTH(KCITempAct[[#This Row],[Date]]))*(KCINHDD[Day]=DAY(KCITempAct[[#This Row],[Date]]))*KCINHDD[KCINHDD])","v":0.05},{"$f":"IF(MONTH(KCITempAct[[#This Row],[Date]])=7,0,IF(MONTH(KCITempAct[[#This Row],[Date]])=8,0,KCITempAct[[#This Row],[KCINHDD]]))","v":0.05},"Adj HDD and NDD =0 for July and August"]
["2023-06-12",74,51,{"$f":"AVERAGE(KCITempAct[[#This Row],[KCIHigh]:[KCILow]]\n)","v":62.5},{"$f":"IF(KCITempAct[[#This Row],[KCIAve]]<65,(65-KCITempAct[[#This Row],[KCIAve]]),0)","v":2.5},{"$f":"IF(MONTH(KCITempAct[[#This Row],[Date]])=7,0,IF(MONTH(KCITempAct[[#This Row],[Date]])=8,0,KCITempAct[[#This Row],[KCIHDD]]))","v":2.5},{"$f":"SUMPRODUCT((KCINHDD[Month]=MONTH(KCITempAct[[#This Row],[Date]]))*(KCINHDD[Day]=DAY(KCITempAct[[#This Row],[Date]]))*KCINHDD[KCINHDD])","v":3.3333333333333333E-2},{"$f":"IF(MONTH(KCITempAct[[#This Row],[Date]])=7,0,IF(MONTH(KCITempAct[[#This Row],[Date]])=8,0,KCITempAct[[#This Row],[KCINHDD]]))","v":3.3333333333333333E-2},"Adj HDD and NDD =0 for July and August"]
["2023-06-13",80,50,{"$f":"AVERAGE(KCITempAct[[#This Row],[KCIHigh]:[KCILow]]\n)","v":65},{"$f":"IF(KCITempAct[[#This Row],[KCIAve]]<65,(65-KCITempAct[[#This Row],[KCIAve]]),0)","v":0},{"$f":"IF(MONTH(KCITempAct[[#This Row],[Date]])=7,0,IF(MONTH(KCITempAct[[#This Row],[Date]])=8,0,KCITempAct[[#This Row],[KCIHDD]]))","v":0},{"$f":"SUMPRODUCT((KCINHDD[Month]=MONTH(KCITempAct[[#This Row],[Date]]))*(KCINHDD[Day]=DAY(KCITempAct[[#This Row],[Date]]))*KCINHDD[KCINHDD])","v":0.05},{"$f":"IF(MONTH(KCITempAct[[#This Row],[Date]])=7,0,IF(MONTH(KCITempAct[[#This Row],[Date]])=8,0,KCITempAct[[#This Row],[KCINHDD]]))","v":0.05},"Adj HDD and NDD =0 for July and August"]
["2023-06-14",85,56,{"$f":"AVERAGE(KCITempAct[[#This Row],[KCIHigh]:[KCILow]]\n)","v":70.5},{"$f":"IF(KCITempAct[[#This Row],[KCIAve]]<65,(65-KCITempAct[[#This Row],[KCIAve]]),0)","v":0},{"$f":"IF(MONTH(KCITempAct[[#This Row],[Date]])=7,0,IF(MONTH(KCITempAct[[#This Row],[Date]])=8,0,KCITempAct[[#This Row],[KCIHDD]]))","v":0},{"$f":"SUMPRODUCT((KCINHDD[Month]=MONTH(KCITempAct[[#This Row],[Date]]))*(KCINHDD[Day]=DAY(KCITempAct[[#This Row],[Date]]))*KCINHDD[KCINHDD])","v":0},{"$f":"IF(MONTH(KCITempAct[[#This Row],[Date]])=7,0,IF(MONTH(KCITempAct[[#This Row],[Date]])=8,0,KCITempAct[[#This Row],[KCINHDD]]))","v":0},"Adj HDD and NDD =0 for July and August"]
["2023-06-15",86,58,{"$f":"AVERAGE(KCITempAct[[#This Row],[KCIHigh]:[KCILow]]\n)","v":72},{"$f":"IF(KCITempAct[[#This Row],[KCIAve]]<65,(65-KCITempAct[[#This Row],[KCIAve]]),0)","v":0},{"$f":"IF(MONTH(KCITempAct[[#This Row],[Date]])=7,0,IF(MONTH(KCITempAct[[#This Row],[Date]])=8,0,KCITempAct[[#This Row],[KCIHDD]]))","v":0},{"$f":"SUMPRODUCT((KCINHDD[Month]=MONTH(KCITempAct[[#This Row],[Date]]))*(KCINHDD[Day]=DAY(KCITempAct[[#This Row],[Date]]))*KCINHDD[KCINHDD])","v":0},{"$f":"IF(MONTH(KCITempAct[[#This Row],[Date]])=7,0,IF(MONTH(KCITempAct[[#This Row],[Date]])=8,0,KCITempAct[[#This Row],[KCINHDD]]))","v":0},"Adj HDD and NDD =0 for July and August"]
["2023-06-16",88,62,{"$f":"AVERAGE(KCITempAct[[#This Row],[KCIHigh]:[KCILow]]\n)","v":75},{"$f":"IF(KCITempAct[[#This Row],[KCIAve]]<65,(65-KCITempAct[[#This Row],[KCIAve]]),0)","v":0},{"$f":"IF(MONTH(KCITempAct[[#This Row],[Date]])=7,0,IF(MONTH(KCITempAct[[#This Row],[Date]])=8,0,KCITempAct[[#This Row],[KCIHDD]]))","v":0},{"$f":"SUMPRODUCT((KCINHDD[Month]=MONTH(KCITempAct[[#This Row],[Date]]))*(KCINHDD[Day]=DAY(KCITempAct[[#This Row],[Date]]))*KCINHDD[KCINHDD])","v":0.25},{"$f":"IF(MONTH(KCITempAct[[#This Row],[Date]])=7,0,IF(MONTH(KCITempAct[[#This Row],[Date]])=8,0,KCITempAct[[#This Row],[KCINHDD]]))","v":0.25},"Adj HDD and NDD =0 for July and August"]
["2023-06-17",87,67,{"$f":"AVERAGE(KCITempAct[[#This Row],[KCIHigh]:[KCILow]]\n)","v":77},{"$f":"IF(KCITempAct[[#This Row],[KCIAve]]<65,(65-KCITempAct[[#This Row],[KCIAve]]),0)","v":0},{"$f":"IF(MONTH(KCITempAct[[#This Row],[Date]])=7,0,IF(MONTH(KCITempAct[[#This Row],[Date]])=8,0,KCITempAct[[#This Row],[KCIHDD]]))","v":0},{"$f":"SUMPRODUCT((KCINHDD[Month]=MONTH(KCITempAct[[#This Row],[Date]]))*(KCINHDD[Day]=DAY(KCITempAct[[#This Row],[Date]]))*KCINHDD[KCINHDD])","v":0.25},{"$f":"IF(MONTH(KCITempAct[[#This Row],[Date]])=7,0,IF(MONTH(KCITempAct[[#This Row],[Date]])=8,0,KCITempAct[[#This Row],[KCINHDD]]))","v":0.25},"Adj HDD and NDD =0 for July and August"]
["2023-06-18",81,61,{"$f":"AVERAGE(KCITempAct[[#This Row],[KCIHigh]:[KCILow]]\n)","v":71},{"$f":"IF(KCITempAct[[#This Row],[KCIAve]]<65,(65-KCITempAct[[#This Row],[KCIAve]]),0)","v":0},{"$f":"IF(MONTH(KCITempAct[[#This Row],[Date]])=7,0,IF(MONTH(KCITempAct[[#This Row],[Date]])=8,0,KCITempAct[[#This Row],[KCIHDD]]))","v":0},{"$f":"SUMPRODUCT((KCINHDD[Month]=MONTH(KCITempAct[[#This Row],[Date]]))*(KCINHDD[Day]=DAY(KCITempAct[[#This Row],[Date]]))*KCINHDD[KCINHDD])","v":8.3333333333333329E-2},{"$f":"IF(MONTH(KCITempAct[[#This Row],[Date]])=7,0,IF(MONTH(KCITempAct[[#This Row],[Date]])=8,0,KCITempAct[[#This Row],[KCINHDD]]))","v":8.3333333333333329E-2},"Adj HDD and NDD =0 for July and August"]
["2023-06-19",89,64,{"$f":"AVERAGE(KCITempAct[[#This Row],[KCIHigh]:[KCILow]]\n)","v":76.5},{"$f":"IF(KCITempAct[[#This Row],[KCIAve]]<65,(65-KCITempAct[[#This Row],[KCIAve]]),0)","v":0},{"$f":"IF(MONTH(KCITempAct[[#This Row],[Date]])=7,0,IF(MONTH(KCITempAct[[#This Row],[Date]])=8,0,KCITempAct[[#This Row],[KCIHDD]]))","v":0},{"$f":"SUMPRODUCT((KCINHDD[Month]=MONTH(KCITempAct[[#This Row],[Date]]))*(KCINHDD[Day]=DAY(KCITempAct[[#This Row],[Date]]))*KCINHDD[KCINHDD])","v":6.6666666666666666E-2},{"$f":"IF(MONTH(KCITempAct[[#This Row],[Date]])=7,0,IF(MONTH(KCITempAct[[#This Row],[Date]])=8,0,KCITempAct[[#This Row],[KCINHDD]]))","v":6.6666666666666666E-2},"Adj HDD and NDD =0 for July and August"]
["2023-06-20",87,69,{"$f":"AVERAGE(KCITempAct[[#This Row],[KCIHigh]:[KCILow]]\n)","v":78},{"$f":"IF(KCITempAct[[#This Row],[KCIAve]]<65,(65-KCITempAct[[#This Row],[KCIAve]]),0)","v":0},{"$f":"IF(MONTH(KCITempAct[[#This Row],[Date]])=7,0,IF(MONTH(KCITempAct[[#This Row],[Date]])=8,0,KCITempAct[[#This Row],[KCIHDD]]))","v":0},{"$f":"SUMPRODUCT((KCINHDD[Month]=MONTH(KCITempAct[[#This Row],[Date]]))*(KCINHDD[Day]=DAY(KCITempAct[[#This Row],[Date]]))*KCINHDD[KCINHDD])","v":0.05},{"$f":"IF(MONTH(KCITempAct[[#This Row],[Date]])=7,0,IF(MONTH(KCITempAct[[#This Row],[Date]])=8,0,KCITempAct[[#This Row],[KCINHDD]]))","v":0.05},"Adj HDD and NDD =0 for July and August"]
["2023-06-21",88,70,{"$f":"AVERAGE(KCITempAct[[#This Row],[KCIHigh]:[KCILow]]\n)","v":79},{"$f":"IF(KCITempAct[[#This Row],[KCIAve]]<65,(65-KCITempAct[[#This Row],[KCIAve]]),0)","v":0},{"$f":"IF(MONTH(KCITempAct[[#This Row],[Date]])=7,0,IF(MONTH(KCITempAct[[#This Row],[Date]])=8,0,KCITempAct[[#This Row],[KCIHDD]]))","v":0},{"$f":"SUMPRODUCT((KCINHDD[Month]=MONTH(KCITempAct[[#This Row],[Date]]))*(KCINHDD[Day]=DAY(KCITempAct[[#This Row],[Date]]))*KCINHDD[KCINHDD])","v":0.1},{"$f":"IF(MONTH(KCITempAct[[#This Row],[Date]])=7,0,IF(MONTH(KCITempAct[[#This Row],[Date]])=8,0,KCITempAct[[#This Row],[KCINHDD]]))","v":0.1},"Adj HDD and NDD =0 for July and August"]
["2023-06-22",87,68,{"$f":"AVERAGE(KCITempAct[[#This Row],[KCIHigh]:[KCILow]]\n)","v":77.5},{"$f":"IF(KCITempAct[[#This Row],[KCIAve]]<65,(65-KCITempAct[[#This Row],[KCIAve]]),0)","v":0},{"$f":"IF(MONTH(KCITempAct[[#This Row],[Date]])=7,0,IF(MONTH(KCITempAct[[#This Row],[Date]])=8,0,KCITempAct[[#This Row],[KCIHDD]]))","v":0},{"$f":"SUMPRODUCT((KCINHDD[Month]=MONTH(KCITempAct[[#This Row],[Date]]))*(KCINHDD[Day]=DAY(KCITempAct[[#This Row],[Date]]))*KCINHDD[KCINHDD])","v":0},{"$f":"IF(MONTH(KCITempAct[[#This Row],[Date]])=7,0,IF(MONTH(KCITempAct[[#This Row],[Date]])=8,0,KCITempAct[[#This Row],[KCINHDD]]))","v":0},"Adj HDD and NDD =0 for July and August"]
["2023-06-23",89,65,{"$f":"AVERAGE(KCITempAct[[#This Row],[KCIHigh]:[KCILow]]\n)","v":77},{"$f":"IF(KCITempAct[[#This Row],[KCIAve]]<65,(65-KCITempAct[[#This Row],[KCIAve]]),0)","v":0},{"$f":"IF(MONTH(KCITempAct[[#This Row],[Date]])=7,0,IF(MONTH(KCITempAct[[#This Row],[Date]])=8,0,KCITempAct[[#This Row],[KCIHDD]]))","v":0},{"$f":"SUMPRODUCT((KCINHDD[Month]=MONTH(KCITempAct[[#This Row],[Date]]))*(KCINHDD[Day]=DAY(KCITempAct[[#This Row],[Date]]))*KCINHDD[KCINHDD])","v":0},{"$f":"IF(MONTH(KCITempAct[[#This Row],[Date]])=7,0,IF(MONTH(KCITempAct[[#This Row],[Date]])=8,0,KCITempAct[[#This Row],[KCINHDD]]))","v":0},"Adj HDD and NDD =0 for July and August"]
["2023-06-24",91,73,{"$f":"AVERAGE(KCITempAct[[#This Row],[KCIHigh]:[KCILow]]\n)","v":82},{"$f":"IF(KCITempAct[[#This Row],[KCIAve]]<65,(65-KCITempAct[[#This Row],[KCIAve]]),0)","v":0},{"$f":"IF(MONTH(KCITempAct[[#This Row],[Date]])=7,0,IF(MONTH(KCITempAct[[#This Row],[Date]])=8,0,KCITempAct[[#This Row],[KCIHDD]]))","v":0},{"$f":"SUMPRODUCT((KCINHDD[Month]=MONTH(KCITempAct[[#This Row],[Date]]))*(KCINHDD[Day]=DAY(KCITempAct[[#This Row],[Date]]))*KCINHDD[KCINHDD])","v":0},{"$f":"IF(MONTH(KCITempAct[[#This Row],[Date]])=7,0,IF(MONTH(KCITempAct[[#This Row],[Date]])=8,0,KCITempAct[[#This Row],[KCINHDD]]))","v":0},"Adj HDD and NDD =0 for July and August"]
["2023-06-25",86,67,{"$f":"AVERAGE(KCITempAct[[#This Row],[KCIHigh]:[KCILow]]\n)","v":76.5},{"$f":"IF(KCITempAct[[#This Row],[KCIAve]]<65,(65-KCITempAct[[#This Row],[KCIAve]]),0)","v":0},{"$f":"IF(MONTH(KCITempAct[[#This Row],[Date]])=7,0,IF(MONTH(KCITempAct[[#This Row],[Date]])=8,0,KCITempAct[[#This Row],[KCIHDD]]))","v":0},{"$f":"SUMPRODUCT((KCINHDD[Month]=MONTH(KCITempAct[[#This Row],[Date]]))*(KCINHDD[Day]=DAY(KCITempAct[[#This Row],[Date]]))*KCINHDD[KCINHDD])","v":0.1},{"$f":"IF(MONTH(KCITempAct[[#This Row],[Date]])=7,0,IF(MONTH(KCITempAct[[#This Row],[Date]])=8,0,KCITempAct[[#This Row],[KCINHDD]]))","v":0.1},"Adj HDD and NDD =0 for July and August"]
["2023-06-26",85,63,{"$f":"AVERAGE(KCITempAct[[#This Row],[KCIHigh]:[KCILow]]\n)","v":74},{"$f":"IF(KCITempAct[[#This Row],[KCIAve]]<65,(65-KCITempAct[[#This Row],[KCIAve]]),0)","v":0},{"$f":"IF(MONTH(KCITempAct[[#This Row],[Date]])=7,0,IF(MONTH(KCITempAct[[#This Row],[Date]])=8,0,KCITempAct[[#This Row],[KCIHDD]]))","v":0},{"$f":"SUMPRODUCT((KCINHDD[Month]=MONTH(KCITempAct[[#This Row],[Date]]))*(KCINHDD[Day]=DAY(KCITempAct[[#This Row],[Date]]))*KCINHDD[KCINHDD])","v":0.05},{"$f":"IF(MONTH(KCITempAct[[#This Row],[Date]])=7,0,IF(MONTH(KCITempAct[[#This Row],[Date]])=8,0,KCITempAct[[#This Row],[KCINHDD]]))","v":0.05},"Adj HDD and NDD =0 for July and August"]
["2023-06-27",86,59,{"$f":"AVERAGE(KCITempAct[[#This Row],[KCIHigh]:[KCILow]]\n)","v":72.5},{"$f":"IF(KCITempAct[[#This Row],[KCIAve]]<65,(65-KCITempAct[[#This Row],[KCIAve]]),0)","v":0},{"$f":"IF(MONTH(KCITempAct[[#This Row],[Date]])=7,0,IF(MONTH(KCITempAct[[#This Row],[Date]])=8,0,KCITempAct[[#This Row],[KCIHDD]]))","v":0},{"$f":"SUMPRODUCT((KCINHDD[Month]=MONTH(KCITempAct[[#This Row],[Date]]))*(KCINHDD[Day]=DAY(KCITempAct[[#This Row],[Date]]))*KCINHDD[KCINHDD])","v":3.3333333333333333E-2},{"$f":"IF(MONTH(KCITempAct[[#This Row],[Date]])=7,0,IF(MONTH(KCITempAct[[#This Row],[Date]])=8,0,KCITempAct[[#This Row],[KCINHDD]]))","v":3.3333333333333333E-2},"Adj HDD and NDD =0 for July and August"]
["2023-06-28",95,71,{"$f":"AVERAGE(KCITempAct[[#This Row],[KCIHigh]:[KCILow]]\n)","v":83},{"$f":"IF(KCITempAct[[#This Row],[KCIAve]]<65,(65-KCITempAct[[#This Row],[KCIAve]]),0)","v":0},{"$f":"IF(MONTH(KCITempAct[[#This Row],[Date]])=7,0,IF(MONTH(KCITempAct[[#This Row],[Date]])=8,0,KCITempAct[[#This Row],[KCIHDD]]))","v":0},{"$f":"SUMPRODUCT((KCINHDD[Month]=MONTH(KCITempAct[[#This Row],[Date]]))*(KCINHDD[Day]=DAY(KCITempAct[[#This Row],[Date]]))*KCINHDD[KCINHDD])","v":0},{"$f":"IF(MONTH(KCITempAct[[#This Row],[Date]])=7,0,IF(MONTH(KCITempAct[[#This Row],[Date]])=8,0,KCITempAct[[#This Row],[KCINHDD]]))","v":0},"Adj HDD and NDD =0 for July and August"]
["2023-06-29",93,71,{"$f":"AVERAGE(KCITempAct[[#This Row],[KCIHigh]:[KCILow]]\n)","v":82},{"$f":"IF(KCITempAct[[#This Row],[KCIAve]]<65,(65-KCITempAct[[#This Row],[KCIAve]]),0)","v":0},{"$f":"IF(MONTH(KCITempAct[[#This Row],[Date]])=7,0,IF(MONTH(KCITempAct[[#This Row],[Date]])=8,0,KCITempAct[[#This Row],[KCIHDD]]))","v":0},{"$f":"SUMPRODUCT((KCINHDD[Month]=MONTH(KCITempAct[[#This Row],[Date]]))*(KCINHDD[Day]=DAY(KCITempAct[[#This Row],[Date]]))*KCINHDD[KCINHDD])","v":1.6666666666666666E-2},{"$f":"IF(MONTH(KCITempAct[[#This Row],[Date]])=7,0,IF(MONTH(KCITempAct[[#This Row],[Date]])=8,0,KCITempAct[[#This Row],[KCINHDD]]))","v":1.6666666666666666E-2},"Adj HDD and NDD =0 for July and August"]
["2023-06-30",96,70,{"$f":"AVERAGE(KCITempAct[[#This Row],[KCIHigh]:[KCILow]]\n)","v":83},{"$f":"IF(KCITempAct[[#This Row],[KCIAve]]<65,(65-KCITempAct[[#This Row],[KCIAve]]),0)","v":0},{"$f":"IF(MONTH(KCITempAct[[#This Row],[Date]])=7,0,IF(MONTH(KCITempAct[[#This Row],[Date]])=8,0,KCITempAct[[#This Row],[KCIHDD]]))","v":0},{"$f":"SUMPRODUCT((KCINHDD[Month]=MONTH(KCITempAct[[#This Row],[Date]]))*(KCINHDD[Day]=DAY(KCITempAct[[#This Row],[Date]]))*KCINHDD[KCINHDD])","v":0},{"$f":"IF(MONTH(KCITempAct[[#This Row],[Date]])=7,0,IF(MONTH(KCITempAct[[#This Row],[Date]])=8,0,KCITempAct[[#This Row],[KCINHDD]]))","v":0},"Adj HDD and NDD =0 for July and August"]
["2023-07-01",85,65,{"$f":"AVERAGE(KCITempAct[[#This Row],[KCIHigh]:[KCILow]]\n)","v":75},{"$f":"IF(KCITempAct[[#This Row],[KCIAve]]<65,(65-KCITempAct[[#This Row],[KCIAve]]),0)","v":0},{"$f":"IF(MONTH(KCITempAct[[#This Row],[Date]])=7,0,IF(MONTH(KCITempAct[[#This Row],[Date]])=8,0,KCITempAct[[#This Row],[KCIHDD]]))","v":0},{"$f":"SUMPRODUCT((KCINHDD[Month]=MONTH(KCITempAct[[#This Row],[Date]]))*(KCINHDD[Day]=DAY(KCITempAct[[#This Row],[Date]]))*KCINHDD[KCINHDD])","v":1.6666666666666666E-2},{"$f":"IF(MONTH(KCITempAct[[#This Row],[Date]])=7,0,IF(MONTH(KCITempAct[[#This Row],[Date]])=8,0,KCITempAct[[#This Row],[KCINHDD]]))","v":0},"Adj HDD and NDD =0 for July and August"]
["2023-07-02",86,64,{"$f":"AVERAGE(KCITempAct[[#This Row],[KCIHigh]:[KCILow]]\n)","v":75},{"$f":"IF(KCITempAct[[#This Row],[KCIAve]]<65,(65-KCITempAct[[#This Row],[KCIAve]]),0)","v":0},{"$f":"IF(MONTH(KCITempAct[[#This Row],[Date]])=7,0,IF(MONTH(KCITempAct[[#This Row],[Date]])=8,0,KCITempAct[[#This Row],[KCIHDD]]))","v":0},{"$f":"SUMPRODUCT((KCINHDD[Month]=MONTH(KCITempAct[[#This Row],[Date]]))*(KCINHDD[Day]=DAY(KCITempAct[[#This Row],[Date]]))*KCINHDD[KCINHDD])","v":0.05},{"$f":"IF(MONTH(KCITempAct[[#This Row],[Date]])=7,0,IF(MONTH(KCITempAct[[#This Row],[Date]])=8,0,KCITempAct[[#This Row],[KCINHDD]]))","v":0},"Adj HDD and NDD =0 for July and August"]
["2023-07-03",90,64,{"$f":"AVERAGE(KCITempAct[[#This Row],[KCIHigh]:[KCILow]]\n)","v":77},{"$f":"IF(KCITempAct[[#This Row],[KCIAve]]<65,(65-KCITempAct[[#This Row],[KCIAve]]),0)","v":0},{"$f":"IF(MONTH(KCITempAct[[#This Row],[Date]])=7,0,IF(MONTH(KCITempAct[[#This Row],[Date]])=8,0,KCITempAct[[#This Row],[KCIHDD]]))","v":0},{"$f":"SUMPRODUCT((KCINHDD[Month]=MONTH(KCITempAct[[#This Row],[Date]]))*(KCINHDD[Day]=DAY(KCITempAct[[#This Row],[Date]]))*KCINHDD[KCINHDD])","v":3.3333333333333333E-2},{"$f":"IF(MONTH(KCITempAct[[#This Row],[Date]])=7,0,IF(MONTH(KCITempAct[[#This Row],[Date]])=8,0,KCITempAct[[#This Row],[KCINHDD]]))","v":0},"Adj HDD and NDD =0 for July and August"]
["2023-07-04",95,64,{"$f":"AVERAGE(KCITempAct[[#This Row],[KCIHigh]:[KCILow]]\n)","v":79.5},{"$f":"IF(KCITempAct[[#This Row],[KCIAve]]<65,(65-KCITempAct[[#This Row],[KCIAve]]),0)","v":0},{"$f":"IF(MONTH(KCITempAct[[#This Row],[Date]])=7,0,IF(MONTH(KCITempAct[[#This Row],[Date]])=8,0,KCITempAct[[#This Row],[KCIHDD]]))","v":0},{"$f":"SUMPRODUCT((KCINHDD[Month]=MONTH(KCITempAct[[#This Row],[Date]]))*(KCINHDD[Day]=DAY(KCITempAct[[#This Row],[Date]]))*KCINHDD[KCINHDD])","v":8.3333333333333329E-2},{"$f":"IF(MONTH(KCITempAct[[#This Row],[Date]])=7,0,IF(MONTH(KCITempAct[[#This Row],[Date]])=8,0,KCITempAct[[#This Row],[KCINHDD]]))","v":0},"Adj HDD and NDD =0 for July and August"]
["2023-07-05",81,66,{"$f":"AVERAGE(KCITempAct[[#This Row],[KCIHigh]:[KCILow]]\n)","v":73.5},{"$f":"IF(KCITempAct[[#This Row],[KCIAve]]<65,(65-KCITempAct[[#This Row],[KCIAve]]),0)","v":0},{"$f":"IF(MONTH(KCITempAct[[#This Row],[Date]])=7,0,IF(MONTH(KCITempAct[[#This Row],[Date]])=8,0,KCITempAct[[#This Row],[KCIHDD]]))","v":0},{"$f":"SUMPRODUCT((KCINHDD[Month]=MONTH(KCITempAct[[#This Row],[Date]]))*(KCINHDD[Day]=DAY(KCITempAct[[#This Row],[Date]]))*KCINHDD[KCINHDD])","v":1.6666666666666666E-2},{"$f":"IF(MONTH(KCITempAct[[#This Row],[Date]])=7,0,IF(MONTH(KCITempAct[[#This Row],[Date]])=8,0,KCITempAct[[#This Row],[KCINHDD]]))","v":0},"Adj HDD and NDD =0 for July and August"]
["2023-07-06",78,62,{"$f":"AVERAGE(KCITempAct[[#This Row],[KCIHigh]:[KCILow]]\n)","v":70},{"$f":"IF(KCITempAct[[#This Row],[KCIAve]]<65,(65-KCITempAct[[#This Row],[KCIAve]]),0)","v":0},{"$f":"IF(MONTH(KCITempAct[[#This Row],[Date]])=7,0,IF(MONTH(KCITempAct[[#This Row],[Date]])=8,0,KCITempAct[[#This Row],[KCIHDD]]))","v":0},{"$f":"SUMPRODUCT((KCINHDD[Month]=MONTH(KCITempAct[[#This Row],[Date]]))*(KCINHDD[Day]=DAY(KCITempAct[[#This Row],[Date]]))*KCINHDD[KCINHDD])","v":0},{"$f":"IF(MONTH(KCITempAct[[#This Row],[Date]])=7,0,IF(MONTH(KCITempAct[[#This Row],[Date]])=8,0,KCITempAct[[#This Row],[KCINHDD]]))","v":0},"Adj HDD and NDD =0 for July and August"]
["2023-07-07",79,65,{"$f":"AVERAGE(KCITempAct[[#This Row],[KCIHigh]:[KCILow]]\n)","v":72},{"$f":"IF(KCITempAct[[#This Row],[KCIAve]]<65,(65-KCITempAct[[#This Row],[KCIAve]]),0)","v":0},{"$f":"IF(MONTH(KCITempAct[[#This Row],[Date]])=7,0,IF(MONTH(KCITempAct[[#This Row],[Date]])=8,0,KCITempAct[[#This Row],[KCIHDD]]))","v":0},{"$f":"SUMPRODUCT((KCINHDD[Month]=MONTH(KCITempAct[[#This Row],[Date]]))*(KCINHDD[Day]=DAY(KCITempAct[[#This Row],[Date]]))*KCINHDD[KCINHDD])","v":0},{"$f":"IF(MONTH(KCITempAct[[#This Row],[Date]])=7,0,IF(MONTH(KCITempAct[[#This Row],[Date]])=8,0,KCITempAct[[#This Row],[KCINHDD]]))","v":0},"Adj HDD and NDD =0 for July and August"]
["2023-07-08",76,62,{"$f":"AVERAGE(KCITempAct[[#This Row],[KCIHigh]:[KCILow]]\n)","v":69},{"$f":"IF(KCITempAct[[#This Row],[KCIAve]]<65,(65-KCITempAct[[#This Row],[KCIAve]]),0)","v":0},{"$f":"IF(MONTH(KCITempAct[[#This Row],[Date]])=7,0,IF(MONTH(KCITempAct[[#This Row],[Date]])=8,0,KCITempAct[[#This Row],[KCIHDD]]))","v":0},{"$f":"SUMPRODUCT((KCINHDD[Month]=MONTH(KCITempAct[[#This Row],[Date]]))*(KCINHDD[Day]=DAY(KCITempAct[[#This Row],[Date]]))*KCINHDD[KCINHDD])","v":6.6666666666666666E-2},{"$f":"IF(MONTH(KCITempAct[[#This Row],[Date]])=7,0,IF(MONTH(KCITempAct[[#This Row],[Date]])=8,0,KCITempAct[[#This Row],[KCINHDD]]))","v":0},"Adj HDD and NDD =0 for July and August"]
["2023-07-09",82,60,{"$f":"AVERAGE(KCITempAct[[#This Row],[KCIHigh]:[KCILow]]\n)","v":71},{"$f":"IF(KCITempAct[[#This Row],[KCIAve]]<65,(65-KCITempAct[[#This Row],[KCIAve]]),0)","v":0},{"$f":"IF(MONTH(KCITempAct[[#This Row],[Date]])=7,0,IF(MONTH(KCITempAct[[#This Row],[Date]])=8,0,KCITempAct[[#This Row],[KCIHDD]]))","v":0},{"$f":"SUMPRODUCT((KCINHDD[Month]=MONTH(KCITempAct[[#This Row],[Date]]))*(KCINHDD[Day]=DAY(KCITempAct[[#This Row],[Date]]))*KCINHDD[KCINHDD])","v":0},{"$f":"IF(MONTH(KCITempAct[[#This Row],[Date]])=7,0,IF(MONTH(KCITempAct[[#This Row],[Date]])=8,0,KCITempAct[[#This Row],[KCINHDD]]))","v":0},"Adj HDD and NDD =0 for July and August"]
["2023-07-10",86,59,{"$f":"AVERAGE(KCITempAct[[#This Row],[KCIHigh]:[KCILow]]\n)","v":72.5},{"$f":"IF(KCITempAct[[#This Row],[KCIAve]]<65,(65-KCITempAct[[#This Row],[KCIAve]]),0)","v":0},{"$f":"IF(MONTH(KCITempAct[[#This Row],[Date]])=7,0,IF(MONTH(KCITempAct[[#This Row],[Date]])=8,0,KCITempAct[[#This Row],[KCIHDD]]))","v":0},{"$f":"SUMPRODUCT((KCINHDD[Month]=MONTH(KCITempAct[[#This Row],[Date]]))*(KCINHDD[Day]=DAY(KCITempAct[[#This Row],[Date]]))*KCINHDD[KCINHDD])","v":0},{"$f":"IF(MONTH(KCITempAct[[#This Row],[Date]])=7,0,IF(MONTH(KCITempAct[[#This Row],[Date]])=8,0,KCITempAct[[#This Row],[KCINHDD]]))","v":0},"Adj HDD and NDD =0 for July and August"]
["2023-07-11",92,68,{"$f":"AVERAGE(KCITempAct[[#This Row],[KCIHigh]:[KCILow]]\n)","v":80},{"$f":"IF(KCITempAct[[#This Row],[KCIAve]]<65,(65-KCITempAct[[#This Row],[KCIAve]]),0)","v":0},{"$f":"IF(MONTH(KCITempAct[[#This Row],[Date]])=7,0,IF(MONTH(KCITempAct[[#This Row],[Date]])=8,0,KCITempAct[[#This Row],[KCIHDD]]))","v":0},{"$f":"SUMPRODUCT((KCINHDD[Month]=MONTH(KCITempAct[[#This Row],[Date]]))*(KCINHDD[Day]=DAY(KCITempAct[[#This Row],[Date]]))*KCINHDD[KCINHDD])","v":0},{"$f":"IF(MONTH(KCITempAct[[#This Row],[Date]])=7,0,IF(MONTH(KCITempAct[[#This Row],[Date]])=8,0,KCITempAct[[#This Row],[KCINHDD]]))","v":0},"Adj HDD and NDD =0 for July and August"]
["2023-07-12",91,73,{"$f":"AVERAGE(KCITempAct[[#This Row],[KCIHigh]:[KCILow]]\n)","v":82},{"$f":"IF(KCITempAct[[#This Row],[KCIAve]]<65,(65-KCITempAct[[#This Row],[KCIAve]]),0)","v":0},{"$f":"IF(MONTH(KCITempAct[[#This Row],[Date]])=7,0,IF(MONTH(KCITempAct[[#This Row],[Date]])=8,0,KCITempAct[[#This Row],[KCIHDD]]))","v":0},{"$f":"SUMPRODUCT((KCINHDD[Month]=MONTH(KCITempAct[[#This Row],[Date]]))*(KCINHDD[Day]=DAY(KCITempAct[[#This Row],[Date]]))*KCINHDD[KCINHDD])","v":0},{"$f":"IF(MONTH(KCITempAct[[#This Row],[Date]])=7,0,IF(MONTH(KCITempAct[[#This Row],[Date]])=8,0,KCITempAct[[#This Row],[KCINHDD]]))","v":0},"Adj HDD and NDD =0 for July and August"]
["2023-07-13",90,71,{"$f":"AVERAGE(KCITempAct[[#This Row],[KCIHigh]:[KCILow]]\n)","v":80.5},{"$f":"IF(KCITempAct[[#This Row],[KCIAve]]<65,(65-KCITempAct[[#This Row],[KCIAve]]),0)","v":0},{"$f":"IF(MONTH(KCITempAct[[#This Row],[Date]])=7,0,IF(MONTH(KCITempAct[[#This Row],[Date]])=8,0,KCITempAct[[#This Row],[KCIHDD]]))","v":0},{"$f":"SUMPRODUCT((KCINHDD[Month]=MONTH(KCITempAct[[#This Row],[Date]]))*(KCINHDD[Day]=DAY(KCITempAct[[#This Row],[Date]]))*KCINHDD[KCINHDD])","v":0},{"$f":"IF(MONTH(KCITempAct[[#This Row],[Date]])=7,0,IF(MONTH(KCITempAct[[#This Row],[Date]])=8,0,KCITempAct[[#This Row],[KCINHDD]]))","v":0},"Adj HDD and NDD =0 for July and August"]
["2023-07-14",95,67,{"$f":"AVERAGE(KCITempAct[[#This Row],[KCIHigh]:[KCILow]]\n)","v":81},{"$f":"IF(KCITempAct[[#This Row],[KCIAve]]<65,(65-KCITempAct[[#This Row],[KCIAve]]),0)","v":0},{"$f":"IF(MONTH(KCITempAct[[#This Row],[Date]])=7,0,IF(MONTH(KCITempAct[[#This Row],[Date]])=8,0,KCITempAct[[#This Row],[KCIHDD]]))","v":0},{"$f":"SUMPRODUCT((KCINHDD[Month]=MONTH(KCITempAct[[#This Row],[Date]]))*(KCINHDD[Day]=DAY(KCITempAct[[#This Row],[Date]]))*KCINHDD[KCINHDD])","v":0},{"$f":"IF(MONTH(KCITempAct[[#This Row],[Date]])=7,0,IF(MONTH(KCITempAct[[#This Row],[Date]])=8,0,KCITempAct[[#This Row],[KCINHDD]]))","v":0},"Adj HDD and NDD =0 for July and August"]
["2023-07-15",87,63,{"$f":"AVERAGE(KCITempAct[[#This Row],[KCIHigh]:[KCILow]]\n)","v":75},{"$f":"IF(KCITempAct[[#This Row],[KCIAve]]<65,(65-KCITempAct[[#This Row],[KCIAve]]),0)","v":0},{"$f":"IF(MONTH(KCITempAct[[#This Row],[Date]])=7,0,IF(MONTH(KCITempAct[[#This Row],[Date]])=8,0,KCITempAct[[#This Row],[KCIHDD]]))","v":0},{"$f":"SUMPRODUCT((KCINHDD[Month]=MONTH(KCITempAct[[#This Row],[Date]]))*(KCINHDD[Day]=DAY(KCITempAct[[#This Row],[Date]]))*KCINHDD[KCINHDD])","v":3.3333333333333333E-2},{"$f":"IF(MONTH(KCITempAct[[#This Row],[Date]])=7,0,IF(MONTH(KCITempAct[[#This Row],[Date]])=8,0,KCITempAct[[#This Row],[KCINHDD]]))","v":0},"Adj HDD and NDD =0 for July and August"]
["2023-07-16",84,66,{"$f":"AVERAGE(KCITempAct[[#This Row],[KCIHigh]:[KCILow]]\n)","v":75},{"$f":"IF(KCITempAct[[#This Row],[KCIAve]]<65,(65-KCITempAct[[#This Row],[KCIAve]]),0)","v":0},{"$f":"IF(MONTH(KCITempAct[[#This Row],[Date]])=7,0,IF(MONTH(KCITempAct[[#This Row],[Date]])=8,0,KCITempAct[[#This Row],[KCIHDD]]))","v":0},{"$f":"SUMPRODUCT((KCINHDD[Month]=MONTH(KCITempAct[[#This Row],[Date]]))*(KCINHDD[Day]=DAY(KCITempAct[[#This Row],[Date]]))*KCINHDD[KCINHDD])","v":0},{"$f":"IF(MONTH(KCITempAct[[#This Row],[Date]])=7,0,IF(MONTH(KCITempAct[[#This Row],[Date]])=8,0,KCITempAct[[#This Row],[KCINHDD]]))","v":0},"Adj HDD and NDD =0 for July and August"]
["2023-07-17",88,69,{"$f":"AVERAGE(KCITempAct[[#This Row],[KCIHigh]:[KCILow]]\n)","v":78.5},{"$f":"IF(KCITempAct[[#This Row],[KCIAve]]<65,(65-KCITempAct[[#This Row],[KCIAve]]),0)","v":0},{"$f":"IF(MONTH(KCITempAct[[#This Row],[Date]])=7,0,IF(MONTH(KCITempAct[[#This Row],[Date]])=8,0,KCITempAct[[#This Row],[KCIHDD]]))","v":0},{"$f":"SUMPRODUCT((KCINHDD[Month]=MONTH(KCITempAct[[#This Row],[Date]]))*(KCINHDD[Day]=DAY(KCITempAct[[#This Row],[Date]]))*KCINHDD[KCINHDD])","v":0},{"$f":"IF(MONTH(KCITempAct[[#This Row],[Date]])=7,0,IF(MONTH(KCITempAct[[#This Row],[Date]])=8,0,KCITempAct[[#This Row],[KCINHDD]]))","v":0},"Adj HDD and NDD =0 for July and August"]
["2023-07-18",80,67,{"$f":"AVERAGE(KCITempAct[[#This Row],[KCIHigh]:[KCILow]]\n)","v":73.5},{"$f":"IF(KCITempAct[[#This Row],[KCIAve]]<65,(65-KCITempAct[[#This Row],[KCIAve]]),0)","v":0},{"$f":"IF(MONTH(KCITempAct[[#This Row],[Date]])=7,0,IF(MONTH(KCITempAct[[#This Row],[Date]])=8,0,KCITempAct[[#This Row],[KCIHDD]]))","v":0},{"$f":"SUMPRODUCT((KCINHDD[Month]=MONTH(KCITempAct[[#This Row],[Date]]))*(KCINHDD[Day]=DAY(KCITempAct[[#This Row],[Date]]))*KCINHDD[KCINHDD])","v":0},{"$f":"IF(MONTH(KCITempAct[[#This Row],[Date]])=7,0,IF(MONTH(KCITempAct[[#This Row],[Date]])=8,0,KCITempAct[[#This Row],[KCINHDD]]))","v":0},"Adj HDD and NDD =0 for July and August"]
["2023-07-19",85,71,{"$f":"AVERAGE(KCITempAct[[#This Row],[KCIHigh]:[KCILow]]\n)","v":78},{"$f":"IF(KCITempAct[[#This Row],[KCIAve]]<65,(65-KCITempAct[[#This Row],[KCIAve]]),0)","v":0},{"$f":"IF(MONTH(KCITempAct[[#This Row],[Date]])=7,0,IF(MONTH(KCITempAct[[#This Row],[Date]])=8,0,KCITempAct[[#This Row],[KCIHDD]]))","v":0},{"$f":"SUMPRODUCT((KCINHDD[Month]=MONTH(KCITempAct[[#This Row],[Date]]))*(KCINHDD[Day]=DAY(KCITempAct[[#This Row],[Date]]))*KCINHDD[KCINHDD])","v":0},{"$f":"IF(MONTH(KCITempAct[[#This Row],[Date]])=7,0,IF(MONTH(KCITempAct[[#This Row],[Date]])=8,0,KCITempAct[[#This Row],[KCINHDD]]))","v":0},"Adj HDD and NDD =0 for July and August"]
["2023-07-20",88,69,{"$f":"AVERAGE(KCITempAct[[#This Row],[KCIHigh]:[KCILow]]\n)","v":78.5},{"$f":"IF(KCITempAct[[#This Row],[KCIAve]]<65,(65-KCITempAct[[#This Row],[KCIAve]]),0)","v":0},{"$f":"IF(MONTH(KCITempAct[[#This Row],[Date]])=7,0,IF(MONTH(KCITempAct[[#This Row],[Date]])=8,0,KCITempAct[[#This Row],[KCIHDD]]))","v":0},{"$f":"SUMPRODUCT((KCINHDD[Month]=MONTH(KCITempAct[[#This Row],[Date]]))*(KCINHDD[Day]=DAY(KCITempAct[[#This Row],[Date]]))*KCINHDD[KCINHDD])","v":0},{"$f":"IF(MONTH(KCITempAct[[#This Row],[Date]])=7,0,IF(MONTH(KCITempAct[[#This Row],[Date]])=8,0,KCITempAct[[#This Row],[KCINHDD]]))","v":0},"Adj HDD and NDD =0 for July and August"]
["2023-07-21",81,67,{"$f":"AVERAGE(KCITempAct[[#This Row],[KCIHigh]:[KCILow]]\n)","v":74},{"$f":"IF(KCITempAct[[#This Row],[KCIAve]]<65,(65-KCITempAct[[#This Row],[KCIAve]]),0)","v":0},{"$f":"IF(MONTH(KCITempAct[[#This Row],[Date]])=7,0,IF(MONTH(KCITempAct[[#This Row],[Date]])=8,0,KCITempAct[[#This Row],[KCIHDD]]))","v":0},{"$f":"SUMPRODUCT((KCINHDD[Month]=MONTH(KCITempAct[[#This Row],[Date]]))*(KCINHDD[Day]=DAY(KCITempAct[[#This Row],[Date]]))*KCINHDD[KCINHDD])","v":0},{"$f":"IF(MONTH(KCITempAct[[#This Row],[Date]])=7,0,IF(MONTH(KCITempAct[[#This Row],[Date]])=8,0,KCITempAct[[#This Row],[KCINHDD]]))","v":0},"Adj HDD and NDD =0 for July and August"]
["2023-07-22",86,60,{"$f":"AVERAGE(KCITempAct[[#This Row],[KCIHigh]:[KCILow]]\n)","v":73},{"$f":"IF(KCITempAct[[#This Row],[KCIAve]]<65,(65-KCITempAct[[#This Row],[KCIAve]]),0)","v":0},{"$f":"IF(MONTH(KCITempAct[[#This Row],[Date]])=7,0,IF(MONTH(KCITempAct[[#This Row],[Date]])=8,0,KCITempAct[[#This Row],[KCIHDD]]))","v":0},{"$f":"SUMPRODUCT((KCINHDD[Month]=MONTH(KCITempAct[[#This Row],[Date]]))*(KCINHDD[Day]=DAY(KCITempAct[[#This Row],[Date]]))*KCINHDD[KCINHDD])","v":0},{"$f":"IF(MONTH(KCITempAct[[#This Row],[Date]])=7,0,IF(MONTH(KCITempAct[[#This Row],[Date]])=8,0,KCITempAct[[#This Row],[KCINHDD]]))","v":0},"Adj HDD and NDD =0 for July and August"]
["2023-07-23",91,63,{"$f":"AVERAGE(KCITempAct[[#This Row],[KCIHigh]:[KCILow]]\n)","v":77},{"$f":"IF(KCITempAct[[#This Row],[KCIAve]]<65,(65-KCITempAct[[#This Row],[KCIAve]]),0)","v":0},{"$f":"IF(MONTH(KCITempAct[[#This Row],[Date]])=7,0,IF(MONTH(KCITempAct[[#This Row],[Date]])=8,0,KCITempAct[[#This Row],[KCIHDD]]))","v":0},{"$f":"SUMPRODUCT((KCINHDD[Month]=MONTH(KCITempAct[[#This Row],[Date]]))*(KCINHDD[Day]=DAY(KCITempAct[[#This Row],[Date]]))*KCINHDD[KCINHDD])","v":0},{"$f":"IF(MONTH(KCITempAct[[#This Row],[Date]])=7,0,IF(MONTH(KCITempAct[[#This Row],[Date]])=8,0,KCITempAct[[#This Row],[KCINHDD]]))","v":0},"Adj HDD and NDD =0 for July and August"]
["2023-07-24",90,68,{"$f":"AVERAGE(KCITempAct[[#This Row],[KCIHigh]:[KCILow]]\n)","v":79},{"$f":"IF(KCITempAct[[#This Row],[KCIAve]]<65,(65-KCITempAct[[#This Row],[KCIAve]]),0)","v":0},{"$f":"IF(MONTH(KCITempAct[[#This Row],[Date]])=7,0,IF(MONTH(KCITempAct[[#This Row],[Date]])=8,0,KCITempAct[[#This Row],[KCIHDD]]))","v":0},{"$f":"SUMPRODUCT((KCINHDD[Month]=MONTH(KCITempAct[[#This Row],[Date]]))*(KCINHDD[Day]=DAY(KCITempAct[[#This Row],[Date]]))*KCINHDD[KCINHDD])","v":1.6666666666666666E-2},{"$f":"IF(MONTH(KCITempAct[[#This Row],[Date]])=7,0,IF(MONTH(KCITempAct[[#This Row],[Date]])=8,0,KCITempAct[[#This Row],[KCINHDD]]))","v":0},"Adj HDD and NDD =0 for July and August"]
["2023-07-25",92,74,{"$f":"AVERAGE(KCITempAct[[#This Row],[KCIHigh]:[KCILow]]\n)","v":83},{"$f":"IF(KCITempAct[[#This Row],[KCIAve]]<65,(65-KCITempAct[[#This Row],[KCIAve]]),0)","v":0},{"$f":"IF(MONTH(KCITempAct[[#This Row],[Date]])=7,0,IF(MONTH(KCITempAct[[#This Row],[Date]])=8,0,KCITempAct[[#This Row],[KCIHDD]]))","v":0},{"$f":"SUMPRODUCT((KCINHDD[Month]=MONTH(KCITempAct[[#This Row],[Date]]))*(KCINHDD[Day]=DAY(KCITempAct[[#This Row],[Date]]))*KCINHDD[KCINHDD])","v":0},{"$f":"IF(MONTH(KCITempAct[[#This Row],[Date]])=7,0,IF(MONTH(KCITempAct[[#This Row],[Date]])=8,0,KCITempAct[[#This Row],[KCINHDD]]))","v":0},"Adj HDD and NDD =0 for July and August"]
["2023-07-26",98,81,{"$f":"AVERAGE(KCITempAct[[#This Row],[KCIHigh]:[KCILow]]\n)","v":89.5},{"$f":"IF(KCITempAct[[#This Row],[KCIAve]]<65,(65-KCITempAct[[#This Row],[KCIAve]]),0)","v":0},{"$f":"IF(MONTH(KCITempAct[[#This Row],[Date]])=7,0,IF(MONTH(KCITempAct[[#This Row],[Date]])=8,0,KCITempAct[[#This Row],[KCIHDD]]))","v":0},{"$f":"SUMPRODUCT((KCINHDD[Month]=MONTH(KCITempAct[[#This Row],[Date]]))*(KCINHDD[Day]=DAY(KCITempAct[[#This Row],[Date]]))*KCINHDD[KCINHDD])","v":0},{"$f":"IF(MONTH(KCITempAct[[#This Row],[Date]])=7,0,IF(MONTH(KCITempAct[[#This Row],[Date]])=8,0,KCITempAct[[#This Row],[KCINHDD]]))","v":0},"Adj HDD and NDD =0 for July and August"]
["2023-07-27",91,74,{"$f":"AVERAGE(KCITempAct[[#This Row],[KCIHigh]:[KCILow]]\n)","v":82.5},{"$f":"IF(KCITempAct[[#This Row],[KCIAve]]<65,(65-KCITempAct[[#This Row],[KCIAve]]),0)","v":0},{"$f":"IF(MONTH(KCITempAct[[#This Row],[Date]])=7,0,IF(MONTH(KCITempAct[[#This Row],[Date]])=8,0,KCITempAct[[#This Row],[KCIHDD]]))","v":0},{"$f":"SUMPRODUCT((KCINHDD[Month]=MONTH(KCITempAct[[#This Row],[Date]]))*(KCINHDD[Day]=DAY(KCITempAct[[#This Row],[Date]]))*KCINHDD[KCINHDD])","v":0},{"$f":"IF(MONTH(KCITempAct[[#This Row],[Date]])=7,0,IF(MONTH(KCITempAct[[#This Row],[Date]])=8,0,KCITempAct[[#This Row],[KCINHDD]]))","v":0},"Adj HDD and NDD =0 for July and August"]
["2023-07-28",99,78,{"$f":"AVERAGE(KCITempAct[[#This Row],[KCIHigh]:[KCILow]]\n)","v":88.5},{"$f":"IF(KCITempAct[[#This Row],[KCIAve]]<65,(65-KCITempAct[[#This Row],[KCIAve]]),0)","v":0},{"$f":"IF(MONTH(KCITempAct[[#This Row],[Date]])=7,0,IF(MONTH(KCITempAct[[#This Row],[Date]])=8,0,KCITempAct[[#This Row],[KCIHDD]]))","v":0},{"$f":"SUMPRODUCT((KCINHDD[Month]=MONTH(KCITempAct[[#This Row],[Date]]))*(KCINHDD[Day]=DAY(KCITempAct[[#This Row],[Date]]))*KCINHDD[KCINHDD])","v":0},{"$f":"IF(MONTH(KCITempAct[[#This Row],[Date]])=7,0,IF(MONTH(KCITempAct[[#This Row],[Date]])=8,0,KCITempAct[[#This Row],[KCINHDD]]))","v":0},"Adj HDD and NDD =0 for July and August"]

{"sheet":"CustCount","index":11,"n_rows":13,"n_cols":12,"rows_kept":13,"cut":false,"hidden":false,"merged":[]}
["MonthFlow","MonthBill","N-RS","NW-RS","S-RS","N-SC","NW-SC","S-SC","Total-RS","Total-SCFS","Preparer's Notes","Reviewer's Notes"]
["2022-07-01",{"$f":"EDATE(CustCount[[#This Row],[MonthFlow]],1)","v":"2022-08-01"},7742,4703,24396,1113,671,2701,{"$f":"SUM(CustCount[[#This Row],[N-RS]:[S-RS]])","v":36841},{"$f":"SUM(CustCount[[#This Row],[N-SC]:[S-SC]])","v":4485},"Customer count from Revenue Dept."]
["2022-08-01",{"$f":"EDATE(CustCount[[#This Row],[MonthFlow]],1)","v":"2022-09-01"},7770,4706,24450,1116,669,2695,{"$f":"SUM(CustCount[[#This Row],[N-RS]:[S-RS]])","v":36926},{"$f":"SUM(CustCount[[#This Row],[N-SC]:[S-SC]])","v":4480},"Customer count from Revenue Dept."]
["2022-09-01",{"$f":"EDATE(CustCount[[#This Row],[MonthFlow]],1)","v":"2022-10-01"},7912,4795,24699,1128,671,2713,{"$f":"SUM(CustCount[[#This Row],[N-RS]:[S-RS]])","v":37406},{"$f":"SUM(CustCount[[#This Row],[N-SC]:[S-SC]])","v":4512},"Customer count from Revenue Dept."]
["2022-10-01",{"$f":"EDATE(CustCount[[#This Row],[MonthFlow]],1)","v":"2022-11-01"},8077,4870,25025,1138,677,2742,{"$f":"SUM(CustCount[[#This Row],[N-RS]:[S-RS]])","v":37972},{"$f":"SUM(CustCount[[#This Row],[N-SC]:[S-SC]])","v":4557},"Customer count from Revenue Dept."]
["2022-11-01",{"$f":"EDATE(CustCount[[#This Row],[MonthFlow]],1)","v":"2022-12-01"},8147,4891,25172,1146,676,2768,{"$f":"SUM(CustCount[[#This Row],[N-RS]:[S-RS]])","v":38210},{"$f":"SUM(CustCount[[#This Row],[N-SC]:[S-SC]])","v":4590},"Customer count from Revenue Dept."]
["2022-12-01",{"$f":"EDATE(CustCount[[#This Row],[MonthFlow]],1)","v":"2023-01-01"},8157,4894,25231,1143,679,2766,{"$f":"SUM(CustCount[[#This Row],[N-RS]:[S-RS]])","v":38282},{"$f":"SUM(CustCount[[#This Row],[N-SC]:[S-SC]])","v":4588},"Customer count from Revenue Dept."]
["2023-01-01",{"$f":"EDATE(CustCount[[#This Row],[MonthFlow]],1)","v":"2023-02-01"},8162,4900,25236,1143,680,2756,{"$f":"SUM(CustCount[[#This Row],[N-RS]:[S-RS]])","v":38298},{"$f":"SUM(CustCount[[#This Row],[N-SC]:[S-SC]])","v":4579},"Customer count from Revenue Dept."]
["2023-02-01",{"$f":"EDATE(CustCount[[#This Row],[MonthFlow]],1)","v":"2023-03-01"},8155,4886,25245,1139,679,2754,{"$f":"SUM(CustCount[[#This Row],[N-RS]:[S-RS]])","v":38286},{"$f":"SUM(CustCount[[#This Row],[N-SC]:[S-SC]])","v":4572},"Customer count from Revenue Dept."]
["2023-03-01",{"$f":"EDATE(CustCount[[#This Row],[MonthFlow]],1)","v":"2023-04-01"},8052,4814,24978,1136,676,2737,{"$f":"SUM(CustCount[[#This Row],[N-RS]:[S-RS]])","v":37844},{"$f":"SUM(CustCount[[#This Row],[N-SC]:[S-SC]])","v":4549},"Customer count from Revenue Dept."]
["2023-04-01",{"$f":"EDATE(CustCount[[#This Row],[MonthFlow]],1)","v":"2023-05-01"},7976,4760,24850,1128,673,2728,{"$f":"SUM(CustCount[[#This Row],[N-RS]:[S-RS]])","v":37586},{"$f":"SUM(CustCount[[#This Row],[N-SC]:[S-SC]])","v":4529},"Customer count from Revenue Dept."]
["2023-05-01",{"$f":"EDATE(CustCount[[#This Row],[MonthFlow]],1)","v":"2023-06-01"},7738,4707,24545,1119,669,2709,{"$f":"SUM(CustCount[[#This Row],[N-RS]:[S-RS]])","v":36990},{"$f":"SUM(CustCount[[#This Row],[N-SC]:[S-SC]])","v":4497},"Customer count from Revenue Dept."]
["2023-06-01",{"$f":"EDATE(CustCount[[#This Row],[MonthFlow]],1)","v":"2023-07-01"},7699,4661,24471,1117,665,2698,{"$f":"SUM(CustCount[[#This Row],[N-RS]:[S-RS]])","v":36831},{"$f":"SUM(CustCount[[#This Row],[N-SC]:[S-SC]])","v":4480},"Customer count from Revenue Dept."]

{"sheet":"MeterReadSch","index":12,"n_rows":17,"n_cols":7,"rows_kept":17,"cut":false,"hidden":false,"merged":[]}
["MonthFlow","MonthBill","North","NW","South","Preparer's Notes","Reviewer's Notes"]
["2022-08-01",{"$f":"EDATE(MeterReadSch[[#This Row],[MonthFlow]],1)","v":"2022-09-01"},"2022-08-29","2022-08-29","2022-08-30","Rev. Dept. Meter Read Sched."]
["2022-09-01",{"$f":"EDATE(MeterReadSch[[#This Row],[MonthFlow]],1)","v":"2022-10-01"},"2022-09-29","2022-09-28","2022-09-29","Rev. Dept. Meter Read Sched."]
["2022-10-01",{"$f":"EDATE(MeterReadSch[[#This Row],[MonthFlow]],1)","v":"2022-11-01"},"2022-10-31","2022-10-28","2022-10-31","Rev. Dept. Meter Read Sched."]
["2022-11-01",{"$f":"EDATE(MeterReadSch[[#This Row],[MonthFlow]],1)","v":"2022-12-01"},"2022-11-28","2022-11-29","2022-11-29","Rev. Dept. Meter Read Sched."]
["2022-12-01",{"$f":"EDATE(MeterReadSch[[#This Row],[MonthFlow]],1)","v":"2023-01-01"},"2022-12-28","2022-12-27","2022-12-29","Rev. Dept. Meter Read Sched."]
["2023-01-01",{"$f":"EDATE(MeterReadSch[[#This Row],[MonthFlow]],1)","v":"2023-02-01"},"2023-01-27","2023-01-26","2023-01-30","Rev. Dept. Meter Read Sched."]
["2023-02-01",{"$f":"EDATE(MeterReadSch[[#This Row],[MonthFlow]],1)","v":"2023-03-01"},"2023-02-26","2023-02-27","2023-02-27","Rev. Dept. Meter Read Sched."]
["2023-03-01",{"$f":"EDATE(MeterReadSch[[#This Row],[MonthFlow]],1)","v":"2023-04-01"},"2023-03-29","2023-03-28","2023-03-30","Rev. Dept. Meter Read Sched."]
["2023-04-01",{"$f":"EDATE(MeterReadSch[[#This Row],[MonthFlow]],1)","v":"2023-05-01"},"2023-04-28","2023-04-26","2023-04-29","Rev. Dept. Meter Read Sched."]
["2023-05-01",{"$f":"EDATE(MeterReadSch[[#This Row],[MonthFlow]],1)","v":"2023-06-01"},"2023-05-30","2023-05-30","2023-05-30","Rev. Dept. Meter Read Sched."]
["2023-06-01",{"$f":"EDATE(MeterReadSch[[#This Row],[MonthFlow]],1)","v":"2023-07-01"},"2023-06-28","2023-06-28","2023-06-29","Rev. Dept. Meter Read Sched."]
["2023-07-01",{"$f":"EDATE(MeterReadSch[[#This Row],[MonthFlow]],1)","v":"2023-08-01"},"2023-07-25","2023-07-25","2023-07-25","Billing Dept. Meter Read Sched."]
["2023-08-01",{"$f":"EDATE(MeterReadSch[[#This Row],[MonthFlow]],1)","v":"2023-09-01"},"2023-08-25","2023-08-25","2023-08-25","Billing Dept. Meter Read Sched."]
["2023-09-01",{"$f":"EDATE(MeterReadSch[[#This Row],[MonthFlow]],1)","v":"2023-10-01"},"2023-09-22","2023-09-22","2023-09-22","Billing Dept. Meter Read Sched."]
["2023-10-01",{"$f":"EDATE(MeterReadSch[[#This Row],[MonthFlow]],1)","v":"2023-11-01"},"2023-10-25","2023-10-25","2023-10-25","Billing Dept. Meter Read Sched."]
["2023-11-01",{"$f":"EDATE(MeterReadSch[[#This Row],[MonthFlow]],1)","v":"2023-12-01"},"2023-11-22","2023-11-22","2023-11-22","Billing Dept. Meter Read Sched."]

{"sheet":"ReconPerAdj","index":13,"n_rows":7,"n_cols":8,"rows_kept":7,"cut":false,"hidden":false,"merged":[]}
["Year","EffDate","Territory","CustClass","RateName","ReconcilingPeriodAdj","Preparer's Notes","Reviewer's Notes"]
[2023,"2023-10-01","North","Res","CAWNA",88777.890000000029,"CAWNA Summary Worksheet, row 24, column C"]
[2023,"2023-10-01","NW","Res","CAWNA",53453.989999999991,"CAWNA Summary Worksheet, row 24, column D"]
[2023,"2023-10-01","South","Res","CAWNA",275717.14,"CAWNA Summary Worksheet, row 24, column E"]
[2023,"2023-10-01","North","SCFS","CAWNA",33852.879999999997,"CAWNA Summary Worksheet, row 24, column G"]
[2023,"2023-10-01","NW","SCFS","CAWNA",20162.66,"CAWNA Summary Worksheet, row 24, column H"]
[2023,"2023-10-01","South","SCFS","CAWNA",81683.570000000007,"CAWNA Summary Worksheet, row 24, column I"]

{"sheet":"VolumetricRates","index":14,"n_rows":3,"n_cols":6,"rows_kept":3,"cut":false,"hidden":false,"merged":[]}
["BeginDate","EndDate","CustClass","VolRate","Preparer's Notes","Reviewer's Notes"]
["2022-09-01","9999-01-01","Res",0.21748000000000001,"From Tariff"]
["2022-09-01","9999-01-01","SCFS",0.26033000000000001,"From Tariff"]

{"sheet":"BillDeter","index":15,"n_rows":3,"n_cols":6,"rows_kept":3,"cut":false,"hidden":false,"merged":[]}
["Territory","CustClass","CustClassLong","BillingDeterminants","Preparer's Notes","Reviewer's Notes"]
["All","SCFS","Small Commercial",7155623,"Set in previous rate case."]
["All","Res","Residential",25605076.090720076,"Set in previous rate case."]

{"sheet":"BetaCoeff","index":16,"n_rows":3,"n_cols":4,"rows_kept":3,"cut":false,"hidden":false,"merged":[]}
["CustClass","BetaCoeff","Preparer's Notes","Reviewer's Notes"]
["Res",0.1234365]
["SCFS",0.27932790000000002]

{"sheet":"Rate Case Summary","index":17,"n_rows":0,"n_cols":0,"rows_kept":0,"cut":false,"hidden":false,"merged":[]}

{"sheet":"Validation Lists","index":18,"n_rows":5,"n_cols":6,"rows_kept":5,"cut":false,"hidden":false,"merged":[]}
["Territory",null,"CustClassLong","CustClassShort",null,"RateName"]
["North",null,"Residential","Res",null,"CAWNA"]
["NW",null,"Small Commercial","SCFS",null,"ARR"]
["South"]
["All"]

{"sheet":"Sheet1","index":19,"n_rows":12,"n_cols":6,"rows_kept":12,"cut":false,"hidden":true,"merged":[[3,4,3,5],[11,1,11,2],[3,1,4,1],[3,2,4,2],[3,3,4,3]]}
[]
[]
[]
[null,"Dis","RevClass","FX030","FSX017"]
[null,null,null,null,"All",">0 Only"]
[null,750,"Res",7699,7842,7811]
[null,750,"Com",1117,1152,1147]
[null,760,"Res",4661,4715,4703]
[null,760,"Com",665,698,698]
[null,770,"Res",24471,24632,24546]
[null,770,"Com",2698,2809,2801]
[null,"Total",null,{"$f":"SUM(D6:D11)","v":41311},{"$f":"SUM(E6:E11)","v":41848},41706]

{"sheet":"DateSet","index":20,"n_rows":17,"n_cols":3,"rows_kept":17,"cut":false,"hidden":true,"merged":[]}
[]
[null,"Filing Year",{"$f":"INDEX(B7:B17,C7)","v":2023}]
[null,"Analysis Start Period",{"$f":"DATE(C2-1,9,1)","v":"2022-09-01"}]
[null,"New Rate Eff:",{"$f":"DATE(C2,10,1)","v":"2023-10-01"}]
[]
[null,"Year"]
[null,2020,4]
[null,2021]
[null,2022]
[null,2023]
[null,2024]
[null,2025]
[null,2026]
[null,2027]
[null,2028]
[null,2029]
[null,2030]